Workbook
Name Print_Area_0: Zad.79!$A$1:$J$11

Sheet Zad.9
B1: ZOZ/DZP/PN/5/20
B2: Załącznik Nr: 9
A4: Zadanie nr: 9 – Akcesoria do inkubatorów
A5: Lp. | B5: Nazwa produktu | C5: Jednostka miary | D5: Ilość | E5: Cena jednostkowa netto | F5: Wartość netto | G5: VAT | H5: Cena jednostkowa brutto | I5: Wartość brutto | J5: Producent/Model/Nr katalogowy
A6: 1 | B6: Okularki do fototerapii:w trzech rozmiarach: zwykłe - ob. głowy 33-38cm (+/- 2cm), dla wcześniaków 26-32 cm (+/- 2cm), mikro 20-25cm (+/- 2cm); Okularki stosowane do fototerapii podczas leczenia żółtaczki, mocowane wokół głowy posiadające dwa niezależne punkty regulacji, zapobiegające przypadkowemu przesunięciu i umożliwiające precyzyjne dopasowanie do główki dziecka. Okularki: w kształcie litery Y, wykonane z jednego materiału zmniejszającego podrażnienia skóry, miłe w dotyku i wygodne dla główki i twarzy dziecka; chroniące oczy przed szkodliwym działaniem światła, nie zawierającego lateksu. | C6: szt. | D6: 700
A7: 2 | B7: Osłonka j.u. na czujnik temperatury typu NC 040-10 | C7: op.=10szt | D7: 14
A8: 3 | B8: Dren z zastawką do aparatu Neopuff | C8: szt. | D8: 100
B9: RAZEM | F9: =SUM(F6:F8) -> 0 | I9: =SUM(I6:I8) -> 0
B12: Data | H12: Podpis osoby/osób upoważnionej
B13: ……………………………………………. | I13: ……………………………….

Sheet Zad.10
B1: ZOZ/DZP/PN/5/20
B2: Załącznik Nr: 9
A4: Zadanie nr: 10 - Strzykawki, igły
A5: Lp. | B5: Nazwa produktu | C5: Jednostka miary | D5: Ilość | E5: Cena jednostkowa netto | F5: Wartość netto | G5: VAT | H5: Cena jednostkowa brutto | I5: Wartość brutto | J5: Producent/Model/Nr katalogowy
A6: Strzykawka dwuczęściowa luer, wykonana z wysokiej jakości PP i/lub PE, w pełni przeźroczysty cylinder z wyraźną czarną,podwójną trwałą skalą pomiarową, wyraźna podwójna kryza zabezpieczająca przed wypadaniem tłoka, idealne dopasowanie cylindra i tłoka zapewniające pełną szczelność i bezskokowy przesów tłoka, tłok w wyraźnym, kontrastującym kolorze ułatwiającym odczyt ze sferycznym zakończeniem umożliwiającym maksymalne zmniejszenie przestrzeni martwej, logo producetna i nazwa własna na cylindrze i opakowaniu jednostkowym - Strzykawki jednego producenta, pakowane indywidualnie w opakowanie typu folia/papier, kolorystyczne oznakowanie rozmiaru strzykawki na pojedynczym opakowaniu oraz informacja o braku ftalanów - opakowania a 100 szt., sterylizacja EO, Parametry dla pozycji 1-4
A7: 1 | B7: 2 ml (rozszerzenie do 3ml) skala co 0,1ml x 100 szt. | C7: op.=100szt | D7: 1200
A8: 2 | B8: 5 ml (rozszezreznie do 6ml) skala co 0,2ml x 100 szt. | C8: op.=100szt | D8: 1400
A9: 3 | B9: 10 ml (rozszezrzenie do 12 ml) skala co 0,5ml x 100 szt. | C9: op.=100szt | D9: 1200
A10: 4 | B10: 20 ml (rozszezrenie do 24ml) skala co 1ml x 100 szt. | C10: op.=100szt | D10: 1300
A11: 5 | B11: Strzykawka do tuberkuliny 1 ml 3 częściowe z igłą 0,45 x 12 mm x 100 szt. z osobną igłą | C11: op.=100szt | D11: 80
A12: 6 | B12: 100 ml Janeta z łącznikiem Luer,trzyczęściowa,wykonana z polipropylenu, skala w kolorze niebieskim, zaopatrzona w dodatkowy stożek do łączenia z cewnikiem | C12: szt. | D12: 5000
A13: Strzykawki - szczelne, łatwy przesuw tłoka, wyraźna skala. Wykazane na liście producenta pomp infuzyjnych MEDIMA S2 i Medima P2. Opis dla pozycji 7-10
A14: 7 | B14: 10ml x 100 szt., 3 częściowe | C14: op.=100szt | D14: 300
A15: 8 | B15: 20ml x 100 szt., 3 częściowe | C15: op.=100szt | D15: 1000
A16: 9 | B16: 50 ml (rozszezrzenie do 60ml)do pomp 3 cz .do pomp Luer-Lock ze skalą dwustronną, podwójne uszczelnienie tłoka | C16: szt. | D16: 30000
A17: 10 | B17: 50 ml (rozszezrzenie do 60ml) do pomp 3 cz .do pomp Luer-Lock do leków światłoczułych,ze skalą dwustronną, podwójne uszczelnienie tłoka | C17: szt. | D17: 15000
A18: 11 | B18: Strzykawka 3-częściowa Luer-Lock model wymagany zgodnie z intrukcją producenta dializatora Primaflex | C18: szt. | D18: 5000
A19: Igły iniekcyjne o ostrzach zapewniających minimalny opór skóry, rurki pokryte silikonem, cienkościenne nasadki barwione zgodnie zkodem kolorów
A20: 12 | B20: 0,45 x 13 mm x 100 szt. | C20: op=100szt | D20: 50
A21: 13 | B21: 0,5 x 25 mm x 100 szt. | C21: op=100szt | D21: 360
A22: 14 | B22: 0,6 x 25 mm x 100 szt. | C22: op=100szt | D22: 50
A23: 15 | B23: 0,7 x 30 mm x 100 szt. | C23: op=100szt | D23: 180
A24: 16 | B24: 0,8 x 40 mm x 100 szt. | C24: op=100szt | D24: 700
A25: 17 | B25: 0,9 x 40 mm x 100 szt. | C25: op=100szt | D25: 160
A26: 18 | B26: 1,1 x 40 mm x 100 szt. | C26: op=100szt | D26: 500
A27: 19 | B27: 1,2 x 40 mm x 100 szt. | C27: op=100szt | D27: 1700
A28: 20 | B28: 0,9 x 50 mm x 100 szt. | C28: op=100szt | D28: 50
A29: 21 | B29: 1,6 x 40 mm x 100 szt. | C29: op=100szt | D29: 30
A30: 22 | B30: Igła 0,8 x 120 mm x 100 szt. do blokad nerwowych | C30: op=100szt | D30: 36
A31: 23 | B31: Igła do bezpiecznego pobierania i rozpuszczania leków 18G x 30mm, szlif ołówkowy z otworem bocznym, końcówka pasująca do luer i luer-lock. | C31: op=100szt | D31: 1200
... A37: 29 | B37: Igła do karpuli 0,4x38mm | C37: op=100szt | D37: 3
B38: RAZEM | F38: =SUM(F7:F37) -> 0 | I38: =SUM(I7:I37) -> 0
B41: Data | H41: Podpis osoby/osób upoważnionej
B42: ……………………………………………. | I42: ……………………………….

Sheet zad.14
B1: ZOZ/DZP/PN/5/20
B2: Załącznik Nr: 9
A4: Zadanie nr: 14 – Opatrunek hemostatyczny
A5: Lp. | B5: Nazwa produktu | C5: Jednostka miary | D5: Ilość | E5: Cena jednostkowa netto | F5: Wartość netto | G5: VAT | H5: Cena jednostkowa brutto | I5: Wartość brutto | J5: Producent/Model/Nr katalogowy
A6: 1 | B6: Gaza hemostatyczna 5x5cm | C6: 1 szt. | D6: 5
A7: 2 | B7: Gaza hemostatyczna 7,5x5cm | C7: 1 szt. | D7: 5
A8: 3 | B8: Gaza hemostatyczna 10x10cm | C8: 1 szt. | D8: 5
B9: RAZEM | F9: =SUM(F6:F8) -> 0 | I9: =SUM(I6:I8) -> 0
B11: Opis produktu:
B12: Tkana, bawełniana gaza hemostatyczna, z nieutlenionej celulozy, z funkcjonalnymi grupami cząsteczkowymi (FMGs) zapewniającymi specjalne właściwości fizyczne i zwiększające wydajnośc produktu. Po kontakcie z płynem przekształcająca się w elastyczną membranę o strukturze żelu, który przylega do rany pozwalając kontrolować krwawienie. Opatrunek mogący wchłonąć do 3500% własnego ciężaru podczas kontraktu z krwią. Nie wymagający wcześniejszego namaczania, nie wymagający kompresji. Możliwość stosowania przez porty 6 mm. Do stosowania w procedurach naczyniowych i sercowo- naczyniowych, obszarach szczególnie wrażliwych(nerwy, drogi nerwowe). Nie wymagający oczyszczania rany z krwi. W pełni biokompatybilny i sterylny (sterylizacja przez napromieniowanie), Całkowita biodegradacja w ciągu 7 dni .pH 5,5, Klasa III. Rozpuszczalny w wodzie. Stabilność materiału pozwalająca na usunięcie gazy z pola operacyjnego w całości. Nie przyklejający się do narzędzi, do rękawiczek.
B16: Data | H16: Podpis osoby/osób upoważnionej
B17: ……………………………………………. | H17: ……………………………….

Sheet Zad.25
B1: ZOZ/DZP/PN/5/20
B2: Załącznik Nr: 9
A3: Zadanie nr: 25- System ochraniaczy do sterylizacji narzędzi
A4: Lp. | B4: Nazwa produktu | C4: Jednostka miary | D4: Ilość | E4: Cena jednostkowa netto | F4: Wartość netto | G4: VAT | H4: Cena jednostkowa brutto | I4: Wartość brutto | J4: Producent/Model/Nr katalogowy
A5: 1. | B5: Ochraniacz końcówek ( kieszeni z przelotkami) rozmiar 27x41cm | C5: op=50szt. | D5: 2
B6: Razem | F6: =SUM(F5) -> 0 | I6: =SUM(I5) -> 0
B9: Data | H9: Podpis osoby/osób upoważnionej
B10: ……………………………………………. | H10: ……………………………….

Sheet Zad.34
B1: ZOZ/DZP/PN/5/20
B2: Załącznik Nr: 9
A3: Zadanie nr: 34- Worki do stomii
A4: Lp. | B4: Nazwa produktu | C4: Jednostka | D4: Ilość | E4: Cena jednostkowa netto | F4: Wartość Netto | G4: VAT | H4: Cena jednostkowa brutto | I4: Wartość brutto | J4: Producent/Model/Nr katalogowy
A5: 1 | B5: Worek do stomii koło 1 -częściowy, beżowy, rozmiar 15-70mm: worek zakmnięty z płaskim lub bardzo miękkim wypukłym ochraniaczem skóry lub worek opróżnialny z połączonym delikatnym klipsem zwanym: Roll'Up w wersji płaskiej lub bardzo miękkiej wypukłej do wyboru przy zamówieniu | C5: op.=30szt. | D5: 4
B6: RAZEM | F6: =SUM(F5) -> 0 | I6: =SUM(I5) -> 0
B9: Data | H9: Podpis osoby/osób upoważnionej
B10: ……………………………………………. | H10: ……………………………….

Sheet Zad.39
B1: ZOZ/DZP/PN/5/20
B2: Załącznik Nr: 9
A4: Zadanie nr: 39 – Czujniki
A5: Lp. | B5: Nazwa produktu | C5: Jednostka miary | D5: Ilość | E5: Cena jednostkowa netto | F5: Wartość netto | G5: VAT | H5: Cena jednostkowa brutto | I5: Wartość brutto | J5: Producent/Model/Nr katalogowy
A6: 1 | B6: Klips do pulsoxymetru typu TS-F-D | C6: szt. | D6: 2
A7: 2 | B7: Kabel połączeniowy do czujnika saturacji ze złączką okrągłą typu TS-G3 | C7: szt. | D7: 2
A8: 3 | B8: Czujnik typu TS-F4- GE | C8: szt. | D8: 2
A9: 4 | B9: Komplet czujników przepływowych do aparatu Aespiro | C9: Komplet 2 szt. | D9: 2
A10: 5 | B10: Czujnik natężenia tlenu do aparatu Aespiro | C10: szt. | D10: 2
A11: 6 | B11: Przewód czujnika natężenia tlenu do aparatu Aespiro | C11: szt. | D11: 2
A12: 7 | B12: Pułapka wodna do monitora przy aparacie Aespiro | C12: szt. | D12: 4
A13: 8 | B13: Kabel EKG 3- odprowadzeniowy kompatybilny z kardiomonitorem Datex Ohmeda wejście okrągłe. | C13: szt. | D13: 1
A14: 9 | B14: Mankiet NIBP dla dorosłych 31-40cm, wielorazowy, 2 -żyłowy | C14: szt. | D14: 1
A15: 10 | B15: Mankiet NIBP dla dorosłych 36-36cm wielorazowy, 2 -żyłowy | C15: szt. | D15: 1
A16: 11 | B16: Kabel połączeniowy, dla dorosłych i dzieci, czarny, sło min 3,6m | C16: szt. | D16: 1
A17: 12 | B17: Kabel 3-odprowadzeniowy ekg 74 cm IEC | C17: szt. | D17: 1
B18: RAZEM | F18: =SUM(F6:F17) -> 0 | I18: =SUM(I6:I17) -> 0
B21: Data | H21: Podpis osoby/osób upoważnionej
B22: ……………………………………………. | H22: ……………………………….

Sheet Zad. 54
B2: ZOZ/DZP/PN/5/20
B3: Załącznik Nr: 9
A4: Zadanie nr: 54 - Układ oddechowy
A5: Lp. | B5: Nazwa produktu | C5: Jednostka miary | D5: Ilość | E5: Cena jednostkowa[zł] netto | F5: Wartość [zł] netto | G5: VAT | H5: Cena jednostkowa [zł] brutto | I5: Wartość [zł] brutto | J5: Producent/Model/Nr katalogowy
A6: 1 | B6: Obwód oddechowy do aparatu do znieczulenia dla dorosłych w składzie: 2 rury śr. 22 mm, i dł. min 150 cm, a dodatkowa 3 rura o śr. 22 mm, dł. 120 cm, złączka Y z zakończeniem 22M/15F, worek oddechowy bezlateksowy o poj. 2 l., złączka L z portem Kapno. Rury wykonane z PCV, o gładkich powierzchniach wewnętrznych, końcówki rur elastyczne typu Flex. Sterylny. | C6: szt | D6: 100
A7: 2 | B7: Anestezjologiczny obwód oddechowy dla dzieci z PCW, dwie rury o gładkich powierzchniach wewnętrznych o długości 120cm i 15mm średnicy zakończone łącznikiem Y prostym ze złaczem 22M/15F, złącza respiratora 22 typu Flex, dodatkowe ramię 120cm ze złaczem 22 typu Flex, 1 l worek bezlateksowy, sterylny | C7: szt | D7: 50
B8: Razem | F8: =SUM(F6:F7) -> 0 | I8: =SUM(I6:I7) -> 0
B10: Data | G10: Podpis osoby/osób upoważnionej
B11: ……………………………………………. | G11: ……………………………….

Sheet Zad.60
B1: ZOZ/DZP/PN/5/20
B2: Załącznik Nr: 9
A3: Zadanie nr: 60 – Pozycjoner pod głowę
A4: Lp. | B4: Nazwa produktu | C4: Jednostka miary | D4: Ilość | E4: Cena jednostkowa netto | F4: Wartość netto | G4: VAT | H4: Cena jednostkowa brutto | I4: Wartość brutto | J4: Producent/Model/Nr katalogowy
A5: 1 | B5: Pozycjoner przeciwodleżynowy, pozycjoner pod głowę o rozmiarze Fi 200 x 50mm(+/_ 5mm) wykonany z pianki wiskoelastycznej i medycznego żelu sylikonowego,pokryte poliuretanem, rozkładające ciężar ciała i obniżające nacisk powierzchniowy do bezpiecznego poziomu, chroniące przed ryzykiem podrażnienia nerwów, wielokrotnego użytku, wodoszczelne o właściwościach nie powodujących podrażnień dla skóry, potwierdzone badaniami wg normy ISO 10993-10 i ISO10993-1 lub równoważnej, do dezynfekcji ogólnie dostępnymi środkami, żel nie wycieka w przypadku przecięcia powłoki, przezierne dla RTG, nie przewodzące ładunków elektrycznych, wolne od lateksu. Gwarancja na wady fabryczne min. 24 miesiące | C5: szt. | D5: 4
A6: 2 | B6: Pozycjoner przeciwodleżynowy,półwałek o rozmiarze 505x92x75mm (+/_ 5mm )wykonane z medycznego żelu sylikonowego,pokryte poliuretanem, rozkładające ciężar ciała i obniżające nacisk powierzchniowy do bezpiecznego poziomu, chroniące przed ryzykiem podrażnienia nerwów, wielokrotnego użytku, wodoszczelne o właściwościach nie powodujących podrażnień dla skóry, potwierdzone badaniami wg normy ISO 10993-10 i ISO10993-1 lub równoważnej, do dezynfekcji ogólnie dostępnymi środkami, żel nie wycieka w przypadku przecięcia powłoki, przezierne dla RTG, nie przewodzące ładunków elektrycznych, wolne od lateksu. Gwarancja na wady fabryczne min. 24 miesiące | C6: szt. | D6: 2
B7: RAZEM | F7: =SUM(F5:F6) -> 0 | I7: =SUM(I5:I6) -> 0
B12: Data | H12: Podpis osoby/osób upoważnionej
B13: ……………………………………………. | H13: ……………………………….

Sheet Zad.59
B1: ZOZ/DZP/PN/5/20
B2: Załącznik Nr: 9
A3: Zadanie nr: 59 - Strzykawki do gazometrii.
A4: Lp. | B4: Nazwa produktu | C4: Jednostka miary | D4: Ilość | E4: Cena jednostkowa[zł] netto | F4: Wartość [zł] netto | G4: VAT | H4: Cena jednostkowa [zł] brutto | I4: Wartość [zł] brutto | J4: Producent/Model/Nr katalogowy
A5: 1 | B5: Strzykawka sterylna, do pobierania krwi tętniczej, żylnej i innych mateiałów, metodą aspiracji w ilości do 1,7ml, heparynizowana suchą, wysokoskoncentrowaną heparyną litową, elektrolitowo zbilansowaną jonami wapnia, sodu, oraz potasu, z systemem bezkontaktowego usuwania pęcherzyk powietrza ze strzykawki i bezkontaktowego podawania materiału do analizatora , z wewnętrznym urządzeniem wspomagającym mieszanie próbki, zakończenie luer, | C5: szt. | D5: 10000
A6: 2 | B6: Strzykawka do gazometrii napylona heparyną zbalansowana (zredukowaną) wapniem 2-3 ml | C6: szt. | D6: 6500
B7: Razem | F7: =SUM(F5:F6) -> 0 | I7: =SUM(I5:I6) -> 0
B10: Data | G10: Podpis osoby/osób upoważnionej
B11: ……………………………………………. | G11: ……………………………….

Sheet Zad. 61
B2: ZOZ/DZP/PN/5/20
B3: Załącznik Nr: 9
B4: Zadanie nr: 61 - System do mierzenia ciśnienia śródbrzusznego.
A5: Lp. | B5: Nazwa produktu | C5: Jednostka miary | D5: Ilość | E5: Cena jednostkowa[zł] netto | F5: Wartość [zł] netto | G5: VAT | H5: Cena jednostkowa [zł] brutto | I5: Wartość [zł] brutto | J5: Producent/Model/Nr katalogowy
A6: 1 | B6: Zamknięty system do nieinwazyjnego pomiaru ciśnienia śródbrzusznego metodą manometryczną ( fabrycznie połączony zestaw do godzinowej zbiórki moczu z linią pomiarową, sterylny, w jednym opakowaniu co zapewnia utrzymanie systemu zamkniętego), 20 ml dren manometryczny wyposażony w filtr biologiczny, umieszczony pomiędzy cewnikiem foley, a zestawem do godzinowej zbiórki moczu, zapewniający właściwe odpowietrzenie. Zastawka antyzwrotna wbudowana w łącznik do cewnika foley zapobiega cofaniu się moczu z zestawu do godzinowej zbiórki moczu do linii pomiarowej. Zintegrowany zacisk drenu pozwalający na wyrównanie ciśnień i precyzyjny odczyt wartości ciśnienia śródbrzusznego, bezigłowy port do pobierania próbek, linia pomiarowa wyskalowana w mm Hg, czas użycia do 7 dni. | C6: szt. | D6: 130
B7: Razem | F7: =SUM(F6) -> 0 | I7: =SUM(I6) -> 0
B9: Data | G9: Podpis osoby/osób upoważnionej
B10: ……………………………………………. | G10: ……………………………….

Sheet Zad.65
B1: ZOZ/DZP/PN/5/20
B2: Załącznik Nr: 9
A3: Zadanie nr: 65 - Podkłady
A4: Lp. | B4: Nazwa produktu | C4: Jednostka miary | D4: Ilość | E4: Cena jednostkowa netto | F4: Wartość netto | G4: VAT | H4: Cena jednostkowa brutto | I4: Wartość brutto | J4: Producent/Model/Nr katalogowy
A5: 1 | B5: 3-4 warstwowy, nieprzepuszczalny podkład chłonny z możliwością cięcia, jednorazowy, rozmiar 80 x 200cm.Warstwa chłonna min50cmx200cm zmieniająca się w żel utrzymujący skórę pacjenta suchą po 1min od zmoczenia. Warstwa wierzchnia PE/PP, Warstwa pośrednia średnią gęstość 65 ± 5 g/m2, niebieska dolna warstwa PE 35g/m2 .Niesterylny klasy 1,zgodny z normą EN 13795.Możliwość przenoszenia do 150kg.Grubość 0,5mm.Chłonność 2000ml/m2. | C5: szt | D5: 120
A6: 2 | B6: 3-4 warstwowy ,nieprzepuszczalny podkład chłonny z możliwością cięcia, jednorazowy ,rozmiar 80 x 200cm.Warstwa chłonna min50cmx200cm zmieniająca się w żel utrzymujący skórę pacjenta suchą po 1min od zmoczenia. Warstwa wierzchnia PE/PP, Warstwa pośrednia średnią gęstość 65 ± 5 g/m2, fioletowa dolna warstwa PE 42g/m2 .Niesterylny klasy 1,zgodny z normą EN 13795.Warstwa zabezpieczająca stół odporna na rozdarcia bez zawartości latexu .Niesterylny. Możliwość przenoszenia do 500kg.Grubość 0,5mm.Chłonność płynów 2600ml/m2. | C6: szt | D6: 50
A7: 3 | B7: 3-4 warstwowy, nieprzepuszczalny podkład chłonny z możliwością cięcia, jednorazowy, rozmiar 140x 230cm.Warstwa chłonna min50cmx230cm zmieniająca się w żel utrzymujący skórę pacjenta suchą po 1min od zmoczenia. Warstwa wierzchnia hydrofilowy PP, Warstwa pośrednia średnią gęstość 65 ± 5 g/m2, dolna warstwa złoto-srebrna PET 20g/m2 izolująca termicznie i elektrycznie o grubości12 µm. Niesterylny klasy 1,zgodny z normą EN 13795.Możliwość przenoszenia do 150kg.Chłonność 2000ml/m2. | C7: szt | D7: 150
A8: 4 | B8: 3-4 warstwowy, nieprzepuszczalny podkład chłonny z możliwością cięcia ,utrzymujący płyny nawet pod naciskiem, jednorazowy, rozmiar 140cm x 200cm.Warstwa chłonna min70cmx200cm zmieniająca się w żel utrzymujący skórę pacjenta suchą po 1min od zmoczenia. Warstwa wierzchnia PE/PP, Warstwa pośrednia średnią gęstość 85 ± 5 g/m2, niebieska dolna warstwa PE 35g/m2 .Niesterylny klasy 1,zgodny z normą EN 13795.Możliwość przenoszenia do 150kg.Grubość 0,5mm.Chłonność 4000ml/m2. | D8: 150
B9: Razem | F9: =SUM(F5:F8) -> 0 | I9: =SUM(I5:I8) -> 0
B13: Data | H13: Podpis osoby/osób upoważnionej
B14: ……………………………………………. | H14: ……………………………….

Sheet Zad.70
B1: ZOZ/DZP/PN/5/20
B2: Załącznik Nr: 9
A4: Zadanie nr: 70 - Akcesoria do OIT
A5: Lp. | B5: Nazwa produktu | C5: Jednostka miary | D5: Ilość | E5: Cena jednostkowa netto | F5: Wartość netto | G5: VAT | H5: Cena jednostkowa brutto | I5: Wartość brutto | J5: Producent/Model/Nr katalogowy
A6: 1 | B6: Miękka tasiemka do rurek intubacyjnych, wykonana z niepodrażniającej tkaniny, mocowana na rzepy | C6: szt. | D6: 250
A7: 2 | B7: Miękka tasiemka do rurek tracheostomijnych, wykonana z niepodrażniającej tkaniny, mocowana na rzepy do kołnierza rurki, regulowana długość | C7: szt. | D7: 250
A8: 3 | B8: Zestaw „ambu" do resuscytacji dzieci z jedna maską wielorazowy stetylizowalny | C8: szt. | D8: 6
A9: 4 | B9: Zestaw „ambu" do resuscytacji dorosłych z jedna maską wielorazowy stetylizowalny | C9: szt. | D9: 4
A10: 5 | B10: Zestaw „ambu" do resuscytacji noworodków z jedna maską wielorazowy stetylizowalny | C10: szt. | D10: 20
A11: 6 | B11: Samorozprężalny worek resuscytacyjny 1300ml typu ambu, wielorazowego użytku z zaworem pacjenta, zaworem tlenowym i rezerwuarem, autklawowalny, wykonany z silikonu, wszystkie elementy rozbieralne, łatwe do mycia i sterylizacji, łącznik 22/15mm | C11: szt. | D11: 15
A12: 7 | B12: Samorozprężalny worek resuscytacyjny 1300ml typu ambu, wielorazowego użytku z zaworem pacjenta, zaworem tlenowym i rezerwuarem, autklawowalny, wykonany z silikonu, wszystkie elementy rozbieralne, łatwe do mycia i sterylizacji, wersja militarna | C12: szt. | D12: 4
A13: 8 | B13: Samorozprężalny worek resuscytacyjny typu ambu, z zaworem pacjenta, zaworem tlenowym i rezerwuarem, jednorazowy, łącznik 22/15mm, objętość całkowita 1475ml | C13: szt. | D13: 10
A14: 9 | B14: Samorozprężalny worek resuscytacyjny typu ambu, wielorazowego użytku z zaworem pacjenta, zaworem tlenowym i rezerwuarem, jednorazowy, łącznik 22/15mm, objętość całkowita 635ml | C14: szt. | D14: 10
A15: 10 | B15: Samorozprężalny worek resuscytacyjny typu ambu, wielorazowego użytku z zaworem pacjenta, zaworem tlenowym i rezerwuarem, jednorazowy, łącznik 22/15mm, objętość całkowita 220ml | C15: szt. | D15: 10
A16: 11 | B16: Worek rezerwuarowy wymienny w pełni kompatybilny do worka resuscytacyjnego powyżej, jednorazowego użytku, pojemność do wyboru Zamawiajacego min. 2 wielkości z zakresu 1800-2600ml, opcjonalnie ze zintegrowanym zaworem do rezerwuaru | C16: szt. | D16: 5
A17: 12 | B17: Zawór wymienny do rezerwuarów telnowych,kompatybilny do worków rezerwuarowych powyżej, wykonany z polikarbonaru lub polisulfonu | C17: szt. | D17: 5
... A20: 15 | B20: Obręcz uniwersalna, wymienna z uszczelką silikonową,kompatybilna do worków resuscytacyjnych powyżej, wykonana z polikarbonu lub polisulfonu | C20: szt. | D20: 10
A21: RAZEM | F21: =SUM(F6:F20) -> 0 | I21: =SUM(I6:I20) -> 0
B24: Data | H24: Podpis osoby/osób upoważnionej
B25: ……………………………………………. | H25: ……………………………….

Sheet Zad.73
B1: ZOZ/DZP/PN/5/20
B2: Załącznik Nr: 9
A3: Zadanie nr: 73 - Obuwie operacyjne
A4: Lp. | B4: Nazwa produktu | C4: Jednostka miary | D4: Ilość | E4: Cena jednostkowa netto | F4: Wartość netto | G4: VAT | H4: Cena jednostkowa brutto | I4: Wartość brutto | J4: Producent/Model/Nr katalogowy
A5: 1 | B5: Obuwie profesjonalne, przeznaczone dla osób pracujących w szpitalu, przychodni, laboratorium itp. Antypoślizgowa podeszwa, odpinany pasek dla lepszego utrzymania stopy, system przeciwwstrząsowy minimalizujący obciążenia ścięgien, kości i stawów, zapobiegający uczuciu zmęczonych nóg, wstawka antystatyczna, otwory wentylacyjne w bucie i wkładce wewnętrznej regulujące temperaturę i wilgotność stopy w bucie, łatwe czyszczenie, możliwość prania w pralce w temperaturze do 90ºC, możliwość sterylizacji w autoklawie w temperaturze do 134ºC *, zewnętrzna ochrona zapobiegająca przedostaniu się płynów do wnętrza buta, wysokiej jakości polimer steri – tech, odporny na rozpuszczalniki, detergenty, chemikalia, kwas mlekowy, działanie cieczy (np. infiltrację krwi), zapobiega powstawaniu nieprzyjemnego zapachu, hamuje wzrost grzybów i bakterii, rozpraszający gromadzące się podczas użytkowania ładunki elektrostatyczne, zapobiegające przypadkowym rozładowaniom, wyjmowana wkładka wewnętrzna z możliwością wymiany na wkładkę skórkową lub wkładkę z materiału polimer steri – tech. Rozmiary od 35 do 48. | C5: para | D5: 60
A6: 2 | B6: Wkładki do obuwia z poz 1 w rozmiarach 35 do 48 | C6: para | D6: 60
B7: RAZEM | F7: =SUM(F5:F6) -> 0 | I7: =SUM(I5:I6) -> 0
B9: Standardy techniczne:
B10: - CE produkt zgodny z dyrektywą 89/686/CEE;
B11: - EN ISO 20347: 2012 środki ochrony indywidualnej - obuwie zawodowe, klasa II;
B12: - EN ISO 20347:2012(6.2.2.2) obuwie antystatyczne;
B13: - EN ISO 20347: 2012 (6.2.4) pochłanianie energii na pięcie;
B14: - Norma IEC 61340-5.1. opór elektryczny **
B15: - Norma IEC 61340-4.3. opór elektryczny - klasa 1 **
B16: - SATRA TM 144: 2011 tarcie obuwia i powierzchni (antypoślizgowość)
B18: Data | H18: Podpis osoby/osób upoważnionej
B19: ……………………………………………. | H19: ……………………………….

Sheet Zad.79
B1: ZOZ/DZP/PN/5/20
B2: Załącznik Nr: 9
A3: Zadanie nr: 79 - Worki i narzędzia do laparoskopii.
A4: Lp. | B4: Nazwa produktu | C4: Jednostka miary | D4: Ilość | E4: Cena jednostkowa netto | F4: Wartość netto | G4: VAT | H4: Cena jednostkowa brutto | I4: Wartość brutto | J4: Producent/Model/Nr katalogowy
A5: 1 | B5: Worek laparoskopowy ekstrakcyjny, jednorazowego użytku, z samorozprężającym drutem, z pamięcią kształtu, tuba odłączana, pojemność 200ml, wym. 95x161 mm, dedykowany do płaszczy trokarów o śr. 10/12mm (op. 10szt.) | C5: op.=10szt | D5: 24
A6: 2 | B6: Kleszcze grasper laparoskopowy CLAW jednorazowego użytku, kompletny, obrotowe 360 stopni.Obie bransze aktywne,pełne, narzędzie na powierzchni bransz wyposażone we wsteczne zęby chwytne a część dystalna zakończona zębami 1x2, rączka plastikowa z blokada na palec wskazujący, śr. 5mm, dł. 330mm, dł. bransz 16,5mm 1op (12 szt.) | C6: op.=12szt | D6: 2
A7: 3 | B7: Disektor laparoskopowy MARYLAND, narzędzie kompletne, obrotowe 360 stopni, jednorazowego użytku. Obie bransze aktywne, zakrzywione w lewo, delikatne, rączka plastikowa bez blokady, sr. 5mm, dł. bransz 19mm, dł. robocza 330mm (op.12 szt.) | C7: op.=12szt | D7: 2
A8: 4 | B8: Kompletne narzędzie laparoskopowe – nożyczki jednorazowe sterylne, opakowanie 12szt. | C8: op.=12szt | D8: 2
A9: 5 | B9: Płaszcz trokara, niemetalowy, wykonany z tworzywa PEEK, wielorazowego użytku, z zaworem do isuflacji, kaniula gwintowana skośna, dł. robocza 100mm, śr 11mm. | C9: szt. | D9: 1
A10: 6 | B10: Uszczelka silikonowa wewntrzna do trokarów Easyport, 10-12,5mm | C10: Op=5 szt | D10: 4
A11: 7 | B11: Uszczelka silikonowa wewntrzna do trokarów Easyport, 5mm | C11: Op=5 szt | D11: 2
A12: 8 | B12: Nożyczki laparoskopowe monopolarne, jednorazowego użytku, zagięte,obrotowe 360 stopni, rączka bez blokady, dł. 330mm, dł. ostrzy 17mm, śr. 5mm (op.5szt.). Wymóg posiadania w ofercie ww.nożyczek o dł.450mm oraz 330mm z branszami o dł.12mm | C12: op=5szt | D12: 1
A13: 9 | B13: Płaszcz trokara, jednorazowego użytku, karbowany, z uszczelką oraz kranikiem do insuflacji, o śr. 5mm i dł. 100mm, w komplecie z bezpiecznym gwoździem trokara w postaci płaskiego wysuwanego nożą w kształcie litery "V", aktywacja za pomocą oznaczonego kolorystycznie przycisku na rękojeści gwoździa, dedykowanym do płaszcza o śr. 5mm (op./5 szt.). Każdy płaszcz i gwóźdź znakowanie średnicy kaniuli. | C13: op=5szt | D13: 2
A14: 10 | B14: Zestaw dwóch płaszczy trokara jednorazowego użytku o śr. 10 mm oraz dł. tubusa 100 mm, w komplecie z gwoździem bezpiecznym trokara, z samocofającym się ostrzem. Płaszcze karbowane, przezroczyste, z opisem średnicy, posiadający uszczelkę oraz kranik do insuflacji. Płaszcze 2 – częściowe z odłączaną auto redukcją. Gwóźdź z opisem średnicy, plastikowy posiadający wysuwane metalowe ostrze. Uszczelki dolna oraz górna pokryte dodatkowo warstwą teflonu zmniejszającą tarcie podczas aplikacji i ekstrakcji narzędzi o dużych średnicach (op./5 szt.). Możliwość oferowania samej auto-redukcji. | C14: op=5szt | D14: 2
A15: 11 | B15: Płaszcz trokara, jednorazowego użytku, karbowany, z uszczelką oraz kranikiem do insuflacji, o śr. 10-12mm i dł. 100mm, w komplecie z bezpiecznym gwoździem trokara w postaci płaskiego wysuwanego nożą w kształcie litery "V", aktywacja za pomocą oznaczonego kolorystycznie przycisku na rękojeści gwoździa, dedykowanym do płaszcza o śr. 10-12mm (op./5 szt.).do wyboru przy zakupie. Płaszcz wyposażony w autoredukcję do śr.5mm. Każdy płaszcz i gwóźdź znakowanie średnicy kaniuli. | C15: op=5szt | D15: 5
A16: 12 | B16: Płaszcz trokara, dedykowany do narzędzi o śr.5mm, wykonany z tworzywa sztucznego PEEK i PPSU, wielorazowego użytku, bez limitu cykli sterylizacji, 3-częściowy, z metalowym i rozbieralnym zaworem do insuflacji. Wyposażony w uszczelkę wewnętrzną silikonową w kształcie "kominka"4-ramiennego, kaniula skośna i gwintowana, dł.kaniuli 10cm. | C16: szt. | D16: 1
... A30: 26 | B30: Przewód monopolarny do narzędzi laparoskopowych oraz kompatybilny z diatermią ERBE ICC/ACC posiadaną przez Zamawiającego, dł.3,5m | C30: szt. | D30: 1
B31: RAZEM | F31: =SUM(F5:F30) -> 0 | I31: =SUM(I5:I30) -> 0
B33: Data | H33: Podpis osoby/osób upoważnionej
B34: ……………………………………………. | H34: ……………………………….

Sheet Zad.85
B1: ZOZ/DZP/PN/5/20
B2: Załącznik Nr: 9
A3: Zadanie nr: 85 - Opaska 2
A4: Lp. | B4: Nazwa produktu | C4: Jednostka miary | D4: Ilość | E4: Cena jednostkowa netto | F4: Wartość netto | G4: VAT | H4: Cena jednostkowa brutto | I4: Wartość brutto | J4: Producent/Model/Nr katalogowy
A5: 1 | B5: Opaska uciskowa jednorazowego użytku kolor jasnozielony ( seledynowy ) szerokość 10 cm dł.10m | C5: szt. | D5: 20
B6: RAZEM | F6: =SUM(F5) -> 0 | I6: =SUM(I5) -> 0
B9: Data | H9: Podpis osoby/osób upoważnionej
B10: ……………………………………………. | H10: ……………………………….

Sheet Zad.86
B1: ZOZ/DZP/PN/5/20
B2: Załącznik Nr: 9
A3: Zadanie nr: 86- Nasadka do amniotomii
A4: Lp. | B4: Nazwa produktu | C4: Jednostka miary | D4: Ilość | E4: Cena jednostkowa netto | F4: Wartość netto | G4: VAT | H4: Cena jednostkowa brutto | I4: Wartość brutto | J4: Producent/Model/Nr katalogowy
A5: 1 | B5: Jednorazowa, lateksowa nasadka na palec zaopatrzona w haczyk do wykonania bezpiecznej amniotomii. | C5: op=100szt | D5: 12
B6: RAZEM | F6: =SUM(F5:F5) -> 0 | I6: =SUM(I5:I5) -> 0
B8: Oświadczam, że oferowany przedmiot zamówienia jest zgodny z opisem i spełnia wymagane parametry techniczne
B10: Data | H10: Podpis osoby/osób upoważnionej
B11: ……………………………………………. | H11: ……………………………….

Sheet Zad.89
B1: ZOZ/DZP/PN/5/20
B2: Załącznik Nr: 9
A3: Zadanie nr: 89 - Filtr do inkubatora Atom.
A4: Lp. | B4: Nazwa produktu | C4: Jednostka miary | D4: Ilość | E4: Cena jednostkowa netto | F4: Wartość netto | G4: VAT | H4: Cena jednostkowa brutto | I4: Wartość brutto | J4: Producent/Model/Nr katalogowy
A5: 1 | B5: Filtr do inkubatora Atom V-2100G/2200 i V85 typu F6-E i V5-E | C5: szt. | D5: 10
A6: 2 | B6: Mankiety irysowe do inkubatora Atom Dutchmed | C6: szt. | D6: 10
A7: 3 | B7: Mankiety semi-irysowe do inkubatora Atom | C7: szt. | D7: 10
A8: 4 | B8: Komora nawilżacza z automatyczną regulacją poziomu wody o konstrukcji zapobiegającej nadmiernemu gromadzeniu kondensatu w obwodzie oddechowym, dren do podaży wody dł. 1,2 m | C8: szt. | D8: 30
A9: 5 | B9: Czepiec do terapii wymiennych do stosowania w nieinwazyjnym wspomaganiu oddechu (NIV) umożliwiający zamocowanie generatora w mocowaniu kołyskowym za pomocą dwóch krótkich dwustronnych rzepów oraz w terapii tlenowej wysokimi przepływami (HFOT) umożliwiający zamocowanie kaniuli nosowej za pomocą dwóch długich rzepów (posiadających dodatkowo warstwę klejącą). Dostępne rozmiary: - obwód głowy do 24 cm, rozm. XXS - obwód głowy 24-28 cm, rozm. XS - obwód głowy 28-31 cm, rozm. S - obwód głowy 31-34cm, rozm. M - obwód głowy 34-38 cm, rozm. L - obwód głowy 38-42 cm, rozm. XL do wyboru przy zamówieniu | C9: szt. | D9: 30
A10: 6 | B10: Maska nosowa rozm. S Maska nosowa rozm. M Maska nosowa rozm. L Maska nosowa rozm. XL do wyboru przy zamówieniu | C10: szt. | D10: 30
A11: 7 | B11: Układ oddechowy noworodkowy z generatorem IF, jednorazowego użytku (mikrobiologicznie czysty), z zabezpieczeniem przeciwdrobnoustrojowym opartym na działaniu jonów srebra W skład zestawu wchodzi: - odcinek wdechowy podgrzewany dł. 1,2 m,  wew. 10 mm, - odcinek wydechowy niepodgrzewany z perforacją w postaci regularnych otworów zabezpieczających przed okluzją, umiejscowionych na wierzchołkach karbowań, na całej długości odcinka, - odcinek łączący nawilżacz z respiratorem dł. 0,6 m, - końcówka donosowa o zróżnicowanej grubości ramion donosowych w rozm. S, M, L, - odcinek do pomiaru ciśnienia dł. 2,1 m, - generator IF z elastycznymi i miękkimi paskami mocującymi z pętelkami do zaczepienia rzepów z jednej strony, paski zakończone usztywnianymi, karbowanymi końcami, które ułatwiają montaż generatora do czapeczki, - kołyska do zamocowania generatora na czepcu, wykonana z elastycznego tworzywa w kształcie litery T, z rzepem mocującym. Do wyboru przy zamówieniu | C11: szt. | D11: 30
C12: RAZEM | F12: =SUM(F5:F11) -> 0 | I12: =SUM(I5:I11) -> 0
B14: Data | H14: Podpis osoby/osób upoważnionej
B15: ……………………………………………. | I15: ……………………………….

Sheet Zad.90
B2: ZOZ/DZP/PN/5/20
B3: Załącznik Nr: 9
A4: Zadanie nr: 90 – Żel hydrożelowy do FESS-u.
A5: Lp. | B5: Nazwa produktu | C5: Jednostka miary | D5: Ilość | E5: Cena jednostkowa netto | F5: Wartość netto | G5: VAT | H5: Cena jednostkowa brutto | I5: Wartość brutto | J5: Producent/Model/Nr katalogowy
A6: 1 | B6: Żel stanowiący barierę przeciwzrostową stosowana po zabiegach operacyjnych ( zabiegi typu FESS,wycinanie migdałków czy polipów, korekta przegrody nosowej ). Preparat wykonany w pełni na bazie hydrożelu hialuronowego lub pochodnych celulozy, jest on sterylny i charakteryzuje się bardzo dużą lepkością dzięki zastosowaniu metody sieciowania cross-link. Żel wykazuje pełną absorpcję w dwa do trzech tygodni po jego aplikacji tym samym nie wymaga bolesnego usuwania. Preparat w sterylnych ampułko strzykawkach , gotowych do użycia z dołączoną do opakowania elastyczną kaniulą ułatwiającą aplikację żelu po zabiegach endoskopowych. Hamuje nawet minimalne krwawienie i poprawia szybkość gojenia się ran co powoduje wzrost komfortu pacjenta po zabieg ,nie wymaga chłodzenia. | C6: szt. | D6: 10
B7: Razem | F7: =SUM(F6) -> 0 | I7: =SUM(I6) -> 0
B10: Data | H10: Podpis osoby/osób upoważnionej
B11: ……………………………………………. | I11: ……………………………….

Sheet Zad.92
B1: ZOZ/DZP/PN/5/20
B2: Załącznik Nr: 9
A4: Zadanie nr: 92- Kaczki i baseny do myjni dezynfektora.
A5: Lp. | B5: Nazwa produktu | C5: Jednostka miary | D5: Ilość | E5: Cena jednostkowa netto | F5: Wartość netto | G5: VAT | H5: Cena jednostkowa brutto | I5: Wartość brutto | J5: Producent/Model/Nr katalogowy
A6: 1 | B6: Kaczka wielorazowego użytku z pokrywką, wykonana z polietylenu w kolorze zielonym. Wymiary: 30 x 13,5 x 10 x 14m. Kompatybilna z płuczko dezynfektorem Clinox 3A | C6: szt. | D6: 20
A7: 2 | B7: Basen wielorazowego użytku z pokrywą, w kolorze białym, wykonany z polipropyleny, autoklaw owalny, z rączką ułatwiającą użytkowanie (niewystająca). Max. długość z rączka 50cm. Kompatybilny z płuczko dezynfektorem Clinox 3A | C7: szt. | D7: 20
F8: =SUM(F6:F7) -> 0 | I8: =SUM(I6:I7) -> 0
B11: Data …………………………………………. ………………………………………………...
H12: Podpis osoby/osób uprawnionej

Sheet Zad.93
B1: ZOZ/DZP/PN/5/20
B2: Załącznik Nr: 9
A3: Zadanie nr: 93 – Ciśnieniomierze
A4: Lp. | B4: Nazwa produktu | C4: Jednostka miary | D4: Ilość | E4: Cena jednostkowa netto | F4: Wartość netto | G4: VAT | H4: Cena jednostkowa brutto | I4: Wartość brutto | J4: Producent/Model/Nr katalogowy
A5: 1 | B5: Ciśnieniomierz do pomiaru ciśnienia krwi z technologią Duo Sensor składający się z klasycznej osłuchowej, stosowanej w gabinetach lekarskich i oscylometrycznej metody badania, zapewniający wysoce precyzyjne wyniki ciśnienia tętniczego także w przypadku pacjentów z arytmią Aparat wykrywa zaburzenia rytmu pracy serca (arytmię serca) Indywidualne dopasowanie poziomu ciśnienia powietrza w mankiecie. Pamięć: aparat zapisuje minimum 60 wyników dla 2 użytkowników łącznie z datą i godziną pomiaru Aparat rozróżnia wartości pomiarów dokonywanych rano i wieczorem (wytyczne ESH), wylicza wartości średnie z wszystkich pomiarów oraz pomiarów porannych i wieczornych Aparat może być podłączony do komputera poprzez port USB, dzięki czemu może nastąpić przeniesienie danych pacjenta. Duże przyciski, czytelny wyświetlacz. W zestawie z ciśnieniomierzem 1 mankiet do wyboru przy zakupie 3 rozmiarach: r. S (nowy rozmiar /obwód ramienia 17 -22 cm+- 2cm), r. M (obwód ramienia 22 - 32 cm+- 2cm) i r . L (obwód ramienia 32 -42 cm+-2cm); Aparat klinicznie zatwierdzony. Rekomendacje niezależnych instytutów badawczych. 5 letnia gwarancja. | C5: szt | D5: 14
A6: 2 | B6: Mankiet do wyboru przy zakupie 3 rozmiarach: r. S (nowy rozmiar /obwód ramienia 17 -22 cm+- 2cm), r. M (obwód ramienia 22 - 32 cm+- 2cm) i r . L (obwód ramienia 32 -42 cm+-2cm); | C6: szt | D6: 10
A7: RAZEM | F7: =SUM(F5:F6) -> 0 | I7: =SUM(I5:I6) -> 0
B10: Data …………………………………………. ………………………………………………...
H11: Podpis osoby/osób uprawnionej

Sheet Zad.95
B1: ZOZ/DZP/PN/5/20
B2: Załącznik Nr: 9
A3: Zadanie nr 95- Żele i gaziki
A4: Lp | B4: Nazwa produktu | C4: Jednostka | D4: Ilość | E4: Cena jednostkowa netto | F4: Wartość netto | G4: VAT | H4: Cena jednostkowa brutto | I4: Wartość brutto | J4: Producent/Model/Nr katalogowy
A5: 1 | B5: Sterylny (sterylizowany radiacyjnie) lubrykant poślizgowy ,pakowany podwójnie , saszetka z wyprofilowaną końcówką do dokładnej aplikacji, końcówka z nacięciem, lubrykant na bazie wody, odtłuszczony, bezzapachowy i bezbarwny, nie powoduje podrażnień, saszetki po 5g | C5: op=150szt. | D5: 6
A6: 2 | B6: Sterylny żel do miejscowego znieczulenia z lignokainą oraz zapewniający optymalne smarowanie przy wstawianiu instrumentów do jam ciała. Skład chemiczny żelu podany na sterylnej ampułkostrzykawce oraz opakowaniu zbiorczym. Ampułkostrzykawka pakowana pojed po 6ml | C6: op=10szt | D6: 50
A7: 3 | B7: Gaziki nasączane chlorheksydyną 2% i 70% alkoholem izopropylowy.Do dezynfekcji cewników centralnych i obwodowych.Pakowane pojedynczo. w rozmiarze 12,5 (+/- 0,5 cm) x 18,5 ( +/- 0,5 cm) | C7: op=200szt. | D7: 10
A8: 4 | B8: Pałeczki do nawilżania jamy ustnej. Niezawierające cukru,nasączone gliceryną . | C8: op=75szt. | D8: 30
B9: RAZEM | F9: =SUM(F5:F8) -> 0 | I9: =SUM(I5:I8) -> 0
B12: Data | H12: Podpis osoby/osób upoważnionej
B13: ……………………………………………. | H13: ……………………………….

Sheet Zad.99
B1: ZOZ/DZP/PN/5/20
B2: Załącznik Nr: 9
A4: Zadanie nr: 99– Akcesoria do tlenoterapii i inhalacji
A5: Lp. | B5: Nazwa produktu | C5: Jednostka miary | D5: Ilość | E5: Cena jednostkowa netto | F5: Wartość netto | G5: VAT | H5: Cena jednostkowa brutto | I5: Wartość brutto | J5: Producent/Model/Nr katalogowy
A6: 1 | B6: Maska tlenowa dla dorosłych z przewodem i zaciskiem, jednorazowa L-XL bezbawna | C6: szt. | D6: 1800
A7: 2 | B7: Maska tlenowa dla dorosłych z przewodem i rezerwuarem powietrza, jednorazowa S-XL | C7: szt. | D7: 600
A8: 3 | B8: Maska tlenowa dla noworodków z przewodem i zaciskiem, jednorazowa S bezbarwna | C8: szt. | D8: 500
A9: 4 | B9: Maska tlenowa dla dzieci z przewodem i zaciskiem, jednorazowa M bezbarwna | C9: szt. | D9: 400
A10: 5 | B10: Maska anestetyczna nr 00 | C10: szt. | D10: 100
A11: 6 | B11: Maska anestetyczna nr 0 | C11: szt. | D11: 100
A12: 7 | B12: Maska anestetyczna z zaworem nr 1 | C12: szt. | D12: 100
A13: 8 | B13: Maska anestetyczna z zaworem nr 2 | C13: szt. | D13: 140
A14: 9 | B14: Maska anestetyczna z zaworem nr 3 | C14: szt. | D14: 140
A15: 10 | B15: Maska anestetyczna z zaworem nr 4 | C15: szt. | D15: 140
A16: 11 | B16: Maska anestetyczna z zaworem nr 5 | C16: szt. | D16: 140
A17: 12 | B17: Cewnik do podawania tlenu przez nos /wąsy tlenowe dla noworodków, jednorazowe, bezbarwne | C17: szt. | D17: 100
... A21: 16 | B21: Maska z nebulizatorem i wężem dla dorosłych, jednorazowa L-XL, bezbarwna. | C21: szt. | D21: 2500
B22: RAZEM | F22: =SUM(F6:F21) -> 0 | I22: =SUM(I6:I21) -> 0
B24: Data | H24: Podpis osoby/osób upoważnionej
B25: ……………………………………………. | H25: ……………………………….

Sheet Zad.100
B1: ZOZ/DZP/PN/5/20
B2: Załącznik Nr: 9
A4: Zadanie nr: 100 - System zamknięty próżniowy pobierania krwi
A5: Lp. | B5: Nazwa produktu | C5: Jednostka miary | D5: Ilość | E5: Cena jednostkowa netto | F5: Wartość netto | G5: VAT | H5: Cena jednostkowa brutto | I5: Wartość brutto | J5: Producent/Model/Nr katalogowy
A6: 1 | B6: Adapter Luer do systemu | C6: szt. | D6: 26000
A7: 2 | B7: Adapter Luer do systemu na stałe połączony z uchwytem, całośc pakowana pojedyńczo sterylny | C7: szt. | D7: 1000
A8: 3 | B8: Uchwyty jednorazowe do igieł, adapterów luer, igieł motylkowych | C8: szt. | D8: 120000
A9: 4 | B9: Igła systemowa 0,7;0,8; długość igły 32 do 38mm | C9: szt. | D9: 90000
A10: 5 | B10: Igła systemowa z wizualizacją 0,7; 0,8 – 25 do 38 mm, | C10: szt. | D10: 80000
A11: 6 | B11: Probówka 4 ml z aktywatorem wykrzepiania | C11: szt. | D11: 81000
A12: 7 | B12: Probówka 6 ml z aktywatorem wykrzepiania | C12: szt. | D12: 24000
A13: 8 | B13: Probówka 1 i 2 ml z K2 EDTA lub K3 EDTA do wyboru przy zakupie | C13: szt. | D13: 95000
A14: 9 | B14: Probówka do badań koagul. 1-2 ml z cytr.3,2 %, probówka z podwójną ścianką. | C14: szt. | D14: 42000
A15: 10 | B15: Probówka do OB. met. liniową 1,6-2 ml | C15: szt. | D15: 2500
A16: 11 | B16: Rurka skalowana do OB. kompatybilna z poz. 10 | C16: szt. | D16: 3000
A17: 12 | B17: Probówka do OB. met. Logar. 2,75-5 ml | C17: szt. | D17: 3000
... A25: 20 | B25: Mikrometoda do koagulologii z cytrynianem sodu 3,2%, 0,5ml | C25: szt. | D25: 1000
B26: RAZEM | F26: =SUM(F6:F25) -> 0 | I26: =SUM(I6:I25) -> 0
B30: PARAMETRY GRANICZNE zamkniętego systemu pobierania krwi
A32: 1 | B32: Technika pobierania - system próżniowy, próżnia kalibrowana na etapie produkcji
A33: 2 | B33: Materiał, z którego wykonane są poszczególne elementy systemu – plastik (dopuszcza się probówkę do OB ze szkła)
A34: 3 | B34: System ma gwarantować bezpośrednie pobieranie krwi z jednego wkłucia do probówek.
A35: 4 | B35: Każda probówka systemu ma posiadać etykietę z miejscem na opis próbki i umieszczenie tam wszystkich niezbędnych informacji.
A36: 5 | B36: Każda probówka i każda igła systemu ma posiadać nadrukowaną na etykiecie datę ważności i numer serii.
A37: 6 | B37: Termin przydatności min. 7 miesięcy od daty dostawy ( dopuszcza się min. 4 miesiące przypadku koagulologii), otwarcie najmniejszego opakowania handlowego nie skraca terminu ważności.
A38: 7 | B38: Wszystkie igły, uchwyty, adaptery Luer ze względu na kompatybilność muszą pochodzić od jednego producenta.
A39: 8 | B39: Zamknięcie probówek umożliwiające ich wielokrotne zamykanie i otwieranie.
A40: 9 | B40: Bezpieczeństwo pracy, zabezpieczenie przed kontaktem z krwią i efektem aerozolowym - korek wykonany ze specjalnej mieszanki gumy
A41: 10 | B41: Igły z poz 4,5,17,18 maja posiadać osłonkę zabezpieczającą przed zakłuciem personelu umiejscowioną na igle bądź uchwycie.
A42: 12 | B42: Na uchwycie Logo lub nazwa producenta, lub systemu
A43: 13 | B43: Na wezwanie zamawiającego dołączyć po 3 sztuki próbek z każdej pozycji.
B46: Data | H46: Podpis osoby/osób upoważnionej
B47: ……………………………………………. | H47: ……………………………….

Sheet Zad.102
B2: ZOZ/DZP/PN/5/20
B3: Załącznik Nr: 9
A5: Zadanie nr:102 - Reduktory
A6: Lp. | B6: Nazwa produktu | C6: Jednostka miary | D6: Ilość | E6: Cena jednostkowa[zł] netto | F6: Wartość [zł] netto | G6: VAT | H6: Cena jednostkowa [zł] brutto | I6: Wartość [zł] brutto | J6: Producent/Model/Nr katalogowy
A7: 1 | B7: Reduktor z dozownikiem 0-15 l/min.+ szybkozłącze / DIN/lub AGA do wyboru przy zakupie | C7: szt. | D7: 20
A8: 2 | B8: Dozownik z zaworem umożliwiającym płynną regulację dozowania tlenu, wielorazową butelką nawilżacza,ze złączem typu AGA lub DIN do wyboru przy zakupie. | C8: szt | D8: 30
A9: 3 | B9: Reduktor ssania z butlą zabezpieczającą mocowany bezpośrednio do gniazda próżni (technologia DIN. Regulacja w zakresie od 0 do podciśnienia istniejącego w instalacji. Wysokość całkowita nie większa niż 20cm. | C9: szt | D9: 4
A10: 4 | B10: Pojemnik zabezpieczający ok 250 ml z poliwęglanu z zaworem odcinającym | C10: szt | D10: 6
A11: 5 | B11: Wąż silikonowy do ssaka 12x,5 do ssaka medycznego typu PR – 12/7 | C11: szt | D11: 6
B12: Razem | F12: =SUM(F7:F11) -> 0 | I12: =SUM(I7:I11) -> 0
B15: Data | G15: Podpis osoby/osób upoważnionej
B16: ……………………………………………. | G16: ……………………………….

Sheet Zad.103
B1: ZOZ/DZP/PN/5/20
B2: Załącznik Nr: 9
A4: Zadanie nr: 103 - Preparat znieczulający
A5: Lp | B5: Nazwa produktu | C5: Jednostka | D5: Ilość | E5: Cena jednostkowa netto | F5: Wartość netto | G5: VAT | H5: Cena jednostkowa brutto | I5: Wartość brutto | J5: Producent/Model/Nr katalogowy
A6: 1 | B6: Preparat przeciwbólowy zawierający mieszaninę gazów o składzi : 50%podtlenku azotu i 50% tlenu zarejestrowany jako lek wraz z dostawami | C6: butla po 10 l = 2,8 m3 gazu | D6: 140
A7: 2 | B7: Ustniki jednorazowe do zaworu dozującego | C7: op.=100szt | D7: 24
A8: 3 | B8: Dzierżawa 5 butli | C8: miesiąc | D8: 24
A9: 4 | B9: Dzierżawa 3 stojaków na kółkach | C9: miesiąc | D9: 24
A10: 5 | B10: Dzierżawa 3 zaworów dozujących | C10: miesiąc | D10: 24
B11: RAZEM | F11: =SUM(F6:F10) -> 0 | I11: =SUM(I6:I10) -> 0
B13: Uwaga:
B14: Wykonawca dostarczy Zamawiającemu w ramach umowy dzierżawy butle, stojaki i zawory ( zawory dozujące nie mogą zawierać części wymagających sterylizacji)
B16: Data | H16: Podpis osoby/osób upoważnionej
B17: ……………………………………………. | I17: ……………………………….

Sheet Zad.106
B1: ZOZ/DZP/PN/5/20
B2: Załącznik Nr: 9
B3: Zadanie nr: 106 - Zestawy do pomp Medima
A4: Lp. | B4: Nazwa produktu | C4: Jednostka miary | D4: Ilość | E4: Cena jednostkowa netto | F4: Wartość netto | G4: VAT | H4: Cena jednostkowa brutto | I4: Wartość brutto | J4: Producent/Model/Nr katalogowy
A5: 1 | B5: Uniwersalny zestaw do podaży leków i płynów oraz żywienia pozajelitowego Komora kroplowa 20 kropel/ml, filtr 15µm. Zawór blokujący przepływ po wyjęciu zestawu z pompy. Dodatkowy zawór rolkowy. Długość 270-285 cm Nie zawiera DEHP Nie zawiera Latexu | C5: szt. | D5: 2000
A6: 2 | B6: Zestaw do podaży krwi oraz preparatów krwiopochodnych. Komora kroplowa 20 kropel/ml, filtr 200µm. Zawór blokujący przepływ po wyjęciu zestawu z pompy. Dodatkowy zawór rolkowy. Długość 270-285 cm Nie zawiera DEHP Nie zawiera Latexu | C6: szt. | D6: 1500
A7: 3 | B7: Zestaw do podaży leków światłoczułych, kolor bursztynowy. Komora kroplowa 20 kropel/ml, filtr 15µm. Zawór blokujący przepływ po wyjęciu zestawu z pompy. Dodatkowy zawór rolkowy. Długość 270-285 cm Nie zawiera DEHP Nie zawiera Latexu | C7: szt. | D7: 1500
A8: 4 | B8: Detektor kropli kompratybilny z pompami objętościowymi Medima P1 i P2 | C8: szt. | D8: 30
B9: Razem | F9: =SUM(F5:F8) -> 0 | I9: =SUM(I5:I8) -> 0
B12: Data | G12: Podpis osoby/osób upoważnionej
B13: ……………………………………………. | G13: ……………………………….

Sheet Zad.108
B1: ZOZ/DZP/PN/5/20
B2: Załącznik Nr: 9
A4: Zadanie nr: 108 - System HFNC
A5: Lp. | B5: Nazwa produktu | C5: Jednostka miary | D5: Ilość | E5: Cena jednostkowa[zł] netto | F5: Wartość [zł] netto | G5: VAT | H5: Cena jednostkowa [zł] brutto | I5: Wartość [zł] brutto | J5: Producent/Model/Nr katalogowy
A6: 1 | B6: Kaniula donosowa do terapii tlenowej HFNC (high flow nasal cannula). przystosowana do współpracy z podgrzewanymi układami oddechowymi serii 900PT561 firmy Fisher&Paykel. Kaniula wyposażona jest w regulowany pasek zakładany na główę, umożliwiający zamocowanie kaniuli na twarzy pacjenta. Kaniula wyposażona jest w dwie miękkie, wyprofilowne wyściółki przy policzkach pacjenta, zwiększające stabilność dopasowania i zmniejszące nacisk na twarz. Kolorystyczne oznaczenia 3 różnych rozmiarów umożliwiają błyskawiczny dobór właściwego rozmiaru. Dren kaniuli wykonany jest z elastycznego, oddychającego materiału odparowującego nadmiar wilgoci. Kaniula posiada dwa miękkie, elastyczne noski. Kształt nosków jest dopasowany do budowy nosa pacjenta i występuje w trzech rozmiarach: S, M, L do wyboru przy zakupie. rozmiar S (przepływ gazów 10-50 L/min) - wyściółka koloru pomarańczowego rozmiar M (przepływ gazów 10-60 L/min) - wyściółka koloru niebieskiego Rozmiar L (przepływ gazów 10-60 L/min) - wyściółka koloru zielonego Produkt zalecany do użytku przez 14 dni | C6: szt. | D6: 150
A7: 2 | B7: Łącznik tracheo do terapii tlenowej HFNC (high flow nasal cannula). przystosowany do współpracy z podgrzewanymi układami oddechowymi serii 900PT561 firmy Fisher&Paykel. | C7: szt. | D7: 120
A8: 3 | B8: Filtr do urzadzenia AIRVO II, filtr zapewniajacy dopływ czystego powietrza, zalecany do wymiany co 3 m-ce | C8: szt. | D8: 20
A9: 4 | B9: Układ do oddychania ogrzanym i nawilżonym powietrzem z samonapełniającą się komorą MR290. Układ oddechowy do terapii tlenowej HFNC (high flow nasal cannula) o długości 185 cm. Odcinek wdechowy podgrzewany wyposażony w zatopioną grzałkę w ściankach układu oddechowego eliminujący skropliny w układzie w drenie z wbudowanym czujnikiem temperatury oraz zintegrowany ruchomy klips do mocowania. Przepływ gazów w zakresie 2 – 60 L/min. Zakończenie układu o kształcie zapewniającym prawidłowe podłączenie do kaniul nosowych serii OPT316, OPT318, OPT942, OPT944, OPT946 i interfejsu do tracheostomii OPT firmy Fisher&Paykel. Zapewnia bezpieczne połączenie kaniul donosowych serii OPT firmy Fisher&Paykel, charakteryzujące się wyraźnym „kliknięciem” podczas montażu. Układ zapewniający pracę w zakresie przepływów 2 – 60 L/min. w zależności od wyboru rodzaju trybu pracy urządzenia. Komplet zawiera adapter z komorą nawilżacza z automatycznym pobieraniem wody, posiadającą dwa pływaki zabezpieczające przed przedostaniem się wody do układu oddechowego. Układ oddechowy wraz z adapterem i komorą tworzy komplet tzn. znajdują się w jednym opakowaniu. Produkt zalecany do użytku przez 14 dni | C9: szt. | D9: 150
A10: 5 | B10: Adapter do tracheostomii | C10: szt. | D10: 120
B11: RAZEM | F11: =SUM(F6:F10) -> 0 | I11: =SUM(I6:I10) -> 0
B14: Data | G14: Podpis osoby/osób upoważnionej
B15: ……………………………………………. | G15: ……………………………….

Sheet Zad.110
B1: ZOZ/DZP/PN/5/20
B2: Załącznik Nr: 9
A3: Zadanie nr:110 Tamponada balonowa do krwawień poporodowych.
A4: Lp. | B4: Nazwa produktu | C4: Jednostka miary | D4: Ilość | E4: Cena jednostkowa netto | F4: Wartość netto | G4: VAT | H4: Cena jednostkowa brutto | I4: Wartość brutto | J4: Producent/Model/Nr katalogowy
A5: 1. | B5: Tamponada balonowa do krwawień poporodowych: - podwójny lekki balon (zewnętrzny na sól fizjologiczną, wewnętrzny na powietrze) - strzykawka o pojemności 50-60 ml - woreczek drenażowy 500 ml - trzy końcówki z zaworami | C5: szt. | D5: 3
B6: RAZEM | F6: =SUM(F5:F5) -> 0 | I6: =SUM(I5:I5) -> 0
B9: Data | G9: Podpis osoby/osób upoważnionej
B10: ……………………………………………. | G10: ……………………………….

Sheet Zad. 111
B1: ZOZ/DZP/PN/5/20
B2: Załącznik Nr: 9
A4: Zadanie nr: 111 - Pompy elastomerowe
A5: Lp. | B5: Nazwa produktu | C5: Jednostka miary | D5: Ilość | E5: Cena jednostkowa[zł] netto | F5: Wartość [zł] netto | G5: VAT | H5: Cena jednostkowa [zł] brutto | I5: Wartość [zł] brutto | J5: Producent/Model/Nr katalogowy
A6: 1 | B6: Autofuser zwykły do wlewów ciągłych Przenośny system infuzyjny wykorzystujący zbiornik elastomerowy oraz ogranicznik przepływu, zapewniający ciągły przepływ leku przez określony czas przy nominalnej prędkości przepływu. Urządzenie gwarantuje dostarczenie żądanej, nominalnej objętości w zakresie +/- 10-15% nominalnego czasu wlewu. Urządzenie wyposażone jest w filtr cząstek stałych i powietrza przez, który podawana jest zawartość. Dren łączący długość min. 125 cm z klamrą i zatyczką z filtrem hydrofobowym. Urządzenie pakowane pojedynczo, jałowe. W torze przepływu w kontakcie z podawanym lekiem nie zawiera DEHP. Zbiornik z elastomeru silikonowego umieszczony w obudowie PC w kształcie płaskiego dysku, wygodnego do przenoszenia i układania na powierzchni w trakcie napełniania. Obudowa zapewnia możliwość wizualnej kontroli postępu wlewu oraz ochronę zbiornika elastomerowego. Napełnianie systemu odbywa się przez centralnie umieszczony port wyposażony w: - połączenie Luer Lock, przykręcaną pokrywę z wygodnym uchwytem zawór uniemożliwiający cofanie się/wyciek płynu po odłączeniu strzykawki. Wymagane dokumenty : • Certyfikat CE /świadectwo rejestracji w URPL • Badania potwierdzające, że system infuzyjny jest sprawdzony pod względem stabilności z 5-FU • Karta danych technicznych na potwierdzenie wymagań określonych w opisie przedmiotu zamówienia Nominalny czas infuzji: …..…ml/godz. (możliwe do wyboru:0.5, 1.0, 2.0,4.0, 5.0, 8.0 10.0) Nominalna objętość: ……………ml, (możliwe do wyboru:60, 100, 150, 275, 400, 550) | C6: szt | D6: 50
A7: 2 | B7: Autoselector z regulatorem przepływu Przenośny system infuzyjny wykorzystujący zbiornik elastomerowy z regulatorem przepływu umożliwiającym wstępne ustawienie prędkości przepływu w zakresie do wyboru 0.5-7.0 ml/h lub 1.0-14.0 ml/h przeznaczony do ciągłego przetaczania leków . Możliwość zablokowania zmian prędkości przez pacjenta. Urządzenie gwarantuje dostarczenie żądanej, nominalnej objętości w zakresie +/- 10-15% nominalnego czasu wlewu. Urządzenie wyposażone jest w filtr cząstek stałych i powietrza przez, który podawana jest zawartość. Dren łączący długość min. 125 cm z klamrą i zatyczką z filtrem hydrofobowym. Urządzenie pakowane pojedynczo, jałowe. W torze przepływu w kontakcie z podawanym lekiem nie zawiera DEHP. Zbiornik z elastomeru silikonowego umieszczony w obudowie PC w kształcie płaskiego dysku, wygodnego do przenoszenia i układania na powierzchni w trakcie napełniania. Obudowa zapewnia możliwość wizualnej kontroli postępu wlewu oraz ochronę zbiornika elastomerowego. Napełnianie systemu odbywa się przez centralnie umieszczony port wyposażony w: - połączenie Luer Lock, przykręcaną pokrywę z wygodnym uchwytem zawór uniemożliwiający cofanie się/wyciek płynu po odłączeniu strzykawki. Wymagane dokumenty : • Certyfikat CE /świadectwo rejestracji w URPL • Badania potwierdzające, że system infuzyjny jest sprawdzony pod względem stabilności z 5-FU • Karta danych technicznych na potwierdzenie wymagań określonych w opisie przedmiotu zamówienia Nominalny czas infuzji: …..…ml/godz. (możliwe do wyboru:0.5, 1.0, 2.0,4.0, 5.0, 8.0 10.0) Nominalna objętość: ……………ml( 275, 400, 550) | C7: szt | D7: 25
A8: 3 | B8: Autoselector z regulatorem przepływu Przenośny system infuzyjny wykorzystujący zbiornik elastomerowy z regulatorem przepływu umożliwiającym wstępne ustawienie prędkości przepływu w zakresie do wyboru 0.5-7.0 ml/h lub 1.0-14.0 ml/h przeznaczony do ciągłego przetaczania leków . Możliwość zablokowania zmian prędkości przez pacjenta. Urządzenie gwarantuje dostarczenie żądanej, nominalnej objętości w zakresie +/- 10-15% nominalnego czasu wlewu. Urządzenie wyposażone jest w filtr cząstek stałych i powietrza przez, który podawana jest zawartość. Dren łączący długość min. 125 cm z klamrą i zatyczką z filtrem hydrofobowym. Urządzenie pakowane pojedynczo, jałowe. W torze przepływu w kontakcie z podawanym lekiem nie zawiera DEHP. Zbiornik z elastomeru silikonowego umieszczony w obudowie PC w kształcie płaskiego dysku, wygodnego do przenoszenia i układania na powierzchni w trakcie napełniania. Obudowa zapewnia możliwość wizualnej kontroli postępu wlewu oraz ochronę zbiornika elastomerowego. Napełnianie systemu odbywa się przez centralnie umieszczony port wyposażony w: - połączenie Luer Lock, przykręcaną pokrywę z wygodnym uchwytem zawór uniemożliwiający cofanie się/wyciek płynu po odłączeniu strzykawki. Wymagane dokumenty : • Certyfikat CE /świadectwo rejestracji w URPL • Badania potwierdzające, że system infuzyjny jest sprawdzony pod względem stabilności z 5-FU • Karta danych technicznych na potwierdzenie wymagań określonych w opisie przedmiotu zamówienia Nominalny czas infuzji: …..…ml/godz. (możliwe do wyboru:0.5, 1.0, 2.0,4.0, 5.0, 8.0 10.0) Nominalna objętość: ……………ml, (60, 100, 150,) | C8: szt | D8: 20
A9: 4 | B9: Autoselector r z regulatorem i bolusem Przenośny system infuzyjny wykorzystujący zbiornik elastomerowy z regulatorem przepływu umożliwiającym wstępne ustawienie prędkości przepływu w zakresie do wyboru 0.5-7.0 ml/h lub 1.0-14.0 ml/h przeznaczony do ciągłego i/lub przerywanego przetaczania leków . Możliwość zablokowania zmian prędkości przez pacjenta. Możliowść terapii PCA dzięki bolusowi o objętości …….(objętość bolusa 0.5, 1.0, 2.0, 5.0 ml, czas napełniania bolusa 10, 15, 30, 60 min) Urządzenie gwarantuje dostarczenie żądanej, nominalnej objętości w zakresie +/- 10-15% nominalnego czasu wlewu. Urządzenie wyposażone jest w filtr cząstek stałych i powietrza przez, który podawana jest zawartość. Dren łączący długość min. 125 cm z klamrą i zatyczką z filtrem hydrofobowym. Urządzenie pakowane pojedynczo, jałowe. W torze przepływu w kontakcie z podawanym lekiem nie zawiera DEHP. Zbiornik z elastomeru silikonowego umieszczony w obudowie PC w kształcie płaskiego dysku, wygodnego do przenoszenia i układania na powierzchni w trakcie napełniania. Obudowa zapewnia możliwość wizualnej kontroli postępu wlewu oraz ochronę zbiornika elastomerowego. Napełnianie systemu odbywa się przez centralnie umieszczony port wyposażony w: - połączenie Luer Lock, przykręcaną pokrywę z wygodnym uchwytem zawór uniemożliwiający cofanie się/wyciek płynu po odłączeniu strzykawki. Wymagane dokumenty : • Certyfikat CE /świadectwo rejestracji w URPL • Badania potwierdzające, że system infuzyjny jest sprawdzony pod względem stabilności z 5-FU • Karta danych technicznych na potwierdzenie wymagań określonych w opisie przedmiotu zamówienia Nominalny czas infuzji: …..…ml/godz. (możliwe do wyboru:0.5, 1.0, 2.0,4.0, 5.0, 8.0 10.0) Nominalna objętość: ……………ml, (60, 100, 150) | C9: szt | D9: 20
A10: 5 | B10: Autoselector r z regulatorem i bolusem Przenośny system infuzyjny wykorzystujący zbiornik elastomerowy z regulatorem przepływu umożliwiającym wstępne ustawienie prędkości przepływu w zakresie do wyboru 0.5-7.0 ml/h lub 1.0-14.0 ml/h przeznaczony do ciągłego i/lub przerywanego przetaczania leków . Możliwość zablokowania zmian prędkości przez pacjenta. Możliowść terapii PCA dzięki bolusowi o objętości …….(objętość bolusa 0.5, 1.0, 2.0, 5.0 ml, czas napełniania bolusa 10, 15, 30, 60 min) Urządzenie gwarantuje dostarczenie żądanej, nominalnej objętości w zakresie +/- 10-15% nominalnego czasu wlewu. Urządzenie wyposażone jest w filtr cząstek stałych i powietrza przez, który podawana jest zawartość. Dren łączący długość min. 125 cm z klamrą i zatyczką z filtrem hydrofobowym. Urządzenie pakowane pojedynczo, jałowe. W torze przepływu w kontakcie z podawanym lekiem nie zawiera DEHP. Zbiornik z elastomeru silikonowego umieszczony w obudowie PC w kształcie płaskiego dysku, wygodnego do przenoszenia i układania na powierzchni w trakcie napełniania. Obudowa zapewnia możliwość wizualnej kontroli postępu wlewu oraz ochronę zbiornika elastomerowego. Napełnianie systemu odbywa się przez centralnie umieszczony port wyposażony w: - połączenie Luer Lock, przykręcaną pokrywę z wygodnym uchwytem zawór uniemożliwiający cofanie się/wyciek płynu po odłączeniu strzykawki. Wymagane dokumenty : • Certyfikat CE /świadectwo rejestracji w URPL • Badania potwierdzające, że system infuzyjny jest sprawdzony pod względem stabilności z 5-FU • Karta danych technicznych na potwierdzenie wymagań określonych w opisie przedmiotu zamówienia Nominalny czas infuzji: …..…ml/godz. (możliwe do wyboru:0.5, 1.0, 2.0,4.0, 5.0, 8.0 10.0) Nominalna objętość: ……………ml( 275, 400, 550) | C10: szt | D10: 20
A11: 6 | B11: Cewnik do anelgezji regionalnej dł 15,20, 30 cm | C11: szt | D11: 150
B12: Razem | F12: =SUM(F6:F11) -> 0 | I12: =SUM(I6:I11) -> 0
B15: Data | G15: Podpis osoby/osób upoważnionej
B16: ……………………………………………. | G16: ……………………………….

Sheet Zad.112
B2: ZOZ/DZP/PN/5/20
B3: Załącznik Nr: 9
B5: Zadanie nr: 112 - Zestaw do krwawego pomiaru ciśnienia
A6: Lp. | B6: Nazwa produktu | C6: Jednostka miary | D6: Ilość | E6: Cena jednostkowa[zł] netto | F6: Wartość [zł] netto | G6: VAT | H6: Cena jednostkowa [zł] brutto | I6: Wartość [zł] brutto | J6: Producent/Model/Nr katalogowy
A7: 1 | B7: Przetwornik do krwawego pomiaru ciśnienia, pojedynczy, zawierający podwójny system przepłukiwania IntraFlo (3 ml/h) obsługiwany jedna ręką, uruchamiany przez ściśnięcie skrzydełek lub pociągnięcie wypustki. Budowa kompletnej linii dającą wysoką częstotliwość własną >49Hz -zapewniająca wierne odwzorowanie sygnału i niewrażliwość na zakłócenia rezonansowe bez dodatkowych eliminatorów ( typu róża). Linie ciśnieniowe grubościenne, bez barwnych pasków, z dodatkowymi oznaczeniami kolorystycznymi w formie naklejek, dodatkowy komplet koreczków w kolorze żółtym w celu ułatwienia przepłukiwania systemu. Połączenie przetwornika z kablami interfejsowymi monitora wodoszczelnymi, bezpinowymi, kablami . Dł. linii 152 cm (122 + 30 cm). Łatwość wyjęcia z opakowania fabrycznego i wypełnienia, tacka wyprofilowana z tworzywa sztucznego , zamykana papierem laminowanym. Otwarcie tacki nie powoduje przemieszczenia elementów na niej ulokowanych; linie infuzyjne spięte taśmami papierowymi w celu łatwego wypełnienia linii, Łatwość wypełnienia linii . Średnice wszelkich elementów ( linii i kraników) mają idealnie dobrane średnice – co gwarantuje bardzo dokładne wypełnienie zestawu i eliminację wszystkich pęcherzyków powietrza. Produkt jednorazowy, sterylny , pakowany pojedynczo. Kompatybilne z posiadanymi przez oddział kablami. Dostawca na czas trwania umowy zapewnia 20 kpl kabli w razie uszkodzenia. | C7: szt. | D7: 750
B8: Razem | F8: =F7 -> 0 | I8: =SUM(I7) -> 0
B11: Data | G11: Podpis osoby/osób upoważnionej
B12: ……………………………………………. | G12: ……………………………….

Sheet Zad.113
B1: ZOZ/DZP/PN/5/20
B2: Załącznik Nr: 9
A3: Zadanie nr 113 – Zestaw do niskociśnieniowego drenażu ran
A4: Lp. | B4: Nazwa produktu | C4: Jednostka miary | D4: Ilość | E4: Cena jednostkowa[zł] netto | F4: Wartość [zł] netto | G4: VAT | H4: Cena jednostkowa [zł] brutto | I4: Wartość [zł] brutto | J4: Producent/Model/Nr katalogowy
