Workbook
Name Print_Area_0: Zad.79!$A$1:$J$11

Sheet Zad.9
B1: ZOZ/DZP/PN/5/20
B2: Załącznik Nr: 9
A4: Zadanie nr: 9 – Akcesoria do inkubatorów
A5: Lp. | B5: Nazwa produktu | C5: Jednostka miary | D5: Ilość | E5: Cena jednostkowa netto | F5: Wartość netto | G5: VAT | H5: Cena jednostkowa brutto | I5: Wartość brutto | J5: Producent/Model/Nr katalogowy
A6: 1 | B6: Okularki do fototerapii:w trzech rozmiarach: zwykłe - ob. głowy 33-38cm (+/- 2cm), dla wcześniaków 26-32 cm (+/- 2cm), mikro 20-25cm (+/- 2cm); Okularki stosowane do fototerapii podczas leczenia żółtaczki, mocowane wokół głowy posiadające dwa niezależne punkty regulacji, zapobiegające przypadkowemu przesunięciu i umożliwiające precyzyjne dopasowanie do główki dziecka. Okularki: w kształcie litery Y, wykonane z jednego materiału zmniejszającego podrażnienia skóry, miłe w dotyku i wygodne dla główki i twarzy dziecka; chroniące oczy przed szkodliwym działaniem światła, nie zawierającego lateksu. | C6: szt. | D6: 700
A7: 2 | B7: Osłonka j.u. na czujnik temperatury typu NC 040-10 | C7: op.=10szt | D7: 14
A8: 3 | B8: Dren z zastawką do aparatu Neopuff | C8: szt. | D8: 100
B9: RAZEM | F9: =SUM(F6:F8) -> 0 | I9: =SUM(I6:I8) -> 0
B12: Data | H12: Podpis osoby/osób upoważnionej
B13: ……………………………………………. | I13: ……………………………….

Sheet Zad.10
B1: ZOZ/DZP/PN/5/20
B2: Załącznik Nr: 9
A4: Zadanie nr: 10 - Strzykawki, igły
A5: Lp. | B5: Nazwa produktu | C5: Jednostka miary | D5: Ilość | E5: Cena jednostkowa netto | F5: Wartość netto | G5: VAT | H5: Cena jednostkowa brutto | I5: Wartość brutto | J5: Producent/Model/Nr katalogowy
A6: Strzykawka dwuczęściowa luer, wykonana z wysokiej jakości PP i/lub PE, w pełni przeźroczysty cylinder z wyraźną czarną,podwójną trwałą skalą pomiarową, wyraźna podwójna kryza zabezpieczająca przed wypadaniem tłoka, idealne dopasowanie cylindra i tłoka zapewniające pełną szczelność i bezskokowy przesów tłoka, tłok w wyraźnym, kontrastującym kolorze ułatwiającym odczyt ze sferycznym zakończeniem umożliwiającym maksymalne zmniejszenie przestrzeni martwej, logo producetna i nazwa własna na cylindrze i opakowaniu jednostkowym - Strzykawki jednego producenta, pakowane indywidualnie w opakowanie typu folia/papier, kolorystyczne oznakowanie rozmiaru strzykawki na pojedynczym opakowaniu oraz informacja o braku ftalanów - opakowania a 100 szt., sterylizacja EO, Parametry dla pozycji 1-4
A7: 1 | B7: 2 ml (rozszerzenie do 3ml) skala co 0,1ml x 100 szt. | C7: op.=100szt | D7: 1200
A8: 2 | B8: 5 ml (rozszezreznie do 6ml) skala co 0,2ml x 100 szt. | C8: op.=100szt | D8: 1400
A9: 3 | B9: 10 ml (rozszezrzenie do 12 ml) skala co 0,5ml x 100 szt. | C9: op.=100szt | D9: 1200
A10: 4 | B10: 20 ml (rozszezrenie do 24ml) skala co 1ml x 100 szt. | C10: op.=100szt | D10: 1300
A11: 5 | B11: Strzykawka do tuberkuliny 1 ml 3 częściowe z igłą 0,45 x 12 mm x 100 szt. z osobną igłą | C11: op.=100szt | D11: 80
A12: 6 | B12: 100 ml Janeta z łącznikiem Luer,trzyczęściowa,wykonana z polipropylenu, skala w kolorze niebieskim, zaopatrzona w dodatkowy stożek do łączenia z cewnikiem | C12: szt. | D12: 5000
A13: Strzykawki - szczelne, łatwy przesuw tłoka, wyraźna skala. Wykazane na liście producenta pomp infuzyjnych MEDIMA S2 i Medima P2. Opis dla pozycji 7-10
A14: 7 | B14: 10ml x 100 szt., 3 częściowe | C14: op.=100szt | D14: 300
A15: 8 | B15: 20ml x 100 szt., 3 częściowe | C15: op.=100szt | D15: 1000
A16: 9 | B16: 50 ml (rozszezrzenie do 60ml)do pomp 3 cz .do pomp Luer-Lock ze skalą dwustronną, podwójne uszczelnienie tłoka | C16: szt. | D16: 30000
A17: 10 | B17: 50 ml (rozszezrzenie do 60ml) do pomp 3 cz .do pomp Luer-Lock do leków światłoczułych,ze skalą dwustronną, podwójne uszczelnienie tłoka | C17: szt. | D17: 15000
A18: 11 | B18: Strzykawka 3-częściowa Luer-Lock model wymagany zgodnie z intrukcją producenta dializatora Primaflex | C18: szt. | D18: 5000
A19: Igły iniekcyjne o ostrzach zapewniających minimalny opór skóry, rurki pokryte silikonem, cienkościenne nasadki barwione zgodnie zkodem kolorów
A20: 12 | B20: 0,45 x 13 mm x 100 szt. | C20: op=100szt | D20: 50
A21: 13 | B21: 0,5 x 25 mm x 100 szt. | C21: op=100szt | D21: 360
A22: 14 | B22: 0,6 x 25 mm x 100 szt. | C22: op=100szt | D22: 50
A23: 15 | B23: 0,7 x 30 mm x 100 szt. | C23: op=100szt | D23: 180
A24: 16 | B24: 0,8 x 40 mm x 100 szt. | C24: op=100szt | D24: 700
A25: 17 | B25: 0,9 x 40 mm x 100 szt. | C25: op=100szt | D25: 160
A26: 18 | B26: 1,1 x 40 mm x 100 szt. | C26: op=100szt | D26: 500
A27: 19 | B27: 1,2 x 40 mm x 100 szt. | C27: op=100szt | D27: 1700
A28: 20 | B28: 0,9 x 50 mm x 100 szt. | C28: op=100szt | D28: 50
A29: 21 | B29: 1,6 x 40 mm x 100 szt. | C29: op=100szt | D29: 30
A30: 22 | B30: Igła 0,8 x 120 mm x 100 szt. do blokad nerwowych | C30: op=100szt | D30: 36
A31: 23 | B31: Igła do bezpiecznego pobierania i rozpuszczania leków 18G x 30mm, szlif ołówkowy z otworem bocznym, końcówka pasująca do luer i luer-lock. | C31: op=100szt | D31: 1200
... A37: 29 | B37: Igła do karpuli 0,4x38mm | C37: op=100szt | D37: 3
B38: RAZEM | F38: =SUM(F7:F37) -> 0 | I38: =SUM(I7:I37) -> 0
B41: Data | H41: Podpis osoby/osób upoważnionej
B42: ……………………………………………. | I42: ……………………………….

Sheet zad.14
B1: ZOZ/DZP/PN/5/20
B2: Załącznik Nr: 9
A4: Zadanie nr: 14 – Opatrunek hemostatyczny
A5: Lp. | B5: Nazwa produktu | C5: Jednostka miary | D5: Ilość | E5: Cena jednostkowa netto | F5: Wartość netto | G5: VAT | H5: Cena jednostkowa brutto | I5: Wartość brutto | J5: Producent/Model/Nr katalogowy
A6: 1 | B6: Gaza hemostatyczna 5x5cm | C6: 1 szt. | D6: 5
A7: 2 | B7: Gaza hemostatyczna 7,5x5cm | C7: 1 szt. | D7: 5
A8: 3 | B8: Gaza hemostatyczna 10x10cm | C8: 1 szt. | D8: 5
B9: RAZEM | F9: =SUM(F6:F8) -> 0 | I9: =SUM(I6:I8) -> 0
B11: Opis produktu:
B12: Tkana, bawełniana gaza hemostatyczna, z nieutlenionej celulozy, z funkcjonalnymi grupami cząsteczkowymi (FMGs) zapewniającymi specjalne właściwości fizyczne i zwiększające wydajnośc produktu. Po kontakcie z płynem przekształcająca się w elastyczną membranę o strukturze żelu, który przylega do rany pozwalając kontrolować krwawienie. Opatrunek mogący wchłonąć do 3500% własnego ciężaru podczas kontraktu z krwią. Nie wymagający wcześniejszego namaczania, nie wymagający kompresji. Możliwość stosowania przez porty 6 mm. Do stosowania w procedurach naczyniowych i sercowo- naczyniowych, obszarach szczególnie wrażliwych(nerwy, drogi nerwowe). Nie wymagający oczyszczania rany z krwi. W pełni biokompatybilny i sterylny (sterylizacja przez napromieniowanie), Całkowita biodegradacja w ciągu 7 dni .pH 5,5, Klasa III. Rozpuszczalny w wodzie. Stabilność materiału pozwalająca na usunięcie gazy z pola operacyjnego w całości. Nie przyklejający się do narzędzi, do rękawiczek.
B16: Data | H16: Podpis osoby/osób upoważnionej
B17: ……………………………………………. | H17: ……………………………….

Sheet Zad.25
B1: ZOZ/DZP/PN/5/20
B2: Załącznik Nr: 9
A3: Zadanie nr: 25- System ochraniaczy do sterylizacji narzędzi
A4: Lp. | B4: Nazwa produktu | C4: Jednostka miary | D4: Ilość | E4: Cena jednostkowa netto | F4: Wartość netto | G4: VAT | H4: Cena jednostkowa brutto | I4: Wartość brutto | J4: Producent/Model/Nr katalogowy
A5: 1. | B5: Ochraniacz końcówek ( kieszeni z przelotkami) rozmiar 27x41cm | C5: op=50szt. | D5: 2
B6: Razem | F6: =SUM(F5) -> 0 | I6: =SUM(I5) -> 0
B9: Data | H9: Podpis osoby/osób upoważnionej
B10: ……………………………………………. | H10: ……………………………….

Sheet Zad.34
B1: ZOZ/DZP/PN/5/20
B2: Załącznik Nr: 9
A3: Zadanie nr: 34- Worki do stomii
A4: Lp. | B4: Nazwa produktu | C4: Jednostka | D4: Ilość | E4: Cena jednostkowa netto | F4: Wartość Netto | G4: VAT | H4: Cena jednostkowa brutto | I4: Wartość brutto | J4: Producent/Model/Nr katalogowy
A5: 1 | B5: Worek do stomii koło 1 -częściowy, beżowy, rozmiar 15-70mm: worek zakmnięty z płaskim lub bardzo miękkim wypukłym ochraniaczem skóry lub worek opróżnialny z połączonym delikatnym klipsem zwanym: Roll'Up w wersji płaskiej lub bardzo miękkiej wypukłej do wyboru przy zamówieniu | C5: op.=30szt. | D5: 4
B6: RAZEM | F6: =SUM(F5) -> 0 | I6: =SUM(I5) -> 0
B9: Data | H9: Podpis osoby/osób upoważnionej
B10: ……………………………………………. | H10: ……………………………….

Sheet Zad.39
B1: ZOZ/DZP/PN/5/20
B2: Załącznik Nr: 9
A4: Zadanie nr: 39 – Czujniki
A5: Lp. | B5: Nazwa produktu | C5: Jednostka miary | D5: Ilość | E5: Cena jednostkowa netto | F5: Wartość netto | G5: VAT | H5: Cena jednostkowa brutto | I5: Wartość brutto | J5: Producent/Model/Nr katalogowy
A6: 1 | B6: Klips do pulsoxymetru typu TS-F-D | C6: szt. | D6: 2
A7: 2 | B7: Kabel połączeniowy do czujnika saturacji ze złączką okrągłą typu TS-G3 | C7: szt. | D7: 2
A8: 3 | B8: Czujnik typu TS-F4- GE | C8: szt. | D8: 2
A9: 4 | B9: Komplet czujników przepływowych do aparatu Aespiro | C9: Komplet 2 szt. | D9: 2
A10: 5 | B10: Czujnik natężenia tlenu do aparatu Aespiro | C10: szt. | D10: 2
A11: 6 | B11: Przewód czujnika natężenia tlenu do aparatu Aespiro | C11: szt. | D11: 2
A12: 7 | B12: Pułapka wodna do monitora przy aparacie Aespiro | C12: szt. | D12: 4
A13: 8 | B13: Kabel EKG 3- odprowadzeniowy kompatybilny z kardiomonitorem Datex Ohmeda wejście okrągłe. | C13: szt. | D13: 1
A14: 9 | B14: Mankiet NIBP dla dorosłych 31-40cm, wielorazowy, 2 -żyłowy | C14: szt. | D14: 1
A15: 10 | B15: Mankiet NIBP dla dorosłych 36-36cm wielorazowy, 2 -żyłowy | C15: szt. | D15: 1
A16: 11 | B16: Kabel połączeniowy, dla dorosłych i dzieci, czarny, sło min 3,6m | C16: szt. | D16: 1
A17: 12 | B17: Kabel 3-odprowadzeniowy ekg 74 cm IEC | C17: szt. | D17: 1
B18: RAZEM | F18: =SUM(F6:F17) -> 0 | I18: =SUM(I6:I17) -> 0
B21: Data | H21: Podpis osoby/osób upoważnionej
B22: ……………………………………………. | H22: ……………………………….

Sheet Zad. 54
B2: ZOZ/DZP/PN/5/20
B3: Załącznik Nr: 9
A4: Zadanie nr: 54 - Układ oddechowy
A5: Lp. | B5: Nazwa produktu | C5: Jednostka miary | D5: Ilość | E5: Cena jednostkowa[zł] netto | F5: Wartość [zł] netto | G5: VAT | H5: Cena jednostkowa [zł] brutto | I5: Wartość [zł] brutto | J5: Producent/Model/Nr katalogowy
A6: 1 | B6: Obwód oddechowy do aparatu do znieczulenia dla dorosłych w składzie: 2 rury śr. 22 mm, i dł. min 150 cm, a dodatkowa 3 rura o śr. 22 mm, dł. 120 cm, złączka Y z zakończeniem 22M/15F, worek oddechowy bezlateksowy o poj. 2 l., złączka L z portem Kapno. Rury wykonane z PCV, o gładkich powierzchniach wewnętrznych, końcówki rur elastyczne typu Flex. Sterylny. | C6: szt | D6: 100
A7: 2 | B7: Anestezjologiczny obwód oddechowy dla dzieci z PCW, dwie rury o gładkich powierzchniach wewnętrznych o długości 120cm i 15mm średnicy zakończone łącznikiem Y prostym ze złaczem 22M/15F, złącza respiratora 22 typu Flex, dodatkowe ramię 120cm ze złaczem 22 typu Flex, 1 l worek bezlateksowy, sterylny | C7: szt | D7: 50
B8: Razem | F8: =SUM(F6:F7) -> 0 | I8: =SUM(I6:I7) -> 0
B10: Data | G10: Podpis osoby/osób upoważnionej
B11: ……………………………………………. | G11: ……………………………….

Sheet Zad.60
B1: ZOZ/DZP/PN/5/20
B2: Załącznik Nr: 9
A3: Zadanie nr: 60 – Pozycjoner pod głowę
A4: Lp. | B4: Nazwa produktu | C4: Jednostka miary | D4: Ilość | E4: Cena jednostkowa netto | F4: Wartość netto | G4: VAT | H4: Cena jednostkowa brutto | I4: Wartość brutto | J4: Producent/Model/Nr katalogowy
A5: 1 | B5: Pozycjoner przeciwodleżynowy, pozycjoner pod głowę o rozmiarze Fi 200 x 50mm(+/_ 5mm) wykonany z pianki wiskoelastycznej i medycznego żelu sylikonowego,pokryte poliuretanem, rozkładające ciężar ciała i obniżające nacisk powierzchniowy do bezpiecznego poziomu, chroniące przed ryzykiem podrażnienia nerwów, wielokrotnego użytku, wodoszczelne o właściwościach nie powodujących podrażnień dla skóry, potwierdzone badaniami wg normy ISO 10993-10 i ISO10993-1 lub równoważnej, do dezynfekcji ogólnie dostępnymi środkami, żel nie wycieka w przypadku przecięcia powłoki, przezierne dla RTG, nie przewodzące ładunków elektrycznych, wolne od lateksu. Gwarancja na wady fabryczne min. 24 miesiące | C5: szt. | D5: 4
A6: 2 | B6: Pozycjoner przeciwodleżynowy,półwałek o rozmiarze 505x92x75mm (+/_ 5mm )wykonane z medycznego żelu sylikonowego,pokryte poliuretanem, rozkładające ciężar ciała i obniżające nacisk powierzchniowy do bezpiecznego poziomu, chroniące przed ryzykiem podrażnienia nerwów, wielokrotnego użytku, wodoszczelne o właściwościach nie powodujących podrażnień dla skóry, potwierdzone badaniami wg normy ISO 10993-10 i ISO10993-1 lub równoważnej, do dezynfekcji ogólnie dostępnymi środkami, żel nie wycieka w przypadku przecięcia powłoki, przezierne dla RTG, nie przewodzące ładunków elektrycznych, wolne od lateksu. Gwarancja na wady fabryczne min. 24 miesiące | C6: szt. | D6: 2
B7: RAZEM | F7: =SUM(F5:F6) -> 0 | I7: =SUM(I5:I6) -> 0
B12: Data | H12: Podpis osoby/osób upoważnionej
B13: ……………………………………………. | H13: ……………………………….

Sheet Zad.59
B1: ZOZ/DZP/PN/5/20
B2: Załącznik Nr: 9
A3: Zadanie nr: 59 - Strzykawki do gazometrii.
A4: Lp. | B4: Nazwa produktu | C4: Jednostka miary | D4: Ilość | E4: Cena jednostkowa[zł] netto | F4: Wartość [zł] netto | G4: VAT | H4: Cena jednostkowa [zł] brutto | I4: Wartość [zł] brutto | J4: Producent/Model/Nr katalogowy
A5: 1 | B5: Strzykawka sterylna, do pobierania krwi tętniczej, żylnej i innych mateiałów, metodą aspiracji w ilości do 1,7ml, heparynizowana suchą, wysokoskoncentrowaną heparyną litową, elektrolitowo zbilansowaną jonami wapnia, sodu, oraz potasu, z systemem bezkontaktowego usuwania pęcherzyk powietrza ze strzykawki i bezkontaktowego podawania materiału do analizatora , z wewnętrznym urządzeniem wspomagającym mieszanie próbki, zakończenie luer, | C5: szt. | D5: 10000
A6: 2 | B6: Strzykawka do gazometrii napylona heparyną zbalansowana (zredukowaną) wapniem 2-3 ml | C6: szt. | D6: 6500
B7: Razem | F7: =SUM(F5:F6) -> 0 | I7: =SUM(I5:I6) -> 0
B10: Data | G10: Podpis osoby/osób upoważnionej
B11: ……………………………………………. | G11: ……………………………….

Sheet Zad. 61
B2: ZOZ/DZP/PN/5/20
B3: Załącznik Nr: 9
B4: Zadanie nr: 61 - System do mierzenia ciśnienia śródbrzusznego.
A5: Lp. | B5: Nazwa produktu | C5: Jednostka miary | D5: Ilość | E5: Cena jednostkowa[zł] netto | F5: Wartość [zł] netto | G5: VAT | H5: Cena jednostkowa [zł] brutto | I5: Wartość [zł] brutto | J5: Producent/Model/Nr katalogowy
A6: 1 | B6: Zamknięty system do nieinwazyjnego pomiaru ciśnienia śródbrzusznego metodą manometryczną ( fabrycznie połączony zestaw do godzinowej zbiórki moczu z linią pomiarową, sterylny, w jednym opakowaniu co zapewnia utrzymanie systemu zamkniętego), 20 ml dren manometryczny wyposażony w filtr biologiczny, umieszczony pomiędzy cewnikiem foley, a zestawem do godzinowej zbiórki moczu, zapewniający właściwe odpowietrzenie. Zastawka antyzwrotna wbudowana w łącznik do cewnika foley zapobiega cofaniu się moczu z zestawu do godzinowej zbiórki moczu do linii pomiarowej. Zintegrowany zacisk drenu pozwalający na wyrównanie ciśnień i precyzyjny odczyt wartości ciśnienia śródbrzusznego, bezigłowy port do pobierania próbek, linia pomiarowa wyskalowana w mm Hg, czas użycia do 7 dni. | C6: szt. | D6: 130
B7: Razem | F7: =SUM(F6) -> 0 | I7: =SUM(I6) -> 0
B9: Data | G9: Podpis osoby/osób upoważnionej
B10: ……………………………………………. | G10: ……………………………….

Sheet Zad.65
B1: ZOZ/DZP/PN/5/20
B2: Załącznik Nr: 9
A3: Zadanie nr: 65 - Podkłady
A4: Lp. | B4: Nazwa produktu | C4: Jednostka miary | D4: Ilość | E4: Cena jednostkowa netto | F4: Wartość netto | G4: VAT | H4: Cena jednostkowa brutto | I4: Wartość brutto | J4: Producent/Model/Nr katalogowy
A5: 1 | B5: 3-4 warstwowy, nieprzepuszczalny podkład chłonny z możliwością cięcia, jednorazowy, rozmiar 80 x 200cm.Warstwa chłonna min50cmx200cm zmieniająca się w żel utrzymujący skórę pacjenta suchą po 1min od zmoczenia. Warstwa wierzchnia PE/PP, Warstwa pośrednia średnią gęstość 65 ± 5 g/m2, niebieska dolna warstwa PE 35g/m2 .Niesterylny klasy 1,zgodny z normą EN 13795.Możliwość przenoszenia do 150kg.Grubość 0,5mm.Chłonność 2000ml/m2. | C5: szt | D5: 120
A6: 2 | B6: 3-4 warstwowy ,nieprzepuszczalny podkład chłonny z możliwością cięcia, jednorazowy ,rozmiar 80 x 200cm.Warstwa chłonna min50cmx200cm zmieniająca się w żel utrzymujący skórę pacjenta suchą po 1min od zmoczenia. Warstwa wierzchnia PE/PP, Warstwa pośrednia średnią gęstość 65 ± 5 g/m2, fioletowa dolna warstwa PE 42g/m2 .Niesterylny klasy 1,zgodny z normą EN 13795.Warstwa zabezpieczająca stół odporna na rozdarcia bez zawartości latexu .Niesterylny. Możliwość przenoszenia do 500kg.Grubość 0,5mm.Chłonność płynów 2600ml/m2. | C6: szt | D6: 50
A7: 3 | B7: 3-4 warstwowy, nieprzepuszczalny podkład chłonny z możliwością cięcia, jednorazowy, rozmiar 140x 230cm.Warstwa chłonna min50cmx230cm zmieniająca się w żel utrzymujący skórę pacjenta suchą po 1min od zmoczenia. Warstwa wierzchnia hydrofilowy PP, Warstwa pośrednia średnią gęstość 65 ± 5 g/m2, dolna warstwa złoto-srebrna PET 20g/m2 izolująca termicznie i elektrycznie o grubości12 µm. Niesterylny klasy 1,zgodny z normą EN 13795.Możliwość przenoszenia do 150kg.Chłonność 2000ml/m2. | C7: szt | D7: 150
A8: 4 | B8: 3-4 warstwowy, nieprzepuszczalny podkład chłonny z możliwością cięcia ,utrzymujący płyny nawet pod naciskiem, jednorazowy, rozmiar 140cm x 200cm.Warstwa chłonna min70cmx200cm zmieniająca się w żel utrzymujący skórę pacjenta suchą po 1min od zmoczenia. Warstwa wierzchnia PE/PP, Warstwa pośrednia średnią gęstość 85 ± 5 g/m2, niebieska dolna warstwa PE 35g/m2 .Niesterylny klasy 1,zgodny z normą EN 13795.Możliwość przenoszenia do 150kg.Grubość 0,5mm.Chłonność 4000ml/m2. | D8: 150
B9: Razem | F9: =SUM(F5:F8) -> 0 | I9: =SUM(I5:I8) -> 0
B13: Data | H13: Podpis osoby/osób upoważnionej
B14: ……………………………………………. | H14: ……………………………….

Sheet Zad.70
B1: ZOZ/DZP/PN/5/20
B2: Załącznik Nr: 9
A4: Zadanie nr: 70 - Akcesoria do OIT
A5: Lp. | B5: Nazwa produktu | C5: Jednostka miary | D5: Ilość | E5: Cena jednostkowa netto | F5: Wartość netto | G5: VAT | H5: Cena jednostkowa brutto | I5: Wartość brutto | J5: Producent/Model/Nr katalogowy
A6: 1 | B6: Miękka tasiemka do rurek intubacyjnych, wykonana z niepodrażniającej tkaniny, mocowana na rzepy | C6: szt. | D6: 250
A7: 2 | B7: Miękka tasiemka do rurek tracheostomijnych, wykonana z niepodrażniającej tkaniny, mocowana na rzepy do kołnierza rurki, regulowana długość | C7: szt. | D7: 250
A8: 3 | B8: Zestaw „ambu" do resuscytacji dzieci z jedna maską wielorazowy stetylizowalny | C8: szt. | D8: 6
A9: 4 | B9: Zestaw „ambu" do resuscytacji dorosłych z jedna maską wielorazowy stetylizowalny | C9: szt. | D9: 4
A10: 5 | B10: Zestaw „ambu" do resuscytacji noworodków z jedna maską wielorazowy stetylizowalny | C10: szt. | D10: 20
A11: 6 | B11: Samorozprężalny worek resuscytacyjny 1300ml typu ambu, wielorazowego użytku z zaworem pacjenta, zaworem tlenowym i rezerwuarem, autklawowalny, wykonany z silikonu, wszystkie elementy rozbieralne, łatwe do mycia i sterylizacji, łącznik 22/15mm | C11: szt. | D11: 15
A12: 7 | B12: Samorozprężalny worek resuscytacyjny 1300ml typu ambu, wielorazowego użytku z zaworem pacjenta, zaworem tlenowym i rezerwuarem, autklawowalny, wykonany z silikonu, wszystkie elementy rozbieralne, łatwe do mycia i sterylizacji, wersja militarna | C12: szt. | D12: 4
A13: 8 | B13: Samorozprężalny worek resuscytacyjny typu ambu, z zaworem pacjenta, zaworem tlenowym i rezerwuarem, jednorazowy, łącznik 22/15mm, objętość całkowita 1475ml | C13: szt. | D13: 10
A14: 9 | B14: Samorozprężalny worek resuscytacyjny typu ambu, wielorazowego użytku z zaworem pacjenta, zaworem tlenowym i rezerwuarem, jednorazowy, łącznik 22/15mm, objętość całkowita 635ml | C14: szt. | D14: 10
A15: 10 | B15: Samorozprężalny worek resuscytacyjny typu ambu, wielorazowego użytku z zaworem pacjenta, zaworem tlenowym i rezerwuarem, jednorazowy, łącznik 22/15mm, objętość całkowita 220ml | C15: szt. | D15: 10
A16: 11 | B16: Worek rezerwuarowy wymienny w pełni kompatybilny do worka resuscytacyjnego powyżej, jednorazowego użytku, pojemność do wyboru Zamawiajacego min. 2 wielkości z zakresu 1800-2600ml, opcjonalnie ze zintegrowanym zaworem do rezerwuaru | C16: szt. | D16: 5
A17: 12 | B17: Zawór wymienny do rezerwuarów telnowych,kompatybilny do worków rezerwuarowych powyżej, wykonany z polikarbonaru lub polisulfonu | C17: szt. | D17: 5
... A20: 15 | B20: Obręcz uniwersalna, wymienna z uszczelką silikonową,kompatybilna do worków resuscytacyjnych powyżej, wykonana z polikarbonu lub polisulfonu | C20: szt. | D20: 10
A21: RAZEM | F21: =SUM(F6:F20) -> 0 | I21: =SUM(I6:I20) -> 0
B24: Data | H24: Podpis osoby/osób upoważnionej
B25: ……………………………………………. | H25: ……………………………….

Sheet Zad.73
B1: ZOZ/DZP/PN/5/20
B2: Załącznik Nr: 9
A3: Zadanie nr: 73 - Obuwie operacyjne
A4: Lp. | B4: Nazwa produktu | C4: Jednostka miary | D4: Ilość | E4: Cena jednostkowa netto | F4: Wartość netto | G4: VAT | H4: Cena jednostkowa brutto | I4: Wartość brutto | J4: Producent/Model/Nr katalogowy
A5: 1 | B5: Obuwie profesjonalne, przeznaczone dla osób pracujących w szpitalu, przychodni, laboratorium itp. Antypoślizgowa podeszwa, odpinany pasek dla lepszego utrzymania stopy, system przeciwwstrząsowy minimalizujący obciążenia ścięgien, kości i stawów, zapobiegający uczuciu zmęczonych nóg, wstawka antystatyczna, otwory wentylacyjne w bucie i wkładce wewnętrznej regulujące temperaturę i wilgotność stopy w bucie, łatwe czyszczenie, możliwość prania w pralce w temperaturze do 90ºC, możliwość sterylizacji w autoklawie w temperaturze do 134ºC *, zewnętrzna ochrona zapobiegająca przedostaniu się płynów do wnętrza buta, wysokiej jakości polimer steri – tech, odporny na rozpuszczalniki, detergenty, chemikalia, kwas mlekowy, działanie cieczy (np. infiltrację krwi), zapobiega powstawaniu nieprzyjemnego zapachu, hamuje wzrost grzybów i bakterii, rozpraszający gromadzące się podczas użytkowania ładunki elektrostatyczne, zapobiegające przypadkowym rozładowaniom, wyjmowana wkładka wewnętrzna z możliwością wymiany na wkładkę skórkową lub wkładkę z materiału polimer steri – tech. Rozmiary od 35 do 48. | C5: para | D5: 60
A6: 2 | B6: Wkładki do obuwia z poz 1 w rozmiarach 35 do 48 | C6: para | D6: 60
B7: RAZEM | F7: =SUM(F5:F6) -> 0 | I7: =SUM(I5:I6) -> 0
B9: Standardy techniczne:
B10: - CE produkt zgodny z dyrektywą 89/686/CEE;
B11: - EN ISO 20347: 2012 środki ochrony indywidualnej - obuwie zawodowe, klasa II;
B12: - EN ISO 20347:2012(6.2.2.2) obuwie antystatyczne;
B13: - EN ISO 20347: 2012 (6.2.4) pochłanianie energii na pięcie;
B14: - Norma IEC 61340-5.1. opór elektryczny **
B15: - Norma IEC 61340-4.3. opór elektryczny - klasa 1 **
B16: - SATRA TM 144: 2011 tarcie obuwia i powierzchni (antypoślizgowość)
B18: Data | H18: Podpis osoby/osób upoważnionej
B19: ……………………………………………. | H19: ……………………………….

Sheet Zad.79
B1: ZOZ/DZP/PN/5/20
B2: Załącznik Nr: 9
A3: Zadanie nr: 79 - Worki i narzędzia do laparoskopii.
A4: Lp. | B4: Nazwa produktu | C4: Jednostka miary | D4: Ilość | E4: Cena jednostkowa netto | F4: Wartość netto | G4: VAT | H4: Cena jednostkowa brutto | I4: Wartość brutto | J4: Producent/Model/Nr katalogowy
A5: 1 | B5: Worek laparoskopowy ekstrakcyjny, jednorazowego użytku, z samorozprężającym drutem, z pamięcią kształtu, tuba odłączana, pojemność 200ml, wym. 95x161 mm, dedykowany do płaszczy trokarów o śr. 10/12mm (op. 10szt.) | C5: op.=10szt | D5: 24
A6: 2 | B6: Kleszcze grasper laparoskopowy CLAW jednorazowego użytku, kompletny, obrotowe 360 stopni.Obie bransze aktywne,pełne, narzędzie na powierzchni bransz wyposażone we wsteczne zęby chwytne a część dystalna zakończona zębami 1x2, rączka plastikowa z blokada na palec wskazujący, śr. 5mm, dł. 330mm, dł. bransz 16,5mm 1op (12 szt.) | C6: op.=12szt | D6: 2
A7: 3 | B7: Disektor laparoskopowy MARYLAND, narzędzie kompletne, obrotowe 360 stopni, jednorazowego użytku. Obie bransze aktywne, zakrzywione w lewo, delikatne, rączka plastikowa bez blokady, sr. 5mm, dł. bransz 19mm, dł. robocza 330mm (op.12 szt.) | C7: op.=12szt | D7: 2
A8: 4 | B8: Kompletne narzędzie laparoskopowe – nożyczki jednorazowe sterylne, opakowanie 12szt. | C8: op.=12szt | D8: 2
A9: 5 | B9: Płaszcz trokara, niemetalowy, wykonany z tworzywa PEEK, wielorazowego użytku, z zaworem do isuflacji, kaniula gwintowana skośna, dł. robocza 100mm, śr 11mm. | C9: szt. | D9: 1
A10: 6 | B10: Uszczelka silikonowa wewntrzna do trokarów Easyport, 10-12,5mm | C10: Op=5 szt | D10: 4
A11: 7 | B11: Uszczelka silikonowa wewntrzna do trokarów Easyport, 5mm | C11: Op=5 szt | D11: 2
A12: 8 | B12: Nożyczki laparoskopowe monopolarne, jednorazowego użytku, zagięte,obrotowe 360 stopni, rączka bez blokady, dł. 330mm, dł. ostrzy 17mm, śr. 5mm (op.5szt.). Wymóg posiadania w ofercie ww.nożyczek o dł.450mm oraz 330mm z branszami o dł.12mm | C12: op=5szt | D12: 1
A13: 9 | B13: Płaszcz trokara, jednorazowego użytku, karbowany, z uszczelką oraz kranikiem do insuflacji, o śr. 5mm i dł. 100mm, w komplecie z bezpiecznym gwoździem trokara w postaci płaskiego wysuwanego nożą w kształcie litery "V", aktywacja za pomocą oznaczonego kolorystycznie przycisku na rękojeści gwoździa, dedykowanym do płaszcza o śr. 5mm (op./5 szt.). Każdy płaszcz i gwóźdź znakowanie średnicy kaniuli. | C13: op=5szt | D13: 2
A14: 10 | B14: Zestaw dwóch płaszczy trokara jednorazowego użytku o śr. 10 mm oraz dł. tubusa 100 mm, w komplecie z gwoździem bezpiecznym trokara, z samocofającym się ostrzem. Płaszcze karbowane, przezroczyste, z opisem średnicy, posiadający uszczelkę oraz kranik do insuflacji. Płaszcze 2 – częściowe z odłączaną auto redukcją. Gwóźdź z opisem średnicy, plastikowy posiadający wysuwane metalowe ostrze. Uszczelki dolna oraz górna pokryte dodatkowo warstwą teflonu zmniejszającą tarcie podczas aplikacji i ekstrakcji narzędzi o dużych średnicach (op./5 szt.). Możliwość oferowania samej auto-redukcji. | C14: op=5szt | D14: 2
A15: 11 | B15: Płaszcz trokara, jednorazowego użytku, karbowany, z uszczelką oraz kranikiem do insuflacji, o śr. 10-12mm i dł. 100mm, w komplecie z bezpiecznym gwoździem trokara w postaci płaskiego wysuwanego nożą w kształcie litery "V", aktywacja za pomocą oznaczonego kolorystycznie przycisku na rękojeści gwoździa, dedykowanym do płaszcza o śr. 10-12mm (op./5 szt.).do wyboru przy zakupie. Płaszcz wyposażony w autoredukcję do śr.5mm. Każdy płaszcz i gwóźdź znakowanie średnicy kaniuli. | C15: op=5szt | D15: 5
A16: 12 | B16: Płaszcz trokara, dedykowany do narzędzi o śr.5mm, wykonany z tworzywa sztucznego PEEK i PPSU, wielorazowego użytku, bez limitu cykli sterylizacji, 3-częściowy, z metalowym i rozbieralnym zaworem do insuflacji. Wyposażony w uszczelkę wewnętrzną silikonową w kształcie "kominka"4-ramiennego, kaniula skośna i gwintowana, dł.kaniuli 10cm. | C16: szt. | D16: 1
... A30: 26 | B30: Przewód monopolarny do narzędzi laparoskopowych oraz kompatybilny z diatermią ERBE ICC/ACC posiadaną przez Zamawiającego, dł.3,5m | C30: szt. | D30: 1
B31: RAZEM | F31: =SUM(F5:F30) -> 0 | I31: =SUM(I5:I30) -> 0
B33: Data | H33: Podpis osoby/osób upoważnionej
B34: ……………………………………………. | H34: ……………………………….

Sheet Zad.85
B1: ZOZ/DZP/PN/5/20
B2: Załącznik Nr: 9
A3: Zadanie nr: 85 - Opaska 2
A4: Lp. | B4: Nazwa produktu | C4: Jednostka miary | D4: Ilość | E4: Cena jednostkowa netto | F4: Wartość netto | G4: VAT | H4: Cena jednostkowa brutto | I4: Wartość brutto | J4: Producent/Model/Nr katalogowy
A5: 1 | B5: Opaska uciskowa jednorazowego użytku kolor jasnozielony ( seledynowy ) szerokość 10 cm dł.10m | C5: szt. | D5: 20
B6: RAZEM | F6: =SUM(F5) -> 0 | I6: =SUM(I5) -> 0
B9: Data | H9: Podpis osoby/osób upoważnionej
B10: ……………………………………………. | H10: ……………………………….

Sheet Zad.86
B1: ZOZ/DZP/PN/5/20
B2: Załącznik Nr: 9
A3: Zadanie nr: 86- Nasadka do amniotomii
A4: Lp. | B4: Nazwa produktu | C4: Jednostka miary | D4: Ilość | E4: Cena jednostkowa netto | F4: Wartość netto | G4: VAT | H4: Cena jednostkowa brutto | I4: Wartość brutto | J4: Producent/Model/Nr katalogowy
A5: 1 | B5: Jednorazowa, lateksowa nasadka na palec zaopatrzona w haczyk do wykonania bezpiecznej amniotomii. | C5: op=100szt | D5: 12
B6: RAZEM | F6: =SUM(F5:F5) -> 0 | I6: =SUM(I5:I5) -> 0
B8: Oświadczam, że oferowany przedmiot zamówienia jest zgodny z opisem i spełnia wymagane parametry techniczne
B10: Data | H10: Podpis osoby/osób upoważnionej
B11: ……………………………………………. | H11: ……………………………….

Sheet Zad.89
B1: ZOZ/DZP/PN/5/20
B2: Załącznik Nr: 9
A3: Zadanie nr: 89 - Filtr do inkubatora Atom.
A4: Lp. | B4: Nazwa produktu | C4: Jednostka miary | D4: Ilość | E4: Cena jednostkowa netto | F4: Wartość netto | G4: VAT | H4: Cena jednostkowa brutto | I4: Wartość brutto | J4: Producent/Model/Nr katalogowy
A5: 1 | B5: Filtr do inkubatora Atom V-2100G/2200 i V85 typu F6-E i V5-E | C5: szt. | D5: 10
A6: 2 | B6: Mankiety irysowe do inkubatora Atom Dutchmed | C6: szt. | D6: 10
A7: 3 | B7: Mankiety semi-irysowe do inkubatora Atom | C7: szt. | D7: 10
A8: 4 | B8: Komora nawilżacza z automatyczną regulacją poziomu wody o konstrukcji zapobiegającej nadmiernemu gromadzeniu kondensatu w obwodzie oddechowym, dren do podaży wody dł. 1,2 m | C8: szt. | D8: 30
A9: 5 | B9: Czepiec do terapii wymiennych do stosowania w nieinwazyjnym wspomaganiu oddechu (NIV) umożliwiający zamocowanie generatora w mocowaniu kołyskowym za pomocą dwóch krótkich dwustronnych rzepów oraz w terapii tlenowej wysokimi przepływami (HFOT) umożliwiający zamocowanie kaniuli nosowej za pomocą dwóch długich rzepów (posiadających dodatkowo warstwę klejącą). Dostępne rozmiary: - obwód głowy do 24 cm, rozm. XXS - obwód głowy 24-28 cm, rozm. XS - obwód głowy 28-31 cm, rozm. S - obwód głowy 31-34cm, rozm. M - obwód głowy 34-38 cm, rozm. L - obwód głowy 38-42 cm, rozm. XL do wyboru przy zamówieniu | C9: szt. | D9: 30
A10: 6 | B10: Maska nosowa rozm. S Maska nosowa rozm. M Maska nosowa rozm. L Maska nosowa rozm. XL do wyboru przy zamówieniu | C10: szt. | D10: 30
A11: 7 | B11: Układ oddechowy noworodkowy z generatorem IF, jednorazowego użytku (mikrobiologicznie czysty), z zabezpieczeniem przeciwdrobnoustrojowym opartym na działaniu jonów srebra W skład zestawu wchodzi: - odcinek wdechowy podgrzewany dł. 1,2 m,  wew. 10 mm, - odcinek wydechowy niepodgrzewany z perforacją w postaci regularnych otworów zabezpieczających przed okluzją, umiejscowionych na wierzchołkach karbowań, na całej długości odcinka, - odcinek łączący nawilżacz z respiratorem dł. 0,6 m, - końcówka donosowa o zróżnicowanej grubości ramion donosowych w rozm. S, M, L, - odcinek do pomiaru ciśnienia dł. 2,1 m, - generator IF z elastycznymi i miękkimi paskami mocującymi z pętelkami do zaczepienia rzepów z jednej strony, paski zakończone usztywnianymi, karbowanymi końcami, które ułatwiają montaż generatora do czapeczki, - kołyska do zamocowania generatora na czepcu, wykonana z elastycznego tworzywa w kształcie litery T, z rzepem mocującym. Do wyboru przy zamówieniu | C11: szt. | D11: 30
C12: RAZEM | F12: =SUM(F5:F11) -> 0 | I12: =SUM(I5:I11) -> 0
B14: Data | H14: Podpis osoby/osób upoważnionej
B15: ……………………………………………. | I15: ……………………………….

Sheet Zad.90
B2: ZOZ/DZP/PN/5/20
B3: Załącznik Nr: 9
A4: Zadanie nr: 90 – Żel hydrożelowy do FESS-u.
A5: Lp. | B5: Nazwa produktu | C5: Jednostka miary | D5: Ilość | E5: Cena jednostkowa netto | F5: Wartość netto | G5: VAT | H5: Cena jednostkowa brutto | I5: Wartość brutto | J5: Producent/Model/Nr katalogowy
A6: 1 | B6: Żel stanowiący barierę przeciwzrostową stosowana po zabiegach operacyjnych ( zabiegi typu FESS,wycinanie migdałków czy polipów, korekta przegrody nosowej ). Preparat wykonany w pełni na bazie hydrożelu hialuronowego lub pochodnych celulozy, jest on sterylny i charakteryzuje się bardzo dużą lepkością dzięki zastosowaniu metody sieciowania cross-link. Żel wykazuje pełną absorpcję w dwa do trzech tygodni po jego aplikacji tym samym nie wymaga bolesnego usuwania. Preparat w sterylnych ampułko strzykawkach , gotowych do użycia z dołączoną do opakowania elastyczną kaniulą ułatwiającą aplikację żelu po zabiegach endoskopowych. Hamuje nawet minimalne krwawienie i poprawia szybkość gojenia się ran co powoduje wzrost komfortu pacjenta po zabieg ,nie wymaga chłodzenia. | C6: szt. | D6: 10
B7: Razem | F7: =SUM(F6) -> 0 | I7: =SUM(I6) -> 0
B10: Data | H10: Podpis osoby/osób upoważnionej
B11: ……………………………………………. | I11: ……………………………….

Sheet Zad.92
B1: ZOZ/DZP/PN/5/20
B2: Załącznik Nr: 9
A4: Zadanie nr: 92- Kaczki i baseny do myjni dezynfektora.
A5: Lp. | B5: Nazwa produktu | C5: Jednostka miary | D5: Ilość | E5: Cena jednostkowa netto | F5: Wartość netto | G5: VAT | H5: Cena jednostkowa brutto | I5: Wartość brutto | J5: Producent/Model/Nr katalogowy
A6: 1 | B6: Kaczka wielorazowego użytku z pokrywką, wykonana z polietylenu w kolorze zielonym. Wymiary: 30 x 13,5 x 10 x 14m. Kompatybilna z płuczko dezynfektorem Clinox 3A | C6: szt. | D6: 20
A7: 2 | B7: Basen wielorazowego użytku z pokrywą, w kolorze białym, wykonany z polipropyleny, autoklaw owalny, z rączką ułatwiającą użytkowanie (niewystająca). Max. długość z rączka 50cm. Kompatybilny z płuczko dezynfektorem Clinox 3A | C7: szt. | D7: 20
F8: =SUM(F6:F7) -> 0 | I8: =SUM(I6:I7) -> 0
B11: Data …………………………………………. ………………………………………………...
H12: Podpis osoby/osób uprawnionej

Sheet Zad.93
B1: ZOZ/DZP/PN/5/20
B2: Załącznik Nr: 9
A3: Zadanie nr: 93 – Ciśnieniomierze
A4: Lp. | B4: Nazwa produktu | C4: Jednostka miary | D4: Ilość | E4: Cena jednostkowa netto | F4: Wartość netto | G4: VAT | H4: Cena jednostkowa brutto | I4: Wartość brutto | J4: Producent/Model/Nr katalogowy
A5: 1 | B5: Ciśnieniomierz do pomiaru ciśnienia krwi z technologią Duo Sensor składający się z klasycznej osłuchowej, stosowanej w gabinetach lekarskich i oscylometrycznej metody badania, zapewniający wysoce precyzyjne wyniki ciśnienia tętniczego także w przypadku pacjentów z arytmią Aparat wykrywa zaburzenia rytmu pracy serca (arytmię serca) Indywidualne dopasowanie poziomu ciśnienia powietrza w mankiecie. Pamięć: aparat zapisuje minimum 60 wyników dla 2 użytkowników łącznie z datą i godziną pomiaru Aparat rozróżnia wartości pomiarów dokonywanych rano i wieczorem (wytyczne ESH), wylicza wartości średnie z wszystkich pomiarów oraz pomiarów porannych i wieczornych Aparat może być podłączony do komputera poprzez port USB, dzięki czemu może nastąpić przeniesienie danych pacjenta. Duże przyciski, czytelny wyświetlacz. W zestawie z ciśnieniomierzem 1 mankiet do wyboru przy zakupie 3 rozmiarach: r. S (nowy rozmiar /obwód ramienia 17 -22 cm+- 2cm), r. M (obwód ramienia 22 - 32 cm+- 2cm) i r . L (obwód ramienia 32 -42 cm+-2cm); Aparat klinicznie zatwierdzony. Rekomendacje niezależnych instytutów badawczych. 5 letnia gwarancja. | C5: szt | D5: 14
A6: 2 | B6: Mankiet do wyboru przy zakupie 3 rozmiarach: r. S (nowy rozmiar /obwód ramienia 17 -22 cm+- 2cm), r. M (obwód ramienia 22 - 32 cm+- 2cm) i r . L (obwód ramienia 32 -42 cm+-2cm); | C6: szt | D6: 10
A7: RAZEM | F7: =SUM(F5:F6) -> 0 | I7: =SUM(I5:I6) -> 0
B10: Data …………………………………………. ………………………………………………...
H11: Podpis osoby/osób uprawnionej

Sheet Zad.95
B1: ZOZ/DZP/PN/5/20
B2: Załącznik Nr: 9
A3: Zadanie nr 95- Żele i gaziki
A4: Lp | B4: Nazwa produktu | C4: Jednostka | D4: Ilość | E4: Cena jednostkowa netto | F4: Wartość netto | G4: VAT | H4: Cena jednostkowa brutto | I4: Wartość brutto | J4: Producent/Model/Nr katalogowy
A5: 1 | B5: Sterylny (sterylizowany radiacyjnie) lubrykant poślizgowy ,pakowany podwójnie , saszetka z wyprofilowaną końcówką do dokładnej aplikacji, końcówka z nacięciem, lubrykant na bazie wody, odtłuszczony, bezzapachowy i bezbarwny, nie powoduje podrażnień, saszetki po 5g | C5: op=150szt. | D5: 6
A6: 2 | B6: Sterylny żel do miejscowego znieczulenia z lignokainą oraz zapewniający optymalne smarowanie przy wstawianiu instrumentów do jam ciała. Skład chemiczny żelu podany na sterylnej ampułkostrzykawce oraz opakowaniu zbiorczym. Ampułkostrzykawka pakowana pojed po 6ml | C6: op=10szt | D6: 50
A7: 3 | B7: Gaziki nasączane chlorheksydyną 2% i 70% alkoholem izopropylowy.Do dezynfekcji cewników centralnych i obwodowych.Pakowane pojedynczo. w rozmiarze 12,5 (+/- 0,5 cm) x 18,5 ( +/- 0,5 cm) | C7: op=200szt. | D7: 10
A8: 4 | B8: Pałeczki do nawilżania jamy ustnej. Niezawierające cukru,nasączone gliceryną . | C8: op=75szt. | D8: 30
B9: RAZEM | F9: =SUM(F5:F8) -> 0 | I9: =SUM(I5:I8) -> 0
B12: Data | H12: Podpis osoby/osób upoważnionej
B13: ……………………………………………. | H13: ……………………………….

Sheet Zad.99
B1: ZOZ/DZP/PN/5/20
B2: Załącznik Nr: 9
A4: Zadanie nr: 99– Akcesoria do tlenoterapii i inhalacji
A5: Lp. | B5: Nazwa produktu | C5: Jednostka miary | D5: Ilość | E5: Cena jednostkowa netto | F5: Wartość netto | G5: VAT | H5: Cena jednostkowa brutto | I5: Wartość brutto | J5: Producent/Model/Nr katalogowy
A6: 1 | B6: Maska tlenowa dla dorosłych z przewodem i zaciskiem, jednorazowa L-XL bezbawna | C6: szt. | D6: 1800
A7: 2 | B7: Maska tlenowa dla dorosłych z przewodem i rezerwuarem powietrza, jednorazowa S-XL | C7: szt. | D7: 600
A8: 3 | B8: Maska tlenowa dla noworodków z przewodem i zaciskiem, jednorazowa S bezbarwna | C8: szt. | D8: 500
A9: 4 | B9: Maska tlenowa dla dzieci z przewodem i zaciskiem, jednorazowa M bezbarwna | C9: szt. | D9: 400
A10: 5 | B10: Maska anestetyczna nr 00 | C10: szt. | D10: 100
A11: 6 | B11: Maska anestetyczna nr 0 | C11: szt. | D11: 100
A12: 7 | B12: Maska anestetyczna z zaworem nr 1 | C12: szt. | D12: 100
A13: 8 | B13: Maska anestetyczna z zaworem nr 2 | C13: szt. | D13: 140
A14: 9 | B14: Maska anestetyczna z zaworem nr 3 | C14: szt. | D14: 140
A15: 10 | B15: Maska anestetyczna z zaworem nr 4 | C15: szt. | D15: 140
A16: 11 | B16: Maska anestetyczna z zaworem nr 5 | C16: szt. | D16: 140
A17: 12 | B17: Cewnik do podawania tlenu przez nos /wąsy tlenowe dla noworodków, jednorazowe, bezbarwne | C17: szt. | D17: 100
... A21: 16 | B21: Maska z nebulizatorem i wężem dla dorosłych, jednorazowa L-XL, bezbarwna. | C21: szt. | D21: 2500
B22: RAZEM | F22: =SUM(F6:F21) -> 0 | I22: =SUM(I6:I21) -> 0
B24: Data | H24: Podpis osoby/osób upoważnionej
B25: ……………………………………………. | H25: ……………………………….

Sheet Zad.100
B1: ZOZ/DZP/PN/5/20
B2: Załącznik Nr: 9
A4: Zadanie nr: 100 - System zamknięty próżniowy pobierania krwi
A5: Lp. | B5: Nazwa produktu | C5: Jednostka miary | D5: Ilość | E5: Cena jednostkowa netto | F5: Wartość netto | G5: VAT | H5: Cena jednostkowa brutto | I5: Wartość brutto | J5: Producent/Model/Nr katalogowy
A6: 1 | B6: Adapter Luer do systemu | C6: szt. | D6: 26000
A7: 2 | B7: Adapter Luer do systemu na stałe połączony z uchwytem, całośc pakowana pojedyńczo sterylny | C7: szt. | D7: 1000
A8: 3 | B8: Uchwyty jednorazowe do igieł, adapterów luer, igieł motylkowych | C8: szt. | D8: 120000
A9: 4 | B9: Igła systemowa 0,7;0,8; długość igły 32 do 38mm | C9: szt. | D9: 90000
A10: 5 | B10: Igła systemowa z wizualizacją 0,7; 0,8 – 25 do 38 mm, | C10: szt. | D10: 80000
A11: 6 | B11: Probówka 4 ml z aktywatorem wykrzepiania | C11: szt. | D11: 81000
A12: 7 | B12: Probówka 6 ml z aktywatorem wykrzepiania | C12: szt. | D12: 24000
A13: 8 | B13: Probówka 1 i 2 ml z K2 EDTA lub K3 EDTA do wyboru przy zakupie | C13: szt. | D13: 95000
A14: 9 | B14: Probówka do badań koagul. 1-2 ml z cytr.3,2 %, probówka z podwójną ścianką. | C14: szt. | D14: 42000
A15: 10 | B15: Probówka do OB. met. liniową 1,6-2 ml | C15: szt. | D15: 2500
A16: 11 | B16: Rurka skalowana do OB. kompatybilna z poz. 10 | C16: szt. | D16: 3000
A17: 12 | B17: Probówka do OB. met. Logar. 2,75-5 ml | C17: szt. | D17: 3000
... A25: 20 | B25: Mikrometoda do koagulologii z cytrynianem sodu 3,2%, 0,5ml | C25: szt. | D25: 1000
B26: RAZEM | F26: =SUM(F6:F25) -> 0 | I26: =SUM(I6:I25) -> 0
B30: PARAMETRY GRANICZNE zamkniętego systemu pobierania krwi
A32: 1 | B32: Technika pobierania - system próżniowy, próżnia kalibrowana na etapie produkcji
A33: 2 | B33: Materiał, z którego wykonane są poszczególne elementy systemu – plastik (dopuszcza się probówkę do OB ze szkła)
A34: 3 | B34: System ma gwarantować bezpośrednie pobieranie krwi z jednego wkłucia do probówek.
A35: 4 | B35: Każda probówka systemu ma posiadać etykietę z miejscem na opis próbki i umieszczenie tam wszystkich niezbędnych informacji.
A36: 5 | B36: Każda probówka i każda igła systemu ma posiadać nadrukowaną na etykiecie datę ważności i numer serii.
A37: 6 | B37: Termin przydatności min. 7 miesięcy od daty dostawy ( dopuszcza się min. 4 miesiące przypadku koagulologii), otwarcie najmniejszego opakowania handlowego nie skraca terminu ważności.
A38: 7 | B38: Wszystkie igły, uchwyty, adaptery Luer ze względu na kompatybilność muszą pochodzić od jednego producenta.
A39: 8 | B39: Zamknięcie probówek umożliwiające ich wielokrotne zamykanie i otwieranie.
A40: 9 | B40: Bezpieczeństwo pracy, zabezpieczenie przed kontaktem z krwią i efektem aerozolowym - korek wykonany ze specjalnej mieszanki gumy
A41: 10 | B41: Igły z poz 4,5,17,18 maja posiadać osłonkę zabezpieczającą przed zakłuciem personelu umiejscowioną na igle bądź uchwycie.
A42: 12 | B42: Na uchwycie Logo lub nazwa producenta, lub systemu
A43: 13 | B43: Na wezwanie zamawiającego dołączyć po 3 sztuki próbek z każdej pozycji.
B46: Data | H46: Podpis osoby/osób upoważnionej
B47: ……………………………………………. | H47: ……………………………….

Sheet Zad.102
B2: ZOZ/DZP/PN/5/20
B3: Załącznik Nr: 9
A5: Zadanie nr:102 - Reduktory
A6: Lp. | B6: Nazwa produktu | C6: Jednostka miary | D6: Ilość | E6: Cena jednostkowa[zł] netto | F6: Wartość [zł] netto | G6: VAT | H6: Cena jednostkowa [zł] brutto | I6: Wartość [zł] brutto | J6: Producent/Model/Nr katalogowy
A7: 1 | B7: Reduktor z dozownikiem 0-15 l/min.+ szybkozłącze / DIN/lub AGA do wyboru przy zakupie | C7: szt. | D7: 20
A8: 2 | B8: Dozownik z zaworem umożliwiającym płynną regulację dozowania tlenu, wielorazową butelką nawilżacza,ze złączem typu AGA lub DIN do wyboru przy zakupie. | C8: szt | D8: 30
A9: 3 | B9: Reduktor ssania z butlą zabezpieczającą mocowany bezpośrednio do gniazda próżni (technologia DIN. Regulacja w zakresie od 0 do podciśnienia istniejącego w instalacji. Wysokość całkowita nie większa niż 20cm. | C9: szt | D9: 4
A10: 4 | B10: Pojemnik zabezpieczający ok 250 ml z poliwęglanu z zaworem odcinającym | C10: szt | D10: 6
A11: 5 | B11: Wąż silikonowy do ssaka 12x,5 do ssaka medycznego typu PR – 12/7 | C11: szt | D11: 6
B12: Razem | F12: =SUM(F7:F11) -> 0 | I12: =SUM(I7:I11) -> 0
B15: Data | G15: Podpis osoby/osób upoważnionej
B16: ……………………………………………. | G16: ……………………………….

Sheet Zad.103
B1: ZOZ/DZP/PN/5/20
B2: Załącznik Nr: 9
A4: Zadanie nr: 103 - Preparat znieczulający
A5: Lp | B5: Nazwa produktu | C5: Jednostka | D5: Ilość | E5: Cena jednostkowa netto | F5: Wartość netto | G5: VAT | H5: Cena jednostkowa brutto | I5: Wartość brutto | J5: Producent/Model/Nr katalogowy
A6: 1 | B6: Preparat przeciwbólowy zawierający mieszaninę gazów o składzi : 50%podtlenku azotu i 50% tlenu zarejestrowany jako lek wraz z dostawami | C6: butla po 10 l = 2,8 m3 gazu | D6: 140
A7: 2 | B7: Ustniki jednorazowe do zaworu dozującego | C7: op.=100szt | D7: 24
A8: 3 | B8: Dzierżawa 5 butli | C8: miesiąc | D8: 24
A9: 4 | B9: Dzierżawa 3 stojaków na kółkach | C9: miesiąc | D9: 24
A10: 5 | B10: Dzierżawa 3 zaworów dozujących | C10: miesiąc | D10: 24
B11: RAZEM | F11: =SUM(F6:F10) -> 0 | I11: =SUM(I6:I10) -> 0
B13: Uwaga:
B14: Wykonawca dostarczy Zamawiającemu w ramach umowy dzierżawy butle, stojaki i zawory ( zawory dozujące nie mogą zawierać części wymagających sterylizacji)
B16: Data | H16: Podpis osoby/osób upoważnionej
B17: ……………………………………………. | I17: ……………………………….

Sheet Zad.106
B1: ZOZ/DZP/PN/5/20
B2: Załącznik Nr: 9
B3: Zadanie nr: 106 - Zestawy do pomp Medima
A4: Lp. | B4: Nazwa produktu | C4: Jednostka miary | D4: Ilość | E4: Cena jednostkowa netto | F4: Wartość netto | G4: VAT | H4: Cena jednostkowa brutto | I4: Wartość brutto | J4: Producent/Model/Nr katalogowy
A5: 1 | B5: Uniwersalny zestaw do podaży leków i płynów oraz żywienia pozajelitowego Komora kroplowa 20 kropel/ml, filtr 15µm. Zawór blokujący przepływ po wyjęciu zestawu z pompy. Dodatkowy zawór rolkowy. Długość 270-285 cm Nie zawiera DEHP Nie zawiera Latexu | C5: szt. | D5: 2000
A6: 2 | B6: Zestaw do podaży krwi oraz preparatów krwiopochodnych. Komora kroplowa 20 kropel/ml, filtr 200µm. Zawór blokujący przepływ po wyjęciu zestawu z pompy. Dodatkowy zawór rolkowy. Długość 270-285 cm Nie zawiera DEHP Nie zawiera Latexu | C6: szt. | D6: 1500
A7: 3 | B7: Zestaw do podaży leków światłoczułych, kolor bursztynowy. Komora kroplowa 20 kropel/ml, filtr 15µm. Zawór blokujący przepływ po wyjęciu zestawu z pompy. Dodatkowy zawór rolkowy. Długość 270-285 cm Nie zawiera DEHP Nie zawiera Latexu | C7: szt. | D7: 1500
A8: 4 | B8: Detektor kropli kompratybilny z pompami objętościowymi Medima P1 i P2 | C8: szt. | D8: 30
B9: Razem | F9: =SUM(F5:F8) -> 0 | I9: =SUM(I5:I8) -> 0
B12: Data | G12: Podpis osoby/osób upoważnionej
B13: ……………………………………………. | G13: ……………………………….

Sheet Zad.108
B1: ZOZ/DZP/PN/5/20
B2: Załącznik Nr: 9
A4: Zadanie nr: 108 - System HFNC
A5: Lp. | B5: Nazwa produktu | C5: Jednostka miary | D5: Ilość | E5: Cena jednostkowa[zł] netto | F5: Wartość [zł] netto | G5: VAT | H5: Cena jednostkowa [zł] brutto | I5: Wartość [zł] brutto | J5: Producent/Model/Nr katalogowy
A6: 1 | B6: Kaniula donosowa do terapii tlenowej HFNC (high flow nasal cannula). przystosowana do współpracy z podgrzewanymi układami oddechowymi serii 900PT561 firmy Fisher&Paykel. Kaniula wyposażona jest w regulowany pasek zakładany na główę, umożliwiający zamocowanie kaniuli na twarzy pacjenta. Kaniula wyposażona jest w dwie miękkie, wyprofilowne wyściółki przy policzkach pacjenta, zwiększające stabilność dopasowania i zmniejszące nacisk na twarz. Kolorystyczne oznaczenia 3 różnych rozmiarów umożliwiają błyskawiczny dobór właściwego rozmiaru. Dren kaniuli wykonany jest z elastycznego, oddychającego materiału odparowującego nadmiar wilgoci. Kaniula posiada dwa miękkie, elastyczne noski. Kształt nosków jest dopasowany do budowy nosa pacjenta i występuje w trzech rozmiarach: S, M, L do wyboru przy zakupie. rozmiar S (przepływ gazów 10-50 L/min) - wyściółka koloru pomarańczowego rozmiar M (przepływ gazów 10-60 L/min) - wyściółka koloru niebieskiego Rozmiar L (przepływ gazów 10-60 L/min) - wyściółka koloru zielonego Produkt zalecany do użytku przez 14 dni | C6: szt. | D6: 150
A7: 2 | B7: Łącznik tracheo do terapii tlenowej HFNC (high flow nasal cannula). przystosowany do współpracy z podgrzewanymi układami oddechowymi serii 900PT561 firmy Fisher&Paykel. | C7: szt. | D7: 120
A8: 3 | B8: Filtr do urzadzenia AIRVO II, filtr zapewniajacy dopływ czystego powietrza, zalecany do wymiany co 3 m-ce | C8: szt. | D8: 20
A9: 4 | B9: Układ do oddychania ogrzanym i nawilżonym powietrzem z samonapełniającą się komorą MR290. Układ oddechowy do terapii tlenowej HFNC (high flow nasal cannula) o długości 185 cm. Odcinek wdechowy podgrzewany wyposażony w zatopioną grzałkę w ściankach układu oddechowego eliminujący skropliny w układzie w drenie z wbudowanym czujnikiem temperatury oraz zintegrowany ruchomy klips do mocowania. Przepływ gazów w zakresie 2 – 60 L/min. Zakończenie układu o kształcie zapewniającym prawidłowe podłączenie do kaniul nosowych serii OPT316, OPT318, OPT942, OPT944, OPT946 i interfejsu do tracheostomii OPT firmy Fisher&Paykel. Zapewnia bezpieczne połączenie kaniul donosowych serii OPT firmy Fisher&Paykel, charakteryzujące się wyraźnym „kliknięciem” podczas montażu. Układ zapewniający pracę w zakresie przepływów 2 – 60 L/min. w zależności od wyboru rodzaju trybu pracy urządzenia. Komplet zawiera adapter z komorą nawilżacza z automatycznym pobieraniem wody, posiadającą dwa pływaki zabezpieczające przed przedostaniem się wody do układu oddechowego. Układ oddechowy wraz z adapterem i komorą tworzy komplet tzn. znajdują się w jednym opakowaniu. Produkt zalecany do użytku przez 14 dni | C9: szt. | D9: 150
A10: 5 | B10: Adapter do tracheostomii | C10: szt. | D10: 120
B11: RAZEM | F11: =SUM(F6:F10) -> 0 | I11: =SUM(I6:I10) -> 0
B14: Data | G14: Podpis osoby/osób upoważnionej
B15: ……………………………………………. | G15: ……………………………….

Sheet Zad.110
B1: ZOZ/DZP/PN/5/20
B2: Załącznik Nr: 9
A3: Zadanie nr:110 Tamponada balonowa do krwawień poporodowych.
A4: Lp. | B4: Nazwa produktu | C4: Jednostka miary | D4: Ilość | E4: Cena jednostkowa netto | F4: Wartość netto | G4: VAT | H4: Cena jednostkowa brutto | I4: Wartość brutto | J4: Producent/Model/Nr katalogowy
A5: 1. | B5: Tamponada balonowa do krwawień poporodowych: - podwójny lekki balon (zewnętrzny na sól fizjologiczną, wewnętrzny na powietrze) - strzykawka o pojemności 50-60 ml - woreczek drenażowy 500 ml - trzy końcówki z zaworami | C5: szt. | D5: 3
B6: RAZEM | F6: =SUM(F5:F5) -> 0 | I6: =SUM(I5:I5) -> 0
B9: Data | G9: Podpis osoby/osób upoważnionej
B10: ……………………………………………. | G10: ……………………………….

Sheet Zad. 111
B1: ZOZ/DZP/PN/5/20
B2: Załącznik Nr: 9
A4: Zadanie nr: 111 - Pompy elastomerowe
A5: Lp. | B5: Nazwa produktu | C5: Jednostka miary | D5: Ilość | E5: Cena jednostkowa[zł] netto | F5: Wartość [zł] netto | G5: VAT | H5: Cena jednostkowa [zł] brutto | I5: Wartość [zł] brutto | J5: Producent/Model/Nr katalogowy
A6: 1 | B6: Autofuser zwykły do wlewów ciągłych Przenośny system infuzyjny wykorzystujący zbiornik elastomerowy oraz ogranicznik przepływu, zapewniający ciągły przepływ leku przez określony czas przy nominalnej prędkości przepływu. Urządzenie gwarantuje dostarczenie żądanej, nominalnej objętości w zakresie +/- 10-15% nominalnego czasu wlewu. Urządzenie wyposażone jest w filtr cząstek stałych i powietrza przez, który podawana jest zawartość. Dren łączący długość min. 125 cm z klamrą i zatyczką z filtrem hydrofobowym. Urządzenie pakowane pojedynczo, jałowe. W torze przepływu w kontakcie z podawanym lekiem nie zawiera DEHP. Zbiornik z elastomeru silikonowego umieszczony w obudowie PC w kształcie płaskiego dysku, wygodnego do przenoszenia i układania na powierzchni w trakcie napełniania. Obudowa zapewnia możliwość wizualnej kontroli postępu wlewu oraz ochronę zbiornika elastomerowego. Napełnianie systemu odbywa się przez centralnie umieszczony port wyposażony w: - połączenie Luer Lock, przykręcaną pokrywę z wygodnym uchwytem zawór uniemożliwiający cofanie się/wyciek płynu po odłączeniu strzykawki. Wymagane dokumenty : • Certyfikat CE /świadectwo rejestracji w URPL • Badania potwierdzające, że system infuzyjny jest sprawdzony pod względem stabilności z 5-FU • Karta danych technicznych na potwierdzenie wymagań określonych w opisie przedmiotu zamówienia Nominalny czas infuzji: …..…ml/godz. (możliwe do wyboru:0.5, 1.0, 2.0,4.0, 5.0, 8.0 10.0) Nominalna objętość: ……………ml, (możliwe do wyboru:60, 100, 150, 275, 400, 550) | C6: szt | D6: 50
A7: 2 | B7: Autoselector z regulatorem przepływu Przenośny system infuzyjny wykorzystujący zbiornik elastomerowy z regulatorem przepływu umożliwiającym wstępne ustawienie prędkości przepływu w zakresie do wyboru 0.5-7.0 ml/h lub 1.0-14.0 ml/h przeznaczony do ciągłego przetaczania leków . Możliwość zablokowania zmian prędkości przez pacjenta. Urządzenie gwarantuje dostarczenie żądanej, nominalnej objętości w zakresie +/- 10-15% nominalnego czasu wlewu. Urządzenie wyposażone jest w filtr cząstek stałych i powietrza przez, który podawana jest zawartość. Dren łączący długość min. 125 cm z klamrą i zatyczką z filtrem hydrofobowym. Urządzenie pakowane pojedynczo, jałowe. W torze przepływu w kontakcie z podawanym lekiem nie zawiera DEHP. Zbiornik z elastomeru silikonowego umieszczony w obudowie PC w kształcie płaskiego dysku, wygodnego do przenoszenia i układania na powierzchni w trakcie napełniania. Obudowa zapewnia możliwość wizualnej kontroli postępu wlewu oraz ochronę zbiornika elastomerowego. Napełnianie systemu odbywa się przez centralnie umieszczony port wyposażony w: - połączenie Luer Lock, przykręcaną pokrywę z wygodnym uchwytem zawór uniemożliwiający cofanie się/wyciek płynu po odłączeniu strzykawki. Wymagane dokumenty : • Certyfikat CE /świadectwo rejestracji w URPL • Badania potwierdzające, że system infuzyjny jest sprawdzony pod względem stabilności z 5-FU • Karta danych technicznych na potwierdzenie wymagań określonych w opisie przedmiotu zamówienia Nominalny czas infuzji: …..…ml/godz. (możliwe do wyboru:0.5, 1.0, 2.0,4.0, 5.0, 8.0 10.0) Nominalna objętość: ……………ml( 275, 400, 550) | C7: szt | D7: 25
A8: 3 | B8: Autoselector z regulatorem przepływu Przenośny system infuzyjny wykorzystujący zbiornik elastomerowy z regulatorem przepływu umożliwiającym wstępne ustawienie prędkości przepływu w zakresie do wyboru 0.5-7.0 ml/h lub 1.0-14.0 ml/h przeznaczony do ciągłego przetaczania leków . Możliwość zablokowania zmian prędkości przez pacjenta. Urządzenie gwarantuje dostarczenie żądanej, nominalnej objętości w zakresie +/- 10-15% nominalnego czasu wlewu. Urządzenie wyposażone jest w filtr cząstek stałych i powietrza przez, który podawana jest zawartość. Dren łączący długość min. 125 cm z klamrą i zatyczką z filtrem hydrofobowym. Urządzenie pakowane pojedynczo, jałowe. W torze przepływu w kontakcie z podawanym lekiem nie zawiera DEHP. Zbiornik z elastomeru silikonowego umieszczony w obudowie PC w kształcie płaskiego dysku, wygodnego do przenoszenia i układania na powierzchni w trakcie napełniania. Obudowa zapewnia możliwość wizualnej kontroli postępu wlewu oraz ochronę zbiornika elastomerowego. Napełnianie systemu odbywa się przez centralnie umieszczony port wyposażony w: - połączenie Luer Lock, przykręcaną pokrywę z wygodnym uchwytem zawór uniemożliwiający cofanie się/wyciek płynu po odłączeniu strzykawki. Wymagane dokumenty : • Certyfikat CE /świadectwo rejestracji w URPL • Badania potwierdzające, że system infuzyjny jest sprawdzony pod względem stabilności z 5-FU • Karta danych technicznych na potwierdzenie wymagań określonych w opisie przedmiotu zamówienia Nominalny czas infuzji: …..…ml/godz. (możliwe do wyboru:0.5, 1.0, 2.0,4.0, 5.0, 8.0 10.0) Nominalna objętość: ……………ml, (60, 100, 150,) | C8: szt | D8: 20
A9: 4 | B9: Autoselector r z regulatorem i bolusem Przenośny system infuzyjny wykorzystujący zbiornik elastomerowy z regulatorem przepływu umożliwiającym wstępne ustawienie prędkości przepływu w zakresie do wyboru 0.5-7.0 ml/h lub 1.0-14.0 ml/h przeznaczony do ciągłego i/lub przerywanego przetaczania leków . Możliwość zablokowania zmian prędkości przez pacjenta. Możliowść terapii PCA dzięki bolusowi o objętości …….(objętość bolusa 0.5, 1.0, 2.0, 5.0 ml, czas napełniania bolusa 10, 15, 30, 60 min) Urządzenie gwarantuje dostarczenie żądanej, nominalnej objętości w zakresie +/- 10-15% nominalnego czasu wlewu. Urządzenie wyposażone jest w filtr cząstek stałych i powietrza przez, który podawana jest zawartość. Dren łączący długość min. 125 cm z klamrą i zatyczką z filtrem hydrofobowym. Urządzenie pakowane pojedynczo, jałowe. W torze przepływu w kontakcie z podawanym lekiem nie zawiera DEHP. Zbiornik z elastomeru silikonowego umieszczony w obudowie PC w kształcie płaskiego dysku, wygodnego do przenoszenia i układania na powierzchni w trakcie napełniania. Obudowa zapewnia możliwość wizualnej kontroli postępu wlewu oraz ochronę zbiornika elastomerowego. Napełnianie systemu odbywa się przez centralnie umieszczony port wyposażony w: - połączenie Luer Lock, przykręcaną pokrywę z wygodnym uchwytem zawór uniemożliwiający cofanie się/wyciek płynu po odłączeniu strzykawki. Wymagane dokumenty : • Certyfikat CE /świadectwo rejestracji w URPL • Badania potwierdzające, że system infuzyjny jest sprawdzony pod względem stabilności z 5-FU • Karta danych technicznych na potwierdzenie wymagań określonych w opisie przedmiotu zamówienia Nominalny czas infuzji: …..…ml/godz. (możliwe do wyboru:0.5, 1.0, 2.0,4.0, 5.0, 8.0 10.0) Nominalna objętość: ……………ml, (60, 100, 150) | C9: szt | D9: 20
A10: 5 | B10: Autoselector r z regulatorem i bolusem Przenośny system infuzyjny wykorzystujący zbiornik elastomerowy z regulatorem przepływu umożliwiającym wstępne ustawienie prędkości przepływu w zakresie do wyboru 0.5-7.0 ml/h lub 1.0-14.0 ml/h przeznaczony do ciągłego i/lub przerywanego przetaczania leków . Możliwość zablokowania zmian prędkości przez pacjenta. Możliowść terapii PCA dzięki bolusowi o objętości …….(objętość bolusa 0.5, 1.0, 2.0, 5.0 ml, czas napełniania bolusa 10, 15, 30, 60 min) Urządzenie gwarantuje dostarczenie żądanej, nominalnej objętości w zakresie +/- 10-15% nominalnego czasu wlewu. Urządzenie wyposażone jest w filtr cząstek stałych i powietrza przez, który podawana jest zawartość. Dren łączący długość min. 125 cm z klamrą i zatyczką z filtrem hydrofobowym. Urządzenie pakowane pojedynczo, jałowe. W torze przepływu w kontakcie z podawanym lekiem nie zawiera DEHP. Zbiornik z elastomeru silikonowego umieszczony w obudowie PC w kształcie płaskiego dysku, wygodnego do przenoszenia i układania na powierzchni w trakcie napełniania. Obudowa zapewnia możliwość wizualnej kontroli postępu wlewu oraz ochronę zbiornika elastomerowego. Napełnianie systemu odbywa się przez centralnie umieszczony port wyposażony w: - połączenie Luer Lock, przykręcaną pokrywę z wygodnym uchwytem zawór uniemożliwiający cofanie się/wyciek płynu po odłączeniu strzykawki. Wymagane dokumenty : • Certyfikat CE /świadectwo rejestracji w URPL • Badania potwierdzające, że system infuzyjny jest sprawdzony pod względem stabilności z 5-FU • Karta danych technicznych na potwierdzenie wymagań określonych w opisie przedmiotu zamówienia Nominalny czas infuzji: …..…ml/godz. (możliwe do wyboru:0.5, 1.0, 2.0,4.0, 5.0, 8.0 10.0) Nominalna objętość: ……………ml( 275, 400, 550) | C10: szt | D10: 20
A11: 6 | B11: Cewnik do anelgezji regionalnej dł 15,20, 30 cm | C11: szt | D11: 150
B12: Razem | F12: =SUM(F6:F11) -> 0 | I12: =SUM(I6:I11) -> 0
B15: Data | G15: Podpis osoby/osób upoważnionej
B16: ……………………………………………. | G16: ……………………………….

Sheet Zad.112
B2: ZOZ/DZP/PN/5/20
B3: Załącznik Nr: 9
B5: Zadanie nr: 112 - Zestaw do krwawego pomiaru ciśnienia
A6: Lp. | B6: Nazwa produktu | C6: Jednostka miary | D6: Ilość | E6: Cena jednostkowa[zł] netto | F6: Wartość [zł] netto | G6: VAT | H6: Cena jednostkowa [zł] brutto | I6: Wartość [zł] brutto | J6: Producent/Model/Nr katalogowy
A7: 1 | B7: Przetwornik do krwawego pomiaru ciśnienia, pojedynczy, zawierający podwójny system przepłukiwania IntraFlo (3 ml/h) obsługiwany jedna ręką, uruchamiany przez ściśnięcie skrzydełek lub pociągnięcie wypustki. Budowa kompletnej linii dającą wysoką częstotliwość własną >49Hz -zapewniająca wierne odwzorowanie sygnału i niewrażliwość na zakłócenia rezonansowe bez dodatkowych eliminatorów ( typu róża). Linie ciśnieniowe grubościenne, bez barwnych pasków, z dodatkowymi oznaczeniami kolorystycznymi w formie naklejek, dodatkowy komplet koreczków w kolorze żółtym w celu ułatwienia przepłukiwania systemu. Połączenie przetwornika z kablami interfejsowymi monitora wodoszczelnymi, bezpinowymi, kablami . Dł. linii 152 cm (122 + 30 cm). Łatwość wyjęcia z opakowania fabrycznego i wypełnienia, tacka wyprofilowana z tworzywa sztucznego , zamykana papierem laminowanym. Otwarcie tacki nie powoduje przemieszczenia elementów na niej ulokowanych; linie infuzyjne spięte taśmami papierowymi w celu łatwego wypełnienia linii, Łatwość wypełnienia linii . Średnice wszelkich elementów ( linii i kraników) mają idealnie dobrane średnice – co gwarantuje bardzo dokładne wypełnienie zestawu i eliminację wszystkich pęcherzyków powietrza. Produkt jednorazowy, sterylny , pakowany pojedynczo. Kompatybilne z posiadanymi przez oddział kablami. Dostawca na czas trwania umowy zapewnia 20 kpl kabli w razie uszkodzenia. | C7: szt. | D7: 750
B8: Razem | F8: =F7 -> 0 | I8: =SUM(I7) -> 0
B11: Data | G11: Podpis osoby/osób upoważnionej
B12: ……………………………………………. | G12: ……………………………….

Sheet Zad.113
B1: ZOZ/DZP/PN/5/20
B2: Załącznik Nr: 9
A3: Zadanie nr 113 – Zestaw do niskociśnieniowego drenażu ran
A4: Lp. | B4: Nazwa produktu | C4: Jednostka miary | D4: Ilość | E4: Cena jednostkowa[zł] netto | F4: Wartość [zł] netto | G4: VAT | H4: Cena jednostkowa [zł] brutto | I4: Wartość [zł] brutto | J4: Producent/Model/Nr katalogowy
A5: 1 | B5: Zestaw do niskociśnieniowego drenażu ran składający się : pojemnika ssącego typu mieszek o pojemności 500ml, drenu łączącego o długości 125cm,z uniwersalną, docinaną końcówką silikonową do drenów Redona o rozmiarach CH6-CH18 oraz klamrą zaciskową, własnego systemu podwieszania do ram łóżka, drenu Redona wykonanego z PCV wraz z trokarem stalowym w rozmiarach CH 8-CH 18. Mieszek wykonany z PCV, z zastawką antyrefluksyjną oraz czerwonym zaworem bezpieczeństwa typu save umożliwiającym ponowne wytworzenie podciśnienia bez konieczności rozłączania zestawu. Mieszek skalowany precyzyjnie co 50ml. Dodatkowa skala na dnie pojemnika. Sterylny, pakowany podwójnie- opakowanie zewnętrzne papier-folia, wewnętrzne folia. | C5: szt. | D5: 1200
A6: 2 | B6: Zestaw do niskociśnieniowego drenażu ran składający się : pojemnika ssącego typu mieszek o pojemności 250ml, drenu łączącego o długości 125cm,z uniwersalną, docinaną końcówką silikonową do drenów Redona o rozmiarach CH6-CH18 oraz klamrą zaciskową, własnego systemu podwieszania do ram łóżka, drenu Redona wykonanego z PCV wraz z trokarem stalowym w rozmiarach CH 8-CH 18. Mieszek wykonany z PCV, z zastawką antyrefluksyjną oraz czerwonym zaworem bezpieczeństwa typu save umożliwiającym ponowne wytworzenie podciśnienia bez konieczności rozłączania zestawu. Mieszek skalowany precyzyjnie co 40ml. Dodatkowa skala na dnie pojemnika. Sterylny, pakowany podwójnie- opakowanie zewnętrzne papier-folia, wewnętrzne folia. | C6: szt. | D6: 1200
A7: 3 | B7: Wymienna butelka do niskociśnieniowego drenażu ran, sterylna pojemność 250 ml | C7: szt | D7: 1200
A8: 4 | B8: Wymienna butelka do niskociśnieniowego drenażu ran, pojemność 500 ml | C8: szt. | D8: 1200
B9: RAZEM | F9: =SUM(F5:F8) -> 0 | I9: =SUM(I5:I8) -> 0
B11: Data | G11: Podpis osoby/osób upoważnionej
B12: ……………………………………………. | G12: ……………………………….

Sheet Zad.114
B1: ZOZ/DZP/PN/5/20
B2: Załącznik Nr: 9
A3: Zadanie nr: 114 - Retraktor
A4: Lp. | B4: Nazwa produktu | C4: Jednostka miary | D4: Ilość | E4: Cena jednostkowa[zł] netto | F4: Wartość [zł] netto | G4: VAT | H4: Cena jednostkowa [zł] brutto | I4: Wartość [zł] brutto | J4: Producent/Model/Nr katalogowy
A5: 1 | B5: Retraktor narządów miękkich do utrzymywania tkanek miękkich z dala od pola operacyjnego oraz wchłaniania krwi i/lub płynów podczas zabiegu. Przed użyciem wymagane jest nasączenie roztworem soli fizjologicznej. Rozmiar:250x50x50mm | C5: op=25szt. | D5: 10
A6: 2 | B6: Retraktor narządów miękkich do utrzymywania tkanek miękkich z dala od pola operacyjnego oraz wchłaniania krwi i/lub płynów podczas zabiegu. Przed użyciem wymagane jest nasączenie roztworem soli fizjologicznej. Rozmiar:300x50x50mm | C6: op=25szt. | D6: 4
B7: Razem | F7: =SUM(F5:F6) -> 0 | I7: =SUM(I5:I6) -> 0
B10: Data | G10: Podpis osoby/osób upoważnionej
B11: ……………………………………………. | G11: ……………………………….

Sheet Zad.115
B1: ZOZ/DZP/PN/5/20
B2: Załącznik Nr: 9
A3: Zadanie nr: 115 – Serweta niesterylna
A4: Lp. | B4: Nazwa produktu | C4: Jednostka miary | D4: Ilość | E4: Cena jednostkowa[zł] netto | F4: Wartość [zł] netto | G4: VAT | H4: Cena jednostkowa [zł] brutto | I4: Wartość [zł] brutto | J4: Producent/Model/Nr katalogowy
A5: 1 | B5: Serweta niesterylna 45-45 cm celulozowa, podfoliowana | C5: op=100szt | D5: 50
B6: RAZEM | F6: =SUM(F5) -> 0 | I6: =SUM(I5) -> 0
B9: Data | G9: Podpis osoby/osób upoważnionej
B10: ……………………………………………. | G10: ……………………………….

Sheet Zad. 116
B1: ZOZ/DZP/PN/5/20
B2: Załącznik Nr: 9
A3: Zadanie nr:
A4: Lp. | B4: Nazwa produktu | C4: Jednostka miary | D4: Ilość | E4: Cena jednostkowa[zł] netto | F4: Wartość [zł] netto | G4: VAT | H4: Cena jednostkowa [zł] brutto | I4: Wartość [zł] brutto | J4: Producent/Model/Nr katalogowy
A5: 1 | B5: Osłona na sondę śródoperacyjną (sterylna) + żel, gumki, taśmy 13 cm x 61 cm: „Sterylny, opatrunkowy zestaw zabiegowy przeznaczony do badania USG o minimalnym składzie: osłona na głowicę USG o wymiarach: 13 cm x 60-65 cm -1 sztuka; serweta o wymiarach 40-45 cm x 40-45 cm 1 sztuka; sterylny żel do USG minimum 20-25 g - 1 sztuka; gumki i taśmy do mocowania osłony po 2 sztuki. Całość sterylnie zapakowana w jedno opakowanie.” | C5: op=20szt | D5: 30
B6: Razem | F6: =SUM(F5) -> 0 | I6: =F6*108/100 -> 0
B9: Data | G9: Podpis osoby/osób upoważnionej
B10: ……………………………………………. | G10: ……………………………….

Sheet Zad. 120
B2: ZOZ/DZP/PN/5/20
B3: Załącznik Nr: 9
A4: Zadanie nr: 120 – Majtki chłonne
A5: Lp. | B5: Nazwa produktu | C5: Jednostka miary | D5: Ilość | E5: Cena jednostkowa[zł] netto | F5: Wartość [zł] netto | G5: VAT | H5: Cena jednostkowa [zł] brutto | I5: Wartość [zł] brutto | J5: Producent/Model/Nr katalogowy
A6: 1 | B6: Majtki chłonne przeznaczone dla osób ze średnim i ciężkim nietrzymaniem moczu. Warstwy wierzchnia i spodnia wykonane z miękkich włóknin. Wkład chłonny z pulpy celulozowej z superabsorbentem. Warstwa rozprowadzająca (EDS). Ochronę przed wyciekami zapewniają osłonki boczne wzdłuż wkładu chłonnego oraz falbanki z przędzą elastyczną w obszarze pachwinowym. Indykator wilgotności – nadruk tuszem rozmywający się pod wpływem kontaktu z cieczą. Warstwa zewnętrzna paroprzepuszczalna na całej powierzchni. Tasiemka do zawijania zużytego wyrobu umieszczona w tylnej części. Chłonność min.1400g, obwód 80-110cm, | C6: op=10szt | D6: 70
A7: 2 | B7: Majtki chłonne przeznaczone dla osób ze średnim i ciężkim nietrzymaniem moczu. Warstwy wierzchnia i spodnia wykonane z miękkich włóknin. Wkład chłonny z pulpy celulozowej z superabsorbentem. Warstwa rozprowadzająca (EDS). Ochronę przed wyciekami zapewniają osłonki boczne wzdłuż wkładu chłonnego oraz falbanki z przędzą elastyczną w obszarze pachwinowym. Indykator wilgotności – nadruk tuszem rozmywający się pod wpływem kontaktu z cieczą. Warstwa zewnętrzna paroprzepuszczalna na całej powierzchni. Tasiemka do zawijania zużytego wyrobu umieszczona w tylnej części. Chłonność min.1600g, obwód 100-135cm, | C7: op=10szt | D7: 70
F8: =SUM(F6:F7) -> 0 | H8: =SUM(H6:H7) -> 0
B11: Data | G11: Podpis osoby/osób upoważnionej
B12: ……………………………………………. | G12: ……………………………….

Sheet Zad. 121
B2: ZOZ/DZP/PN/5/20
B3: Załącznik Nr: 9
A4: Zadanie nr: 121 Czepki, maski, majtki do zabiegów ambulatoryjnych.
A5: Lp. | B5: Nazwa produktu | C5: Jednostka miary | D5: Ilość | E5: Cena jednostkowa netto | F5: Wartość netto | G5: VAT | H5: Cena jednostkowa brutto | I5: Wartość brutto | J5: Producent/Nazwa handlowa
A6: 1 | B6: Majtki (spodenki) do badania endoskopowego z otworem w kroczu wykonane z włókniny polipropylenowej w rozmiarze XL | C6: szt. | D6: 2000
A7: 2 | B7: Czepek chirurgiczny uniwersalny o kroju furażerki wykonany w części bocznej z włókniny pochłaniającej pot, zaś w części górnej z włókniny perforowanej, ściągnięty z tyłu gumką. O gramaturze min. 26g/m2 Sposób pakowania w kartoniki gwarantujący higieniczne przechowywanie i wyjmowanie, kolor niebieski, rozmiar L, nieprześwitujący | C7: szt. | D7: 6000
A8: 3 | B8: Okrągły czepek chirurgiczny tzw. „ beret” wykonany z włókniny wiskozowej pochłaniającej pot o gramaturze nie mniejszej niż 26g/m2, z tyłu ściągnięty lekką, nie uciskającą gumką. | C8: szt. | D8: 12000
A9: 4 | B9: Maska chirurgiczna pełnobarierowa z wykonana z trzech warstw wysokiej jakości włóknin, warstwa twarzowa nie posiadająca mikrowłosków, wyposażona w sztywnik zapewniający łatwe dopasowanie się maski do kształtu twarzy, mocowana delikatnymi gumkami, barierowość bakteryjna maski min.95% ( należy udokumentować filtracje bakteryjna maski). Pakowany w kartoniki po max. 50 szt., oznaczone zgodnie z ustawą o wyrobach medycznych) | C9: szt. | D9: 20000
A10: 5 | B10: Maska chirurgiczna pełnobarierowa z wykonana z trzech warstw wysokiej jakości włóknin, warstwa twarzowa nie posiadająca mikrowłosków, wyposażona w sztywnik zapewniają cny łatwe dopasowanie się maski do kształtu twarzy, wiązana na troki o dł. min. 40 cm, barierowość bakteryjna maski min.95% ( należy udokumentować filtracje bakteryjna maski). Pakowany w kartoniki po max. 50 szt., oznaczone zgodnie z ustawą o wyrobach medycznych) | C10: szt. | D10: 20000
B11: RAZEM | F11: =SUM(F6:F10) -> 0 | I11: =SUM(I6:I10) -> 0
B15: Data | G15: Podpis osoby/osób upoważnionej
B16: ……………………………………………. | G16: ……………………………….

Sheet Zad. 122
B1: ZOZ/DZP/PN/5/20
B2: Załącznik Nr: 9
A3: Zadanie nr: 122 Maski z zaworem Venturiego
A4: Lp. | B4: Nazwa produktu | C4: Jednostka miary | D4: Ilość | E4: Cena jednostkowa netto | F4: Wartość netto | G4: VAT | H4: Cena jednostkowa brutto | I4: Wartość brutto | J4: Producent/Nazwa handlowa
A5: 1 | B5: Maska tlenowa, z regulowaną zastawką Venturiego z dwoma regulatorami koncentracji, pozwalającymi na ustawiane stężenia tlenu: 26,28,31,35,40,45,50%. Maska wykonana z polipropylenu, bez PCV, nie zawiera ftalanów, posiada rezerwuar tlenu, część nosowa wyprofilowana – nie posiada metalowej blaszki, posiada termoplastyczny, elastomerowy, uszczelniający, bezciśnieniowy mankiet ściśle obejmujący twarz łącznie z brodą. Mocowanie maski odbywa się za pomocą gumki z możliwością regulacji, w zestawie z maską znajduje się dren o długości 1,8 m i przekroju gwiazdkowym, zapewniającym drożność. Dostępna w rozmiarach dla dorosłych. Zestaw kompletny gotowy do użycia, mikrobiologicznie czysty, pakowany pojedynczo. | C5: szt. | D5: 200
A6: 2 | B6: Maska tlenowa, przeznaczona dla dorosłych, ze zwężką Venturiego, drenem o długości 1,8 m i przekroju gwiazdkowym. Posiada elastomerowy, bezciśnieniowy, termoplastyczny mankiet uszczelniający z podwójnym podbródkiem, ściśle obejmujący twarz łącznie z brodą. Wyprofilowany zachyłek nosowy, pozbawiony blaszki pozwala na stosowanie w środowisku MRI. W kopule maski sześć podłużnych otworów bocznych, mocowanie maski za pomocą gumki z możliwością regulacji. W komplecie: odłączalny, przezroczysty wielokanalikowy dren tlenowy o przekroju gwiazdkowym (niezałamujący się) i długości 1,8m, końcówka standardowa oraz regulowana zwężka Venturiego umożliwiająca podaż tlenu o koncentracji 26, 28, 31, 35, 40, 45 i 50%. Produkt jednorazowego użytku. Mikrobiologicznie czysty. Pakowany pojedynczo. | C6: szt. | D6: 100
A7: 3 | B7: Maska tlenowa pediatryczna z drenem 1,8 m i zwężką Venturiego. Wykonana z miękkiego, plastycznego, przeziernego polipropylenu, całkowicie pozbawionego PCV (nie zawiera ftalanów). Posiada elastomerowy, bezciśnieniowy, termoplastyczny mankiet uszczelniający, ściśle obejmujący twarz łącznie z brodą. Rozmiar uniwersalny dla dzieci, dwa podłużne otwory boczne w kopule maski, mocowanie za pomocą gumki z możliwością regulacji, wyprofilowany zachyłek nosowy, pozbawiona blaszki (możliwość stosowania w środowisku MRI) W komplecie: odłączalny, przezroczysty wielokanalikowy dren tlenowy o przekroju gwiazdkowym (niezałamujący się) i długości 1,8m, końcówka standardowa, regulowana zwężka Venturiego umożliwiająca podaż tlenu o koncentracji 26, 28, 31, 35, 40, 45 i 50%. Produkt jednorazowego użytku. Mikrobiologicznie czysty. Pakowany pojedynczo. | C7: szt. | D7: 100
B8: Suma | F8: =SUM(F5:F7) -> 0 | I8: =SUM(I5:I7) -> 0
B13: Data | G13: Podpis osoby/osób upoważnionej
B14: ……………………………………………. | G14: ……………………………….

Sheet Zad. 123
B2: ZOZ/DZP/PN/5/20
B3: Załącznik Nr: 9
A4: Zadanie nr: 123 Akcesoria do Aeroneb.
A5: Lp. | B5: Nazwa produktu | C5: Jednostka miary | D5: Ilość | E5: Cena jednostkowa netto | F5: Wartość netto | G5: VAT | H5: Cena jednostkowa brutto | I5: Wartość brutto | J5: Producent/Nazwa handlowa
A6: 1 | B6: Przewód połączeniowy do modułu sterującego z membraną nebulizatora do aparatu Aeroneb | C6: szt. | D6: 20
A7: 2 | B7: Membrana Nebulizatora do Areoneb Pro | C7: szt. | D7: 10
A8: 3 | B8: Złącze typu „T” dla dorosłych | C8: Op=5 szt. | D8: 10
A9: 4 | B9: Zestaw membrany nebulizatora do Aeroneb Solo z złącza typu „T” dla dorosłych | C9: Op=5 szt. | D9: 10
A10: 5 | B10: USB kontroler do aparatu Aeroneb | C10: szt. | D10: 1
A11: 6 | B11: Filtr do Aeroneb | C11: szt. | D11: 36
B12: Suma | F12: =SUM(F6:F11) -> 0 | I12: =SUM(I6:I11) -> 0
B15: Data | G15: Podpis osoby/osób upoważnionej
B16: ……………………………………………. | G16: ……………………………….

Sheet Zad. 124
B2: ZOZ/DZP/PN/5/20
B3: Załącznik Nr: 9
A4: Zadanie nr: 124 Cewniki do dializ 2
A5: Lp. | B5: Nazwa produktu | C5: Jednostka miary | D5: Ilość | E5: Cena jednostkowa netto | F5: Wartość netto | G5: VAT | H5: Cena jednostkowa brutto | I5: Wartość brutto | J5: Producent/Nazwa handlowa
A6: 1 | B6: Cewniki wysokoprzepływowe (HighFlow), o nerkowatym kształcie przekroju, schodkowa końcówka cewnika pozbawiona otworów bocznych. Tworzywo poliuretanowe bez DEHP, Zbudowane dodatkowo z kopolimeru nałożonego na całej długości cewnika, Pokryte powłoką bizmutową o właściwościach przeciwbakteryjnych. 13F o długości 150mm i 200mm. Do wyboru przy zakupie. | C6: szt. | D6: 200
A7: 2 | B7: kolec do pobierania leków z butelek z drugiej strony system bezigłowy luer-lock. | C7: szt. | D7: 400
B8: suma | F8: =SUM(F6:F7) -> 0 | I8: =SUM(I6:I7) -> 0
B11: Data | G11: Podpis osoby/osób upoważnionej
B12: ……………………………………………. | G12: ……………………………….

Sheet Zad. 125
B1: ZOZ/DZP/PN/5/20
B2: Załącznik Nr: 9
A3: Zadanie nr: 125 Zabezpieczenia opatrunków 2
A4: Lp. | B4: Nazwa produktu | C4: Jednostka miary | D4: Ilość | E4: Cena jednostkowa netto | F4: Wartość netto | G4: VAT | H4: Cena jednostkowa brutto | I4: Wartość brutto | J4: Producent /Nazwa handlowa
A5: 1 | B5: Majtki siatkowe z przędzy poliamidowej, z możliwością prania w temp. 60ºC, w rozmiarze 1 op. 50Szt. | C5: op= 50szt | D5: 50
A6: 2 | B6: Majtki siatkowe z przędzy poliamidowej, z możliwością prania w temp. 60ºC, w rozmiarze 2 op. 50Szt. | C6: op= 50szt | D6: 50
F7: =SUM(F5:F6) -> 0 | I7: =SUM(I5:I6) -> 0
B10: Data | G10: Podpis osoby/osób upoważnionej
B11: ……………………………………………. | G11: ……………………………….

Sheet Zad. 126
B1: ZOZ/DZP/PN/5/20
B2: Załącznik Nr: 9
A3: Zadanie nr: 126 Zestaw do cystostomii.
A4: Lp. | B4: Nazwa produktu | C4: Jednostka miary | D4: Ilość | E4: Cena jednostkowa netto | F4: Wartość netto | G4: VAT | H4: Cena jednostkowa brutto | I4: Wartość brutto | J4: Producent /Nazwa handlowa
A5: 1 | B5: Zestaw do cystostomii: Katerer typu PIGTAIL 8F,9F,10F,12F,14F/45cm z poliuretanou slikonowego z igłą z koszulką rozrywealną 8F/80mm, 9F/80mm, 12F/120mm w komplecie, strykawka 10ml luer-lock, skalpel, kołnież mocujący, Opaska zaciskowa. Rozmiar do wyboru przy zakupie. | C5: 1kpl. | D5: 15
F6: =SUM(F5:F5) -> 0 | I6: =SUM(I5) -> 0
B9: Data | G9: Podpis osoby/osób upoważnionej
B10: ……………………………………………. | G10: ……………………………….

Sheet Zad. 127
B1: ZOZ/DZP/PN/5/20
B2: Załącznik Nr: 9
A3: Zadanie nr: 127 Filtry wielorazowe do kontenera.
A4: Lp. | B4: Nazwa produktu | C4: Jednostka miary | D4: Ilość | E4: Cena jednostkowa netto | F4: Wartość netto | G4: VAT | H4: Cena jednostkowa brutto | I4: Wartość brutto | J4: Producent /Nazwa handlowa
A5: 1 | B5: Filtr PTFE wielorazowy do kontenera typ Mini oraz dental do długotrwałego użytkowania min. 1000 cykli sterylizacji. | C5: op=2szt. | D5: 5
F6: =SUM(F5:F5) -> 0 | I6: =SUM(I5) -> 0
B10: Data | G10: Podpis osoby/osób upoważnionej
B11: ……………………………………………. | G11: ……………………………….

Sheet Zad. 128
B1: ZOZ/DZP/PN/5/20
B2: Załącznik Nr: 9
A3: Zadanie nr: 128 Uchwyt do lampy
A4: Lp. | B4: Nazwa produktu | C4: Jednostka miary | D4: Ilość | E4: Cena jednostkowa netto | F4: Wartość netto | G4: VAT | H4: Cena jednostkowa brutto | I4: Wartość brutto | J4: Producent /Nazwa handlowa
A5: 1 | B5: Uchwyt wielorazowy do lampy SOLA 700G16900 i SOLA 500G16900 do sterylizacji wielokrotnej. | C5: Kpl = 2 szt | D5: 5
F7: =SUM(F5:F6) -> 0 | H7: =SUM(H5) -> 0
B10: Data | G10: Podpis osoby/osób upoważnionej
B11: ……………………………………………. | G11: ……………………………….

Sheet Zad. 129
B1: ZOZ/DZP/PN/5/20
B2: Załącznik Nr: 9
A3: Zadanie nr: 129 Elektroda do BIS
A4: Lp. | B4: Nazwa produktu | C4: Jednostka miary | D4: Ilość | E4: Cena jednostkowa netto | F4: Wartość netto | G4: VAT | H4: Cena jednostkowa brutto | I4: Wartość brutto | J4: Producent /Nazwa handlowa
B5: Elektroda do monitorowania głębokości snu kompatybilna z urządzeniem BIS firmy Draeger | C5: szt | D5: 150
F6: =SUM(F5:F5) -> 0 | I6: =SUM(I5) -> 0
B9: Data | G9: Podpis osoby/osób upoważnionej
B10: ……………………………………………. | G10: ……………………………….

Sheet Zad. 130
B1: ZOZ/DZP/PN/5/20
B2: Załącznik Nr: 9
A3: Zadanie nr: 130 Kabel z czujnikiem CO2
A4: Lp. | B4: Nazwa produktu | C4: Jednostka miary | D4: Ilość | E4: Cena jednostkowa netto | F4: Wartość netto | G4: VAT | H4: Cena jednostkowa brutto | I4: Wartość brutto | J4: Producent /Nazwa handlowa
B5: Kabel zbiorczy z czujnikiem do pomiaru CO2 w strumieniu głównym , kompratybilny z kardiomonitorem Nihon Kohden | C5: kpl | D5: 2
F6: =SUM(F5) -> 0 | I6: =SUM(I5) -> 0
B9: Data | G9: Podpis osoby/osób upoważnionej
B10: ……………………………………………. | G10: ……………………………….

Sheet Zad. 131
B1: ZOZ/DZP/PN/5/20
B2: Załącznik Nr: 9
A3: Zadanie nr: 131 Kable do holterów.
A4: Lp. | B4: Nazwa produktu | C4: Jednostka miary | D4: Ilość | E4: Cena jednostkowa netto | F4: Wartość netto | G4: VAT | H4: Cena jednostkowa brutto | I4: Wartość brutto | J4: Producent /Nazwa handlowa
A5: 1 | B5: kabel pacjenta do holtera Oxford 3A - złącze typu VGA | C5: szt | D5: 10
A6: 2 | B6: kabel pacjenta do holtera Oxford 3A - złącze typu HDMI | C6: szt | D6: 10
A7: 4 | B7: zestaw 10 odprowadzeń (kabel pacjenta) do zapisu pracy serca podczas prób wysiłkowych systemu NORAV MEDICAL PC-EKG 1200 | C7: kpl. | D7: 2
B8: suma | F8: =SUM(F5:F7) -> 0 | I8: =SUM(I5:I7) -> 0
B11: Data | G11: Podpis osoby/osób upoważnionej
B12: ……………………………………………. | G12: ……………………………….

Sheet Zad. 132
B1: ZOZ/DZP/PN/5/20
B2: Załącznik Nr: 9
A3: Zadanie nr: 132 Klipsownica rozbieralna.
A4: Lp. | B4: Nazwa produktu | C4: Jednostka miary | D4: Ilość | E4: Cena jednostkowa netto | F4: Wartość netto | G4: VAT | H4: Cena jednostkowa brutto | I4: Wartość brutto | J4: Producent /Nazwa handlowa
B5: Klipsownica endoskopowa rozbieralna w rozmiarze L i XL dla niewchłanialnych klipsów. Szczęki aktywowane przednią rękojeścią. Rotacja tronu o 360stopni,regulowana palcem wskazującym, umożliwiająca pracę jedna ręką, kanał płuczący do łatwego czyszczenia,ze stali nierdzewnej, kolorystyczny kod rozmiarów, kolor zasobników odpowiadający rozmiarowi klipsów, kompatybilna z klipsami polimerowymi.
A6: 1 | B6: Klipsownica rozmiar L, XL, śrenica trzonu 10mm, średnica trokara 10mm, Długość robocza 33cm. W zestawie z wkładem L 1 szt i XL 1 szt. | C6: 1 zestaw. | D6: 1
B7: Niewchłanialne klipsy z samonaprowadzającym zatrzaskiem – eliminacja nożycowa łukowaty kształt, katywny zawias,- elastyczność podczas otwierania i zamykania, redukcja nacisku na tkankę, zintegrowane ząbki- brak przesuwania na tkance. | F7: =E7*D7 -> 0 | I7: =F7*G7+F7 -> 0
A8: 2 | B8: Ładunek z klipsami: duże zakres rozmiaru tkanki 5-13mm po 4 szt. w ładunku | C8: Op=20 ładunków. | D8: 4
A9: 3 | B9: Ładunek z klipsami: duże zakres rozmiaru tkanki 7-16mm po 4 szt. w ładunku | C9: Op=20 ładunków. | D9: 4
A10: 4 | B10: Ładunek z klipsami: duże zakres rozmiaru tkanki 5-13mm po 2 szt. w ładunku | C10: Op=20 ładunków. | D10: 4
A11: 5 | B11: Ładunek z klipsami: duże zakres rozmiaru tkanki 7-16mm po 2 szt. w ładunku | C11: Op=20 ładunków. | D11: 4
F12: =SUM(F6:F11) -> 0 | I12: =SUM(I6:I11) -> 0
B15: Data | G15: Podpis osoby/osób upoważnionej
B16: ……………………………………………. | G16: ……………………………….

Sheet Zad. 133
B1: ZOZ/DZP/PN/5/20
B2: Załącznik Nr: 9
A3: Zadanie nr: 133- Worki do stomii 2
A4: Lp. | B4: Nazwa produktu | C4: Jednostka miary | D4: Ilość | E4: Cena jednostkowa netto | F4: Wartość netto | G4: VAT | H4: Cena jednostkowa brutto | I4: Wartość brutto | J4: Producent /Nazwa handlowa
A5: 1 | B5: Worek jednoczęściowy, do stomii otwarty ( płaski przylepiec, hydrokoloidowy) | C5: szt | D5: 150
A6: 2 | B6: Worek jednoczęściowy, do stomii otwarty ( przylepiec wypukły typu convex), min. 3 rodzaje z systemem zapobiegającym podciekaniu, | C6: szt | D6: 150
A7: 3 | B7: Worek dwuczęściowy, do stomii otwarty | C7: szt | D7: 150
A8: 4 | B8: Przylepiec do worków stomijnych dwuczęściowych ( płaski przylepiec, hydrokoloidowy) | C8: szt | D8: 150
A9: 5 | B9: Worek dwuczęściowy, do stomii otwarty, | C9: szt | D9: 150
A10: 6 | B10: Przylepiec do worków stomijnych dwuczęściowych do stomii otwarty ( przylepiec wypukły typu convex) min. 2 rodzaje z systemem zapobiegającym podciekaniu, | C10: szt | D10: 100
A11: 7 | B11: Cewnik zewnętrzny, silikonowy, samoprzylepny jednoczęściowy w rozmiarach od 23 do 40mm, 5 rozmiarów do wyboru. | C11: szt | D11: 150
A12: 8 | B12: Przylepiec do worków urostomijnych dwuczęściowych do stomii otwarty ( przylepiec wypukły typu convex) min. 2 rodzaje z systemem zapobiegającym podciekaniu, | C12: szt | D12: 45
A13: 9 | B13: Worek dwuczęściowy, do urostomii otwarty. | C13: szt | D13: 90
B14: Razem | F14: =SUM(F5:F13) -> 0 | I14: =SUM(I5:I13) -> 0
B17: Data | H17: Podpis osoby/osób upoważnionej
B18: ……………………………………………. | H18: ……………………………….

Sheet Zad. 134
B1: ZOZ/DZP/PN/5/20
B2: Załącznik Nr: 9
A3: Zadanie nr: 134 Akcesrotia do kardiomonitora hemodynamicznego
A4: Lp. | B4: Nazwa produktu | C4: Jednostka miary | D4: Ilość | E4: Cena jednostkowa netto | F4: Wartość netto | G4: VAT | H4: Cena jednostkowa brutto | I4: Wartość brutto | J4: Producent /Nazwa handlowa
A5: 1 | B5: Imadło do uchwytów typu Picco i Pro AQT | C5: szt. | D5: 1
A6: 2 | B6: Kabel połączeniowy do cewnika i kabla cieczy wstrzykiwanej do systemu monitorowania PICCO. | C6: szt. | D6: 1
A7: 3 | B7: Kabel do czujnika cieczy wstrzykiwanej PICCO | C7: szt. | D7: 1
A8: 4 | B8: Cewnik tętniczy standardowy do tętnicy udowej do zastosowania w technologii PiCCo, śr. Zewnętrzna 5 Fr, długość użyteczna 20 cm., prowadnica z Nitinolu, łącze z trogamidu, linia czerwona do pomiaru ciśnienia tętniczego. Opakowanie handlowe zawiera 5 sztuk. | C8: op=5 szt. | D8: 3
A9: 5 | B9: Obudowa czujnika temperatury do zastosowania w technologii PiCCO. Opakowanie handlowe zawiera 10 sztuk. | C9: op=10 szt. | D9: 2
B10: RAZEM | F10: =SUM(F5:F9) -> 0 | I10: =SUM(I5:I9) -> 0
B13: Data | H13: Podpis osoby/osób upoważnionej
B14: ……………………………………………. | H14: ……………………………….

Sheet zad.135
B1: ZOZ/DZP/PN/5/20
B2: Załącznik Nr: 9
A3: Zadanie nr: 135 Przenośnik - rolki do przesuwnania pacjenta
A4: Lp. | B4: Nazwa produktu | C4: Jednostka miary | D4: Ilość | E4: Cena jednostkowa netto | F4: Wartość netto | G4: VAT | H4: Cena jednostkowa brutto | I4: Wartość brutto | J4: Producent /Nazwa handlowa
A5: 1 | B5: Przenośnik taśmowo-rolkowy służący do transportu przesuwania/przenoszenia pacjenta np. z łóżka na łóżko, w kolorze niebieskim o wymiarach 1100 x 485 mm | C5: szt. | D5: 1
B6: RAZEM | F6: =SUM(F5:F5) -> 0 | I6: =SUM(I5:I5) -> 0
B9: Data | H9: Podpis osoby/osób upoważnionej
B10: ……………………………………………. | H10: ……………………………….

Sheet zad. 1A
B1: ZOZ/DZP/PN/5/20
B2: Załącznik Nr: 9
A3: Zadanie nr 1A – Leki uzupełnienie
A4: Lp. | B4: Nazwa produktu | C4: Jednostka miary | D4: Ilość | E4: Cena jednostkowa[zł] netto | F4: Wartość [zł] netto | G4: VAT | H4: Cena jednostkowa [zł] brutto | I4: Wartość [zł] brutto | J4: Producent/Nazwa handlowa
A5: 1 | B5: Acidum Zolendronicum 4mg/5ml koncentrat do sporządzania r-ru. Do infuzji | C5: porcja po 1 szt. | D5: 15
A6: 2 | B6: Ampicylinum + sulbactam 2+1 g fiol | C6: porcja po 1 fiol | D6: 1000
A7: 3 | B7: Arypiprazol 15mg tabl | C7: porcja po 28 tabl. | D7: 10
A8: 4 | B8: Cyjanocobalamina (VitB12) 5mcg | C8: porcja po 100 tabl. | D8: 60
A9: 5 | B9: Dipropionian betamethazonu + Gentamycinum, (0,5mg+1mg)/g, maść 15 g. | C9: 1szt. 15 g | D9: 60
A10: 6 | B10: fosamil ceftaroliny 600mg proszek do sporządzania koncentratu roztworu do infuzji; | C10: porcja po 10 fiol | D10: 10
A11: 7 | B11: Furaginum 50 mg tabl. | C11: porcja po 50 tabl. | D11: 350
A12: 8 | B12: Insulina deglutec roztwór do wstrzykiwań; 100 j./ml;3 ml | C12: porcja po 5 wkł, | D12: 20
A13: 9 | B13: Kandesartan 32mg | C13: porcja po 28 tabl. | D13: 20
A14: 10 | B14: Liofilizowany lizat E. Coli 6mg | C14: porcja po 30 kaps. | D14: 20
A15: 11 | B15: Lamivudynum 100mg tabl | C15: porcja po 28 tabl. | D15: 10
A16: 12 | B16: Maśc dso oczu z wit. A 250IE/g sterylna | C16: porcja po 5g | D16: 30
... A27: 23 | B27: Xylometazolini hydrochloricum 0,1% krople do nosa | C27: porcja po 10ml | D27: 300
B28: suma | F28: =SUM(F5:F27) -> 0 | I28: =SUM(I5:I27) -> 0
B31: Data | H31: Podpis osoby/osób upoważnionej
B32: ……………………………………………. | H32: ……………………………….

Sheet zad 2A
B1: ZOZ/DZP/PN/5/20
B2: Załącznik Nr: 9
A3: Zadanie nr 2A – Żywienie pozajelitowe uzupełnienie
A4: Lp. | B4: Nazwa produktu | C4: Jednostka miary | D4: Ilość | E4: Cena jednostkowa[zł] netto | F4: Wartość [zł] netto | G4: VAT | H4: Cena jednostkowa [zł] brutto | I4: Wartość [zł] brutto | J4: Producent/Nazwa handlowa
A5: 1 | B5: Worek trzykomorowy do żywienia pozajelitowego drogą żył centralnych zawierający roztwór aminokwasów: 14,2%, emulsję tłuszczową 17,5%, oczyszczony olej z oliwek+oczyszczony olej sojowy 22,75 g, węglowodany 27,5% i elektrolity. 650ml typu Olimel N12 E | C5: szt. | D5: 100
A6: 2 | B6: Worek trzykomorowy do żywienia pozajelitowego drogą żył centralnych zawierający roztwór aminokwasów: 14,2%, emulsję tłuszczową 17,5%, oczyszczony olej z oliwek+ oczyszczony olej sojowy 35,00 g, węglowodany 27,5% i elektrolity. 1000 ml typu Olimel N12 E | C6: szt. | D6: 200
A7: 3 | B7: Worek trzykomorowy do żywienia pozajelitowego drogą żył centralnych zawierający roztwór aminokwasów: 14,2%, emulsję tłuszczową 17,5%, oczyszczony olej z oliwek+oczyszczony olej sojowy 52,50 g, węglowodany 27,5% i elektrolity. 1500 ml typu Olimel N12 E | C7: szt. | D7: 150
B8: suma | F8: =SUM(F5:F7) -> 0 | I8: =SUM(I5:I7) -> 0
B11: Data | H11: Podpis osoby/osób upoważnionej
B12: ……………………………………………. | H12: ……………………………….

Sheet Zestawienie
A1: L.p. | B1: Przedmiot zamówienia | C1: Wartość netto | D1: Wartość brutto | E1: Wadium | F1: referencje | G1: euro netto
A2: 1 | B2: Zadanie nr: 9 – Akcesoria do inkubatorów | C2: =Zad.9!F9 -> 0 | D2: =Zad.9!I9 -> 0 | E2: =0.02*C2 -> 0 | F2: =ROUNDDOWN(D2,-2) -> 0 | G2: =C2/4.2693 -> 0 | H2: 13623.55
A3: 2 | B3: Zadanie nr: 10 - Strzykawki, igły | C3: =Zad.10!F38 -> 0 | D3: =Zad.10!I38 -> 0 | E3: =0.02*C3 -> 0 | F3: =ROUNDDOWN(D3,-2) -> 0 | G3: =C3/4.2693 -> 0 | H3: 228370.21
A4: 3 | B4: Zadanie nr: 14 – Opatrunek hemostatyczny | C4: =zad.14!F9 -> 0 | D4: =zad.14!I9 -> 0 | E4: =0.02*C4 -> 0 | F4: =ROUNDDOWN(D4,-2) -> 0 | G4: =C4/4.2693 -> 0 | H4: 5190.48
A5: 4 | B5: Zadanie nr: 25- System ochraniaczy do sterylizacji narzędzi | C5: =Zad.25!F6 -> 0 | D5: =Zad.25!I6 -> 0 | E5: =0.02*C5 -> 0 | F5: =ROUNDDOWN(D5,-2) -> 0 | G5: =C5/4.2693 -> 0 | H5: 2337
A6: 5 | B6: Zadanie nr: 34 - Worki do stomii | C6: =Zad.34!F6 -> 0 | D6: =Zad.34!I6 -> 0 | E6: =0.02*C6 -> 0 | F6: =ROUNDDOWN(D6,-2) -> 0 | G6: =C6/4.2693 -> 0 | H6: 950.4
A7: 6 | B7: Zadanie nr: 39 – Czujniki | C7: =Zad.39!F18 -> 0 | D7: =Zad.39!I18 -> 0 | E7: =0.02*C7 -> 0 | F7: =ROUNDDOWN(D7,-2) -> 0 | G7: =C7/4.2693 -> 0 | H7: 10899.36
A8: 7 | B8: Zadanie nr: 54 - Układ oddechowy | C8: ='Zad. 54'!F8 -> 0 | D8: ='Zad. 54'!I8 -> 0 | E8: =0.02*C8 -> 0 | F8: =ROUNDDOWN(D8,-2) -> 0 | G8: =C8/4.2693 -> 0 | H8: 5454
A9: 8 | B9: Zadanie nr: 59 - Strzykawki do gazometrii. | C9: =Zad.59!F7 -> 0 | D9: =Zad.59!I7 -> 0 | E9: =0.02*C9 -> 0 | F9: =ROUNDDOWN(D9,-2) -> 0 | G9: =C9/4.2693 -> 0 | H9: 49113
A10: 9 | B10: Zadanie nr: 60 - Pozycjoner pod głowę | C10: =Zad.60!F7 -> 0 | D10: =Zad.60!I7 -> 0 | E10: =0.02*C10 -> 0 | F10: =ROUNDDOWN(D10,-2) -> 0 | G10: =C10/4.2693 -> 0 | H10: 3335.91
A11: 10 | B11: Zadanie nr: 61- System do mierzenia ciśnienia śródbrzusznego. | C11: ='Zad. 61'!F7 -> 0 | D11: ='Zad. 61'!I7 -> 0 | E11: =0.02*C11 -> 0 | F11: =ROUNDDOWN(D11,-2) -> 0 | G11: =C11/4.2693 -> 0 | H11: 42456.96
A12: 11 | B12: Zadanie nr: 65 - Podkłady | C12: =Zad.65!F9 -> 0 | D12: =Zad.65!I9 -> 0 | E12: =0.02*C12 -> 0 | F12: =ROUNDDOWN(D12,-2) -> 0 | G12: =C12/4.2693 -> 0 | H12: 10648.8
A13: 12 | B13: Zadanie nr: 70- Akcesoria do OIT | C13: =Zad.70!F21 -> 0 | D13: =Zad.70!I21 -> 0 | E13: =0.02*C13 -> 0 | F13: =ROUNDDOWN(D13,-2) -> 0 | G13: =C13/4.2693 -> 0 | H13: 35666.13
A14: 13 | B14: Zadanie nr: 73 - Obuwie operacyjne | C14: =Zad.73!F7 -> 0 | D14: =Zad.73!I7 -> 0 | E14: =0.02*C14 -> 0 | F14: =ROUNDDOWN(D14,-2) -> 0 | G14: =C14/4.2693 -> 0 | H14: 11016
A15: 14 | B15: Zadanie nr: 79- Worki i narzędzia do laparoskopii. | C15: =Zad.79!F31 -> 0 | D15: =Zad.79!I31 -> 0 | E15: =0.02*C15 -> 0 | F15: =ROUNDDOWN(D15,-2) -> 0 | G15: =C15/4.2693 -> 0 | H15: 74480.27
A16: 15 | B16: Zadanie nr: 85 - Opaska 2 | C16: =Zad.85!F6 -> 0 | D16: =Zad.85!I6 -> 0 | E16: =0.02*C16 -> 0 | F16: =ROUNDDOWN(D16,-2) -> 0 | G16: =C16/4.2693 -> 0 | H16: 2592
A17: 16 | B17: Zadanie nr: 86- Nasadka do amniotomii | C17: =Zad.86!F6 -> 0 | D17: =Zad.86!I6 -> 0 | E17: =0.02*C17 -> 0 | F17: =ROUNDDOWN(D17,-2) -> 0 | G17: =C17/4.2693 -> 0 | H17: 23328
A18: 17 | B18: Zadanie nr: 89- Filtr do inkubatora Atom. | C18: =Zad.89!F12 -> 0 | D18: =Zad.89!I12 -> 0 | E18: =0.02*C18 -> 0 | F18: =ROUNDDOWN(D18,-2) -> 0 | G18: =C18/4.2693 -> 0 | H18: 20068.8
A19: 18 | B19: Zadanie nr: 90 – Żel hydrożelowy do FESS-u. | C19: =Zad.90!F7 -> 0 | D19: =Zad.90!I7 -> 0 | E19: =0.02*C19 -> 0 | F19: =ROUNDDOWN(D19,-2) -> 0 | G19: =C19/4.2693 -> 0 | H19: 2592
A20: 19 | B20: Zadanie nr: 92- Kaczki i baseny do myjni dezynfektora. | C20: =Zad.92!F8 -> 0 | D20: =Zad.92!I8 -> 0 | E20: =0.02*C20 -> 0 | F20: =ROUNDDOWN(D20,-2) -> 0 | G20: =C20/4.2693 -> 0 | H20: 2052
A21: 20 | B21: Zadanie nr: 93 - Ciśnieniomierze | C21: =Zad.93!F7 -> 0 | D21: =Zad.93!I7 -> 0 | E21: =0.02*C21 -> 0 | F21: =ROUNDDOWN(D21,-2) -> 0 | G21: =C21/4.2693 -> 0 | H21: 3747.6
A22: 21 | B22: Zadanie nr :95 - Żele i gaziki | C22: =Zad.95!F9 -> 0 | D22: =Zad.95!I9 -> 0 | E22: =0.02*C22 -> 0 | F22: =ROUNDDOWN(D22,-2) -> 0 | G22: =C22/4.2693 -> 0 | H22: 9201.6
A23: 22 | B23: Zadanie nr: 99 – Akcesoria do tlenoterapii i inhalacji | C23: =Zad.99!F22 -> 0 | D23: =Zad.99!I22 -> 0 | E23: =0.02*C23 -> 0 | F23: =ROUNDDOWN(D23,-2) -> 0 | G23: =C23/4.2693 -> 0 | H23: 23742.72
A24: 23 | B24: Zadanie nr: 100 - System zamknięty próżniowy pobierania krwi | C24: =Zad.100!F26 -> 0 | D24: =Zad.100!I26 -> 0 | E24: =0.02*C24 -> 0 | F24: =ROUNDDOWN(D24,-2) -> 0 | G24: =C24/4.2693 -> 0 | H24: 210778.2
A25: 24 | B25: Zadanie nr: 102 -Reduktory | C25: =Zad.102!F12 -> 0 | D25: =Zad.102!I12 -> 0 | E25: =0.02*C25 -> 0 | F25: =ROUNDDOWN(D25,-2) -> 0 | G25: =C25/4.2693 -> 0 | H25: 29055.46
A26: 25 | B26: Zadanie nr: 103 - Preparat znieczulający dla położnic | C26: =Zad.103!F11 -> 0 | D26: =Zad.103!I11 -> 0 | E26: =0.02*C26 -> 0 | F26: =ROUNDDOWN(D26,-2) -> 0 | G26: =C26/4.2693 -> 0 | H26: 126256.32
A27: 26 | B27: Zadanie nr: 106 - Zestawy do pomp Medima | C27: =Zad.106!F9 -> 0 | D27: =Zad.106!I9 -> 0 | E27: =0.02*C27 -> 0 | F27: =ROUNDDOWN(D27,-2) -> 0 | G27: =C27/4.2693 -> 0 | H27: 75369.6
A28: 27 | B28: Zadanie nr: 108 - System HFNC | C28: =Zad.108!F11 -> 0 | D28: =Zad.108!I11 -> 0 | E28: =0.02*C28 -> 0 | F28: =ROUNDDOWN(D28,-2) -> 0 | G28: =C28/4.2693 -> 0 | H28: 73936.8
A29: 28 | B29: Zadanie nr:110 Tamponada balonowa do krwawień poporodowych. | C29: =Zad.110!F6 -> 0 | D29: =Zad.110!I6 -> 0 | E29: =0.02*C29 -> 0 | F29: =ROUNDDOWN(D29,-2) -> 0 | G29: =C29/4.2693 -> 0 | H29: 2916
A30: 29 | B30: Zadanie nr: 111 - Pompy elastomerowe | C30: ='Zad. 111'!F12 -> 0 | D30: ='Zad. 111'!I12 -> 0 | E30: =0.02*C30 -> 0 | F30: =ROUNDDOWN(D30,-2) -> 0 | G30: =C30/4.2693 -> 0 | H30: 30753
A31: 30 | B31: Zadanie nr: 112 - Zestaw do krwawego pomiaru ciśnienia | C31: =Zad.112!F8 -> 0 | D31: =Zad.112!I8 -> 0 | E31: =0.02*C31 -> 0 | F31: =ROUNDDOWN(D31,-2) -> 0 | G31: =C31/4.2693 -> 0 | H31: 29565
A32: 31 | B32: Zadanie nr 113 – Zestaw do niskociśnieniowego drenażu ran | C32: =Zad.113!F9 -> 0 | D32: =Zad.113!I9 -> 0 | E32: =0.02*C32 -> 0 | F32: =ROUNDDOWN(D32,-2) -> 0 | G32: =C32/4.2693 -> 0 | H32: 45360
A33: 32 | B33: Zadanie nr: 114 - Retraktor | C33: =Zad.114!F7 -> 0 | D33: =Zad.114!I7 -> 0 | E33: =0.02*C33 -> 0 | F33: =ROUNDDOWN(D33,-2) -> 0 | G33: =C33/4.2693 -> 0 | H33: 4212
A34: 33 | B34: Zadanie nr: 115 – Serweta niesterylna | C34: =Zad.115!F6 -> 0 | D34: =Zad.115!I6 -> 0 | E34: =0.02*C34 -> 0 | F34: =ROUNDDOWN(D34,-2) -> 0 | G34: =C34/4.2693 -> 0 | H34: 8100
A35: 34 | B35: Zadanie nr: 116 - Osłony na głowice z żelem | C35: ='Zad. 116'!F6 -> 0 | D35: ='Zad. 116'!I6 -> 0 | E35: =0.02*C35 -> 0 | F35: =ROUNDDOWN(D35,-2) -> 0 | G35: =C35/4.2693 -> 0 | H35: 1296
A36: 35 | B36: Zadanie nr: 120 – Majtki chłonne | C36: ='Zad. 120'!F8 -> 0 | D36: ='Zad. 120'!H8 -> 0 | E36: =0.02*C36 -> 0 | F36: =ROUNDDOWN(D36,-2) -> 0 | G36: =C36/4.2693 -> 0
A37: 36 | B37: Zadanie nr: 121 Czepki, maski, majtki do zabiegów ambulatoryjnych. | C37: ='Zad. 121'!F11 -> 0 | D37: ='Zad. 121'!I11 -> 0 | E37: =0.02*C37 -> 0 | F37: =ROUNDDOWN(D37,-2) -> 0 | G37: =C37/4.2693 -> 0
A38: 37 | B38: Zadanie nr: 122 Maski z zaworem Venturiego | C38: ='Zad. 122'!F8 -> 0 | D38: ='Zad. 122'!I8 -> 0 | E38: =0.02*C38 -> 0 | F38: =ROUNDDOWN(D38,-2) -> 0 | G38: =C38/4.2693 -> 0
A39: 38 | B39: Zadanie nr: 123 Akcesoria do Aeroneb. | C39: ='Zad. 123'!F12 -> 0 | D39: ='Zad. 123'!I12 -> 0 | E39: =0.02*C39 -> 0 | F39: =ROUNDDOWN(D39,-2) -> 0 | G39: =C39/4.2693 -> 0
A40: 39 | B40: Zadanie nr: 124 Cewniki do dializ 2 | C40: ='Zad. 124'!F8 -> 0 | D40: ='Zad. 124'!I8 -> 0 | E40: =0.02*C40 -> 0 | F40: =ROUNDDOWN(D40,-2) -> 0 | G40: =C40/4.2693 -> 0
A41: 40 | B41: Zadanie nr: 125 Zabezpieczenia opatrunków 2 | C41: ='Zad. 125'!F7 -> 0 | D41: ='Zad. 125'!I7 -> 0 | E41: =0.02*C41 -> 0 | F41: =ROUNDDOWN(D41,-2) -> 0 | G41: =C41/4.2693 -> 0
A42: 41 | B42: Zadanie nr: 126 Zestaw do cystostomii. | C42: ='Zad. 126'!F6 -> 0 | D42: ='Zad. 126'!I6 -> 0 | E42: =0.02*C42 -> 0 | F42: =ROUNDDOWN(D42,-2) -> 0 | G42: =C42/4.2693 -> 0
A43: 42 | B43: Zadanie nr: 127 Filtry wielorazowe do kontenera. | C43: ='Zad. 127'!F6 -> 0 | D43: ='Zad. 127'!I6 -> 0 | E43: =0.02*C43 -> 0 | F43: =ROUNDDOWN(D43,-2) -> 0 | G43: =C43/4.2693 -> 0
A44: 43 | B44: Zadanie nr: 128 Uchwyt do lampy | C44: ='Zad. 128'!F7 -> 0 | D44: ='Zad. 128'!H7 -> 0 | E44: =0.02*C44 -> 0 | F44: =ROUNDDOWN(D44,-2) -> 0 | G44: =C44/4.2693 -> 0
A45: 44 | B45: Zadanie nr: 129 Elektroda do BIS | C45: ='Zad. 129'!F6 -> 0 | D45: ='Zad. 129'!I6 -> 0 | E45: =0.02*C45 -> 0 | F45: =ROUNDDOWN(D45,-2) -> 0 | G45: =C45/4.2693 -> 0
A46: 45 | B46: Zadanie nr: 130 Kabel z czujnikiem CO2 | C46: ='Zad. 130'!F6 -> 0 | D46: ='Zad. 130'!I6 -> 0 | E46: =0.02*C46 -> 0 | F46: =ROUNDDOWN(D46,-2) -> 0 | G46: =C46/4.2693 -> 0
A47: 46 | B47: Zadanie nr: 131 Kable do holterów. | C47: ='Zad. 131'!F8 -> 0 | D47: ='Zad. 131'!I8 -> 0 | E47: =0.02*C47 -> 0 | F47: =ROUNDDOWN(D47,-2) -> 0 | G47: =C47/4.2693 -> 0
A48: 47 | B48: Zadanie nr: 132 Klipsownica rozbieralna. | C48: ='Zad. 132'!F12 -> 0 | D48: ='Zad. 132'!I12 -> 0 | E48: =0.02*C48 -> 0 | F48: =ROUNDDOWN(D48,-2) -> 0 | G48: =C48/4.2693 -> 0
A49: 48 | B49: Zadanie nr: 133- Worki do stomii 2 | C49: ='Zad. 133'!F14 -> 0 | D49: ='Zad. 133'!I14 -> 0 | E49: =0.02*C49 -> 0 | F49: =ROUNDDOWN(D49,-2) -> 0 | G49: =C49/4.2693 -> 0
A50: 49 | B50: Zadanie nr: 134 Akcesrotia do kardiomonitora hemodynamicznego | C50: ='Zad. 134'!F10 -> 0 | D50: ='Zad. 134'!I10 -> 0 | E50: =0.02*C50 -> 0 | F50: =ROUNDDOWN(D50,-2) -> 0 | G50: =C50/4.2693 -> 0
A51: 50 | B51: Zadanie nr: 135 Przenośnik - rolki do przesuwnania pacjenta | C51: =zad.135!F6 -> 0 | D51: =zad.135!I6 -> 0 | E51: =0.02*C51 -> 0 | F51: =ROUNDDOWN(D51,-2) -> 0 | G51: =C51/4.2693 -> 0
A52: 51 | B52: Zadanie nr 1A – Leki uzupełnienie | C52: ='zad. 1A'!F28 -> 0 | D52: ='zad. 1A'!I28 -> 0 | E52: =0.02*C52 -> 0 | F52: =ROUNDDOWN(D52,-2) -> 0 | G52: =C52/4.2693 -> 0
A53: 52 | B53: Zadanie nr 2A – Żywienie pozajelitowe uzupełnienie | C53: ='zad 2A'!F8 -> 0 | D53: ='zad 2A'!I8 -> 0 | E53: =0.02*C53 -> 0 | F53: =ROUNDDOWN(D53,-2) -> 0 | G53: =C53/4.2693 -> 0
A54: Razem | C54: =SUM(C2:C53) -> 0 | D54: =SUM(D2:D53) -> 0 | E54: =SUM(E2:E53) -> 0 | F54: =SUM(F2:F53) -> 0 | G54: =SUM(G2:G53) -> 0
