Workbook
Name Excel_BuiltIn_Print_Area: 'Zadanie nr 7'!$A$1:$J$1
Name Excel_BuiltIn_Print_Area_14_1: #REF!
Name Excel_BuiltIn_Print_Area_16_1: #REF!
Name Excel_BuiltIn_Print_Area_17_1: #REF!
Name Excel_BuiltIn_Print_Area_18_1: #REF!
Name Excel_BuiltIn_Print_Area_19_1: 'Zadanie nr 19'!$A$4:$J$7
Name Excel_BuiltIn_Print_Area_2_1: 'Zadanie nr 2'!$A$4:$I$14
Name Excel_BuiltIn_Print_Area_22_1: #REF!
Name Excel_BuiltIn_Print_Area_22_1_1: #REF!
Name Excel_BuiltIn_Print_Area_24_1: #REF!
Name Excel_BuiltIn_Print_Area_3_1: #REF!
Name Excel_BuiltIn_Print_Area_3_1_1: 'Zadanie nr 3'!$A$4:$J$37
Name Excel_BuiltIn_Print_Area_3_1_1_1: 'Zadanie nr 3'!$A$4:$J$36
Name Excel_BuiltIn_Print_Area_4_1: 'Zadanie nr 4'!$A$4:$J$14
Name Excel_BuiltIn_Print_Area_5_1: 'Zadanie nr 5'!$A$4:$J$9
Name Excel_BuiltIn_Print_Area_6_1: 'Zadanie nr 6'!$A$4:$J$16
Name Excel_BuiltIn_Print_Area_7_1: 'Zadanie nr 7'!$A$4:$J$8
Name Excel_BuiltIn_Print_Titles_17: #REF!

Sheet Zadanie nr 1
A1: Załącznik nr 9 | H1: ZOZ/DZP/PN/10/20
A3: Zadanie nr 1- Leki różne
A4: Lp. | B4: Nazwa produktu | C4: Jednostka miary | D4: Ilość | E4: Cena jednostkowa[zł] netto | F4: Wartość [zł] netto | G4: VAT | H4: Cena jednostkowa [zł] brutto | I4: Wartość [zł] brutto | J4: Producent/Nazwa handlowa
A5: 1 | B5: Acenocoumarolum tabl. 4 mg | C5: porcja po 60 tabl. | D5: 10
A6: 2 | B6: Acebutolol 200mg | C6: porcja po 30 tabl. powl. | D6: 10
A7: 3 | B7: Acarbosum 50 mg | C7: op. 30 tabl | D7: 5
A8: 4 | B8: Acetazolamidum 250 mg | C8: op. 30 tabl | D8: 10
A9: 5 | B9: Acetylcysteinum inj. iv. lub dooskrzelowo (roztwór) 300 mg/3 ml | C9: porcja po 5 amp. 3 ml | D9: 50
A10: 6 | B10: Acetylcysteinum tabl musujące. 200 mg | C10: porcja po 20 szt. | D10: 20
A11: 7 | B11: Acetylcysteinum tabl. musujące 600 mg | C11: porcja po 10 tabl. | D11: 100
A12: 8 | B12: Aciclovirum 200mg | C12: porcja po 30 szt | D12: 3
A13: 9 | B13: Aciclovirum 400mg | C13: porcja po 30 szt | D13: 45
A14: 10 | B14: Aciclovirum 800mg | C14: porcja po 30 szt | D14: 60
A15: 11 | B15: Aciclovir 250mg inj | C15: porcja po 5 fiol. | D15: 50
A16: 12 | B16: Aciclovirum maśc do oczu 3% | C16: porcja po 4,5g | D16: 3
... A601: 597 | B601: Zuclopenthixol 50 mg / 1 ml inj | C601: op. 5 amp | D601: 5
B602: RAZEM | F602: =SUM(F5:F601) -> 0 | I602: =SUM(I5:I601) -> 0
B604: ………………………………………………….. | F604: ……………………………………………
B605: Data | F605: Podpis osoby/osób uprawnionej

Sheet Zadanie nr 2
A1: Załącznik nr 9 | H1: ZOZ/DZP/PN/10/20
A4: Zadanie nr 2 - Płyny infuzyjne w pojemnikach stojących
A5: Lp. | B5: Nazwa produktu | C5: Jednostka miary | D5: Ilość | E5: Cena jednostkowa[zł] netto | F5: Wartość [zł] netto | G5: VAT | H5: Cena jednostkowa [zł] brutto | I5: Wartość [zł] brutto | J5: Producent/Nazwa handlowa
A6: 1 | B6: Aqua rozpuszczalnik do iniekcji | C6: porcja po 100 poj. 5 ml | D6: 5
A7: 2 | B7: Aqua rozpuszczalnik do iniekcji | C7: porcja po 100 poj. 10 ml | D7: 280
A8: 3 | B8: Glucosum + Natrii chloridum inj. iv. (roztwór) 1:1 | C8: porcja po 1 op. 500 ml | D8: 200
A9: 4 | B9: Glucosum + Natrii chloridum inj. iv. (roztwór) 1:1 | C9: porcja po 1 op. 250 ml | D9: 200
A10: 5 | B10: Glucosum + Natrii chloridum inj. iv. (roztwór) 2 : 1 | C10: porcja po 1 op. 250 ml | D10: 200
A11: 6 | B11: Glucosum + Natrii chloridum inj. iv. (roztwór) 2 : 1 | C11: porcja po 1 op. 500 ml | D11: 1000
A12: 7 | B12: Glucosum inj. iv. (roztwór) 100 mg/ml | C12: porcja po 1 op. 100 ml | D12: 1000
A13: 8 | B13: Glucosum inj. iv. (roztwór) 50 mg/ml | C13: porcja po 1 op. 100 ml | D13: 600
A14: 9 | B14: Glucosum inj. iv. (roztwór) 200 mg/ml | C14: porcja po 1 fl. 500 ml | D14: 300
A15: 10 | B15: Płyn wieloelektrolitowy o zawartości:5,75 g/1000ml chlorku sodu,4,62g/1000ml sodu ostran trójwodny,0,9g/1000ml sodu cytrynian dwuwodny,0,26g/1000ml wapnia chlorek dwuwodny,0,38g/1000ml chlorku potasu, 0,2g/1000ml magnezu chlorek sześciowodny.Osmolarność roztworu 295mOsmol/l | C15: op=250ml | D15: 500
A16: 11 | B16: Płyn wieloelektrolitowy o zawartości:5,75 g/1000ml chlorku sodu,4,62g/1000ml sodu ostran trójwodny,0,9g/1000ml sodu cytrynian dwuwodny,0,26g/1000ml wapnia chlorek dwuwodny,0,38g/1000ml chlorku potasu, 0,2g/1000ml magnezu chlorek sześciowodny.Osmolarność roztworu 295mOsmol/l | C16: op= 500ml | D16: 750
A17: 12 | B17: Natrii chloridum płyn 0,9 %- worek | C17: porcja po 1 szt.3000ml | D17: 200
... A22: 17 | B22: Aqua rozpuszczalnik do iniekcji | C22: worek porcja po 100ml | D22: 1276
B23: RAZEM | F23: =SUM(F6:F22) -> 0 | I23: =SUM(I6:I22) -> 0
B26: ………………………………………………….. | F26: ……………………………………………
B27: Data | F27: Podpis osoby/osób uprawnionej

Sheet Zadanie nr 3
A2: Załącznik nr 9 | H2: ZOZ/DZP/PN/10/20
A4: Zadanie nr 3 - Płyny infuzyjne
A5: Lp. | B5: Nazwa produktu | C5: Jednostka miary | D5: Ilość | E5: Cena jednostkowa[zł] netto | F5: Wartość [zł] netto | G5: VAT | H5: Cena jednostkowa [zł] brutto | I5: Wartość [zł] brutto | J5: Producent/Nazwa handlowa
A6: 1 | B6: Hydroxyethyloskrobia (130/0,42) zawieszona w pełni zrównoważonym roztworze elektrolitów Na, Cl, Ca,K, Mg i jabłczanów. Osmomolarność pow 290 mOsml/l. 6% | C6: porcja po 500ml, 6% | D6: 40
A7: 2 | B7: Hydroxyethyloskrobia (130/0,42) zawieszona w pełni zrównoważonym roztworze elektrolitów Na, Cl, Ca,K, Mg i jabłczanów. Osmomolarność pow 290 mOsml/l 10% | C7: porcja po 500ml 10% | D7: 40
A8: 3 | B8: Aqua pro inj. | C8: szt. płyn 100 ml | D8: 1600
A9: 4 | B9: Aqua pro inj. | C9: szt. płyn 500 ml | D9: 800
A10: 5 | B10: Woda jałowa do przepłukiwań | C10: butelka zakręcana 1000ml | D10: 290
A11: 6 | B11: Natrium chloratum płyn do infuzji | C11: szt. płyn 0,9% 100 ml | D11: 30000
A12: 7 | B12: Natrium chloratum płyn do infuzji | C12: szt. płyn 0,9% 250 ml | D12: 17600
A13: 8 | B13: Natrium chloratum płyn do infuzji | C13: szt. płyn 0,9% 500 ml | D13: 17000
A14: 9 | B14: Natrium chloratum płyn do infuzji | C14: szt. płyn 0,9% 1000 ml | D14: 2200
A15: 10 | B15: PWE (Na,K,Ca,Mg,Cl +octan) | C15: szt. płyn 250ml | D15: 2400
A16: 11 | B16: PWE (Na,K,Ca,Mg,Cl +octan) | C16: szt. płyn 500 ml | D16: 22000
A17: 12 | B17: PWE (Na,K,Ca,Mg,Cl + octan) | C17: szt. płyn 1000 ml | D17: 2600
... A33: 28 | B33: Płynna modyfikowana żelatyna 40mg/ml inj. iv. | C33: flakon 500ml | D33: 800
B34: RAZEM | F34: =SUM(F6:F33) -> 0 | I34: =SUM(I6:I33) -> 0
B37: Warunki wymagane:
B38: Poz 18-24 roztwór konfekcjonowany we flakonie stojącym typu „ampułka”
B39: Poz 3-17,25-27 flakon posiadający dwa jednakowe samouszczelniające się porty chronione aluminiowymi kapslami, nie wymagający dezynfekcji przy pierwszym użyciu, czytelna etykieta ze skalą w granicach 3-7 umożliwiającą monitoring podaży płynów z opakowania od 250 do 1000ml, dodatkowa przestrzeń do dodania leków minimum 70ml dla płynów infuzyjnych o pojemności 100ml, minimum 110ml dla płynów infuzyjnych o pojemności 250ml, minimum 150ml dla płynów infuzyjnych o pojemności 500ml i minimum 200ml dla pojemników o pojemności 1000ml
B41: ………………………………………………….. | F41: ……………………………………………
B42: Data | F42: Podpis osoby/osób uprawnionej

Sheet Zadanie nr 4
A1: Załącznik nr 9 | H1: ZOZ/DZP/PN/10/20
A4: Zadanie nr 4 - Enoxaparinum
A5: Lp. | B5: Nazwa produktu | C5: Jednostka miary | D5: Ilość | E5: Cena jednostkowa[zł] netto | F5: Wartość [zł] netto | G5: VAT | H5: Cena jednostkowa [zł] brutto | I5: Wartość [zł] brutto | J5: Producent/Nazwa handlowa
A6: 1 | B6: HDCz 2000 j.m. Anty Xa /20 mg | C6: szt. amp.strz | D6: 400
A7: 2 | B7: HDCz 4000 j.m. anty Xa/ 40mg | C7: szt. amp.strz | D7: 15000
A8: 3 | B8: HDCz 6000 j.m. anty Xa/ 60mg | C8: szt. amp.strz | D8: 10000
A9: 4 | B9: HDCz 8000 j.m. anty Xa /80 mg | C9: szt. amp.strz | D9: 2000
A10: 5 | B10: HDCz 10000 j.m. anty Xa 100 mg | C10: szt. amp.strz | D10: 300
A11: 6 | B11: HDCz 30000 j.m. anty Xa 300 mg/3ml | C11: fiol. | D11: 50
A12: 7 | B12: HDCz 15000 j.m.anty Xa 150mg/ml | C12: szt. amp.strz | D12: 100
A13: 8 | B13: HDCz 12000 j.m.anty Xa 120mg/ml | C13: szt. amp.strz | D13: 100
B14: RAZEM | F14: =SUM(F6:F13) -> 0 | I14: =SUM(I6:I13) -> 0
B17: ………………………………………………….. | F17: ……………………………………………
B18: Data | F18: Podpis osoby/osób uprawnionej

Sheet Zadanie nr 5
A1: Załącznik nr 9 | H1: ZOZ/DZP/PN/10/20
A4: Zadanie nr 5 - Nadroparinum
A5: Lp. | B5: Nazwa produktu | C5: Jednostka miary | D5: Ilość | E5: Cena jednostkowa[zł] netto | F5: Wartość [zł] netto | G5: VAT | H5: Cena jednostkowa [zł] brutto | I5: Wartość [zł] brutto | J5: Producent/Nazwa handlowa
A6: 1 | B6: HDCz 2850 j.m antyXa | C6: szt. amp.strz 0,3 ml | D6: 3500
A7: 2 | B7: HDCz 3800 j.m antyXa | C7: szt. amp.strz 0,4 ml | D7: 11300
A8: 3 | B8: HDCz 5700 j.m antyXa | C8: szt. amp.strz 0,6 ml | D8: 4500
A9: 4 | B9: HDCz 7600 j.m antyXa | C9: szt. amp.strz 0,8 ml | D9: 1000
A10: 5 | B10: HDCz 47500 j.m.antyXa/5ml komplet* | C10: Komplet | D10: 5
B11: RAZEM | F11: =SUM(F6:F10) -> 0 | I11: =SUM(I6:I10) -> 0
B13: Warunki wymagane:
A14: * | B14: HDCz 9500j.m./ml x 10 fiolek a 5ml
B15: Mini-Spike V x 10 szt.
B16: Strzyk precyzyjna 1 ml kalibrowana co 0,01 z igłą 25GA x 100 szt.
B19: ………………………………………………….. | F19: ……………………………………………
B20: Data | F20: Podpis osoby/osób uprawnionej

Sheet Zadanie nr 6
A1: Załącznik nr 9 | H1: ZOZ/DZP/PN/10/20
A4: Zadanie nr 6 - Leki różne 2
A5: Lp. | B5: Nazwa produktu | C5: Jednostka miary | D5: Ilość | E5: Cena jednostkowa[zł] netto | F5: Wartość [zł] netto | G5: VAT | H5: Cena jednostkowa [zł] brutto | I5: Wartość [zł] brutto | J5: Producent/Nazwa handlowa
A6: 1 | B6: Gliclazidum tabl. retard 60 mg | C6: op. 90tabl | D6: 50
A7: 2 | B7: Indapamidum tabl. powl. retard 1,5 mg | C7: op. 108 tabl. | D7: 40
A8: 3 | B8: Iwabradyna 5 mg | C8: op. 112 tabl. | D8: 10
A9: 4 | B9: Iwabradyna 7,5 mg | C9: op. 112 tabl. | D9: 10
A10: 5 | B10: Perindoprilum tabl. 5 mg | C10: porcja po 1 op. 90 szt. | D10: 40
A11: 6 | B11: Perindoprilum tabl. 10 mg | C11: op. 90 tabl. | D11: 15
A12: 7 | B12: Tianeptinum tabl. powl. 12,5 mg | C12: porcja po 90 tabl. | D12: 15
A13: 8 | B13: Preparat złożony: peridoprilum z argininą 5 mg, Indapamidum 1,25mg | C13: porcja po 90 tabl. | D13: 15
A14: 9 | B14: Preparat złożony: peridoprilum z argininą 2,5 mg, Indapamidum 0,625mg | C14: porcja po 90 tabl. | D14: 15
A15: 10 | B15: Preparat złożony: peridoprilum z argininą 10 mg, Indapamidum 2,5mg | C15: porcja po 90 tabl. | D15: 15
A16: 11 | B16: Trimetazidinum tabl. powl. retard 35 mg | C16: op. 90 tabl. | D16: 20
A17: 12 | B17: Preparat złożony Perindopril 10mg + Amlodypinum 5mg | C17: op. 90 tabl. | D17: 15
... A24: 19 | B24: Bisoprololum 5mg +Perindoprilum z algininą 5mg. | C24: op.90 tabl. | D24: 15
B25: RAZEM | F25: =SUM(F6:F24) -> 0 | I25: =SUM(I6:I24) -> 0
B28: ………………………………………………….. | F28: ……………………………………………
B29: Data | F29: Podpis osoby/osób uprawnionej

Sheet Zadanie nr 7
A1: Załącznik nr 9 | H1: ZOZ/DZP/PN/10/20
A4: Zadanie nr 7 - Albuminy
A5: Lp. | B5: Nazwa produktu | C5: Jednostka miary | D5: Ilość | E5: Cena jednostkowa[zł] netto | F5: Wartość [zł] netto | G5: VAT | H5: Cena jednostkowa [zł] brutto | I5: Wartość [zł] brutto | J5: Producent/Nazwa handlowa
A6: 1 | B6: Albumina ludzka 20 % 50 ml | C6: flak 50 ml | D6: 150
A7: 2 | B7: Albumina ludzka 20 % 100 ml | C7: flak 100 ml | D7: 600
B8: RAZEM | F8: =SUM(F6:F7) -> 0 | I8: =SUM(I6:I7) -> 0
B13: ………………………………………………….. | F13: ……………………………………………
B14: Data | F14: Podpis osoby/osób uprawnionej

Sheet Zadanie nr 8
A1: Załącznik nr 9 | H1: ZOZ/DZP/PN/10/20
A4: Zadanie nr 8 – Leki różne 14
A5: Lp. | B5: Nazwa produktu | C5: Jednostka miary | D5: Ilość | E5: Cena jednostkowa[zł] netto | F5: Wartość [zł] netto | G5: VAT | H5: Cena jednostkowa [zł] brutto | I5: Wartość [zł] brutto | J5: Producent/Nazwa handlowa
A6: 1 | B6: Aluminii acetas tabl. 1000 mg | C6: porcja po 6 tabl. | D6: 4
A7: 2 | B7: Aluminii acetas żel do użytku zewnętrznego 75g | C7: porcja po 1 op. | D7: 160
A8: 3 | B8: Dobutaminum 250 mg inj. | C8: 1 fiol. | D8: 800
A9: 4 | B9: Ketoprofenum inj. (roztwór) 100 mg/2 ml i.v./i.m | C9: porcja po 10 amp. 2 ml | D9: 1000
A10: 5 | B10: Ketoprofenum tabl. powl. 100 mg | C10: porcja po 30 tabl. | D10: 440
A11: 6 | B11: Ferrosi oxidum dextranum complexum inj. im. (roztwór) 50 mg Fe+++/ml | C11: porcja po 50 amp. 2 ml | D11: 1
A12: 7 | B12: Ferrum hydroxide 50 mg/5ml syrop | C12: Porcja po 100 ml | D12: 2
A13: 8 | B13: Ferrum oxydatum saccharatum inj. iv. (roztwór) 20 mg Fe+++/ml | C13: porcja po 5 amp. 5 ml | D13: 5
A14: 9 | B14: Pefloxacinum inj. iv. (roztwór) 400 mg/5 ml | C14: porcja po 10 amp. 5 ml | D14: 20
A15: 10 | B15: Pefloxacinum tabl. powl. 400 mg | C15: porcja po 10 tabl. | D15: 20
B16: RAZEM | F16: =SUM(F6:F15) -> 0 | I16: =SUM(I6:I15) -> 0
B20: ………………………………………………….. | F20: ……………………………………………
B21: Data | F21: Podpis osoby/osób uprawnionej

Sheet Zadanie nr 9
A1: Załącznik nr 9 | H1: ZOZ/DZP/PN/10/20
A4: Zadanie nr 9 - Leki anestezjologiczne
A5: Lp. | B5: Nazwa produktu | C5: Jednostka miary | D5: Ilość | E5: Cena jednostkowa[zł] netto | F5: Wartość [zł] netto | G5: VAT | H5: Cena jednostkowa [zł] brutto | I5: Wartość [zł] brutto | J5: Producent/Nazwa handlowa
A6: 1 | B6: Atracurium inj. iv. (roztwór) 10 mg/ml | C6: porcja po 5 amp. 2,5 ml | D6: 40
A7: 2 | B7: Atracurium inj. iv. (roztwór) 10 mg/ml | C7: porcja po 5 amp. 5 ml | D7: 80
A8: 3 | B8: Cisatracurium inj. iv. (roztwór) 2 mg/1ml | C8: porcja po 5 amp. 2,5 ml | D8: 80
A9: 4 | B9: Cisatracurium inj. iv. (roztwór) 5 mg/1ml | C9: porcja po 5 amp. 5 ml | D9: 350
A10: 5 | B10: Mivacurii chloridum inj. iv. (roztwór) 2 mg/ml | C10: porcja po 5 amp. 5 ml | D10: 50
A11: 6 | B11: Mivacurii chloridum inj. iv. (roztwór) 20 mg/10 ml | C11: porcja po 5 amp. 10 ml | D11: 30
B12: RAZEM | F12: =SUM(F6:F11) -> 0 | I12: =SUM(I6:I11) -> 0
B15: ………………………………………………….. | F15: ……………………………………………
B16: Data | F16: Podpis osoby/osób uprawnionej

Sheet Zadanie nr 10
A1: Załącznik nr 9 | H1: ZOZ/DZP/PN/10/20
A4: Zadanie nr 10 - Sevofluran
A5: Lp. | B5: Nazwa produktu | C5: Jednostka miary | D5: Ilość | E5: Cena jednostkowa[zł] netto | F5: Wartość [zł] netto | G5: VAT | H5: Cena jednostkowa [zł] brutto | I5: Wartość [zł] brutto | J5: Producent/Nazwa handlowa
A6: 1 | B6: Sevofluranum płyn do anestezji wziewnej kompatybilny z aparatem do znieczulenia firmy Draeger | C6: porcja po 1 op. 250 ml | D6: 120
B7: RAZEM | F7: =SUM(F6) -> 0 | I7: =SUM(I6) -> 0
B9: Na czas trwania umowy wymagane jest użyczenie 3 szt. parowników do aparatu Drager . Koszt użyczenia należy wliczyć w cenę oferty.
B12: Data | G12: Podpis osoby/osób upoważnionej
B13: ……………………………………………. | G13: ……………………………….

Sheet Zadanie nr 11
A1: Załącznik nr 9 | H1: ZOZ/DZP/PN/10/20
A4: Zadanie nr 11 - Mleko + preparaty dietetyczne
A5: Lp. | B5: Nazwa produktu | C5: Jednostka miary | D5: Ilość | E5: Cena jednostkowa[zł] netto | F5: Wartość [zł] netto | G5: VAT | H5: Cena jednostkowa [zł] brutto | I5: Wartość [zł] brutto | J5: Producent/Nazwa handlowa
A6: 1 | B6: Mieszanka początkowa w płynie dla niemowląt z dodatkiem frukto i galaktooligosacharydów. Minimalny poziom białka 1,3g/100ml, maksymalny poziom żelaza0,6mg/100ml | C6: porcja po 1 op, x 24szt 90 ml | D6: 100
A7: 2 | B7: Mieszanka początkowa w płynie dla niemowląt z dodatkiem frukto i galaktooligosacharydów, LCPUFA i nukleotydów oraz postbiotyków. Minimalny poziom białka 1,3g/100ml, maksymalny poziom żelaza0,6mg/100ml | C7: porcja po 1 op.x 24szt 90 ml | D7: 170
A8: 3 | B8: Mieszanka początkowa w płynie dla niemowląt z dodatkiem frukto i galaktooligosacharydów, LCPUFA i nukleotydów oraz postbiotyków. Minimalny poziom białka 1,3g/100ml, maksymalny poziom żelaza0,6mg/100ml | C8: Porcja po 350 g | D8: 50
A9: 4 | B9: Mleko zastępcze początkowe od urodzenia zawierające galakto- i fukto- oligosacharydy (9:1) proszek do p. roztworu doustnego 350g | C9: porcja po 1 op. 350 g | D9: 70
A10: 5 | B10: Mleko zastępcze od 6 miesiąca zawierające galakto- i fukto- oligosacharydy (9:1) proszek do p. roztworu doustnego 350g | C10: porcja po 1 op. 350 g | D10: 90
A11: 6 | B11: Mleko zastępcze od 6 miesiąca zawierające galakto- i fukto- oligosacharydy (9:1), z dodatkiem kleiku ryżowego, proszek do p. roztworu doustnego 350g | C11: porcja po 1 op. 350 g | D11: 40
A12: 7 | B12: Mleko zastępcze powyżej 1 roku zawierające galakto- i fukto- oligosacharydy (9:1), proszek do p. roztworu doustnego 350g ( bez dodatku smaku np, bananowego) | C12: porcja po 1 op. 350 g | D12: 60
A13: 8 | B13: Mleko zastępcze powyżej 1 roku zawierające galakto- i fukto- oligosacharydy (9:1), z dodatkiem kleiku ryżowego, proszek do p. roztworu doustnego 350g | C13: porcja po 1 op. 350 g | D13: 45
A14: 9 | B14: Mleko modyfikowane początkowe dla niemowląt od urodzenia z zawartością białka nie więcej niż 9,6g w 100g, zawierające w składzie białko OPTI PRO, proszek 350g | C14: Porcja po 350 g | D14: 50
A15: 10 | B15: Mleko modyfikowane początkowe dla niemowląt po 6 miesiącu, z zawartością białka nie więcej niż 9,6 w 100g, zawierające w składzie białko OPTI PRO, proszek 350g | C15: Porcja po 350 g | D15: 50
A16: 11 | B16: Mleko modyfikowane początkowe dla niemowląt po 9 miesiącu, z zawartością białka nie więcej niż 9,6 w 100g, zawierające w składzie białko OPTI PRO, proszek 350g | C16: Porcja po 350 g | D16: 80
A17: 12 | B17: Mleko modyfikowane początkowe dla zdrowych niemowląt od urodzenia, u których istnieje podwyższone ryzyko wystąpienia reakcji alergicznych na białka mleka krowiego zawierające w składzie hydrolizowane białka serwatkowe OPTI PRO.op=400g | C17: Porcja po 400g | D17: 30
... A32: 27 | B32: Dieta oparta na bazie aminokwasów, kompletna pod względem odżywczym zawierająca dodatek długołańcuchowych wielonienasyconych kwasów tłuszczowych (LCP) i nukleotydów.. Hipoalergiczne mleko modyfikowane na bazie aminokwasów dla niemowląt w wieku 0-12 miesięcy. Puszka 400g | C32: Porcja po 400g | D32: 10
B33: RAZEM | F33: =SUM(F6:F32) -> 0 | I33: =SUM(I6:I32) -> 0
B35: Zmawiający dopuszcza dietetyczne środki spożywcze
B36: Data | G36: Podpis osoby/osób upoważnionej
B37: ……………………………………………. | G37: ……………………………….

Sheet Zadanie nr 12
A1: Załącznik nr 9 | H1: ZOZ/DZP/PN/10/20
A4: Zadanie nr 12 – Leki ZOL
A5: Lp. | B5: Nazwa produktu | C5: Jednostka miary | D5: Ilość | E5: Cena jednostkowa[zł] netto | F5: Wartość [zł] netto | G5: VAT | H5: Cena jednostkowa [zł] brutto | I5: Wartość [zł] brutto | J5: Producent/Nazwa handlowa
A6: 1 | B6: Dexamethasonum tabl. 1 mg | C6: porcja po 20 tabl. | D6: 160
A7: 2 | B7: Dexamethasonum tabl. 20 mg | C7: porcja po 20 tabl. | D7: 5
A8: 3 | B8: Donepezilum 5mg | C8: porcja po 28szt | D8: 52
A9: 4 | B9: Donepezilum 10mg | C9: porcja po 28 tabl. | D9: 180
A10: 5 | B10: Dorzolamid 20mg/ml krople do oczu | C10: porcja po 5ml | D10: 3
A11: 6 | B11: Duloksetyna 30mg | C11: porcja po 28 kaps | D11: 20
A12: 7 | B12: Eplerenonum 50mg | C12: porcja po 30 szt. | D12: 60
A13: 8 | B13: Eplerenonum 25mg | C13: porcja po 30 szt. | D13: 60
A14: 9 | B14: Escitalopram 10mg | C14: porcja po 28tabl. | D14: 70
A15: 10 | B15: Escitalopram 20mg | C15: porcja po 28tabl. | D15: 70
A16: 11 | B16: Fludrocortison 0,1 mg tabl | C16: op po 20 tabl. | D16: 10
A17: 12 | B17: Formoterolum proszek do inhalacji w kaps. 0,012 mg | C17: porcja po 60 kaps. | D17: 30
... A51: 46 | B51: Zolpidem tabl.10 mg | C51: op.20 tabl. powl. | D51: 250
B52: RAZEM | F52: =SUM(F6:F51) -> 0 | I52: =SUM(I6:I51) -> 0
B54: Data | G54: Podpis osoby/osób upoważnionej
B55: ……………………………………………. | G55: ……………………………….

Sheet Zadanie nr 13
A1: Załącznik nr 9 | H1: ZOZ/DZP/PN/10/20
A4: Zadanie nr 13 – Amoxycylina
A5: Lp. | B5: Nazwa produktu | C5: Jednostka miary | D5: Ilość | E5: Cena jednostkowa[zł] netto | F5: Wartość [zł] netto | G5: VAT | H5: Cena jednostkowa [zł] brutto | I5: Wartość [zł] brutto | J5: Producent/Nazwa handlowa
A6: 1 | B6: Amoxicillinum z inhibitorem beta-laktamazy inj. im./iv. (proszek do p. roztworu) 1200 mg | C6: 1 fiol | D6: 9000
A7: 2 | B7: Amoxicillinum z inhibitorem beta-laktamazy tabl. 500mg +125mg | C7: op.21 tabl. | D7: 20
A8: 3 | B8: Amoxicillinum z inhibitorem beta-laktamazy inj. im./iv. (proszek do p. Roztworu) 600 mg | C8: 1 fiol | D8: 600
A9: 4 | B9: Amoxicillinum z inhibitorem beta-laktamazy tabl. 875mg +125mg | C9: op. 14 szt. | D9: 400
B10: RAZEM | F10: =SUM(F6:F9) -> 0 | I10: =SUM(I6:I9) -> 0
B13: Data | G13: Podpis osoby/osób upoważnionej
B14: ……………………………………………. | G14: ……………………………….

Sheet Zadanie nr 14
A1: Załącznik nr 9 | H1: ZOZ/DZP/PN/10/20
A4: Zadanie nr 14 - Heparinum
A5: Lp. | B5: Nazwa produktu | C5: Jednostka miary | D5: Ilość | E5: Cena jednostkowa[zł] netto | F5: Wartość [zł] netto | G5: VAT | H5: Cena jednostkowa [zł] brutto | I5: Wartość [zł] brutto | J5: Producent/Nazwa handlowa
A6: 1 | B6: Heparinum inj. sc./iv. (roztwór) 25000 j.m./5 ml | C6: porcja po 10 amp. 5 ml | D6: 150
A7: 2 | B7: Heparinum krem 300 j.m./g | C7: porcja po 1 tuba 20 g | D7: 50
B8: RAZEM | F8: =SUM(F6:F7) -> 0 | I8: =SUM(I6:I7) -> 0
B13: Data | G13: Podpis osoby/osób upoważnionej
B14: ……………………………………………. | G14: ……………………………….

Sheet Zadanie nr 15
A1: Załącznik nr 9 | H1: ZOZ/DZP/PN/10/20
A4: Zadanie nr 15 - Omeprazol
A5: Lp. | B5: Nazwa produktu | C5: Jednostka miary | D5: Ilość | E5: Cena jednostkowa[zł] netto | F5: Wartość [zł] netto | G5: VAT | H5: Cena jednostkowa [zł] brutto | I5: Wartość [zł] brutto | J5: Producent/Nazwa handlowa
A6: 1 | B6: Omeprazolum inj. (liofilizat) 40mg | C6: porcja po 1 fiol. | D6: 12000
A7: 2 | B7: Pantoprazol inj. 40 mg | C7: porcja po 1 fiol. | D7: 5000
B8: RAZEM | F8: =SUM(F6:F7) -> 0 | I8: =SUM(I6:I7) -> 0
B10: Data …………………………………………. ………………………………………………...
H11: Podpis osoby/osób uprawnionej

Sheet Zadanie nr 16
A1: Załącznik nr 9 | H1: ZOZ/DZP/PN/10/20
A4: Zadanie nr 16 – Antybiotyki różne
A5: Lp. | B5: Nazwa produktu | C5: Jednostka miary | D5: Ilość | E5: Cena jednostkowa[zł] netto | F5: Wartość [zł] netto | G5: VAT | H5: Cena jednostkowa [zł] brutto | I5: Wartość [zł] brutto | J5: Producent/Nazwa handlowa
A6: 1 | B6: Amoxicillinum tabl. 500 mg | C6: porcja po 16 tabl. rozpuszczalne | D6: 240
A7: 2 | B7: Amoxicillinum tabl. 1000 mg | C7: porcja po 20 tabl. rozpuszczalne | D7: 40
A8: 3 | B8: Ampicillinum inj. im./iv. (proszek do p. roztworu) 1000 mg | C8: porcja po 1 fiol. s.subst. | D8: 1700
A9: 4 | B9: Ampicillinum inj. im./iv. (proszek do p. roztworu) 500 mg | C9: porcja po 1 fiol. s.subst. | D9: 2800
A10: 5 | B10: Ampicillinum+Sulbactam, 2 g + 1g, proszek do sporządzania roztworu do wstrzykiwań i infuzji | C10: 1 fiol | D10: 300
A11: 6 | B11: Azithromycinum syrop 100 mg/5 ml | C11: porcja po 1 butelka 20 ml | D11: 5
A12: 7 | B12: Azitromycinum 500mg | C12: op.12 tabl. | D12: 15
A13: 8 | B13: Betamethasonum+Clotrimazolum+Gentamycinum maść na skórę | C13: porcja po 15g | D13: 8
A14: 9 | B14: Benzylpenicillinum procainum inj. im. (proszek do p. zawiesiny) 1,2 mln. j.m. | C14: porcja po 1 fiol. s.subst. | D14: 10
A15: 10 | B15: Benzylpenicillinum procainum inj. im. (proszek do p. zawiesiny) 2,4 mln. j.m. | C15: porcja po 1 fiol. s.subst. | D15: 10
A16: 11 | B16: Ceclorum 250mg/5ml granulat do p. zawiesiny | C16: porcja po 100ml | D16: 20
A17: 12 | B17: Cefaclorum 125mg/5ml granulat do spoż zawiesiny | C17: porcja po 75ml | D17: 10
... A91: 86 | B91: Tigacycline 50mg inj. | C91: porcja po 10 fiol. | D91: 5
B92: RAZEM | F92: =SUM(F6:F91) -> 0 | I92: =SUM(I6:I91) -> 0
B96: Data | G96: Podpis osoby/osób upoważnionej
B97: ……………………………………………. | G97: ……………………………….

Sheet Zadanie nr 17
A1: Załącznik nr 9 | H1: ZOZ/DZP/PN/10/20
A4: Zadanie nr 17 - Amikacyna
A5: Lp. | B5: Nazwa produktu | C5: Jednostka miary | D5: Ilość | E5: Cena jednostkowa[zł] netto | F5: Wartość [zł] netto | G5: VAT | H5: Cena jednostkowa [zł] brutto | I5: Wartość [zł] brutto | J5: Producent/Nazwa handlowa
A6: 1 | B6: Amikacinum inj.1000 mg / 4 ml | C6: porcja po 4ml | D6: 1200
A7: 2 | B7: Amikacinum inj. im./iv. (roztwór) 250 mg/2 ml | C7: porcja po 2 ml | D7: 1300
A8: 3 | B8: Amikacinum ophtalm.0,3% krople | C8: op.5 ml | D8: 20
A9: 4 | B9: Amikacinum inj. im./iv. (roztwór) 500 mg/2 ml | C9: porcja po 2 ml | D9: 1200
B10: RAZEM | F10: =SUM(F6:F9) -> 0 | I10: =SUM(I6:I9) -> 0
B15: Data | G15: Podpis osoby/osób upoważnionej
B16: ……………………………………………. | G16: ……………………………….

Sheet Zadanie nr 18
A1: Załącznik nr 9 | H1: ZOZ/DZP/PN/10/20
A4: Zadanie nr 18 - Żel do cewnikowania
A5: Lp. | B5: Nazwa produktu | C5: Jednostka miary | D5: Ilość | E5: Cena jednostkowa[zł] netto | F5: Wartość [zł] netto | G5: VAT | H5: Cena jednostkowa [zł] brutto | I5: Wartość [zł] brutto | J5: Producent/Nazwa handlowa
A6: 1 | B6: Lidocainum żel znieczulający do cewnikowania 5 ml lub 6ml sterylny | C6: porcja po1 szt. | D6: 3500
B7: RAZEM | F7: =SUM(F6) -> 0 | I7: =SUM(I6) -> 0
B11: Data | G11: Podpis osoby/osób upoważnionej
B12: ……………………………………………. | G12: ……………………………….

Sheet Zadanie nr 19
A1: Załącznik nr 9 | H1: ZOZ/DZP/PN/10/20
A4: Zadanie nr 19 - Dalteparinum
A5: Lp. | B5: Nazwa produktu | C5: Jednostka miary | D5: Ilość | E5: Cena jednostkowa[zł] netto | F5: Wartość [zł] netto | G5: VAT | H5: Cena jednostkowa [zł] brutto | I5: Wartość [zł] brutto | J5: Producent/Nazwa handlowa
A6: 1 | B6: Hdcz 7 500 j.m anty -Xa / 0,3 ml | C6: op.10 amp.strz. | D6: 10
A7: 2 | B7: Hdcz 5 000 j.m anty Xa / 0,2 ml | C7: op.10 amp.strz. | D7: 200
B8: RAZEM | F8: =SUM(F6:F7) -> 0 | I8: =SUM(I6:I7) -> 0
B11: Data …………………………………………. ………………………………………………...
H12: Podpis osoby/osób uprawnionej

Sheet Zadanie nr 20
A1: Załącznik nr 9 | H1: ZOZ/DZP/PN/10/20
A4: Zadanie nr 20 - Preparaty do żywienia pozajelitowego
A5: Lp. | B5: Nazwa produktu | C5: Jednostka miary | D5: Ilość | E5: Cena jednostkowa[zł] netto | F5: Wartość [zł] netto | G5: VAT | H5: Cena jednostkowa [zł] brutto | I5: Wartość [zł] brutto | J5: Producent/Nazwa handlowa
A6: 1 | B6: Worek dwukomorowy zawierający aminokwasy (40g/l) węglowodany (80g/l) i elektrolity do stosowania drogą żył obwodowych | C6: porcja po 1000ml, 1 worek | D6: 20
A7: 2 | B7: Worek dwukomorowy zawierający aminokwasy (40g/l) węglowodany (80g/l) i elektrolity do stosowania drogą żył obwodowych | C7: porcja po 2000ml, 1 worek | D7: 20
A8: 3 | B8: Worek dwukomorowy zawierający aminokwasy (48,1/l) węglowodany (150g/l) i elektrolity do stosowania drogą żył centralnych | C8: porcja po 1000ml | D8: 20
A9: 4 | B9: Worek dwukomorowy zawierający aminokwasy (48,1/l) węglowodany (150g/l) i elektrolity do stosowania drogą żył centralnych | C9: porcja po 2000ml | D9: 20
A10: 5 | B10: Worek trzykomorowy zawierający aminokwasy 40g, emulsje tłuszczowe MCT/LCT oraz glukozę ( nie więcej niż 80 g) do stosowania drogą żył obwodowych | C10: porcja po 1250ml | D10: 150
A11: 6 | B11: Worek trzykomorowy zawierający aminokwasy 60g, emulsje tłuszczowe MCT/LCT oraz glukozę ( nie więcej niż 120 g) do stosowania drogą żył obwodowych | C11: porcja po 1875ml | D11: 300
A12: 7 | B12: Worek trzykomorowy zawierający aminokwasy 48-50g azot (min. 6,8g), tłuszcze MCT/LCT, elektrolity i węglowodany do 150g). Droga podania – żyły centralne | C12: porcja po 1250ml, 1 worek | D12: 50
A13: 8 | B13: Worek trzykomorowy zawierający aminokwasy 68-72g azot (min. 10,2 g), tłuszcze MCT/LCT, elektrolity i węglowodany do 225 g). Droga podania – żyły centralne | C13: porcja po 1875ml, 1worek | D13: 150
A14: 9 | B14: Worek trzykomorowy aminokwasy: min. 35g, węglowodany: min 90g, elektrolity oraz trriglicerydy kwasów omega-3 Droga podania – żyły centralne. | C14: porcja po 625ml, 1worek | D14: 20
A15: 10 | B15: Worek trzykomorowy aminokwasy: min. 70g, węglowodany: min 180g, elektrolity oraz trriglicerydy kwasów omega-3 Droga podania – żyły centralne. | C15: porcja po 1250ml, 1 worek | D15: 50
A16: 11 | B16: Worek trzykomorowy aminokwasy: min. 105g, węglowodany: min 270g, elektrolity oraz triglicerydy kwasów omega-3 Droga podania – żyły centralne. | C16: porcja po 1875ml, 1worek | D16: 150
A17: 12 | B17: Worek trzykomorowy aminokwasy: min. 70g, węglowodany: min 180g, bez elektrolitów oraz triglicerydy kwasów omega-3 Droga podania – żyły centralne. | C17: porcja po 1250ml, 1worek | D17: 150
... A19: 14 | B19: Worek trzykomorowy aminokwasy: min. 35g, węglowodany: min 90g, bez elektrolitów oraz triglicerydy kwasów omega-3 Droga podania – żyły centralne. | C19: porcja po 625ml, 1worek | D19: 150
B20: RAZEM | F20: =SUM(F6:F19) -> 0 | I20: =SUM(I6:I19) -> 0
B23: Data …………………………………………. ………………………………………………...
H24: Podpis osoby/osób uprawnionej

Sheet Zadanie nr 21
A1: Załącznik nr 9 | H1: ZOZ/DZP/PN/10/20
A4: Zadanie nr 21 - Preparaty do żywienia dojelitowego
A5: Lp. | B5: Nazwa produktu | C5: Jednostka miary | D5: Ilość | E5: Cena jednostkowa[zł] netto | F5: Wartość [zł] netto | G5: VAT | H5: Cena jednostkowa [zł] brutto | I5: Wartość [zł] brutto | J5: Producent/Nazwa handlowa
A6: 1 | B6: Dieta kompletna pod względem odżywczym, hiperkaloryczna (2,4 kcal/ml) oparty na białku kazeinowym i serwatkowym, w minimalnym składzie: Zawartość białka nie mniejsza niż 9,6g/100 ml.% energii z: białka-16%, węglowodanów-49%, tłuszczów-35%. Dieta bezglutenowa, bezresztkowa. Smak: neutralny. Opakowanie typu butelka 125 ml. | C6: Op =4x125ml | D6: 50
A7: 2 | B7: Dieta kompletna pod względem odżywczym, hiperkaloryczna (2,4 kcal/ml) oparty na białku kazeinowym i serwatkowym, w minimalnym składzie Zawartość białka nie mniejsza niż 9,6g/100 ml.% energii z: białka-16%, węglowodanów-49%, tłuszczów-35%. Dieta bezglutenowa, bezresztkowa. Opakowanie typu butelka 125 ml. Smaki: truskawkowy, waniliowy, owoce leśne. | C7: Op =4x125ml | D7: 100
A8: 3 | B8: Dieta kompletna,hiperkaloryczna ( 1,5 kcal/ml) z dodatkiem jogurtu, zródłem białka jest serwatka i kazeina, zawiera wyłacznie tłuszcze LCT,źródłem węglowodanów są wolno wchłaniane maltodekstryny, sacharoza i laktoza , ubogoresztkowa, bezglutenowa, w minimalnym składzie zawartośc białka 6g/100ml,węglowodany 18,7 g/100ml, 16% energii z białka, o osmolarności 740 mOsmol/l , opakowanie 4 x 200 ml, w dwóch smakach : waniliowo-cytrynowy, malinowy; | C8: Op =4x200ml | D8: 50
A9: 4 | B9: Dieta kompletna,hiperkaloryczna ( 2,4 kcal/ml) w minimalnym składzie o zawartości białka 9,5g/100ml, dieta do podaży doustnej o smaku waniliowym, dieta bogatoresztkowa - zawartość błonnika 3,6 g/100 ml, bezglutenowa w opakowaniu 4x125 ml, o osmolarności 790 mOsmol/l. | C9: Op =4x125ml | D9: 50
A10: 5 | B10: Dieta wspomagająca proces gojenia odleżyn i ran przewlekłych, kompletna, bezresztkowa, hiperkaloryczna (1,24 kcal/ml), bezglutenowa. Dieta zawiera argininę oraz inne składniki odżywcze, w odpowiednich proporcjach, które wspomagają i przyspieszają gojenie ran - zwiększona zawartość przeciwutleniaczy (wit C i E, karotenoidów, cynku). W minimalnym składzie: Dieta wysokobiałkowa - zawartość białka 8,8 g /100ml, o niskiej zawartości tłuszczu - 3,5g / 100ml, węglowodany 14,5 g/100ml, 28 % energii z białka, 46 % energii z węglowodanów, 26 % energii z tłuszczy, o osmolarności min. 500 mOsmol/l opakowanie 4 x 200 ml, w trzech smakach: truskawkowy, czekoladowy, waniliowy. | C10: Op =4x200ml | D10: 50
A11: 6 | B11: Dieta beztłuszczowa,hiperkaloryczna ( 1,5 kcal/ml) bogatobiałkowa, oparta na białku serwatkowym, źródłem węglowodanów są wolno wchłaniane maltodekstryny i sacharoza, niska zawartość sodu i fosforanów,bezresztkowa, bezglutenowa,klinicznie wolna od laktozy, w minimalnym składzie zawartośc białka 4g/100ml,węglowodany 33,5 g/100ml, 11% energii z białka, o osmolarności 750 mOsmol/l, opakowanie 4x200 ml, w dwóch smakach: truskawkowy, jabłkowy; | C11: Op =4x200ml | D11: 50
A12: 7 | B12: Dieta bezresztkowa normokaloryczna (1 kcal/ml), w minimalnym składzie zawierająca mieszankę białek w proporcji: 35% serwatkowych, 25% kazeiny, 20% białek soi, 20% białek grochu, zawartość białka nie mniej niż 4g/100; zawartość wielonienasyconych tłuszczów omega-6/omega-3 w proporcji 2,87; zawartość DHA+EPA nie mniej niż 33,5 mg/100 ml, dieta zawierająca 6 naturalnych karotenoidów, klinicznie wolna do laktozy, % energii z: białka-16%, węglowodanów-49%, tłuszczów-35%, o osmolarności 255 mOsmol/l, opakowanie typu butelka 500ml. | C12: 500ml | D12: 150
A13: 8 | B13: Dieta bezresztkowa normokaloryczna (1 kcal/ml), w minimalnym składzie zawierająca mieszankę białek w proporcji: 35% serwatkowych, 25% kazeiny, 20% białek soi, 20% białek grochu, zawartość białka nie mniej niż 4g/100; zawartość wielonienasyconych tłuszczów omega-6/omega-3 w proporcji 2,87; zawartość DHA+EPA nie mniej niż 33,5 mg/100 ml, dieta zawierająca 6 naturalnych karotenoidów,klinicznie wolna do laktozy, % energii z: białka-16%, węglowodanów-49%, tłuszczów-35%,o osmolarności 255 mOsmol/l,w opakowaniu miękkim typu pack o pojemności 1000 ml. | C13: 1000ml | D13: 400
A14: 9 | B14: Dieta bezresztkowa hiperkaloryczna (1,5 kcal/ml), w minimalnym składzie zawierająca mieszankę białek w proporcji: 35% serwatkowych, 25% kazeiny, 20% białek soi, 20% białek grochu, zawartość białka nie mniej niż 6g/100 ml; zawartość wielonienasyconych tłuszczów omega-6/omega-3 w proporcji 3,12; zawartość DHA+EPA nie mniej niż 34mg/100 ml, dieta zawierająca 6 naturalnych karotenoidów, klinicznie wolna do laktozy,% energii z: białka-16%, węglowodanów-49%, tłuszczów-35%, o osmolarności 360 mOsmol/l , w opakowaniu miękkim typu pack o pojemności 1000 ml. | C14: 1000ml | D14: 800
A15: 10 | B15: Dieta bogatoresztkowa w minimalnym składzie z zawartością 6 rodzajów błonnika MF6, normokaloryczna (1 kcal/ml) zawierająca mieszankę białek w proporcji: 35% serwatkowych, 25% kazeiny, 20% białek soi, 20% białek grochu, zawartość białka nie mniej niż 4g/100; zawartość wielonienasyconych tłuszczów omega-6/omega-3 w proporcji 2,87; zawartość DHA+EPA nie mniej niż 33,5 mg/100 ml, dieta zawierająca 6 naturalnych karotenoidów, klinicznie wolna do laktozy, % energii z: białka-16%, węglowodanów-47%, tłuszczów-34%, błonnika 3% , o osmolarności 250 mOsmol/l ,w opakowaniu miękkim typu pack o pojemności 1000 ml. | C15: 1000ml | D15: 350
A16: 11 | B16: Dieta kompletna w minimalnym składzie pod względem odżywczym , wysokobiałkowa, 6,3 g białka/100ml , w oparciu wyłącznie o białko kazeinowe, z glutaminą 1,28 g/100ml, hiperkaloryczna ( 1,25 kcal/ml), bezresztkowa, klinicznie wolna od laktozy, % energii z : białka - 20%, węglowodanów- 45%, tłuszczu- 35%, o osmolarności 275 mOsmol/l, w opakowaniu miękkim typu pack o pojemności 1000ml | C16: 1000ml | D16: 700
A17: 12 | B17: Dieta kompletna w minimalnym składzie pod względem odżywczym normalizująca glikemię, normokaloryczna (1,03 kcal/ml) zawierająca 6 rodzajów błonnika, klinicznie wolna do laktozy, oparta na białku sojowym, zawierająca 4,3g/ml białka, o osmolarności 300 mOsm/l, % energii z: białka- 17 %, węglowodanów- 43 %, tłuszczów- 37 %, w opakowaniu miękkim typu pack o pojemności 1000 ml. | C17: 1000ml | D17: 100
... A52: 47 | B52: Zgłębnik nosowo-żołądkowy do żywienia dojelitowego wyposażony w dodatkowy port do odbarczania rozmiar, 14 CH na 110 cm. | C52: op=10szt | D52: 20
B53: RAZEM | F53: =SUM(F6:F52) -> 0 | I53: =SUM(I6:I52) -> 0
B55: Zamawiający dopuszcza dietetyczne środki spożywcze
B57: Data …………………………………………. ………………………………………………...
H58: Podpis osoby/osób uprawnionej

Sheet Zadanie nr 22
A1: Załącznik nr 9 | H1: ZOZ/DZP/PN/10/20
A3: Zadanie nr 22 - Immunoglobuliny anty D
A4: Lp. | B4: Nazwa produktu | C4: Jednostka miary | D4: Ilość | E4: Cena jednostkowa[zł] netto | F4: Wartość [zł] netto | G4: VAT | H4: Cena jednostkowa [zł] brutto | I4: Wartość [zł] brutto | J4: Producent/Nazwa handlowa
A5: 1 | B5: Immunoglobulina anty D 50j.m. inj. | C5: 1 szt. | D5: 120
A6: 2 | B6: Immunoglobulina anty D 150j.m. inj. | C6: 1 szt. | D6: 200
B7: Razem | F7: =SUM(F5:F6) -> 0 | I7: =SUM(I5:I6) -> 0
B10: Data | G10: Podpis osoby/osób upoważnionej
B11: ……………………………………………. | G11: ……………………………….

Sheet Zadanie nr 23
A1: Załącznik nr 9 | H1: ZOZ/DZP/PN/10/20
A4: Zadanie nr 23 - Amoksycylinum z inhibitorem 2,2g
A5: Lp. | B5: Nazwa produktu | C5: Jednostka miary | D5: Ilość | E5: Cena jednostkowa[zł] netto | F5: Wartość [zł] netto | G5: VAT | H5: Cena jednostkowa [zł] brutto | I5: Wartość [zł] brutto | J5: Producent/Nazwa handlowa
A6: 1 | B6: Amoksycylinum z kw. klawulanowym 2,2 g | C6: fiol. | D6: 3000
B7: RAZEM | F7: =SUM(F6) -> 0 | I7: =SUM(I6) -> 0
B10: Data …………………………………………. ………………………………………………...
H11: Podpis osoby/osób uprawnionej

Sheet Zadanie nr 24
A1: Załącznik nr 9 | H1: ZOZ/DZP/PN/10/20
A4: Zadanie nr 24 - Żywienie pozajelitowe 2
A5: Lp. | B5: Nazwa produktu | C5: Jednostka miary | D5: Ilość | E5: Cena jednostkowa[zł] netto | F5: Wartość [zł] netto | G5: VAT | H5: Cena jednostkowa [zł] brutto | I5: Wartość [zł] brutto | J5: Producent/Nazwa handlowa
A6: 1 | B6: Worek trzykomorowy do żywienia pozajelitowego drogą żył centralnych zawierający roztwór aminokwasów, 20% emulsję tłuszczową LTC, 80% oliwy z oliwek, węglowodany i elektrolity. Zawartość azotu 9 g ,energia 1070, osmolarność 1310 mOsm/l w pojemności 1000ml typu Olimel N9 E | C6: szt. | D6: 200
A7: 2 | B7: Worek trzykomorowy do żywienia pozajelitowego drogą żył centralnych zawierający roztwór aminokwasów, 20% emulsję tłuszczową LTC, 80% oliwy z oliwek, węglowodany bez zawartości elektrolitów Zawartość azotu 13,5g ,energia 1600, osmolarność 1170 mOsm/l w pojemności 1500ml typu Olimel N9 | C7: szt. | D7: 500
A8: 3 | B8: Worek trzykomorowy do żywienia pozajelitowego drogą żył centralnych zawierający roztwór aminokwasów, 20% emulsję tłuszczową LTC, 80% oliwy z oliwek, węglowodany i elektrolity. Zawartość azotu 13.5 g ,energia 1600, osmolarność 1310 mOsm/l w pojemności 1500ml typu Olimel N9 E | C8: szt. | D8: 150
A9: 4 | B9: Worek trzykomorowy do żywienia pozajelitowego drogą żył centralnych zawierający roztwór aminokwasów, 20% emulsję tłuszczową LTC, 80% oliwy z oliwek, węglowodany i elektrolity. Zawartość azotu 7 g ,energia 1140, osmolarność 1360 mOsm/l w pojemności 1000ml typu Olimel N7 E | C9: szt. | D9: 100
A10: 5 | B10: Worek trzykomorowy do żywienia pozajelitowego drogą żył centralnych zawierający roztwór aminokwasów, 20% emulsję tłuszczową LTC, 80% oliwy z oliwek, węglowodany i elektrolity. Zawartość azotu 10,5 g ,energia 1710, osmolarność 1360 mOsm/l w pojemności 1500ml typu Olimel N7 E | C10: szt. | D10: 100
A11: 6 | B11: Worek trzykomorowy do żywienia pozajelitowego drogą żył centralnych zawierający roztwór aminokwasów, 20% emulsję tłuszczową LTC, 80% oliwy z oliwek, węglowodany i elektrolity. Zawartość azotu 14 g ,energia 2270, osmolarność 1360 mOsm/l w pojemności 2000ml typu Olimel N7 E | C11: szt. | D11: 100
A12: 7 | B12: Roztwór aminokwasów z dodatkiem glukozy oraz emulsji tłuszczowej zawierającej 20% LCT i 80% oliwy z oliwek, węglowodany i elektrolity w systemie worków trzykomorowych do pełnego żywienia pozajelitowego droga żył obwodowych i centralnych, o zawartości azotu 4, energii całkowitej 700 kcali, osmolarności 760 mOsm/l poj. 1000 ml, typu Olimel Peri N4E | C12: szt. | D12: 100
A13: 8 | B13: Roztwór aminokwasów z dodatkiem glukozy oraz emulsji tłuszczowej zawierającej 20% LCT i 80% oliwy z oliwek, węglowodany i elektrolity w systemie worków trzykomorowych do pełnego żywienia pozajelitowego droga żył obwodowych i centralnych, o zawartości azotu 6, energii całkowitej 1050 kcali, osmolarności 760 mOsm/l poj. 1500 ml typu Olimel Peri N4E | C13: szt. | D13: 100
A14: 9 | B14: 20% emulsja tłuszczowa zawierająca oliwę z oliwek i olej sojowy o objętości 250 ml typu Clinoleic 20 % | C14: szt. | D14: 100
A15: 10 | B15: 20% emulsja tłuszczowa zawierająca oliwę z oliwek i olej sojowy o objętości 500 ml typu Clinoleic 20 % | C15: szt. | D15: 100
A16: 11 | B16: Witaminy rozpuszczalne w tłuszczach i w wodzie zestaw 12 witamin typu Cernevit – lifilizat | C16: op=10amp | D16: 120
A17: 12 | B17: Koncentrat pierwiastków śladowych do żywienia pozajelitowego w postaci soli organicznych o składzie molowym (µmol / 10 ml) Zn 153; Cu 4,7; Mn 1,0; F 50; I 1,0; Se 0,9; Mo 0,21; Cr 0,19; Fe 18, 10ml roztworu w ampułce. | C17: op=10amp | D17: 120
B18: Razem | F18: =SUM(F6:F17) -> 0 | I18: =SUM(I6:I17) -> 0
B20: Data | G20: Podpis osoby/osób upoważnionej
B21: ……………………………………………. | G21: ……………………………….

Sheet Zadanie nr 25
A1: Załącznik nr 9 | H1: ZOZ/DZP/PN/10/20
A3: Zadanie nr 25 – Leki OAIiT
A4: Lp. | B4: Nazwa produktu | C4: Jednostka miary | D4: Ilość | E4: Cena jednostkowa[zł] netto | F4: Wartość [zł] netto | G4: VAT | H4: Cena jednostkowa [zł] brutto | I4: Wartość [zł] brutto | J4: Producent/Nazwa handlowa
A5: 1 | B5: Anidulafungina proszek do sporządzania koncentratu roztworu do infuzji; 100 mg; 1 fiol. | C5: 1 fiol | D5: 3
A6: 2 | B6: Alteplaza, proszek i rozpuszczalnik do sporządzania roztworu do wlewu; 50 mg; 1 flak. + rozp. 50 ml | C6: Op=1 szt. | D6: 3
A7: 3 | B7: Argipressinum 40j.m. inj. | C7: op=5amp | D7: 60
A8: 4 | B8: Koncentrat do sporządzania roztworu do infuzji; 1 ml zawiera: 170,1 mg diwodorofosforanu potasowego, 133,5 mg diwodnego wodorofosforanu sodowego, 14 mg wodorotlenku potasu, co odpowiada 1,5 mmol (59 mg) jonów potasu, 1,5 mmol (34 mg) jonów sodu i 2 mmol (62 mg) fosforanów; 10 fiol. 20 ml | C8: op=10fiol. | D8: 50
A9: 5 | B9: Calcium chloratum inj 10 ml 100mg/ml zamiennie z Calcium gluconatum 100mg/ml | C9: op=10amp | D9: 2500
A10: 6 | B10: Caspofunginum 50mg inj. | C10: 1 szt. | D10: 150
A11: 7 | B11: Caspofunginum 70mg inj. | C11: 1 szt. | D11: 12
A12: 8 | B12: Clatribine 10mg/10ml fiol | C12: porcja po 1 fiol. | D12: 5
A13: 9 | B13: Cytarabina 1g/20ml fiol | C13: porcja po 1 fiol | D13: 5
A14: 10 | B14: Empagliflozin 10mg | C14: porcja po 28 tabl. | D14: 5
A15: 11 | B15: Emulsja 200mg/ml Soiae oleum raffinatum | C15: porcja po 500ml | D15: 150
A16: 12 | B16: Emulsja 200mg/ml Soiae oleum raffinatum | C16: butelka po 100ml | D16: 10
... A60: 56 | B60: Woryconazolum 200mg tabl | C60: porcja po 20 tabl | D60: 4
B61: Razem | F61: =SUM(F5:F60) -> 0 | I61: =SUM(I5:I60) -> 0
B64: Data | G64: Podpis osoby/osób upoważnionej
B65: ……………………………………………. | G65: ……………………………….

Sheet Zadanie nr 26
A1: Załącznik nr 9 | H1: ZOZ/DZP/PN/10/20
A4: Zadanie nr 26 – Cefalosporyny
A5: Lp. | B5: Nazwa produktu | C5: Jednostka miary | D5: Ilość | E5: Cena jednostkowa[zł] netto | F5: Wartość [zł] netto | G5: VAT | H5: Cena jednostkowa [zł] brutto | I5: Wartość [zł] brutto | J5: Producent/Nazwa handlowa
A6: 1 | B6: Cefuroxym inj. I.m./i.v 500 mg | C6: 1 fiolka | D6: 1000
A7: 2 | B7: Cefuroxym inj. I.m./i.v 750 mg | C7: 1 fiolka | D7: 1000
A8: 3 | B8: Cefuroxym inj. I.m./i.v 1500 mg | C8: 1 fiolka | D8: 14000
C9: RAZEM | F9: =SUM(F6:F8) -> 0 | I9: =SUM(I6:I8) -> 0
B12: Data …………………………………………. ………………………………………………...
H13: Podpis osoby/osób uprawnionej

Sheet Zadanie nr 27
A1: Załącznik nr 9 | H1: ZOZ/DZP/PN/10/20
A4: Zadanie nr 27 - Propofolum
A5: Lp. | B5: Nazwa produktu | C5: Jednostka miary | D5: Ilość | E5: Cena jednostkowa[zł] netto | F5: Wartość [zł] netto | G5: VAT | H5: Cena jednostkowa [zł] brutto | I5: Wartość [zł] brutto | J5: Producent/Nazwa handlowa
A6: 1 | B6: Propofolum inj. 10mg/1ml – 20ml fiolki | C6: porcja po 5 fiol. 20 ml | D6: 2500
B7: RAZEM | F7: =SUM(F6) -> 0 | I7: =SUM(I6) -> 0
B10: Data …………………………………………. ………………………………………………...
H11: Podpis osoby/osób uprawnionej

Sheet Zadanie nr 28
A1: Załącznik nr 9 | H1: ZOZ/DZP/PN/10/20
A4: Zadanie nr 28 – Leki Hospicjum
A5: Lp. | B5: Nazwa produktu | C5: Jednostka miary | D5: Ilość | E5: Cena jednostkowa[zł] netto | F5: Wartość [zł] netto | G5: VAT | H5: Cena jednostkowa [zł] brutto | I5: Wartość [zł] brutto | J5: Producent/Nazwa handlowa
A6: 1 | B6: Ac. ascorbicum, Hesperidinum, Ruscus aculeatus (Cyclo 3 fort) lub równoważne | C6: porcja po 30 kaps. | D6: 100
A7: 2 | B7: Acidum Valproicum 150mg | C7: Porcja po 100 szt. | D7: 3
A8: 3 | B8: Natrii Valproas+Acidum Valpronicum 300 mg | C8: Porcja po 100 tabl. | D8: 75
A9: 4 | B9: Natrii Valproas 288,2mg/5ml | C9: porcja po 150ml | D9: 110
A10: 5 | B10: Natrii Valproas+Acidum Valproicum 500mg | C10: porcja po 30 tabl. | D10: 80
A11: 6 | B11: Natrii Valproas inj 400mg/4ml | C11: op=4fiol. | D11: 60
A12: 7 | B12: Natrii Valproas 750mg saszetki 30 szt. | C12: op=30sasz. | D12: 150
A13: 8 | B13: Alfuzosinum 10mg | C13: porcja po 30 szt. | D13: 22
A14: 9 | B14: Amantadinum 100mg | C14: porcja po 100tabl | D14: 9
A15: 10 | B15: Aminophylinum 200mg o przedł uwalnianiu | C15: porcja po 30kaps. | D15: 6
A16: 11 | B16: Amitryptilina 25mg | C16: 60 draż | D16: 10
A17: 12 | B17: Amitriptilina 10mg | C17: 60 draż | D17: 10
... A80: 75 | B80: Ziprazidonum 80mg | C80: porcja po 56 kaps. | D80: 12
B81: RAZEM | F81: =SUM(F6:F80) -> 0 | I81: =SUM(I6:I80) -> 0
B84: Data | H84: Podpis osoby/osób upoważnionej
B85: ……………………………………………. | H85: ………………………………… | I85: ………………………………. | J85: ………………

Sheet zadanie 29.
A1: Załącznik nr 9 | H1: ZOZ/DZP/PN/10/20
A4: Zadanie nr 29 - Leki przeciwbólowe
A5: Lp. | B5: Nazwa produktu | C5: Jednostka miary | D5: Ilość | E5: Cena jednostkowa[zł] netto | F5: Wartość [zł] netto | G5: VAT | H5: Cena jednostkowa [zł] brutto | I5: Wartość [zł] brutto | J5: Producent/Nazwa handlowa
A6: 1 | B6: Bupremorfina 35 mcg/h plastry | C6: Porcja po 5 plastrów | D6: 150
A7: 2 | B7: Bupremorfina plastry 52,5mcg/h | C7: Op=5 plastrów | D7: 100
A8: 3 | B8: Bupremorfina plastry 70mcg/h | C8: Op=5 plastrów | D8: 75
A9: 4 | B9: Diclofenacum + Misoprostolum tabl. powl. | C9: porcja po 20 tabl. | D9: 25
A10: 5 | B10: Diclofenacum czopki 100 mg | C10: porcja po 1 op. 10 szt. | D10: 250
A11: 6 | B11: Diclofenacum czopki 50 mg | C11: porcja po 1 op. 10 szt. | D11: 180
A12: 7 | B12: Diclofenacum 75 mg x 10 szt. doustny | C12: op=10szt | D12: 30
A13: 8 | B13: Diclofenacum inj. (roztwór) 75 mg/3 ml | C13: porcja po 5 amp. 3 ml | D13: 20
A14: 9 | B14: Diclofenacum tabl. dojelitowe 25 mg | C14: porcja po 20 tabl. | D14: 5
A15: 10 | B15: Diclofenacum tabl. dojelitowe 50 mg | C15: porcja po 50 tabl. | D15: 45
A16: 11 | B16: Diclofenacum 100mg | C16: porcja po 20tabl. | D16: 10
A17: 12 | B17: Diclofenacum maść vel żel | C17: Porcja po 50 do 60g | D17: 40
... A91: 86 | B91: Zofenopryl 30mg | C91: porcja po 28tabl | D91: 50
B92: RAZEM | F92: =SUM(F6:F91) -> 0 | I92: =SUM(I6:I91) -> 0
B95: Data | H95: Podpis osoby/osób upoważnionej
B96: ……………………………………………. | H96: …………………… | I96: ……………………………….

Sheet Zadanie nr 30
A2: Załącznik nr 9 | H2: ZOZ/DZP/PN/10/20
A4: Zadanie nr 30 - Remifentanyl
A5: Lp. | B5: Nazwa produktu | C5: Jednostka miary | D5: Ilość | E5: Cena jednostkowa[zł] netto | F5: Wartość [zł] netto | G5: VAT | H5: Cena jednostkowa [zł] brutto | I5: Wartość [zł] brutto | J5: Producent/Nazwa handlowa
A6: 1 | B6: Remifentanil 1mg proszek do sporządenia konc. Roz. /do wstzrykiwań inf. | C6: op=5fiol | D6: 50
A7: 2 | B7: Remifentanil 2mg proszek do sporządenia konc. Roz. /do wstzrykiwań inf. | C7: op=5fiol | D7: 50
A8: 3 | B8: Remifentanil 5mg proszek do sporządenia konc. Roz. /do wstzrykiwań inf. | C8: op=5fiol | D8: 50
B9: Razem | F9: =SUM(F6:F8) -> 0 | I9: =SUM(I6:I8) -> 0
B12: Data | G12: Podpis osoby/osób upoważnionej
B13: ……………………………………………. | G13: ……………………………….

Sheet Zadanie nr 31
A1: Załącznik nr 9 | H1: ZOZ/DZP/PN/10/20
B4: Zadanie nr 31 - Kontrasty jodowe
A5: Lp. | B5: Nazwa produktu | C5: Jednostka miary | D5: Ilość | E5: Cena jednostkowa[zł] netto | F5: Wartość [zł] netto | G5: VAT | H5: Cena jednostkowa [zł] brutto | I5: Wartość [zł] brutto | J5: Producent/Nazwa handlowa
A6: 1 | B6: Iodiksanol 320mg/ml i.v. | C6: porcja po 10 x 50ml | D6: 2
A7: 2 | B7: Iodiksanol 320mg/ml i.v. | C7: porcja po 10 x 200ml | D7: 2
A8: 3 | B8: Iomeprolum 300 mg jodu/ml i.v. | C8: Porcja po 20ml | D8: 40
A9: 4 | B9: Iomeprolum 300 mg jodu/ml i.v. | C9: Porcja po 50ml | D9: 40
A10: 5 | B10: Iomeprolum 350mg/ml i.v. | C10: porcja po 50ml | D10: 20
A11: 6 | B11: Iomeprolum 350mg/ml i.v. | C11: porcja po 200ml | D11: 20
A12: 7 | B12: Iopromidum 300mg/ml i.v. | C12: Porcja po 10 x 20ml | D12: 30
A13: 8 | B13: Iopromidum 300mg/ml i.v. | C13: porcja po 10 x 50ml | D13: 20
A14: 9 | B14: Iopromidum 370 mgI/ml i.v. | C14: porcja po 50ml | D14: 2
A15: 10 | B15: Iopromidum 370 mgI/ml i.v | C15: porcja po 200ml | D15: 15
A16: 11 | B16: Iohexolum 300 mg I / ml i.v. | C16: Porcja po 10 x 20ml | D16: 35
A17: 12 | B17: Iohexolum 300 mg I / ml i.v. | C17: porcja po 10 x 50 ml | D17: 20
... A19: 14 | B19: Iohexolum 350 mg I / ml i.v. | C19: porcja po 10 x 200ml | D19: 55
B20: RAZEM | F20: =SUM(F6:F19) -> 0 | I20: =SUM(I6:I19) -> 0
B23: Data | H23: Podpis osoby/osób upoważnionej
B24: ……………………………………………. | H24: …………………… | I24: ……………………………….

Sheet Zadanie nr 32
A1: Załącznik nr 9 | H1: ZOZ/DZP/PN/10/20
B4: Zadanie nr 32 - Acidum ibandronicum
A5: Lp. | B5: Nazwa produktu | C5: Jednostka miary | D5: Ilość | E5: Cena jednostkowa[zł] netto | F5: Wartość [zł] netto | G5: VAT | H5: Cena jednostkowa [zł] brutto | I5: Wartość [zł] brutto | J5: Producent/Nazwa handlowa
A6: 1 | B6: Acidum ibandronicum 3mg/3ml ampułkostrzykawka + igła | C6: 1 ampułko-strzykawka | D6: 90
B7: RAZEM | F7: =SUM(F6) -> 0 | I7: =SUM(I6) -> 0
B10: Data | H10: Podpis osoby/osób upoważnionej
B11: ……………………………………………. | H11: …………………… | I11: ……………………………….

Sheet Zadanie 33
A1: Załącznik nr 9 | H1: ZOZ/DZP/PN/10/20
A4: Zadanie nr 33 - Imigluceraza
A5: Lp. | B5: Nazwa produktu | C5: Jednostka miary | D5: Ilość | E5: Cena jednostkowa[zł] netto | F5: Wartość [zł] netto | G5: VAT | H5: Cena jednostkowa [zł] brutto | I5: Wartość [zł] brutto | J5: Producent/Nazwa handlowa
A6: 1 | B6: Cerezyme (Imigluceraza) 400j./10ml | C6: fiolka | D6: 620
B7: RAZEM | F7: =SUM(F6) -> 0 | I7: =SUM(I6) -> 0
B10: Data | G10: Podpis osoby/osób upoważnionej
B11: ……………………………………………. | G11: …………………… | H11: ……………………………….

Sheet Zadanie nr 34
A1: Załącznik nr 9 | H1: ZOZ/DZP/PN/10/20
A4: Zadanie nr: 34- Ferrum
A5: Lp. | B5: Nazwa produktu | C5: Jednostka miary | D5: Ilość | E5: Cena jednostkowa[zł] netto | F5: Wartość [zł] netto | G5: VAT | H5: Cena jednostkowa [zł] brutto | I5: Wartość [zł] brutto | J5: Producent/Nazwa handlowa
A6: 1 | B6: Ferrum isomaltozidum 500mg/5ml | C6: pocja po 5fiolek | D6: 150
B7: RAZEM | F7: =SUM(F6) -> 0 | I7: =SUM(I6) -> 0
B10: Data | G10: Podpis osoby/osób upoważnionej
B11: ……………………………………………. | G11: ………………………….. | H11: ……………………………….

Sheet Zadanie nr 35
A1: Załącznik nr 9 | H1: ZOZ/DZP/PN/10/20
B4: Zadanie nr 35 - Glikokotykosteroidy
A5: Lp. | B5: Nazwa produktu | C5: Jednostka miary | D5: Ilość | E5: Cena jednostkowa[zł] netto | F5: Wartość [zł] netto | G5: VAT | H5: Cena jednostkowa [zł] brutto | I5: Wartość [zł] brutto | J5: Producent/Nazwa handlowa
A6: 1 | B6: Dexamethasonum inj. (roztwór) 4 mg/ml | C6: porcja po 10 amp. 2 ml | D6: 200
A7: 2 | B7: Dexamethasonum inj. (roztwór) 4 mg/ml | C7: porcja po 10 amp. 1 ml | D7: 450
A8: 4 | B8: Dexamethasonum 0,1% zawiesina do oczu | C8: porcja po 5ml | D8: 5
A9: 5 | B9: Hydrocortisonum fiol. 100Mg+2ml rozp. | C9: porcja po 5 fiol.+ rozp | D9: 1250
A10: 6 | B10: Hydrocortisonum 25 mg + 2 ml rozp | C10: porcja po 5 fiol.+ rozp | D10: 10
A11: 7 | B11: Hydrocortisonum 20 mg | C11: porcja po 20 tabl. | D11: 20
B12: RAZEM | F12: =SUM(F6:F11) -> 0 | I12: =SUM(I6:I11) -> 0
B15: Data | H15: Podpis osoby/osób upoważnionej
B16: ……………………………………………. | H16: …………………… | I16: ……………………………….

Sheet Zadanie nr 36
A1: Załącznik nr 9 | H1: ZOZ/DZP/PN/10/20
A4: Zadanie nr: 36 - Desfluran
A5: Lp. | B5: Nazwa produktu | C5: Jednostka miary | D5: Ilość | E5: Cena jednostkowa[zł] netto | F5: Wartość [zł] netto | G5: VAT | H5: Cena jednostkowa [zł] brutto | I5: Wartość [zł] brutto | J5: Producent/Nazwa handlowa
A6: 1 | B6: Desfluranum 240ml | C6: op=240ml | D6: 160
B7: Razem | F7: =SUM(F6) -> 0 | I7: =SUM(I6) -> 0
B9: Na czas trwania umowy wymagane jest użyczenie 2 szt. parowników do aparatu Drager . Koszt użyczenia należy wliczyć w cenę oferty.
B11: Data | G11: Podpis osoby/osób upoważnionej
B12: ……………………………………………. | G12: ……………………………….

Sheet Zadanie nr 37
A1: Załącznik nr 9 | H1: ZOZ/DZP/PN/10/20
A4: a | B4: Zadanie nr: 37 – Metamizolum
A5: Lp. | B5: Nazwa produktu | C5: Jednostka miary | D5: Ilość | E5: Cena jednostkowa[zł] netto | F5: Wartość [zł] netto | G5: VAT | H5: Cena jednostkowa [zł] brutto | I5: Wartość [zł] brutto | J5: Producent/Nazwa handlowa
A6: 1 | B6: Metamizolum inj. (roztwór) 500 mg/ml | C6: porcja po 5 amp. 5 ml | D6: 1000
A7: 2 | B7: Metamizolum inj. (roztwór) 500 mg/ml | C7: porcja po 5 amp po 2 ml | D7: 300
A8: 3 | B8: Metamizolum tabl. 500 mg | C8: porcja po 10 tabl. | D8: 300
A9: 4 | B9: Metamizolum inj. (roztwór) 500 mg/ml. Wskazanie do podania powyżej 3 m-ca życia | C9: porcja po 10 amp po 5 ml | D9: 600
A10: 5 | B10: Metamizolum inj. (roztwór) 500 mg/ml. Wskazanie do podania powyżej 3 m-ca życia | C10: porcja po 10 amp po 2 ml | D10: 100
B11: RAZEM | F11: =SUM(F6:F10) -> 0 | I11: =SUM(I6:I10) -> 0
B14: Data | H14: Podpis osoby/osób upoważnionej
B15: ……………………………………………. | H15: …………………… | I15: ……………………………….

Sheet Zadanie nr 38
A1: Załącznik nr 9 | H1: ZOZ/DZP/PN/10/20
B4: Zadanie nr 38 – Ciprofloxacinum
A5: Lp. | B5: Nazwa produktu | C5: Jednostka miary | D5: Ilość | E5: Cena jednostkowa[zł] netto | F5: Wartość [zł] netto | G5: VAT | H5: Cena jednostkowa [zł] brutto | I5: Wartość [zł] brutto | J5: Producent/Nazwa handlowa
A6: 1 | B6: Ciprofloxacinum tabl. powl. 500 mg | C6: porcja po 10 tabl. | D6: 500
A7: 2 | B7: Ciprofloxacinum roztwór do infuzji 2mg/ml | C7: porcja po 100ml | D7: 3000
A8: 3 | B8: Ciprofloxacinum roztwór do infuzji 2mg/ml | C8: porcja po 200ml | D8: 7000
B9: RAZEM | F9: =SUM(F6:F8) -> 0 | I9: =SUM(I6:I8) -> 0
B12: Data | H12: Podpis osoby/osób upoważnionej
B13: ……………………………………………. | H13: …………………… | I13: ……………………………….

Sheet Zadanie nr 39
A1: Załącznik nr 9 | H1: ZOZ/DZP/PN/10/20
A3: Zadanie nr 39 - Długo i krótko działające analogi insuliny i barbituran
A4: Lp. | B4: Nazwa produktu | C4: Jednostka miary | D4: Ilość | E4: Cena jednostkowa[zł] netto | F4: Wartość [zł] netto | G4: VAT | H4: Cena jednostkowa [zł] brutto | I4: Wartość [zł] brutto | J4: Producent/Nazwa handlowa
A5: 1 | B5: Insulinum glargine 300j. /ml | C5: 10 wstrzykiwaczy | D5: 30
A6: 2 | B6: Insulinum glargine 100j. /ml | C6: 5 wstrzykiwaczy | D6: 30
A7: 3 | B7: Insulinum glulisine 100j./ml | C7: 5 wstrzykiwaczy | D7: 30
A8: 4 | B8: Insulina Lizpro 100 j./ml, roztwór do wstrzykiwań, 10 wkładów po 3 ml | C8: 10 wstrzykiwaczy | D8: 20
A9: 5 | B9: Phenobarbitalum 40mg inj +2ml | C9: 1 szt. | D9: 12
B10: Razem | F10: =SUM(F5:F9) -> 0 | I10: =SUM(I5:I9) -> 0
B14: …………….., dnia ………………… ……………………………………
B15: Podpis
B16: osoby upoważnionej

Sheet Zadanie nr 40
A1: Załącznik nr 9 | H1: ZOZ/DZP/PN/10/20
A4: Zadanie nr 40 – Antybiotyki RTU
A5: Lp. | B5: Nazwa produktu | C5: Jednostka miary | D5: Ilość | E5: Cena jednostkowa[zł] netto | F5: Wartość [zł] netto | G5: VAT | H5: Cena jednostkowa [zł] brutto | I5: Wartość [zł] brutto | J5: Producent/Nazwa handlowa
A6: 1 | B6: Amikacinum 2,5mg/ml | C6: butelka do infuzji 100ml | D6: 100
A7: 2 | B7: Amikacinum 5mg/ml | C7: butelka do infuzji 100ml | D7: 100
A8: 3 | B8: Amikacinum 10mg/ml | C8: butelka do infuzji 100ml | D8: 100
A9: 4 | B9: Gentamicinum (roztwór) 80 mg/80 ml | C9: porcja fiolka 80 ml | D9: 100
A10: 5 | B10: Gentamicinum (roztwór) 240 mg/80 ml | C10: porcja fiolka 80 ml | D10: 100
A11: 6 | B11: Tobramycinum 240mg/80 ml | C11: Op=10 fl. | D11: 40
B12: RAZEM | F12: =SUM(F6:F11) -> 0 | I12: =SUM(I6:I11) -> 0
B16: Data | H16: Podpis osoby/osób upoważnionej
B17: ……………………………………………. | I17: ……………………………….

Sheet Zadanie nr 41
A1: Załącznik nr 9 | H1: ZOZ/DZP/PN/10/20
A4: Zadanie nr 41 - Antybiotyki
A5: Lp. | B5: Nazwa produktu | C5: Jednostka miary | D5: Ilość | E5: Cena jednostkowa[zł] netto | F5: Wartość [zł] netto | G5: VAT | H5: Cena jednostkowa [zł] brutto | I5: Wartość [zł] brutto | J5: Producent/Nazwa handlowa
A6: 1 | B6: Vancomycinym 1000 mg/5ml inj. i.v., p.o. | C6: porcja po 5 szt. | D6: 350
A7: 2 | B7: Clindamycin 150 mg/ml | C7: Porcja po 4ml w 5 amp | D7: 120
A8: 3 | B8: Clindamycin 600 mg | C8: porcja po 12 kaps. | D8: 20
A9: 4 | B9: Clindamycin 300mg | C9: porcja po 16 kaps. | D9: 30
B10: RAZEM | F10: =SUM(F6:F9) -> 0 | I10: =SUM(I6:I9) -> 0
B13: Data | H13: Podpis osoby/osób upoważnionej
B14: ……………………………………………. | I14: ……………………………….

Sheet Zadanie nr 42
A1: Załącznik nr 9 | H1: ZOZ/DZP/PN/10/20
B4: Zadanie nr 42 - Metronidazol
A5: Lp. | B5: Nazwa produktu | C5: Jednostka miary | D5: Ilość | E5: Cena jednostkowa[zł] netto | F5: Wartość [zł] netto | G5: VAT | H5: Cena jednostkowa [zł] brutto | I5: Wartość [zł] brutto | J5: Producent/Nazwa handlowa
A6: 1 | B6: Metronidazolum inj. iv. (roztwór) 5 mg/ml | C6: porcja po 1 fl. 100 ml | D6: 6500
B7: RAZEM | F7: =SUM(F6) -> 0 | I7: =SUM(I6) -> 0
B11: Data | H11: Podpis osoby/osób upoważnionej
B12: ……………………………………………. | I12: ……………………………….

Sheet Zadanie nr 43
A1: Załącznik nr 9 | H1: ZOZ/DZP/PN/10/20
A4: Zadanie nr 43 - Witamina K1
A5: Lp. | B5: Nazwa produktu | C5: Jednostka miary | D5: Ilość | E5: Cena jednostkowa[zł] netto | F5: Wartość [zł] netto | G5: VAT | H5: Cena jednostkowa [zł] brutto | I5: Wartość [zł] brutto | J5: Producent/Nazwa handlowa
A6: 1 | B6: Phytomenadionum (vit. K1) 2mg/0,2ml | C6: porcja po 5 amp. | D6: 230
B7: RAZEM | F7: =SUM(F6) -> 0 | I7: =SUM(I6) -> 0
B10: Data | G10: Podpis osoby/osób upoważnionej
B11: ……………………………………………. | G11: ………………………….. | I11: ……………………………….

Sheet Zadanie nr 44
A1: Załącznik nr 9 | H1: ZOZ/DZP/PN/10/20
B4: Zadania nr 44 - Imipenem, piperacillinum
A5: Lp. | B5: Nazwa produktu | C5: Jednostka miary | D5: Ilość | E5: Cena jednostkowa[zł] netto | F5: Wartość [zł] netto | G5: VAT | H5: Cena jednostkowa [zł] brutto | I5: Wartość [zł] brutto | J5: Producent/Nazwa handlowa
A6: 1 | B6: Imipenem/cilastatinum 500+500mg | C6: porcja po 10 fiol | D6: 250
A7: 2 | B7: Meropenem 500mg | C7: porcja po 10 fiol | D7: 150
A8: 3 | B8: Meropenem 1000mg | C8: porcja po 10 fiol | D8: 350
A9: 4 | B9: Piperacillinum + Tazobactamum 4g+0,5g | C9: porcja po 10fiol | D9: 600
B10: RAZEM | F10: =SUM(F6:F9) -> 0 | I10: =SUM(I6:I9) -> 0
B14: Data | H14: Podpis osoby/osób upoważnionej
B15: ……………………………………………. | H15: ………………….. | I15: ……………………………….

Sheet Zadanie nr 45
A2: Załącznik nr 9 | H2: ZOZ/DZP/PN/10/20
A4: Zadanie nr 45 - Insuliny i analogi
A5: Lp. | B5: Nazwa produktu | C5: Jednostka miary | D5: Ilość | E5: Cena jednostkowa[zł] netto | F5: Wartość [zł] netto | G5: VAT | H5: Cena jednostkowa [zł] brutto | I5: Wartość [zł] brutto | J5: Producent/Nazwa handlowa
A6: 1 | B6: Insulina aspart, szybkodziałający analog insuliny ludzkiej, którtkodziałające, doposiłkowe, analogowe,r-r do wstrzykiwań 100j.m./ml | C6: 10x3ml | D6: 30
A7: 2 | B7: Insulina detemir, długodziałający analog insuliny ludzkiej,analogowe, bazowe, długodziałające, r-r do wstrzykiwań 100j.m./ml | C7: 10x3ml | D7: 30
A8: 3 | B8: Insulina aspart/insulina aspart krystalizowana z protaminą w stosunku 30/70, analogowa mieszanka insulinowa, dwufazowa, zawiesina do wstrzykiwań 100j.m./ml | C8: 10x3ml | D8: 35
A9: 4 | B9: Insulina aspart/insulina aspart krystalizowana z protaminą w stosunku 50/50, analogowa mieszanka insulinowa, dwufazowa, zawiesina do wstrzykiwań 100j.m./ml | C9: 10x3ml | D9: 30
A10: 5 | B10: Insulina ludzka, szybkodziałająca, r-r do wstrzykiwań,100j.m./ml | C10: 5x3ml | D10: 45
A11: 6 | B11: Insulina ludzka izofanowa o posrednim czasie działania,zawiesina do wstrzykiwań, 100j.m./ml | C11: 5x3ml | D11: 45
A12: 7 | B12: Insulina ludzka i insulina ludzka izofanowa w stosunku 30/70, dwufazowa, ludzka mieszanina insuliny szybkodziałającej i długodziałającej,zawisina wstrzykiwań,100j.m./ml | C12: 5x3ml | D12: 25
A13: 8 | B13: Insulina ludzka i insulina ludzka izofanowa w stosunku 40/60, dwufazowa, ludzka mieszanina insuliny szybkodziałającej i długodziałającej,zawisina wstrzykiwań,100j.m./ml | C13: 5x3ml | D13: 20
A14: 9 | B14: Insulina ludzka i insulina ludzka izofanowa w stosunku 50/50, dwufazowa, ludzka mieszanina insuliny szybkodziałającej i długodziałającej,zawisina wstrzykiwań,100j.m./ml | C14: 5x3ml | D14: 20
A15: 10 | B15: roztwór do wstrzykiwań; 100 j./ml (zawiera: 70% insuliny degludec, 30% insuliny aspart); | C15: 5x3ml | D15: 10
A16: 11 | B16: Insulina Humalog 300j.m lub równoważna | C16: porcja po 5 wkładów | D16: 30
A17: 12 | B17: Insulina Humalog MIX 25 lub równoważna | C17: porcja po 5 wkładów | D17: 10
