Workbook

Sheet Zadanie nr 1
B1: Załącznik nr 9 | H1: ZOZ/DZP/PN/5/21
B3: Zadanie nr: 1 - Tonery, bębny i tusze do drukarek
A4: Lp. | B4: Nazwa produktu / model urządzenia | C4: Rodzaj materiału | D4: Oryginał / Zamiennik | E4: Jednostka miary | F4: Ilość | G4: Cena jednostkowa netto | H4: Wartość netto | I4: VAT | J4: Cena jednostkowa brutto | K4: Wartość brutto | L4: Producent / nazwa | M4: Numer strony na której znajduje się opis produktu
A5: 1 | B5: HP LJ 1010/18/20 | C5: Toner | D5: Oryginał lub Zamiennik | E5: szt. | F5: 25
A6: 2 | B6: HP 1102 | C6: Toner | D6: Oryginał lub Zamiennik | E6: szt. | F6: 65
A7: 3 | B7: HP P1005 | C7: Toner | D7: Oryginał lub Zamiennik | E7: szt. | F7: 12
A8: 4 | B8: HP Pro M102a | C8: Toner | D8: Oryginał lub Zamiennik | E8: szt. | F8: 30
A9: 5 | B9: HP M402dne duże | C9: Toner | D9: Oryginał lub Zamiennik | E9: szt. | F9: 30
A10: 6 | B10: HP LJ Pro MFP M225dn | C10: Toner | D10: Oryginał lub Zamiennik | E10: szt. | F10: 3
A11: 7 | B11: HP MFP- 428fdw małe | C11: Toner | D11: Oryginał | E11: szt. | F11: 35
A12: 8 | B12: HP MFP- 428fdw duże | C12: Toner | D12: Oryginał | E12: szt. | F12: 18
A13: 9 | B13: HP 1606DN | C13: Toner | D13: Oryginał lub Zamiennik | E13: szt. | F13: 3
A14: 10 | B14: HP Color LaserJet Pro M252 Kolor | C14: Toner | D14: Oryginał | E14: szt. | F14: 3
A15: 11 | B15: HP Color LaserJet Pro M252 Czarny | C15: Toner | D15: Oryginał | E15: szt. | F15: 2
A16: 12 | B16: Brother HL-2170W | C16: Toner | D16: Oryginał lub Zamiennik | E16: szt. | F16: 12
... A54: 50 | B54: Canon iR 1020 | C54: Bęben | D54: Oryginał | E54: szt. | F54: 1
B55: Razem | F55: 469 | H55: =SUM(H5:H54) -> 0 | K55: =SUM(K5:K54) -> 0
B59: Oswiadczam, że oferowany przedmiot zamówienia jest zgodny z opisem i spełnia wymagane parametry techniczne
B62: Data | G62: Podpis osoby/osób upoważnionej
B63: ……………………………………………. | G63: ……………………………….

Sheet Zadanie nr 2 
B1: Załącznik nr 9 | H1: ZOZ/DZP/PN/5/21
B3: Zadanie nr 2 - Tusze Rimage
A4: Lp. | B4: Nazwa produktu | C4: Jednostka miary | D4: Ilość | E4: Cena jednostkowa netto | F4: Wartość netto | G4: VAT | H4: Cena jednostkowa brutto | I4: Wartość brutto | J4: Producent/nazwa | K4: Numer strony na której znajduje się opis produktu
A5: 1 | B5: Tusz RIMAGE RC1 kolor | C5: szt. | D5: 6
A6: 2 | B6: Tusz RIMAGE RB1 czarny | C6: szt. | D6: 6
B7: Razem | F7: =SUM(F5:F6) -> 0 | I7: =SUM(I5:I6) -> 0
B11: Oswiadczam, że oferowany przedmiot zamówienia jest zgodny z opisem i spełnia wymagane parametry techniczne
B14: Data | G14: Podpis osoby/osób upoważnionej
B15: ……………………………………………. | G15: ……………………………….

Sheet zadanie nr 3  
B1: Załącznik nr 9 | H1: ZOZ/DZP/PN/5/21
B3: Zadanie nr 3 - Opaski identyfikacyjne
A4: Lp. | B4: Nazwa produktu | C4: Jednostka miary | D4: Ilość | E4: Cena jednostkowa netto | F4: Wartość netto | G4: VAT | H4: Cena jednostkowa brutto | I4: Wartość brutto | J4: Producent/nazwa handlowa | K4: Numer strony na której znajduje się opis produktu
A5: 1 | B5: Opaski identyfikacyjne dla pacjenta, pakowane – 48 kaset po 200szt.) | C5: szt. | D5: 48
B6: Razem | F6: =SUM(F5) -> 0 | I6: =SUM(I5) -> 0
B9: Oswiadczam, że oferowany przedmiot zamówienia jest zgodny z opisem i spełnia wymagane parametry techniczne
B12: Data | G12: Podpis osoby/osób upoważnionej
B13: ……………………………………………. | G13: ……………………………….

Sheet zadanie nr 4
B1: Załącznik nr 9 | H1: ZOZ/DZP/PN/5/21
B3: Zadanie nr 4 - Artykuły biurowe
A4: Lp. | B4: Nazwa produktu | C4: Jednostka miary | D4: Ilość | E4: Cena jednostkowa netto | F4: Wartość netto | G4: VAT | H4: Cena jednostkowa brutto | I4: Wartość brutto | J4: Producent/ nazwa produktu
A6: 1 | B6: Agrafka – niklowana,wykonana z hartowanej stali,twarde,długość 50mm,średnica 1mm,pakowane – po 12 szt. | C6: op | D6: 20
A7: 2 | B7: Arkusz spisu z natury A4 samo-kopia a 100 kart. | C7: bl. | D7: 20
A8: 3 | B8: Antyrama A3 płyta pleksi o grubości0,85 mm obustronnie oklejona folią ochronną 42x29,7 cm | C8: szt. | D8: 12
A9: 4 | B9: Antyrama A4 płyta pleksi o grubości 0,85 mm obustronnie oklejona folią ochronną 21x29,7 cm | C9: szt. | D9: 12 | M9: a
A10: 5 | B10: Blok techniczny A4,biały,odporny na wielokrotne wymazywanie gumką,ilość kartek- 10 szt,240g | C10: szt. | D10: 20
A11: 6 | B11: Blok techniczny A4,mix kolorów,odporny na wielokrotne wymazywanie gumką,ilość kartek- 10 szt,240g | C11: szt. | D11: 20
A12: 7 | B12: Brulion A4 96 k. Krata twarda oprawa, szyty | C12: szt. | D12: 120
A13: 8 | B13: Bibuła dekoracyjna a 10 rolek | C13: op. | D13: 6
A14: 9 | B14: Cienkopis, tusz odporny na wysychanie, fibrowa końcówka oprawiona w metal, skuwka w kolorze wkładu, grubość linii 0,4mm, kolor czarny, czerwony, zielony do podpisywania płyt CD | C14: szt. | D14: 60
A15: 10 | B15: Deska z klipsem A4 ze sztywną podkładką do pisania wyposażona w sprężysty mechanizm zaciskowy zapewniający przytrzymanie kartek papieru | C15: szt. | D15: 150
A16: 11 | B16: Datownik samotuszujący z datą w wersji ISO , wysokość cyfr/liter 4 mm | C16: szt. | D16: 40
A17: 12 | B17: Długopis żelowy, z wymiennym wkładem, grubość linii pisania 0,4mm, długość linii min. 800m, gumowy uchwyt w kolorze tuszu zapobiegający wyślizgiwaniu się długopisu podczas pisania, przezroczysty korpus, końcówka ze stali nierdzewnej atrament odporny na promieniowanie ultrafioletowe oraz wodę, kolor atramentu niebieski, czerwony, zielony, czarny | C17: szt. | D17: 1200
A18: 13 | B18: Długopis na łańcuszku stojący z samoprzylepną podstawką | C18: szt. | D18: 40
A19: 14 | B19: Długopis atramentowy, automatyczny grubość linii 0,5mm, w kolorze tuszu-niebieski, zielony, czerwony | C19: szt. | D19: 800
A20: 15 | B20: Długopis automatyczny w plastikowej obudowie, ,klip i gumowy uchwyt w kolorze tuszu,trwała kulka z węglików spiekanych 0,70 mm,szwajcarski wkład z tuszem gładko-piszącym do pisania po wszystkich rodzajach papieru, np. po odwrotnej stronie druków samokopiujących,kolor do wyboru niebieski, czarny | C20: szt. | D20: 500
A21: 16 | B21: Długopis wymazywalny, automatyczne pióro, posiada ergonomiczny uchwyt klip oraz silikonową końcówkę, za pomoca której można wymazywać zapisany tekst. Wymienny wkład, grubośc lini pisania 0,35 mm. Kolor do wyboru: niebieski, czarny, czerwony | C21: szt. | D21: 15
... A190: 185 | B190: Zszywki, rozmiar 24/6, ocynk, opakowanie 1000szt.zszywek | C190: op. | D190: 600
B191: Suma : | F191: =SUM(F6:F190) -> 0 | I191: =SUM(I6:I190) -> 0
B195: Oswiadczam, że oferowany przedmiot zamówienia jest zgodny z opisem i spełnia wymagane parametry techniczne
B198: Data | G198: Podpis osoby/osób upoważnionej
B199: ……………………………………………. | G199: ……………………………….

Sheet Zadanie nr 5 
B1: Załącznik nr 9 | H1: ZOZ/DZP/PN/5/21
B3: Zadanie nr 5- Fastykuły A4
A4: Lp. | B4: Nazwa produktu | C4: Jednostka miary | D4: Ilość | E4: Cena jednostkowa netto | F4: Wartość netto | G4: VAT | H4: Cena jednostkowa brutto | I4: Wartość brutto | J4: Producent/ nazwa produktu
A5: 1 | B5: Fastykuła archiwizacyjna A4 Przednia okładka o wymiarach 31,5cm x 21,8cm z 4 nitami(kółka metalowe); tylna okładka o wymiarach 31,5cm x 21,8cm z 4 nitami połączona z boczną okładką o wymiarach 31,5cm x 15,5 cm z mozliwością zgięcia. Całość pokryta płótnem skóropodobnym w kolorze białym. 2 paski białej taśmy 1,2m do związania fastykuły. Rozmieszczenie nitów na przedniej i tylnej okładce - odległość od górnej krawędzi 5cm, odległość od bocznej krawędzi 3,5cm. Okładka boczna z naklejką wg. wzoru poniżej. | C5: szt. | D5: 750
C6: Łącznie | F6: =SUM(F5) -> 0 | I6: =SUM(I5) -> 0
B9: Rysunek poglądowy:
B29: Oswiadczam, że oferowany przedmiot zamówienia jest zgodny z opisem i spełnia wymagane parametry techniczne
B32: Data | G32: Podpis osoby/osób upoważnionej
B33: ……………………………………………. | G33: ……………………………….

Sheet Zadanie nr 6 
B1: Załącznik nr 9 | H1: ZOZ/DZP/PN/5/21
B3: Zadanie nr 6 - Baterie
A4: Lp. | B4: Nazwa produktu | C4: Jednostka miary | D4: Ilość | E4: Cena jednostkowa netto | F4: Wartość netto | G4: VAT | H4: Cena jednostkowa brutto | I4: Wartość brutto | J4: Producent/ nazwa produktu
A5: 1 | B5: Bateria LR03 pojemność min 1100-1200mAh | C5: szt. | D5: 4800
A6: 2 | B6: Bateria LR06, Napięcie nominalne: 1,5V Wymiary: 14,5 x 50,5mm, Waga: 24g | C6: szt. | D6: 6000
A7: 3 | B7: Bateria LR14 System elektrochemiczny: Bateria alkaliczno-manganowa ZN/MN02 Rozmiar: C, Napięcie [V]: 1.5,pojemność minimalna: 7800mAh Średnica [mm]: 25.00 Wysokość [mm]: 50.00, waga: 66.0 gr | C7: szt. | D7: 700
A8: 4 | B8: Bateria LR20,Pojemność min.1300 mAh,Napięcie 1,5V,Długość 61,5mm,Waga 100g | C8: szt. | D8: 150
A9: 5 | B9: Bateria alkaiczna 6LR61,Napięcie 9V,Długość 25,5mm,Wysokość 47,5mm | C9: szt. | D9: 30
A10: 6 | B10: Bateria HR03 Akumulatorowa,Napięcie 1,2V,Pojemność 800mAh, (4 szt.op) | C10: op. | D10: 25
A11: 7 | B11: Bateria V357/SR44 W,Napięcie 1,55V,Pojemność 160mAh,Ogniwo guzikowe,tlenkowo-srebrowe,Rozmiar V 76 pk,Waga 2,4g | C11: szt. | D11: 150
A12: 8 | B12: Bateria CR 2032 3V Pojemność 500mAh.Waga 7,1 g Wymiary: 30.0x3.2 mm. | C12: szt. | D12: 150
A13: 9 | B13: Bateria CR 1632 Bateria litowa guzikowa napięcie [V]: 3.0 średnica [mm]: 16.0 wysokość [mm]: 3.2 | C13: szt. | D13: 15
A14: 10 | B14: Baterie alkaliczne 12V A23 Pojemność - 55 mAh Napięcie - 12 V Średnica - 10.3 mm Wysokość - 28.5 mm (opakowanie 2szt) | C14: op. | D14: 15
B15: SUMA: | F15: =SUM(F5:F14) -> 0 | I15: =SUM(I5:I14) -> 0
B19: Oswiadczam, że oferowany przedmiot zamówienia jest zgodny z opisem i spełnia wymagane parametry techniczne
B22: Data | G22: Podpis osoby/osób upoważnionej
B23: ……………………………………………. | G23: ……………………………….

Sheet Zadanie nr 7
B1: Załącznik nr 9 | H1: ZOZ/DZP/PN/5/21
B4: Zadanie nr 7 - Nośniki optyczne
A5: Lp. | B5: Nazwa produktu | C5: Jednostka miary | D5: Ilość | E5: Cena jednostkowa netto | F5: Wartość netto | G5: VAT | H5: Cena jednostkowa brutto | I5: Wartość brutto | J5: Producent/nazwa
A6: 1 | B6: Płyty CD Printable AZO lub równoważne spełniające opisane parametry techniczne. Pojemność 700,00 MB Rodzaj nośnika: CD Prędkość nagrywania 52x Okres przechowywania danych minimum 10 lat Powłoka AZO lub inna chroniąca przed promieniowaniem UV Powierzchnia biała do nadruku atramentowego. Średnica zewnętrzna pola zadruku 118mm +/-1mm Średnica zewnętrzna nośnika 120mm +/-1mm Średnica wewnętrzna pola zadruku 23mm +/-1mm Pakowane po minimum 50 sztuk w opakowanie typu HUB ale nie więcej niż 100 sztuk opakowanie typu HUB zgodność ze standardem DICOM data produkcji nie może być dłuższa niż 12 miesięcy przed dniem dostawy Możliwość stosowania płyt w duplikatorze płyt Rimage 2000i | C6: szt. | D6: 30000 | L6: 0.87
A7: 2 | B7: Płyta VERBATIM DVD+R, 4.7 GB, 16x lub równoważna spełniająca opisane parametry techniczne. Rodzaj nośnika: DVD+R Pojemność: 4,7 GB Prędkość nagrywania 16x Średnica zewnętrzna nośnika 120mm Powierzchnia pokryta materiałem umożliwiającym opisywanie nośnika za pomocą pisaków przeznaczonych do podpisywania nośników CD/DVD. Pakowane po minimum 50 sztuk w opakowanie typu HUB ale nie więcej niż 100 sztuk opakowanie typu HUB Zgodność ze specyfikacjami i standardami organizacji DVD-Forum (http://www.dvdforum.org) Data produkcji nie może być dłuższa niż 12 miesięcy przed dniem dostawy. | C7: szt. | D7: 330 | L7: 0.49
B8: Razem | F8: =SUM(F6:F7) -> 0 | I8: =SUM(I6:I7) -> 0
B12: Oswiadczam, że oferowany przedmiot zamówienia jest zgodny z opisem i spełnia wymagane parametry techniczne
B15: Data | G15: Podpis osoby/osób upoważnionej
B16: ……………………………………………. | G16: ……………………………….

Sheet podsumowanie
D9: wartośc netto | E9: wartośc brutto
C10: Zadanie nr: 1 - Tonery, bębny i tusze do drukareknie nr 1 | D10: ='Zadanie nr 1'!H55 -> 0 | E10: ='Zadanie nr 1'!K55 -> 0
C11: Zadanie nr 2 - Tusze Rimage | D11: ='Zadanie nr 2 '!F7 -> 0 | E11: ='Zadanie nr 2 '!I7 -> 0
C12: Zadanie nr 3 - Opaski identyfikacyjne | D12: ='zadanie nr 3 '!F6 -> 0 | E12: ='zadanie nr 3 '!I6 -> 0
C13: Zadanie nr 4 - Artykuły biurowe | D13: ='zadanie nr 4'!F192 -> 0 | E13: ='zadanie nr 4'!I192 -> 0
C14: Zadanie nr 5- Fastykuły A4 | D14: ='Zadanie nr 5 '!F7 -> 0 | E14: ='Zadanie nr 5 '!I7 -> 0
C15: Zadanie nr 6 - Baterie | D15: ='Zadanie nr 6 '!F16 -> 0 | E15: ='Zadanie nr 6 '!I16 -> 0
C16: Zadanie nr 7 - Nośniki optyczne | D16: ='Zadanie nr 7'!F8 -> 0 | E16: ='Zadanie nr 7'!I8 -> 0
C17: RAZEM | D17: =SUM(D10:D16) -> 0 | E17: =SUM(E10:E16) -> 0
