Workbook

Sheet zadanie nr 1
A1: Załącznik nr 9 | I1: ZOZ/DZP/PN/10/21
A3: Zadanie 1 Chemia profesjonalna
A4: Lp. | B4: Opis przedmiotu zamówienia | C4: Jednostka miary | D4: Ilość | E4: Cena jedn. netto | F4: Wartość netto | G4: VAT % | H4: Cena jedn. brutto | I4: Wartość brutto | J4: Nazwa handlowa, producent
A5: 1 | B5: Uniwersalny koncentrat czyszczący. Przeznaczony do wszystkich dających się zmywać powierzchni, w szczególności z połyskiem, np. lakierowane powierzchnie, ceramiczne, płytki ścienne i podłogowe, tworzywa sztuczne, podłogi kamienne, szkło. pH: 5,5-6,5 (100%). Kolor: niebieski. Skład: Propan-2-ol 10-20%, alkiloeterosiarczany 1-2,5%, salicylan heksylu <0,1% niejonowe związki powierzchniowo czynne >15<30%, anionowe związki powierzchniowo czynne <5%. Zawiera substancje zapachowe: np.(Limonene, Linalool, Citronellol, Coumarin). Wydajność 1 l koncentratu – 1000 l roztworu roboczego. Opakowanie 1L. | C5: 1L | D5: 125
A6: 2 | B6: Koncentrat pielęgnacyjno-czyszczący. Idealny do podłóg pokrytych akrylanem oraz niezabezpieczonych. Wodorozcieńczalne komponenty tworzą odporną na zabrudzenia, przezroczystą antypoślizgową powłokę ochronną. Przeznaczony do wszystkich wodoodpornych podłóg z wyjątkiem wykładzin dywanowych i z surowego drewna. pH: 8,3-8,7 (100%). Kolor purpurowy [ciemny]. Skład: anionowe związki powierzchniowo czynne: 5-15%, niejonowe związki powierzchniowo czynne: <5%,laurylosiarczan sodu 5-10%. Etoksylowany alkohol tłuszczowy >5EO: 2,5-5%, 2-fenoksyetanol: 1-2,5%. Wydajność 1 l koncentratu – 1000 l roztworu roboczego. Opakowanie 1 L | C6: 1L | D6: 150
A7: 3 | B7: Koncentrat czyszczący do sanitariatów. Posiada znakomite właściwości czyszczące. Usuwa kamień z wody i moczu, przy codziennym stosowaniu. Daje świeży zapach i wysoki połysk. Przeznaczony do wszystkich powierzchni przedmiotów znajdujących się w pomieszczeniach sanitarnych. Idealny do podłóg, drzwi, ścian, umywalek i prysznicy. pH: 0,9-1,1 (100%). Skład: >5 -<15% niejonowe związki powierzchniowo czynne, 15-20 % kwas amidosiarkowy (VI), 10-20 % etoksylowany izotridekanol, kwas cytrynowy 1-2,5%. Wydajność 1 l koncentratu – 1000 l roztworu roboczego.Produkt barwiony. Opakowanie. 1 litr. | C7: 1L | D7: 100
A8: 4 | B8: Wyskowydajna emulsja polimerowa o wysokiej odporności na działanie środków do dezynfekcji powierzchni i skóry na bazie alkoholu. Idealny do domów opieki, szpitali oraz innych miejsc o zaostrzonych standardach higieny, w których wymagane jest stosowanie środków do szybkiej dezynfekcji dłoni i powierzchni. Zaawansowane właściwości adhezyjne pozwalają zastosować krótko po dokładnym oczyszczeniu podłogi. Produkt nie sklasyfikowany jako substancja lub mieszanina niebezpieczna wg rozporządzenia WE 1272/2008. pH 8,3-9,1 (100%), Środki powierzchniowo czynne zawarte w produkcie są biodegradowalne zgodnie z wymaganiami rozporządzenia w sprawie detergentów 648/2004/WE. Zawiera: 1,2-benzizotiazol-3-on. mniej niż 5 %: Niejonowe środki powierzchniowo czynne. pH 8,3 do 9,1 [stęż. [%w/w]- 100%]. Opakowanie kanister 5L. | C8: 5L | D8: 15
A9: 5 | B9: Niewymagając spłukiwania preparatem do usuwania powłok, wysoce skutecznym w przypadku wielu warstw dyspersji polimerowej. Niskopieniąca, niezawierająca amoniaku, substancji zapachowych ani barwników formuła, oparta jest na nowej generacji surowcach o znakomitych właściwościach związanych z biodegradacją. Preparat tworzy efekt antypoślizgowości w trakcie usuwania powłok, zwiększając bezpieczeństwo miejsca pracy, a także ma świeży zapach. Wykazuje krótki czas działania - minimum 5 minut. Zalecane dozowanie: 1:1 do 1:3. pH 10,1 - 10,6 (100%) Skład: Fenoksyetanol 5-10%, 2-(2-butoksyetoksy)etanol 5-10%, 1-butoksypropan-2-ol 5-10%, Etoksylowane alkohole 1-2,5%, Kumenosulfonian sodu 1-2,5%, Etanoloaminy, anionowe i niejonowe środki powierzchniowo czynne <5%. Opakowanie kanister 5L | C9: 5L | D9: 15
A10: 6 | B10: Płynny, wysoko skoncentrowany, płynny środek do mycia naczyń w zmywarkach przemysłowych. Dzięki umiarkowanej zasadowości idealnie nadaje się do mycia materiałów delikatnych, jak szkło, niezależnie od stopnia twardości wody. Nie zawiera NTA, EDTA, fosforanu i chloru. Zalecane dozowanie (w zależności od twardości wody i stopnia zanieczyszczenia naczyń) od 1 do 3 g/l.pH:13 do 13,9 /100%/.Skład: wodorotlenek sodu: 5-10%, polikarboksylany 5-15% .Opakowanie kanister 12kg | C10: 12 kg | D10: 20
A11: 7 | B11: Środek nabłyszczający do płukania naczyń w zmywarkach przemysłowych. Przeznaczony do wody twardej. Zalecane dozowanie (w zależności od twardości wody i materiału płukanych przedmiotów) od 0.1 do 0.6 g/L.pH: 5,5 do 7,5 /100%/.Skład: >5-<15% niejonowe związki powierzchniowo czynne, glutaraldehyd,etoksylowany alkohol tłuszczowy=/<5 i =5EO: 5-10%,kumenosulfonian sodu 5-10%, alkohole etoksylowane: 3-5%.Opakowanie kanister 10kg | C11: 10 L | D11: 24
A12: 8 | B12: Koncentrat do usuwania osadów mineralnych ze zmywarek, bemarów, kotłów. Zawierający substancje chroniące powierzchnie przed korozją. Zalecane stężenie: 5-10%, pH: 0,2-0,5% [Stęż. (%w/w): 100%]. Skład: kwas fosforowy 20-25%, kwas azotowy 5-10%, alkohole 1-2,5%, niejonowe związki powierzchniowo czynne <5%. Opakowanie kanister 5L | C12: 5L | D12: 13
A13: 9 | B13: Skoncentrowany, alkaliczny środek do pianowego, codziennego mycia powierzchni, szczególnie skuteczny w usuwaniu tłuszczu, białka, brudu z wodoodpornych powierzchni i powierzchni odpornych na działanie alkaliów (sprzętu, przedmiotów ze stali nierdzewnej, stołów roboczych, desek do krojenia, ścian, posadzek), przeznaczony do kuchni, stołówek oraz do działów świeżej żywności. Zalecane stężenie 1-3%, pH: 10,7-11,3 (100%). Skład: Poliglikozyd C8-10 3-5%, Kumenosulfonian sodu 1-2,5%, Anionowe środki powierzchniowo czynne, Niejonowe środki powierzchniowo czynne <5%. Opakownie kanister 5L | C13: 5L | D13: 3
A14: 10 | B14: Wysoce skuteczny środek myjąco-dezynfekcyjny bez NTA, EDTA; środek bez zapachu i barwników. Produkt myje oraz rozpuszcza tłuszcz i uporczywy brud, szczególnie polecany do zastosowania w pomieszczeniach w których przetwarzana jest żywność. Posiada szerokie spektrum działania dezynfekcyjnego: baketriobójcze zgodnie z normą EN 1276 i EN 13697 w stężeniu 1% w czasie 5 minut, drożdżakobójcze zgodnie z normą EN 1650 w stężeniu 0,5% w czasie 15 minut. drożdżakobójcze zgodnie z normą EN 13697 w stężeniu 0,5% w czasie 5 minut. Zalecane stężenie: 0,5-1,0%. Skład: Alkil chlorku dimetylobenzyloamonu 5-10%, Etoksylowany alkohol 1-2,5%. Glikol etylenowy, Kationowe i niejonowe związki powietrzchniowo czynne: 5-15%, niejonowe środki pow. czynne <5%. Substancje czynne: czwartorzędowe związki amonowe, benzylo-C12-16-alkilodimetylowe, chlorek didecylodimetyloamonu. Opakowanie kanister 5L. pH: 11,9 do 12,9 (100%). | C14: 5 L | D14: 3
A15: 11 | B15: Gotowy do użycia środek dezynfekcyjny skutecznie likwidujący bakterie, grzyby i wirusy. Jednoczesne działanie wszystkich składników aktywnych środka zapewnia szybką dezynfekcję na obszarach mających kontakt z żywnością takich jak stoły czy krajalnice. Nie wymaga spłukiwania. Bakteriobójczy, grzybobójczy, drożdżakobójczy, wirusobójczy wobec Murine Norovirus. pH: 7,5-8,5. Skład: Propan-2-ol 30-50%, alkohol propylowy 20-25%. Opakowanie butelka ze spryskiwaczem 750 ml. | C15: 750 ml | D15: 10
A16: 12 | B16: Gotowy do użycia środek dezynfekcyjny skutecznie likwidujący bakterie, grzyby i wirusy. Jednoczesne działanie wszystkich składników aktywnych środka zapewnia szybką dezynfekcję na obszarach mających kontakt z żywnością takich jak stoły czy krajalnice. Nie wymaga spłukiwania. Bakteriobójczy, grzybobójczy, drożdżakobójczy, wirusobójczy wobec Murine Norovirus. pH: 7,5-8,5. Skład: Propan-2-ol 30-50%, alkohol propylowy 20-25%. Opakowanie butelka 5L | C16: 5 L | D16: 5
... A23: 19 | B23: Brykiet solny 25kg worek | C23: 25kg | D23: 35
C24: RAZEM | F24: =SUM(F5:F23) -> 0 | I24: =SUM(I5:I23) -> 0
A26: 1. Do produktów dezynfekcyjnych wymagany jest pozwolenie na obrót produktem biobójczym.
A27: 2. Produkty od 1 do 16 powinny być kompatybilne ze sobą i pochodzić od jednego producenta.
A28: 3. Do pozycji 1, 2, 3 Zamawiający wymaga dostarczenia, zamontowania i serwisowania nieodpłatnie (wliczone wcenę oferty) przez okres trwania umowy 20 szt. kompletnych, automatycznych systemów dozujących wykonanych z ABS. W skład każdego systemu wchodzi urządzenie umożliwiające podłączenie 4 preparatów i dozowanie ich w stężeniu od 0,1%, 2 do wiadra i 2 do butelk. Opakowanie z koncentratem umieszczone są w sposób uniemożliwiający dostęp do koncentratu (zamykane na klucz) osobom postronnym. System dozowania podaje gotowy roztwór roboczy w odpowiednim dla wskazanych produktów stężeniu. System dozujący oraz koncentraty zamontowane na ścianie.
A29: 4. Wszystkie zaproponowane preparaty muszą być zgodne z Rozporządzeniem Parlamentu Europejskiego i Rady w sprawie rejestracji, oceny, udzielania zezwoleń i stosownych ograniczeń w zakresie chemikaliów. Zgodność ta musi być potwierdzona w dostarczonych wraz z pierwszą dostawą kartach charakterystyki oferowanych preparatów.
A30: 5. Do produktów z pozycji 6 i 7 Zamawiający wymaga na czas trwania umowy dostarczenia, zamontowania i serwisowania bezpłatnie 3 szt. dozownika automatycznego, elektrycznego, dwuskładnikowego, zasilanego 12 volt i 230 volt
A31: 6. Do pozycji nr 13 i 14 Zamawiający wymaga dostarczenia, zamontowania i serwisowania bezpłatnie (wlicozne w cenę oferty) przez okres trwania umowy 2 stacji dozującej na jeden produkt, podającej dawkę koncentratu od 3 ml, wykonanej z ABS umożliwiających dozowanie preparatu do butelki.
A32: 7. Dodatkowo do produktu z pozycji 13 i 14 Zamawiający wymagadostarczenia, zamontowania i serwisowania nieodpłatnie (wliczone wcenę oferty) przez okres trwania umowy 2 szt. zamykanego na klucz pojemnika kompatybilnego z systemem dozującym, na 2L worki z koncentratem z w/w produktów, uniemożliwiające dostęp do preparatu osobom postronnym. Zamknięte pojemniki nie mogą zasłaniać dolnej części worków z koncentratem, umożliwiając tym samym ocenę ilość środka bez konieczności otwierania pojemników.
A33: 8. Do pozycji 1-5 i 14 Wykonawca dostarczy 20 szt. zalaminowanych planów higieny.
A34: 9. Do pozycji 6-17 Wykonawca dostarczy 10 szt. zalaminowanych planów higieny. Wykonawca dołączy również 10 Instrukcji użytkowania do poz. 12 dotyczących postępowania z danym koncentratem, nie później niż przed pierwszą dostawą zakupionych środków.
A35: 10. Do pozycji 9 i 10 Zamawiający wymaga dostarczenia, zamontowania i serwisowania bezpłatnie (wlicozne w cenę oferty) przez okres trwania umowy 1 sztuki dozownika przepływowego, wyposażonego w plastikową obudowę zabezpieczającą wewnętrzne elementy dozownika, dozującego 2 produkty, z 20 m wężem i pistoletem spryskującym wraz z 2 szt. wiszących koszy na kanistry.
A36: 11. Wykonawca, z którym zostabnie podpisana umowa zobowiązany jest do przeprowadzenia w siedzibie zamawiającego po podpisaniu umowy szkoleń produktowych dla personelu z zakresu bezpiecznego i skutecznego używania zaoferownych środków i systemów dozujących dla 65 osób w systemie zmianowym oraz szkoleń przypominajacych na rządanie zamawiającego w trakcie realizacji umowy.
A37: 12. Wykonawca zapewni do wszystkich zamontowanych systemów dozujacych bezpłatną opiekę serwisową (wliczone w cenę oferty) na każde wezwanie zamawiającego.
... A40: 15. System dozujący i pojemniki na koncentraty będą dostarczone i zamontowane przez wykonawcę we wskazanych przez zamawiającego miejscach do 7 dni od podpisania umowy.
B42: …………….., dnia ………………… ……………………………………
B43: Podpis
B44: osoby upoważnionej

Sheet Zadanie nr 2
A1: Załącznik nr 9 | I1: ZOZ/DZP/PN/10/21
A3: Zadanie 2 Chemia gospodarcza
A4: Lp. | B4: Opis przedmiotu zamówienia | C4: Jednostka miary | D4: Ilość | E4: Cena jedn. netto | F4: Wartość netto | G4: VAT % | H4: Cena jedn. brutto | I4: Wartość brutto | J4: Nazwa handlowa, producent
A5: 1 | B5: Żel do WC – op 750 ml. Preparat biobójczy do czyszczenia, wybielania i dezynfekcji sanitariatów, skuteczny wobec grzybów i bakterii. Skuteczność dezynfekcji do 15 min. Konsystencja żelu. Środek powinien posiadać pozwolenie Ministra Zdrowia na obrót preparatem biobójczym. Skład: podchloryn sodowy < 5 % aktywnego chloru, wodorotlenek sodu, ług sodowy <5 %, anionowe środki powierzchniowo – czynne, kompozycje zapachowe. Właściwości fizykochemiczne: ciecz lekko żółta o zapachu chlorowym, pH 12,5 gęstość względna ( w temp. Pokojowej )1,07 g / cm3 Opakowanie 750ml | C5: op=750ml | D5: 1500
A6: 2 | B6: Kwaśny preparat do czyszczenia urządzeń i powierzchni sanitarnych. Zastosowanie Środek przeznaczony do gruntownego czyszczenia glazury, armatur oraz sprzętów m.in. na pływalniach, basenach, w toaletach, łaźniach, natryskach oraz do czyszczenia powierzchni odpornych na działanie kwasów. Stosować do czyszczenia ceramiki, metali kwasoodpornych, kauczuku, gumy, szkła. Właściwości: - samoczynnie usuwa trwały brud i osady z kamienia wapniowego, moczu, rdzy, mydła, cementu oraz inne osady pochodzenia organicznego, - dzięki gęstej konsystencji długo utrzymuje się na czyszczonych powierzchniach, - działa antybakteryjnie. Barwa preparatu - różowa, pH, 1,00 - 1,03, Skład : 5-15 % niejonowe środki powierzchniowo-czynne , kwas nieorganiczny , <5% anionowe środki powierzchniowo-czynne, < 5% kompozycja zapachowa , 5-10% hydrogen chloride, 5-7 % Alkohols , C10-16, ethoxylated, <3% Benzenesulfonic acid 4-C10-13-sec-alkyl dervis. Opakowanie 1L | C6: 1L | D6: 425
A7: 3 | B7: Gotowy do użycia preparat do czyszczenia powierzchni szklanych. Preparat w postaci sprayu (nie aerozolu). Produkt szybkoschnący o świeżym, przyjemnym zapachu, nie pozostawiający smug i zacieków na mytych powierzchniach. Zawierający nanocząsteczki krzemu. Posiadający właściwości antystatyczne. Preparat nie wymagający wycierania do sucha i polerowania. pH preparatu 10,0-11,0. Opakowania 0,6L | C7: 0,6L | D7: 425
A8: 4 | B8: Preparat do ręcznego mycia naczyń do zastosowania profesjonalnego • o pH koncentratu 6,5 do 7,5 • i gęstości względnej od 1.045 do 1.055 g/cm3 (20 °C) • zawierający: Alcohols C12-14, ethoxylated, sulfates, sodium salts < 10% , 1-Propanaminum, 3-amino-N- ( carboxymethyl)-N, N-dimethyl-, N-coco actl derivs, hydroxides , inner salts < 3% oraz substancje zapachowe • nie zawierający fosforanów • dozowanie preparatu w zależności od mytej powierzchni i zabrudzeń od 5 ml na 10 L wody. • opakowanie – pojemności 1 litrów. | C8: 1L | D8: 500
A9: 5 | B9: Preparat do ręcznego mycia naczyń do zastosowania profesjonalnego • o pH koncentratu 6,5 do 7,5 • i gęstości względnej od 1.045 do 1.055 g/cm3 (20 °C) • zawierający: Alcohols C12-14, ethoxylated, sulfates, sodium salts < 10% , 1-Propanaminum, 3-amino-N- ( carboxymethyl)-N, N-dimethyl-, N-coco actl derivs, hydroxides , inner salts < 3% oraz substancje zapachowe • nie zawierający fosforanów • dozowanie preparatu w zależności od mytej powierzchni i zabrudzeń od 5 ml na 10 L wody. • opakowanie – pojemności 5 litrów. | C9: 5L | D9: 190
A10: 6 | B10: Łagodne mleczko czyszczące do silnie zabrudzonych powierzchni o właściwościach polerujących szczególnie zalecany do kuchni i sanitariatów wysoce skoncentrowany, gotowy do użycia do stosowania doraźnego pH koncentratu 7 – 10. - kolor kremowy - postać: płynna pasta o gestości względnej od 1.2 do 1.3 Zawiera w składzie: <5% niejonowe środki powierzchniowo-czynne, anionowe środki powierzchniowo-czynne, polikarboksylany, kompozycja zapachowa, Kwasy sulfonowe, C14-17-sec-alkan-, sole sodowe, Izotridekanol, etoksylowany, opakowanie butelka o pojemności 1 litra | C10: 1L | D10: 325
A11: 7 | B11: Proszek do szorowania podwójnie wybielający • zawierający w składzie Kwas benzenosulfonowy, mono-C10-13-alkilo pochodne, sól sodowa • wartość pH 9 (1%) • gęstość względna: nie mniejsza niż 1,04 g/cm3 • 1 opakowanie – 500g. | C11: 500g | D11: 150
A12: 8 | B12: Środek do udrożniania rur w ostaci żelu. Przeznaczony do stosowania w odpływach umywalek, wanien, pryszniców, zlewów. Polecany do stosowania w kuchniach i łazienkach. Nadaje się do udrożniania rur wszystkich rodzajów ( z tworzyw sztucznych, metalowych itp.) Właściwości: bardzo skuteczny w działaniu, rozpuszcza złogi powstałe z resztek mydła, włosów, tłuszczu, żywności, regularne stosowanie preparatu zapobiega zatykaniu rur, usuwa nieprzyjemne zapachy. Wartośc pH (konc.) 13,00-13,5 Skład : 2-<5% wodorotlenek sodu, 1-<5% Chloran (I) sodu, roztwór zawierający aktywny chlor, 0, 1-<1% Aminy, C12-18 alkilodimetylo ,N-tlenki. Opakowanie 1 l | C12: 1L | D12: 60
A13: 9 | B13: Preparat do udrażniania rur i odpływów. Skutecznie rozpuszcza zanieczyszczenia stałe (organiczne), udrażnia wszelkie zatory w rurach i odpływach kanalizacyjnych. Zabijając bakterie rozwiązuje problemy nieprzyjemnego zapachu. Nie uszkadza uszczelek, połączeń kanalizacyjnych. Środek zawiera wodorotlenek sodu. Opakowanie granulki - 1 kg | C13: 1kg | D13: 25
A14: 10 | B14: PROSZEK DO PRANIA TKANIN BIAŁYCH I KOLOROWYCH w kolorze kremowo-białym z niebieskimi , zielonymi i czerwonymi granulkami. pH - 5,0 - 7,0. Gęstość względna ( g/m3) - 0,9-1,1. Węglan sodowy 10,0-20,0 ( % wag.) Kwas alkilobenzenosulfonowy < 2,0 %, Alkohole tłuszczowe C11-13 rozgałęzione oksyetylenowany (5-20 molami tlenku etylenu) < 1,0 % wag Przeznaczony do wszystkich rodzajów pralnic i pralek. Opakowanie 5 kg . | C14: 5kg | D14: 75
A15: 11 | B15: Bezwodny preparat do konserwacji i pielęgnacji powierzchni ze stali nierdzewnej. Preparat do bezpośredniego użycia w postaci sprayu (nie aerozolu). Usuwający ślady palców oraz pozostawiający połysk. Preparat dopuszczony do stosowania w miejscach zbiorowego żywienia. pH preparatu 5,5 – 7,0. Gęstość koncentratu 0,970 – 0,980 g/cm3. Opakowania 0,6L z triggerem. | C15: szt | D15: 75
A16: 12 | B16: Aktywny preparat do usuwania tłustych i trudnych zabrudzeń. Doskonale usuwa zabrudzenia m.in. z plastikowych ram okiennych. Preparat do bezpośredniego użycia w postaci sprayu (nie aerozolu) nie sklasyfikowany jako mieszanina niebezpieczna. Produkt szybkoschnący o świeżym, przyjemnym zapachu. Preparat nie wymagający wycierania do sucha i polerowania. Preparat nie może zawierać w swoim składzie wodorotlenku sodu ani potasu. pH preparatu 12,0-13,0. Opakowania 0,5L. | C16: 0,5L | D16: 175
... A22: 18 | B22: Preparat do usuwania kleju. Usuwa naklejki, etykiety, resztki kleju, gumę, szminkę, atrament,tusz, olej, tłuszcz, sadzę, smołę i inne, z drzwi, okien, szyb, PCV, kamienia i tekstyliów.Skład : 2-butoksyetanol 13-30 % wag. ; Etanol 5-10% wag. ; Izotridekanol etoksylowany 1-2% wag. ; niejonowe związki powierzchniowo czynne – poniżej 5 %.Wartość pH w 20°C: -7,5 - 8,5. Opakowanie : butelka 500ml ze spryskiwaczem | C22: szt | D22: 50
B23: RAZEM | F23: =SUM(F5:F22) -> 0 | I23: =SUM(I5:I22) -> 0
B25: …………….., dnia ………………… ……………………………………
B26: Podpis
B27: osoby upoważnionej

Sheet zadanie nr 3
A1: Załącznik nr 9 | I1: ZOZ/DZP/PN/10/21
A3: Zadanie 3 Artykuły higieniczne
A4: Lp. | B4: Asortyment | C4: jm | D4: Ilość | E4: Cena jednostkowa netto | F4: Wartość netto | G4: VAT | H4: Cena jednostkowa brutto | I4: Wartość brutto | J4: Nazwa handlowa, producent
A5: 1 | B5: Czyściwo perforowane w roli centralnego dozowania, do lekkich zabrudzeń. Posiadające wyjmowaną gilzę Smart Core. Chłonne, wytrzymałe, 1 -warstwowe w kolorze białym ( nasycenie bieli 82%), wykonane z makulatury i celulozy ( mix) o wymiarach odcinka 19,8 x 35 cm ( + - 2%). Długość rolki 299,95 m ( + - 2 %), ilość odcinków 857 szt, gramatura 24,5 g/m2. Czyściwo dozownanie przez dozownik po jednym odcinku. Pakowane po 6 rolek. Czyściwo posiadające certyfikat ekologiczny EU ECOLABEL. oraz dopuszczenie do kontaktu z żywnością. Ostatnie od 3-5 m ręcznika z nadrukiem paska w kolorze niebieskim umożliwiający kontrolę zużycia wkładu. | C5: op | D5: 475
A6: 2 | B6: Ręcznik w roli do systemu dozującego po jednym odcinku. Odcinek odcinany za pomoca gilotyny (6 szt. w kartonie) - 2 warstwowy, biały, miękki - wymiary odcinka po odcięciu gilotyną: 21x25 cm - celuloza i makulatura - długość roli 150 m, średnica rolki 19 cm -dwie warstwy klejone za pomocą wzoru w postaci listka - nasycenie bieli 82 % - gramatura całkowita: 41,5 g/m2 - każda rolka z wbudowanym z boku oryginalnie plugiem umozliwiającym szybkie zamontowanie roli w dozowniku Ręcznik posiadający dopuszczenie do kontaktu z zywnościa oraz certyfikat ekologiczny EU Ecolabel.Ręcznik wykonany w technologii, dzięki której jest bardziej chłonny oraz wytrzymały na rozrywanie ( potwierdzenie technologii zobowiazany jest dostarczyć producent w oryginale). Kazda rolka zabezpieczona banderolą na której jest umieszczona instrukcja montażu rolki. | C6: op | D6: 130
A7: 3 | B7: Podkład medyczny w roli 50cm x 50 mb - biały - 2 warstwowy, perforowany - materiał: celuloza, nasycenie bieli 82% , gramatura 2x17 g/m2 -wymiary odcinka 50 cm x 37,8 cm - średnica 13,1 - 13,22 cm - ilość rolek w kartonie: 9 x 132 odcinki | C7: op | D7: 90
A8: 4 | B8: Podkład medyczny w roli 59cm x 50 mb - biały, nasycenie bieli 82%, 2-warstwowy -materiał- celuloza, gramatura 2x17 g/m2. - wymiary odcinka 59cm x37,8 cm - średnica rolki 13,1 - 13,22 cm - ilość rolek w kartonie: 9 x 132 odcinków | C8: op | D8: 150
A9: 5 | B9: Czyściwo papierowe w roli do systemu W1/W2 (2 szt w kartonie po 350 odcinków) - 3-warstwowe, niebieskie, perforowane - materiał celuloza TAD, gramatura 3 x 20 g/m2 - długość rolki 119m, średnica 26.2cm - wymiar odcinka 23.5x34cm opakowanie 2 sztuki | C9: op | D9: 450
A10: 6 | B10: Papier toaletowy centralnie dozowany w odcinkach pasujący do dozownika białego, wykonanego z ABS i MABS. Wymiary dozownika: 26,9x26,9x15,6 cm. Dozownik wyposażony w metalowy zamek, zamykany na kluczyk, posiadający dwie opcje zamykania zamka: poprzez kluczyk oraz w pozycji drugiej poprzez naciśnięcie przycisku. Papier toaletowy o długości min 207 metrów, perforacja co 18 cm. Ilość odcinków na rolce min. 1150, średnica rolki 19,9 cm. Szerokość odcinka 13,4 cm. Papier koloru białego, 2-warstwowy, wykonany z celulozy i makulatury, gramatura min 2 x 16,5 g/m2. Nasycenie bieli 84%. Rolka wyposażona w gilzę z usuwaniem w systemie smart Core. Opakowanie 6 sztuk . | C10: op | D10: 225
A11: 7 | B11: Dozownik w kolorze białym, wykonany z ABS i MABS. Wymiary dozownika: 26,9x26,9x15,6 cm. Dozownik wyposażony w metalowy zamek, zamykany na kluczyk, posiadający dwie opcje zamykania zamka: poprzez kluczyk oraz w pozycji drugiej poprzez naciśnięcie przycisku. Dozownik dozujący papier toaletowy po jednym odcinku. | C11: szt | D11: 45
A12: 8 | B12: Dozownik z materiału wandaloodpornego ABS i MABS Poprawa higieny dzięki łatwemu czyszczeniu . Dzięki specjalnej konstrukcji dozownik każdorazowo dozuje równy odcinek czyściwa o wymiarach 19,8 cm( +_ 2%) x 35 cm. ( +- 2%) Dozownik do czyściwa o wymiarach: 25,5 cm x 33,1 cm x 23,9 cm w kolorze białym. Przeżroczysta pokrywa dozownika umozliwiajaca kontrolę zuzycia wkłądu, pokrywa montowana za pomocą szpilek wykonanych z tworzywa sztucznego- zdejmowana ułatwiajaca czysczenie, Ruchoma głowica umozliwiajaca dozowanie odcinka w każdym kierunku, Wyjmowana głowica ułatwiająca preces czyszczenia, Dwufunkcujny demontowalny zamek zamykany za pomocą metalowego kluczyka lub przycisku. Mozliwość zamontowania dodatkowej stacji dokującej umożliwiające łatwe zdjęcie dozownika ze sciany bez konieczności uzycia narzędzi. | C12: szt | D12: 63
A13: 9 | B13: Mydło w sprayu delikatne. Wkład o pojemności 1L mieszczący min 3000 dawek mydła w sprayu. Butelka ekologiczna, zasysająca się do srodka w miarę zużycia mydła. Kazda butelka zawiarająca pompkę dozującą. Mydło posiadające certyfikaty ekologiczne: Ecolabel. Opakowanie 6 sztuk | C13: op | D13: 25
A14: 10 | B14: Dozownik do mydła w płynie oraz w sprayu o pojemności 1l, biały wykonany z materiałów ABS i MABS wymiary dozownika 29,6 x 11,2 x 11,4 cm Dozownik zamykany na dwufunkcyjny zamek - otwierany za pomocą metalowego kluczyka lub za pomocą przycisku. Dozownik kompatybilny z mydłem w sprayu z pozycji 11. Oferent jest zobowiązany dostarczć dozowniki w formie nieodpłatnej na czas obowiązywania umowy. | C14: szt | D14: 75
A15: 11 | B15: Odświeżacz powietrza w aerosolu o pojemności 75 ml. Wkład dostosowany do dozownika elektronicznego dozującego zapach w okreslonych odstępach czasowych. Mozliwośc zaprogramowania wkładu na 30-, 60-, lub 90- dniowe zużycie. Zapachy: cytrusowu, kwiatowu lub owocowy . Opakowanie karton 12 sztuk | C15: op | D15: 60
A16: 12 | B16: Dozownik do odświeżacza powietrza w aerosolu. Dozownik biały o wymiarach 17,4 x 9,7 x 6,0 cm. Dozownik zasilany bateriami. Możliwość ustawień indywidulanych dla kazdego dozownika: ilość dozowania wkładu: mozliwośc zaprogramowania wkładu na 30-, 60-, lub 90- dniowe zużycie. Oferent jest zobowiązany dostarczć dozowniki w formie nieodpłatnej (wliczne w cenę oferty) na czas obowiązywania umowy. | C16: szt | D16: 8
... A37: 33 | B37: Czyściwo wykonane z celulozy, 2- warstwowe, białe, gramatura całkowita 40 g/m2, nasycenie bieli 84 %, długość rolki 340 m, ilość listków 1000. Szerokość roli 36,9cm, długość odcinka 34 cm. Czyściwo produkowane zgodnie z systemem zarządzania jakością ISO 9001, zapewniający powtarzalny jakościowo produkt oraz ISO 14001. Produkt posiada dopuszczenie do kontaktu z zywnoscią. Czyściwo posiadające certyfikat FSC MIX. | C37: szt | D37: 50
B38: RAZEM | F38: =SUM(F5:F37) -> 0 | I38: =SUM(I5:I37) -> 0
B43: …………….., dnia ………………… ……………………………………
B44: Podpis
B45: osoby upoważnionej

Sheet zadanie nr 4
A1: Załącznik nr 9 | I1: ZOZ/DZP/PN/10/21
B4: Zadanie 4 Akcesoria do sprzątania różne
A5: Lp. | B5: Nazwa asortymentu | C5: j.m. | D5: Ilość | E5: Cena jednostkowa netto | F5: Wartość netto | G5: VAT % | H5: Cena jednostkowa brutto | I5: Wartość brutto | J5: Nazwa handlowa, producent
A6: 1 | B6: Mop płaski kieszeniowy 50 cm: Mop kieszeniowy płaski przystosowany do uchwytu o długości 50 cm - skład części roboczej 47% bawełna, 53% poliester, skład podkładu ( podstawy mopa ) 35% bawełna, 65% poliester. Odporność na temp. prania 95 °C, suszenia 110 °C. Wymiary mopa : wymiary przed praniem zew.dł.540 mm,szer.165 mm, wymiary po praniu zew.dł.520 mm, szer.150 mm, wymiary przed praniem wew.dł.510 mm szer.145 mm, wymiary po praniu wew. dł.500 mm, szer.150 mm. Frędzle zamknięte w środku, rodzaj tkania wew. rzędów pętelek zapewniający brak możliwości wyciągnięcia nitki z tkaniny, frędzle otwarte na zewnątrz, posiadający dwie kieszenie do mocowania mopa na uchwycie, kieszenie mopa o wzmocnionym brzegu z rozciągliwego materiału zapewniającego zmniejszenie naprężeń i wyeliminowanie możliwości uszkodzeń mechanicznych, wymiary wew. kieszeni: szer. 120 mm,gł. 65 mm. Trwałe oznakowanie(w kolorze czarnym) jednej kieszeni informacją o nazwie producenta, nazwie handlowej, przepisie prania,numerze katalogowym, rozmiarze mopa oraz dacie produkcji. Mop zaopatrzony w niebieską lamówkę wszytę na całej długości mopa. Gwarancja min 250 cykli prawidłowych prań. Mop może być poddany sterylizacji w procesie autoklawowania w temperaturze 120 °C i czasie 15 minut. | C6: szt | D6: 175
A7: 2 | B7: Mop płaski kieszeniowy 40 cm: Mop kieszeniowy płaski przystosowany do uchwytu o długości 40 cm waga 110 g. - skład części roboczej 100% poliester z mikrofazy, skład podkładu ( podstawy mopa ) 100% poliester z mikrofazy. Odporność na temp. prania 95 °C, suszenia 60 °C. Wymiary mopa : wymiary przed praniem zew.dł.435 mm,szer.160 mm, wymiary po praniu zew.dł.425 mm, szer.160 mm, wymiary przed praniem wew.dł.410 mm szer.110 mm, wymiary po praniu wew. dł.425 mm, szer.110 mm. Posiadający dwie kieszenie do mocowania mopa na uchwycie, kieszenie mopa o wzmocnionym brzegu z rozciągliwego materiału zapewniającego zmniejszenie naprężeń i wyeliminowanie możliwości uszkodzeń mechanicznych, wymiary wew. kieszeni: szer. 120 mm,gł. 65 mm. Trwale oznakowanie(w kolorze niebieskim) jednej kieszeni informacją o nazwie producenta, nazwie handlowej, przepisie prania,numerze katalogowym, rozmiarze mopa oraz dacie produkcji. Gwarancja min 300 cykli prawidłowych prań. Mop może być poddany sterylizacji w procesie autoklawowania w temperaturze 120 °C i czasie 15 minut. | C7: szt | D7: 150
A8: 3 | B8: Mop kieszeniowy płaski 40 cm:Mop kieszeniowy płaski przystosowany do uchwytu o długości 40 cm. tkany, skład części roboczej 47% bawełna, 53% poliester, skład podkładu ( podstawy mopa ) 35% bawełna, 65% poliester. Frędzle wewnętrznie zamknięte/zewnętrznie otwarte, waga 140 g. (+/- 10 g) Wymiary przed praniem długość zewnętrzna.44 cm. długość wewnętrzna 41 cm. szerokość zewnętrzna 14,5 cm. szerokość wewnętrzna 12 cm. wymiary po praniu długość zewnętrzna 42 cm, długość wewnętrzna 40 cm. szerokość zewnętrzna 14 cm. szerokość wewnętrzna 11,5 cm. Maksymalna ścieralność 3% Odporność na temp. prania 95 °C, suszenia 110 °C. Podstawa mopa poliester/bawełna kolor naturalny. Lamówka poliester 50 mm niebieska wszyta na całej długości mopa. Kieszenie- materiał poliester/bawełna kolor naturalny. Kieszenie- wykończenie wszyty element gumowy. Frędzle wewnętrzne tkane długość 20 mm zamknięte, symetryczne, włókno mieszane poliester/bawełna, kolor naturalny. Frędzle zewnętrzne długość 60/20 mm. otwarte, asymetryczne, włókno mieszane poliester/bawełna, kolor naturalny. Wewnętrzne pętelki mopa tkane w sposób zapewniający brak możliwości wyciągnięcia nitki z tkaniny. Trwale oznakowanie(w kolorze czarnym) jednej kieszeni informacją o nazwie producenta, nazwie handlowej, przepisie prania, numerze katalogowym, rozmiarze mopa oraz dacie produkcji. Gwarancja min 250 cykli prawidłowych prań. Mop może być poddany sterylizacji w procesie autoklawowania w temperaturze 120 °C i czasie 15 minut. | C8: szt | D8: 1850
A9: 4 | B9: Uchwyt na myjkę do czyszczenia przeszkleń. Szerokość 35cm (+-5%). Rękojeść z tworzywa sztucznego ABS; długość ok. 12cm, ergonomiczna, antypoślizgowa pokryta gumą. Możliwość zamontowania na kiju teleskopowym. | C9: szt | D9: 13
A10: 5 | B10: Myjka do czyszczenia przeszkleń 35 cm Obicie wykonane z materiału syntetycznego o dużej gęstości włókien, Jedna strona przeznaczona do zmywania, a druga strona z padem z tworzywa sztucznego przeznaczona do czyszczenia uporczywych zabrudzeń nie rysując szklanych powierzchni. Możliwość prania do 60ºC. Oznakowane wszywką z piktogramami dotyczącymi przepisu prania.Szerokość 35cm(+-5%). Mocowane do myjki za pomocą wewnętrznych ,,rzepów”. | C10: szt | D10: 13
A11: 6 | B11: Kij teleskopowy o zakresie pracy od 80 do 171 cm kompatybilny z 24 elementami w tym uchwytami do mopów, uchwytami do myjek do mycia okien, ściągaczkami do okien, szczotkami do czyszczenia ścian. Ruchoma kulka na zakończeniu kija zmniejszająca obciążenia przegubu oraz pozwalająca na bardziej ergonomiczną pracę. System regulacji kija zapadkowy. | C11: szt | D11: 15
A12: 7 | B12: Stelaż/Uchwyt na nakładki.Waga uchwytu 380 g. ( +/- 10 g.) długość całkowita 40 cm. Dostosowany do mopów w rozmiarze 40 cm. Zapewniający bezdotykową obsługę mopa. Otwierany za pomocą przycisku ręcznego usytuowanego w przegubie. Uchwyt po otwarciu zachowujący symetrię tzn.oba ramiona o takiej samej długości.Wykonany z polipropylenu z dodatkiem włókna szklanego.Odporny na działanie środków chemicznych.Możliwa dezynfekcja termiczna do 110 stopni C. Dostępne elementy do serwisu uchwytu. Możliwość zamontowania na kiju teleskopowym. | C12: szt | D12: 15
A13: 8 | B13: Adapter wykonany z polipropylenu przykręcany śrubą do uchwytów do mycia podłóg pozwalający na szybkie i wygodne mocowanie akcesoriów do kija teleskopowego. | C13: szt | D13: 20
A14: 9 | B14: Zestaw do zamiatania Waga: 1900 g, długość uszczelki do czyszczenia-104 cm, szerokość robocza gumy do czyszczenia-27 cm, długość szufelki z kijem –97 cm, szerokość szufelki –28 cm,Łączna wysokość –120 cm, Szufelka wykonana z polipropylenu w kolorze antracytowo żółym. Uszczelka wykonana z polipropylenu w kolorze antracytowym. Kij aluminiowo eloksalowany .Uchwyt kija z polipropylenu w kolorze antracytowym. Zestaw do zamiatania wyposażony w zamykaną przestrzeń na odpady, z ruchomym uchwytem do mocowania na wózku serwisowym.Kij z elementem roboczym( zbierającym) zaopatrzony w ruchomy przegub pozwalający na ergonomiczną pracę.Część zbierająca odpad do pojemnika wykonana z gumy pozwalająca na dezynfekcję tego elementu. Wszystkie elementy zestawu wymienne. | C14: szt | D14: 2
A15: 10 | B15: Szczotka do czyszczenia fug w wadze 150 g oraz wymiarach 240 x 35 mm . Podstawa szczotki wykonana z polipropylenu w kolorze czarnym. Włosie szczotki w postaci twardej szczeciny wykonane z poliestru w kolorze żółtym. Mocowanie do kija teleskopowego zakończonego stożkiem za pomocą gwintu o średnicy 7,5 mm ( +-2%). | C15: szt | D15: 15
A16: 11 | B16: Wąż do nalewania wody. Wykonany z tworzywa sztucznego odpornego na uszkodzenia mechaniczne. Elastyczny, rozciagliwy, dlugosc od 30cm do 170cm; (+-15cm). Przylacze uniwersalne, dopasowane do wszystkich rozmiarow wylewek umywalkowych. Koncowka weza z uchwytem do przymocowania przy wiaderku. | C16: szt | D16: 2
A17: 12 | B17: Uchwyt do padu ręcznego do szorowania Wymiary 23 cm x 10 cm x 1,5 cm oraz waga 220 g. Uchwyt wraz z przegubem wykonany z polipropylenu w kolorze czarnym. Do zastosowania przy cięższych zabrudzeniach oraz trudno dostępnym miejscach w tym także z możliwością zastosowania do czyszczenia ścian. Kompatybilny z kijami o średnicy 22 – 25 mm. Na podstawie uchwytu wyraźne oznakowanie logo producenta. | C17: szt | D17: 18
... A47: 42 | B47: Guma tylna , guma zbierajaca tylna przeznaczona do automatów szorująco- zbierających. Wytworzona z wysokiej jakości sylikonu, dzięki czemu nie odkształca się pod wpływem agresywnej chemii i nie traci elastyczności. Budowa i sposób mocowania pozwala na 4 krotne wykorzystanie krawędzi poprzez przelożenie na stronę dotychczas nie wyeksploatowaną. Do demontażu gumy nie potrzeba żadnych narzędzi. Wymiary dług.750mm, szer.-60mm, grubość -5mm. Guma pasująca do urządzeń Taski Swingo 455B posiadanych przez zamawiającego. | C47: szt | D47: 2
B48: RAZEM | F48: =SUM(F6:F47) -> 0 | I48: =SUM(I6:I47) -> 0
B50: …………….., dnia ………………… ……………………………………
B51: Podpis
B52: osoby upoważnionej

Sheet zadanie nr 5
A1: Załącznik nr 9 | I1: ZOZ/DZP/PN/10/21
A3: Zadanie 5 - WORKI FOLIOWE NA ODPADY
A5: Lp. | B5: Opis przedmiotu zamówienia | C5: Jednostka miary | D5: Ilość-12 miesięcy | E5: Cena jedn. netto | F5: Wartość netto | G5: VAT % | H5: Cena jedn. brutto | I5: Wartość brutto | J5: Nazwa handlowa, producent
A6: 1 | B6: Worki foliowe niebieskie LDPE- 35l - 50 szt. w rolce - waga jednego worka nie mniej niż 9,5g - wymiar worka 50x 60cm -wykonane z polietylenu folia LDPE | C6: rolka | D6: 2250
A7: 2 | B7: Worki foliowe niebieskie LDPE- 60l - 50 szt. w rolce - waga jednego worka mnie mniej niż 17g - wymiar worka 60x 80cm -wykonane z polietylenu folia LDPE | C7: rolka | D7: 4250
A8: 3 | B8: Worki foliowe niebieskie LDPE- 160l - 10 szt. w rolce - waga jednego worka nie mniej niż 47g - wymiar worka 90x110cm - podwójny zgrzew na spodzie worka -wykonane z polietylenu folia LDPE | C8: rolka | D8: 5500
A9: 4 | B9: Worki foliowe czerwone LDPE- 35l - 50 szt. w rolce - waga jednego worka nie mnije niż 8,5g - wymiar worka 50x60cm -wykonane z polietylenu folia LDPE | C9: rolka | D9: 2500
A10: 5 | B10: Worki foliowe czerwone LDPE- 60l - 50 szt. w rolce - waga jednego worka nie mniej niż 17g - wymiar worka 60x 80cm -wykonane z polietylenu folia LDPE -podwójny zgrzew na spodzie worka plus opaski zaciskowe o długości 20 cm | C10: rolka | D10: 3500
A11: 6 | B11: Worki foliowe czerwone LDPE- 160l - 10 szt. w rolce - waga jednego worka nie mniej niż 47g - wymiar worka 90x1110cm - podwójny zgrzew na spodzie worka -wykonane z polietylenu folia LDPE plus opaski zaciskowe o długości 20 cm | C11: rolka | D11: 5000
A12: 7 | B12: Worki foliowe żółte LDPE- 60l - 50 szt. w rolce - waga jednego worka nie mniej niż 17 - wymiar worka 60x 80cm -wykonane z polietylenu folia LDPE | C12: rolka | D12: 150
A13: 8 | B13: Worki foliowe białe LDPE 60L, - 50 sztuk w rolce, - waga jednego worka nie mniej niż 17g, - wymiar worka 60x80cm, - wykonane z polietylenu folia LDPE | C13: rolka | D13: 4000
A14: 9 | B14: Worki foliowe białe LDPE 160L, - 10 sztuk w rolce, - waga jednego worka nie mniej niż 47g, - wymiar worka 90x110cm, - podwójny zgrzew na spodzie worka, - wykonane z polietylenu folia LDPE | C14: rolka | D14: 5000
A15: 10 | B15: Worki rozpuszczalne w wodzie przeznaczone są do prania skażonej bielizny i pościeli , rozmiar worka 66X84 cm każdy worek posiada rozpuszczalną przewiązkę do zawiązywania napełnionego worka | C15: sztuka | D15: 4000
A16: 11 | B16: Worki foliowe niebieskie LDPE -20 L - 50 szt w rolce, waga i worka nie mniej niż 7,5g, wymiary worka 45x50 cm, wykonane z polietylenu folia LDPE polietylen | C16: rolka | D16: 50
B17: RAZEM | F17: =SUM(F6:F16) -> 0 | I17: =SUM(I6:I16) -> 0
B20: …………….., dnia ………………… ……………………………………
B21: Podpis
B22: osoby upoważnionej

Sheet Zadanie nr 6
A1: Załącznik nr 9 | I1: ZOZ/DZP/PN/10/21
B3: Zadanie nr 6 Akcesoria różne
A5: Lp. | B5: Opis przedmiotu zamówienia | C5: Jednostka miary | D5: Ilość-12 miesięcy | E5: Cena jedn. netto | F5: Wartość netto | G5: VAT % | H5: Cena jedn. brutto | I5: Wartość brutto | J5: Nazwa handlowa, producent
A6: 1 | B6: Szczotka ze stojakiem do WC wykonana z odpornego na złamania tworzywa sztucznego. Kolor biały. | C6: szt | D6: 300
A7: 2 | B7: Szczotka do butelek:. Długość - 300 mm. Długość części roboczej – 90 mm. Średnica części roboczej – 55 mm. Włókno – PP 0,3 mm . Kolor – biały/ żółty/ czerwony/ zielony/ niebieski. Drut ocynkowany 1,8 mm | C7: szt | D7: 50
A8: 3 | B8: Szczotka do grzejników podwójna z rączką ▪ długość całkowita 40 cm, długość części roboczej 23 cm ▪ średnica pojedynczej szczotki 6 cm ▪ waga 0,10 kg | C8: szt | D8: 50
A9: 4 | B9: Szczotka do naczyń. | C9: szt | D9: 30
A10: 5 | B10: Szczotka do zamiatania drewnopodobna 30 cm z kijem drewnianym 1,5 m Opis produktu: ▪ szczotka do zamiatania oprawa tworzywo sztuczne włosie sztuczne średnio sztywne rozstrzępione na końcach z gwintem wkręcana na kij ▪ długość włosia 7,50 cm, długość części roboczej 35 cm, szerokość oprawki szczotki 5,00 cm waga 250 gram ▪ kij drewniany bukowy z gwintem 1,5 m waga 400 gram | C10: szt | D10: 20
A11: 6 | B11: Przepychacz do WC. wytrzymały przepychacz sanitarny z drewnianą rączką ▪ pomaga udrożnić zlewy i urządzenia sanitarne ▪ wysokość 35,00 cm, średnica podstawy gumowej 15 cm, waga 0,10 kg. | C11: szt | D11: 12.5
A12: 7 | B12: Zmywak kuchenny 5x7,5x2,5cm .Skład - pianka poliuretanowa 18kg/m3, fibra 500gr/m2,klej. Opakowanie zbiorcze 10 szt. | C12: op | D12: 250
A13: 8 | B13: Gąbka kuchenna15 x 7 x 4,5cm. Skład: pianka poliuretanowa 18kg/m3, fibra. Opakowanie zbiorcze 6 szt. 400gr/m2 biała do teflonu, klej . Kolor : niebieska pianka, biala fibra | C13: op. | D13: 50
A14: 9 | B14: Szczotka ryżowa - 22 cm z kijem drewnianym -120 cm. Długość oprawy: 20 cm Szerokość oprawy: 5,3 cm Wysokość oprawy: 1,8 cm Włókno: basyna Wysokość włókna: 3 cm | C14: szt | D14: 23
A15: 10 | B15: Szczotka do szorowania typu żelazko. Materiał: tworzywo sztuczne Wymiary: 150mmx65mmx80mm Długość włosia: 30mm | C15: szt | D15: 50
A16: 11 | B16: Kij plastikowy, dostępny w wersji z uniwersalnym gwintem | C16: szt | D16: 20
A17: 12 | B17: Zmiotka do użytku domowego wykonana z tworzywa sztucznego | C17: szt | D17: 30
... A21: 16 | B21: Rękawice gumowe gospodarcze w rozmiarach ( S.M,L) - przeznaczone do prac domowych, sanitarnych, ogrodniczych. -wysokiej jakości rękawice flokowane, z bawełnianą wyściółką, pochłaniającą pot, moletowane na palcach i części chwytnej rękawicy w celu zapewnienia lepszej chwytności - mogą być używane w kontaktach z żywnością -posiadają znak CE -chronią skórę rąk przed detergentami, środkami chemicznymi, mikroorganizmami zapobiegają mechanicznym podrażnieniom skóry rąk -miękkie, elastyczne, odporne na przekłucia i rozdarcia -przedłużony mankiet, zróżnicowane na prawą i lewą | C21: para | D21: 250
B22: RAZEM | F22: =SUM(F6:F21) -> 0 | I22: =SUM(I6:I21) -> 0
B25: …………….., dnia ………………… ……………………………………
B26: Podpis
B27: osoby upoważnionej

Sheet zadanie nr 7
A1: Załącznik nr 9 | I1: ZOZ/DZP/PN/10/21
A3: Zadanie nr 7 Artykuły jednorazowe
A4: Lp. | B4: Nazwa asortymentu | C4: j.m. | D4: Ilość zamawiana | E4: Cena jednostkowa netto | F4: Wartość netto | G4: VAT % | H4: Cena jednostkowa brutto | I4: Wartość netto | J4: Nazwa handlowa, producent
A5: 1 | B5: Pojemnik dwudzielny EPP HP4/2, brązowy, 414x240x39mm brązowy ( opakowanie 125szt.) | C5: opak. | D5: 250
A6: 2 | B6: Pojemnik PP 460ml/(560ml top), 127x66mm czarny/biały, transparentny ( opakowanie 50szt.) | C6: opak. | D6: 650
A7: 3 | B7: Wieczko PP wewnętrzne śr127mm do poj. do pojemnika 351294 ( opakowanie 50szt.) Wieczko do pojemnika z pozycji 2 | C7: opak. | D7: 650
A8: 4 | B8: Widelec z kompozytu drewniano-polimerowego wielokrotnego użytku nadający się do zmywarki ( do 100 myć) (opakowanie 100szt.) | C8: opak. | D8: 250
A9: 5 | B9: Nóż z kompozytu drewniano-polimerowego wielokrotnego użytku nadający się do zmywarki ( do 100 myć) (opakowanie 100szt.) | C9: opak. | D9: 250
A10: 6 | B10: Łyżka z kompozytu drewniano-polimerowego wielokrotnego użytku nadająca się do zmywarki ( do 100 myć) (opakowanie 100szt.) | C10: opak. | D10: 400
A11: 7 | B11: Łyżeczka z kompozytu drewniano-polimerowego wielokrotnego użytku nadająca się do zmywarki ( do 100 myć) (opakowanie 100szt.) | C11: opak. | D11: 250
A12: 8 | B12: Bambusowe patyczki higieniczne do uszu , naturalne patyczki higieniczne wykonane z bambusa i bawełny organicznej . Patyczki są całkowicie biodegradowalne w opakowaniu 200 sztuk. | C12: opak. | D12: 50
A13: 9 | B13: Worki bezbarwne z atestem do przechowywania żywności 24x4x40, Opak.-1000 szt | C13: opak. | D13: 25
A14: 10 | B14: Maszynka jednorazowa do golenia, dwa ostrza | C14: szt | D14: 3000
A15: 11 | B15: Kubek PP 200ml biały biały 2,3g do gorącego i zimnego pakowany po 100 sztuk w opakowaniu | C15: opak. | D15: 650
A16: 12 | B16: kubek PET 300ml bezbarwny śr. 95mm (pakowane 50szt) | C16: opak. | D16: 50
A17: 13 | B17: Talerz okrągły 260mm, biały z trzciny cukrowej, opakowanie 50 sztuk | C17: opak. | D17: 300
B18: RAZEM | F18: =SUM(F5:F17) -> 0 | I18: =SUM(I5:I17) -> 0
F20: =F18/2 -> 0
B21: …………….., dnia ………………… ……………………………………
B22: Podpis
B23: osoby upoważnionej

Sheet podsumowanie
E2: netto | F2: brutto
D3: Zadanie 1 Chemia profesjonalna | E3: ='zadanie nr 1'!F24 -> 0 | F3: ='zadanie nr 1'!I24 -> 0
D4: Zadanie 2 Chemia gospodarcza | E4: ='Zadanie nr 2'!F23 -> 0 | F4: ='Zadanie nr 2'!I23 -> 0
D5: Zadanie 3 Artykuły higieniczne | E5: ='zadanie nr 3'!F38 -> 0 | F5: ='zadanie nr 3'!I38 -> 0
D6: Zadanie 4 Akcesoria do sprzątania różne | E6: ='zadanie nr 4'!F48 -> 0 | F6: ='zadanie nr 4'!I48 -> 0
D7: Zadanie 5 - WORKI FOLIOWE NA ODPADY | E7: ='zadanie nr 5'!F17 -> 0 | F7: ='zadanie nr 5'!I17 -> 0
D8: Zadanie nr 6 Akcesoria różne | E8: ='Zadanie nr 6'!F22 -> 0 | F8: ='Zadanie nr 6'!I22 -> 0
D9: Zadanie nr 7 Artykuły jednorazowe | E9: ='zadanie nr 7'!F18 -> 0 | F9: ='zadanie nr 7'!I18 -> 0
D10: RAZEM | E10: =SUM(E3:E9) -> 0 | F10: =SUM(F3:F9) -> 0
