Workbook
Name Excel_BuiltIn_Print_Area: 'Zadanie nr 7'!$A$1:$J$1
Name Excel_BuiltIn_Print_Area_14_1: #REF!
Name Excel_BuiltIn_Print_Area_16_1: #REF!
Name Excel_BuiltIn_Print_Area_17_1: #REF!
Name Excel_BuiltIn_Print_Area_18_1: #REF!
Name Excel_BuiltIn_Print_Area_19_1: 'Zadanie nr 19'!$A$4:$J$7
Name Excel_BuiltIn_Print_Area_2_1: 'Zadanie nr 2'!$A$4:$I$14
Name Excel_BuiltIn_Print_Area_22_1: #REF!
Name Excel_BuiltIn_Print_Area_22_1_1: #REF!
Name Excel_BuiltIn_Print_Area_24_1: #REF!
Name Excel_BuiltIn_Print_Area_3_1: #REF!
Name Excel_BuiltIn_Print_Area_3_1_1: 'Zadanie nr 3'!$A$4:$J$39
Name Excel_BuiltIn_Print_Area_3_1_1_1: 'Zadanie nr 3'!$A$4:$J$38
Name Excel_BuiltIn_Print_Area_4_1: 'Zadanie nr 4'!$A$4:$J$14
Name Excel_BuiltIn_Print_Area_5_1: 'Zadanie nr 5'!$A$4:$J$9
Name Excel_BuiltIn_Print_Area_6_1: 'Zadanie nr 6'!$A$4:$J$16
Name Excel_BuiltIn_Print_Area_7_1: 'Zadanie nr 7'!$A$4:$J$8
Name Excel_BuiltIn_Print_Titles_17: #REF!

Sheet Zadanie nr 1
A1: Załącznik nr 9 | H1: ZOZ/DZP/PN/28/21
A3: Zadanie nr 1- Leki różne
A4: Lp. | B4: Nazwa produktu | C4: Jednostka miary | D4: Ilość | E4: Cena jednostkowa[zł] netto | F4: Wartość [zł] netto | G4: VAT | H4: Cena jednostkowa [zł] brutto | I4: Wartość [zł] brutto | J4: Producent/Nazwa handlowa
A5: 1 | B5: Acenocoumarolum tabl. 4 mg | C5: porcja po 60 tabl. | D5: 10
A6: 2 | B6: Acebutolol 200mg | C6: porcja po 30 tabl. powl. | D6: 10
A7: 3 | B7: Acarbosum 50 mg | C7: op. 30 tabl | D7: 5
A8: 4 | B8: Acetazolamidum 250 mg | C8: op. 30 tabl | D8: 10
A9: 5 | B9: Acetylcysteinum inj. iv. lub dooskrzelowo (roztwór) 300 mg/3 ml | C9: porcja po 5 amp. 3 ml | D9: 50
A10: 6 | B10: Acetylcysteinum tabl musujące. 200 mg | C10: porcja po 20 szt. | D10: 20
A11: 7 | B11: Acetylcysteinum tabl. musujące 600 mg | C11: porcja po 10 tabl. | D11: 100
A12: 8 | B12: Aciclovirum 200mg | C12: porcja po 30 szt | D12: 3
A13: 9 | B13: Aciclovirum 400mg | C13: porcja po 30 szt | D13: 45
A14: 10 | B14: Aciclovirum 800mg | C14: porcja po 30 szt | D14: 60
A15: 11 | B15: Aciclovir 250mg inj | C15: porcja po 5 fiol. | D15: 50
A16: 12 | B16: Aciclovirum maśc do oczu 3% | C16: porcja po 4,5g | D16: 3
... A609: 606 | B609: Zuclopenthixol 50 mg / 1 ml inj | C609: op. 5 amp | D609: 5
B610: RAZEM | F610: =SUM(F5:F609) -> 0 | I610: =SUM(I5:I609) -> 0
B612: ………………………………………………….. | F612: ……………………………………………
B613: Data | F613: Podpis osoby/osób uprawnionej

Sheet Zadanie nr 2
A1: Załącznik nr 9 | H1: ZOZ/DZP/PN/28/21
A4: Zadanie nr 2 - Płyny infuzyjne w pojemnikach stojących
A5: Lp. | B5: Nazwa produktu | C5: Jednostka miary | D5: Ilość | E5: Cena jednostkowa[zł] netto | F5: Wartość [zł] netto | G5: VAT | H5: Cena jednostkowa [zł] brutto | I5: Wartość [zł] brutto | J5: Producent/Nazwa handlowa
A6: 1 | B6: Aqua rozpuszczalnik do iniekcji | C6: porcja po 100 poj. 5 ml | D6: 5
A7: 2 | B7: Aqua rozpuszczalnik do iniekcji | C7: porcja po 100 poj. 10 ml | D7: 280
A8: 3 | B8: Glucosum + Natrii chloridum inj. iv. (roztwór) 1:1 | C8: porcja po 1 op. 500 ml | D8: 200
A9: 4 | B9: Glucosum + Natrii chloridum inj. iv. (roztwór) 1:1 | C9: porcja po 1 op. 250 ml | D9: 200
A10: 5 | B10: Glucosum + Natrii chloridum inj. iv. (roztwór) 2 : 1 | C10: porcja po 1 op. 250 ml | D10: 200
A11: 6 | B11: Glucosum + Natrii chloridum inj. iv. (roztwór) 2 : 1 | C11: porcja po 1 op. 500 ml | D11: 1000
A12: 7 | B12: Glucosum inj. iv. (roztwór) 100 mg/ml | C12: porcja po 1 op. 100 ml | D12: 1000
A13: 8 | B13: Glucosum inj. iv. (roztwór) 50 mg/ml | C13: porcja po 1 op. 100 ml | D13: 600
A14: 9 | B14: Glucosum inj. iv. (roztwór) 200 mg/ml | C14: porcja po 1 fl. 500 ml | D14: 300
A15: 10 | B15: Płyn wieloelektrolitowy o zawartości:5,75 g/1000ml chlorku sodu,4,62g/1000ml sodu ostran trójwodny,0,9g/1000ml sodu cytrynian dwuwodny,0,26g/1000ml wapnia chlorek dwuwodny,0,38g/1000ml chlorku potasu, 0,2g/1000ml magnezu chlorek sześciowodny.Osmolarność roztworu 295mOsmol/l | C15: op=250ml | D15: 500
A16: 11 | B16: Płyn wieloelektrolitowy o zawartości:5,75 g/1000ml chlorku sodu,4,62g/1000ml sodu ostran trójwodny,0,9g/1000ml sodu cytrynian dwuwodny,0,26g/1000ml wapnia chlorek dwuwodny,0,38g/1000ml chlorku potasu, 0,2g/1000ml magnezu chlorek sześciowodny.Osmolarność roztworu 295mOsmol/l | C16: op= 500ml | D16: 750
A17: 12 | B17: Natrii chloridum płyn 0,9 %- worek | C17: porcja po 1 szt.3000ml | D17: 200
... A22: 17 | B22: Aqua rozpuszczalnik do iniekcji | C22: worek porcja po 100ml | D22: 1276
B23: RAZEM | F23: =SUM(F6:F22) -> 0 | I23: =SUM(I6:I22) -> 0
B26: ………………………………………………….. | F26: ……………………………………………
B27: Data | F27: Podpis osoby/osób uprawnionej

Sheet Zadanie nr 3
A2: Załącznik nr 9 | H2: ZOZ/DZP/PN/28/21
A4: Zadanie nr 3 - Płyny infuzyjne
A5: Lp. | B5: Nazwa produktu | C5: Jednostka miary | D5: Ilość | E5: Cena jednostkowa[zł] netto | F5: Wartość [zł] netto | G5: VAT | H5: Cena jednostkowa [zł] brutto | I5: Wartość [zł] brutto | J5: Producent/Nazwa handlowa
A6: 1 | B6: Hydroxyethyloskrobia (130/0,42) zawieszona w pełni zrównoważonym roztworze elektrolitów Na, Cl, Ca,K, Mg i jabłczanów. Osmomolarność pow 290 mOsml/l. 6% | C6: porcja po 500ml, 6% | D6: 40
A7: 2 | B7: Aqua pro inj. | C7: szt. płyn 100 ml | D7: 1600
A8: 3 | B8: Aqua pro inj. | C8: szt. płyn 500 ml | D8: 2000
A9: 4 | B9: Woda jałowa do przepłukiwań | C9: butelka zakręcana 1000ml | D9: 290
A10: 5 | B10: Natrium chloratum płyn do infuzji | C10: szt. płyn 0,9% 100 ml | D10: 30000
A11: 6 | B11: Natrium chloratum płyn do infuzji | C11: szt. płyn 0,9% 250 ml | D11: 17600
A12: 7 | B12: Natrium chloratum płyn do infuzji | C12: szt. płyn 0,9% 500 ml | D12: 17000
A13: 8 | B13: Natrium chloratum płyn do infuzji | C13: szt. płyn 0,9% 1000 ml | D13: 2200
A14: 9 | B14: PWE (Na,K,Ca,Mg,Cl +octan) | C14: szt. płyn 250ml | D14: 2400
A15: 10 | B15: PWE (Na,K,Ca,Mg,Cl +octan) | C15: szt. płyn 500 ml | D15: 22000
A16: 11 | B16: PWE (Na,K,Ca,Mg,Cl + octan) | C16: szt. płyn 1000 ml | D16: 2600
A17: 12 | B17: Glucosum | C17: szt. płyn 5% 250 ml | D17: 1220
... A35: 30 | B35: Lekko hipotoniczny płyn ze specjalnym wskazaniem do stosowania w przypadku mocno zwapnionych cewników. Skład: Na 100 ml: kwas cytrynowy jednowodny 6,0 g, glukonolakton 0,6 g, łagodny tlenek magnezu 2,8 g, bikarbonat sodowy 0,7 g, wersenian disodowy 2H2O 0,01 g rozpuszczone w wodzie do wstrzykiwań. PH = 4 | C35: op=10flakonówx 100ml | D35: 10
B36: RAZEM | F36: =SUM(F6:F35) -> 0 | I36: =SUM(I6:I35) -> 0
B39: Warunki wymagane:
B40: Poz 18-24 roztwór konfekcjonowany we flakonie stojącym typu „ampułka”
B41: Poz 2-17,25-27 flakon posiadający dwa jednakowe samouszczelniające się porty chronione aluminiowymi kapslami, nie wymagający dezynfekcji przy pierwszym użyciu, czytelna etykieta ze skalą w granicach 3-7 umożliwiającą monitoring podaży płynów z opakowania od 250 do 1000ml, dodatkowa przestrzeń do dodania leków minimum 70ml dla płynów infuzyjnych o pojemności 100ml, minimum 110ml dla płynów infuzyjnych o pojemności 250ml, minimum 150ml dla płynów infuzyjnych o pojemności 500ml i minimum 200ml dla pojemników o pojemności 1000ml
B43: ………………………………………………….. | F43: ……………………………………………
B44: Data | F44: Podpis osoby/osób uprawnionej

Sheet Zadanie nr 4
A1: Załącznik nr 9 | H1: ZOZ/DZP/PN/28/21
A4: Zadanie nr 4 - Enoxaparinum
A5: Lp. | B5: Nazwa produktu | C5: Jednostka miary | D5: Ilość | E5: Cena jednostkowa[zł] netto | F5: Wartość [zł] netto | G5: VAT | H5: Cena jednostkowa [zł] brutto | I5: Wartość [zł] brutto | J5: Producent/Nazwa handlowa
A6: 1 | B6: HDCz 2000 j.m. Anty Xa /20 mg | C6: szt. amp.strz | D6: 400
A7: 2 | B7: HDCz 4000 j.m. anty Xa/ 40mg | C7: szt. amp.strz | D7: 15000
A8: 3 | B8: HDCz 6000 j.m. anty Xa/ 60mg | C8: szt. amp.strz | D8: 10000
A9: 4 | B9: HDCz 8000 j.m. anty Xa /80 mg | C9: szt. amp.strz | D9: 2000
A10: 5 | B10: HDCz 10000 j.m. anty Xa 100 mg | C10: szt. amp.strz | D10: 300
A11: 6 | B11: HDCz 30000 j.m. anty Xa 300 mg/3ml | C11: fiol. | D11: 50
A12: 7 | B12: HDCz 15000 j.m.anty Xa 150mg/ml | C12: szt. amp.strz | D12: 100
A13: 8 | B13: HDCz 12000 j.m.anty Xa 120mg/ml | C13: szt. amp.strz | D13: 100
B14: RAZEM | F14: =SUM(F6:F13) -> 0 | I14: =SUM(I6:I13) -> 0
B17: ………………………………………………….. | F17: ……………………………………………
B18: Data | F18: Podpis osoby/osób uprawnionej

Sheet Zadanie nr 5
A1: Załącznik nr 9 | H1: ZOZ/DZP/PN/28/21
A4: Zadanie nr 5 - Nadroparinum
A5: Lp. | B5: Nazwa produktu | C5: Jednostka miary | D5: Ilość | E5: Cena jednostkowa[zł] netto | F5: Wartość [zł] netto | G5: VAT | H5: Cena jednostkowa [zł] brutto | I5: Wartość [zł] brutto | J5: Producent/Nazwa handlowa
A6: 1 | B6: HDCz 2850 j.m antyXa | C6: szt. amp.strz 0,3 ml | D6: 3500
A7: 2 | B7: HDCz 3800 j.m antyXa | C7: szt. amp.strz 0,4 ml | D7: 11300
A8: 3 | B8: HDCz 5700 j.m antyXa | C8: szt. amp.strz 0,6 ml | D8: 4500
A9: 4 | B9: HDCz 7600 j.m antyXa | C9: szt. amp.strz 0,8 ml | D9: 1000
A10: 5 | B10: HDCz 47500 j.m.antyXa/5ml komplet* | C10: Komplet | D10: 5
B11: RAZEM | F11: =SUM(F6:F10) -> 0 | I11: =SUM(I6:I10) -> 0
B13: Warunki wymagane:
A14: * | B14: HDCz 9500j.m./ml x 10 fiolek a 5ml
B15: Mini-Spike V x 10 szt.
B16: Strzyk precyzyjna 1 ml kalibrowana co 0,01 z igłą 25GA x 100 szt.
B19: ………………………………………………….. | F19: ……………………………………………
B20: Data | F20: Podpis osoby/osób uprawnionej

Sheet Zadanie nr 6
A1: Załącznik nr 9 | H1: ZOZ/DZP/PN/28/21
A4: Zadanie nr 6 - Leki różne 2
A5: Lp. | B5: Nazwa produktu | C5: Jednostka miary | D5: Ilość | E5: Cena jednostkowa[zł] netto | F5: Wartość [zł] netto | G5: VAT | H5: Cena jednostkowa [zł] brutto | I5: Wartość [zł] brutto | J5: Producent/Nazwa handlowa
A6: 1 | B6: Gliclazidum tabl. retard 60 mg | C6: op. 90tabl | D6: 50
A7: 2 | B7: Indapamidum tabl. powl. retard 1,5 mg | C7: op. 108 tabl. | D7: 40
A8: 3 | B8: Iwabradyna 5 mg | C8: op. 112 tabl. | D8: 10
A9: 4 | B9: Iwabradyna 7,5 mg | C9: op. 112 tabl. | D9: 10
A10: 5 | B10: Perindoprilum tabl. 5 mg | C10: porcja po 1 op. 90 szt. | D10: 40
A11: 6 | B11: Perindoprilum tabl. 10 mg | C11: op. 90 tabl. | D11: 15
A12: 7 | B12: Tianeptinum tabl. powl. 12,5 mg | C12: porcja po 90 tabl. | D12: 15
A13: 8 | B13: Preparat złożony: peridoprilum z argininą 5 mg, Indapamidum 1,25mg | C13: porcja po 90 tabl. | D13: 15
A14: 9 | B14: Preparat złożony: peridoprilum z argininą 2,5 mg, Indapamidum 0,625mg | C14: porcja po 90 tabl. | D14: 15
A15: 10 | B15: Preparat złożony: peridoprilum z argininą 10 mg, Indapamidum 2,5mg | C15: porcja po 90 tabl. | D15: 15
A16: 11 | B16: Trimetazidinum tabl. powl. retard 35 mg | C16: op. 90 tabl. | D16: 20
A17: 12 | B17: Preparat złożony Perindopril 10mg + Amlodypinum 5mg | C17: op. 90 tabl. | D17: 15
... A24: 19 | B24: Bisoprololum 5mg +Perindoprilum z algininą 5mg. | C24: op.90 tabl. | D24: 15
B25: RAZEM | F25: =SUM(F6:F24) -> 0 | I25: =SUM(I6:I24) -> 0
B28: ………………………………………………….. | F28: ……………………………………………
B29: Data | F29: Podpis osoby/osób uprawnionej

Sheet Zadanie nr 7
A1: Załącznik nr 9 | H1: ZOZ/DZP/PN/28/21
A4: Zadanie nr 7 - Albuminy
A5: Lp. | B5: Nazwa produktu | C5: Jednostka miary | D5: Ilość | E5: Cena jednostkowa[zł] netto | F5: Wartość [zł] netto | G5: VAT | H5: Cena jednostkowa [zł] brutto | I5: Wartość [zł] brutto | J5: Producent/Nazwa handlowa
A6: 1 | B6: Albumina ludzka 20 % 50 ml | C6: flak 50 ml | D6: 150
A7: 2 | B7: Albumina ludzka 20 % 100 ml | C7: flak 100 ml | D7: 600
B8: RAZEM | F8: =SUM(F6:F7) -> 0 | I8: =SUM(I6:I7) -> 0
B13: ………………………………………………….. | F13: ……………………………………………
B14: Data | F14: Podpis osoby/osób uprawnionej

Sheet Zadanie nr 8
A1: Załącznik nr 9 | H1: ZOZ/DZP/PN/28/21
A4: Zadanie nr 8 – Leki różne 14
A5: Lp. | B5: Nazwa produktu | C5: Jednostka miary | D5: Ilość | E5: Cena jednostkowa[zł] netto | F5: Wartość [zł] netto | G5: VAT | H5: Cena jednostkowa [zł] brutto | I5: Wartość [zł] brutto | J5: Producent/Nazwa handlowa
A6: 1 | B6: Aluminii acetas tabl. 1000 mg | C6: porcja po 6 tabl. | D6: 4
A7: 2 | B7: Aluminii acetas żel do użytku zewnętrznego 75g | C7: porcja po 1 op. | D7: 120
A8: 3 | B8: Dobutaminum 250 mg inj. | C8: 1 fiol. | D8: 800
A9: 4 | B9: Ketoprofenum inj. (roztwór) 100 mg/2 ml i.v./i.m | C9: porcja po 10 amp. 2 ml | D9: 600
A10: 5 | B10: Ketoprofenum tabl. powl. 100 mg | C10: porcja po 30 tabl. | D10: 440
A11: 6 | B11: Ferrosi oxidum dextranum complexum inj. im. (roztwór) 50 mg Fe+++/ml | C11: porcja po 50 amp. 2 ml | D11: 1
A12: 7 | B12: Ferrum hydroxide 50 mg/5ml syrop | C12: Porcja po 100 ml | D12: 2
A13: 8 | B13: Ferrum oxydatum saccharatum inj. iv. (roztwór) 20 mg Fe+++/ml | C13: porcja po 5 amp. 5 ml | D13: 5
A14: 9 | B14: Pefloxacinum inj. iv. (roztwór) 400 mg/5 ml | C14: porcja po 10 amp. 5 ml | D14: 100
A15: 10 | B15: Pefloxacinum tabl. powl. 400 mg | C15: porcja po 10 tabl. | D15: 20
B16: RAZEM | F16: =SUM(F6:F15) -> 0 | I16: =SUM(I6:I15) -> 0
B20: ………………………………………………….. | F20: ……………………………………………
B21: Data | F21: Podpis osoby/osób uprawnionej

Sheet Zadanie nr 9
A1: Załącznik nr 9 | H1: ZOZ/DZP/PN/28/21
A4: Zadanie nr 9 - Leki anestezjologiczne
A5: Lp. | B5: Nazwa produktu | C5: Jednostka miary | D5: Ilość | E5: Cena jednostkowa[zł] netto | F5: Wartość [zł] netto | G5: VAT | H5: Cena jednostkowa [zł] brutto | I5: Wartość [zł] brutto | J5: Producent/Nazwa handlowa
A6: 1 | B6: Atracurium inj. iv. (roztwór) 10 mg/ml | C6: porcja po 5 amp. 2,5 ml | D6: 10
A7: 2 | B7: Atracurium inj. iv. (roztwór) 10 mg/ml | C7: porcja po 5 amp. 5 ml | D7: 30
A8: 3 | B8: Bupivacainum inj. dotkankowe (roztwór) 5 mg/ml spinalna jałowa pojedyńczo pakowana | C8: porcja po 5 amp. 4 ml | D8: 250
A9: 4 | B9: Lidocainum inj. iv. lub dotkankowe (roztwór) 20 mg/ml /50 ml / | C9: porcja po 5 fiol. 50 ml | D9: 5
A10: 5 | B10: Lidocainum + Prilocainum krem znieczulający | C10: porcja po 1 tuba 30 g | D10: 10
A11: 6 | B11: Mivacurii chloridum inj. iv. (roztwór) 2 mg/ml | C11: porcja po 5 amp. 5 ml | D11: 50
A12: 7 | B12: Mivacurii chloridum inj. iv. (roztwór) 20 mg/10 ml | C12: porcja po 5 amp. 10 ml | D12: 30
A13: 8 | B13: Propofolum 0,5g/50ml inj | C13: 1 amp-strzyk. | D13: 150
A14: 9 | B14: Remifentanil 1mg proszek do sporządenia konc. Roz. /do wstrzykiwań inf. | C14: op=5fiol | D14: 10
A15: 10 | B15: Remifentanil 2mg proszek do sporządenia konc. Roz. /do wstrzykiwań inf. | C15: op=5fiol | D15: 10
A16: 11 | B16: Remifentanil 5mg proszek do sporządenia konc. Roz. /do wstrzykiwań inf. | C16: op=5fiol | D16: 50
B17: RAZEM | F17: =SUM(F6:F16) -> 0 | I17: =SUM(I6:I16) -> 0
B20: ………………………………………………….. | F20: ……………………………………………
B21: Data | F21: Podpis osoby/osób uprawnionej

Sheet Zadanie nr 10
A1: Załącznik nr 9 | H1: ZOZ/DZP/PN/28/21
A4: Zadanie nr 10 - Sevofluran
A5: Lp. | B5: Nazwa produktu | C5: Jednostka miary | D5: Ilość | E5: Cena jednostkowa[zł] netto | F5: Wartość [zł] netto | G5: VAT | H5: Cena jednostkowa [zł] brutto | I5: Wartość [zł] brutto | J5: Producent/Nazwa handlowa
A6: 1 | B6: Sevofluranum płyn do anestezji wziewnej kompatybilny z aparatem do znieczulenia firmy Draeger | C6: porcja po 1 op. 250 ml | D6: 120
B7: RAZEM | F7: =SUM(F6) -> 0 | I7: =SUM(I6) -> 0
B9: Na czas trwania umowy wymagane jest użyczenie 3 szt. parowników do aparatu Drager . Koszt użyczenia należy wliczyć w cenę oferty.
B12: Data | G12: Podpis osoby/osób upoważnionej
B13: ……………………………………………. | G13: ……………………………….

Sheet Zadanie nr 11
A1: Załącznik nr 9 | H1: ZOZ/DZP/PN/28/21
A4: Zadanie nr 11 - Mleko + preparaty dietetyczne
A5: Lp. | B5: Nazwa produktu | C5: Jednostka miary | D5: Ilość | E5: Cena jednostkowa[zł] netto | F5: Wartość [zł] netto | G5: VAT | H5: Cena jednostkowa [zł] brutto | I5: Wartość [zł] brutto | J5: Producent/Nazwa handlowa
A6: 1 | B6: Mieszanka początkowa w płynie dla niemowląt z dodatkiem frukto i galaktooligosacharydów. Minimalny poziom białka 1,3g/100ml, maksymalny poziom żelaza0,6mg/100ml | C6: porcja po 1 op, x 24szt 90 ml | D6: 100
A7: 2 | B7: Mieszanka początkowa w płynie dla niemowląt z dodatkiem frukto i galaktooligosacharydów, LCPUFA i nukleotydów oraz postbiotyków. Minimalny poziom białka 1,3g/100ml, maksymalny poziom żelaza0,6mg/100ml | C7: porcja po 1 op.x 24szt 90 ml | D7: 170
A8: 3 | B8: Mieszanka początkowa w płynie dla niemowląt z dodatkiem frukto i galaktooligosacharydów, LCPUFA i nukleotydów oraz postbiotyków. Minimalny poziom białka 1,3g/100ml, maksymalny poziom żelaza0,6mg/100ml | C8: Porcja po 350 g | D8: 50
A9: 4 | B9: Mleko zastępcze początkowe od urodzenia zawierające galakto- i fukto- oligosacharydy (9:1) proszek do p. roztworu doustnego 350g | C9: porcja po 1 op. 350 g | D9: 70
A10: 5 | B10: Mleko zastępcze od 6 miesiąca zawierające galakto- i fukto- oligosacharydy (9:1) proszek do p. roztworu doustnego 350g | C10: porcja po 1 op. 350 g | D10: 90
A11: 6 | B11: Mleko zastępcze od 6 miesiąca zawierające galakto- i fukto- oligosacharydy (9:1), z dodatkiem kleiku ryżowego, proszek do p. roztworu doustnego 350g | C11: porcja po 1 op. 350 g | D11: 40
A12: 7 | B12: Mleko zastępcze powyżej 1 roku zawierające galakto- i fukto- oligosacharydy (9:1), proszek do p. roztworu doustnego 350g ( bez dodatku smaku np, bananowego) | C12: porcja po 1 op. 350 g | D12: 60
A13: 8 | B13: Mleko zastępcze powyżej 1 roku zawierające galakto- i fukto- oligosacharydy (9:1), z dodatkiem kleiku ryżowego, proszek do p. roztworu doustnego 350g | C13: porcja po 1 op. 350 g | D13: 45
A14: 9 | B14: Mleko modyfikowane początkowe dla niemowląt od urodzenia z zawartością białka nie więcej niż 9,6g w 100g, zawierające w składzie białko OPTI PRO, proszek 350g | C14: Porcja po 350 g | D14: 50
A15: 10 | B15: Mleko modyfikowane początkowe dla niemowląt po 6 miesiącu, z zawartością białka nie więcej niż 9,6 w 100g, zawierające w składzie białko OPTI PRO, proszek 350g | C15: Porcja po 350 g | D15: 50
A16: 11 | B16: Mleko modyfikowane początkowe dla niemowląt po 9 miesiącu, z zawartością białka nie więcej niż 9,6 w 100g, zawierające w składzie białko OPTI PRO, proszek 350g | C16: Porcja po 800 g | D16: 35
A17: 12 | B17: Mleko modyfikowane początkowe dla zdrowych niemowląt od urodzenia, u których istnieje podwyższone ryzyko wystąpienia reakcji alergicznych na białka mleka krowiego zawierające w składzie hydrolizowane białka serwatkowe OPTI PRO.op=400g | C17: Porcja po 400g | D17: 30
... A42: 37 | B42: Dieta eliminacyjna dla dzieci w wieku 0-6 m-cy stosowana w leczeniu alergii pokarmowych zawierająca: laktozę, zhydrolizowane białko serwatkowe z dodatkiem galakto- i frukto- oligosacharydów GOS:FOS 9:1, DHA i bakterie Bifidobacterium Breve M-16V, opak 400g | C42: Porcja po 400g | D42: 30
B43: RAZEM | F43: =SUM(F6:F42) -> 0 | I43: =SUM(I6:I42) -> 0
B45: Zmawiający dopuszcza dietetyczne środki spożywcze
B46: Data | G46: Podpis osoby/osób upoważnionej
B47: ……………………………………………. | G47: ……………………………….

Sheet Zadanie nr 12
A1: Załącznik nr 9 | H1: ZOZ/DZP/PN/28/21
A4: Zadanie nr 12 – Leki ZOL
A5: Lp. | B5: Nazwa produktu | C5: Jednostka miary | D5: Ilość | E5: Cena jednostkowa[zł] netto | F5: Wartość [zł] netto | G5: VAT | H5: Cena jednostkowa [zł] brutto | I5: Wartość [zł] brutto | J5: Producent/Nazwa handlowa
A6: 1 | B6: Dexamethasonum tabl. 1 mg | C6: porcja po 20 tabl. | D6: 160
A7: 2 | B7: Dexamethasonum tabl. 4 mg | C7: porcja po 20 tabl. | D7: 50
A8: 3 | B8: Dexamethasonum tabl. 20 mg | C8: porcja po 20 tabl. | D8: 5
A9: 4 | B9: Donepezilum 5mg | C9: porcja po 28szt | D9: 52
A10: 5 | B10: Donepezilum 10mg | C10: porcja po 28 tabl. | D10: 180
A11: 6 | B11: Dorzolamid 20mg/ml krople do oczu | C11: porcja po 5ml | D11: 3
A12: 7 | B12: Duloksetyna 30mg | C12: porcja po 28 kaps | D12: 20
A13: 8 | B13: Eplerenonum 50mg | C13: porcja po 30 szt. | D13: 60
A14: 9 | B14: Eplerenonum 25mg | C14: porcja po 30 szt. | D14: 60
A15: 10 | B15: Escitalopram 10mg | C15: porcja po 28tabl. | D15: 70
A16: 11 | B16: Escitalopram 20mg | C16: porcja po 28tabl. | D16: 70
A17: 12 | B17: Fludrocortison 0,1 mg tabl | C17: op po 20 tabl. | D17: 10
... A53: 48 | B53: Zolpidem tabl.10 mg | C53: op.20 tabl. powl. | D53: 200
B54: RAZEM | F54: =SUM(F6:F53) -> 0 | I54: =SUM(I6:I53) -> 0
B56: Data | G56: Podpis osoby/osób upoważnionej
B57: ……………………………………………. | G57: ……………………………….

Sheet Zadanie nr 13
A1: Załącznik nr 9 | H1: ZOZ/DZP/PN/28/21
A4: Zadanie nr 13 – Amoxycylina z inhibitorem
A5: Lp. | B5: Nazwa produktu | C5: Jednostka miary | D5: Ilość | E5: Cena jednostkowa[zł] netto | F5: Wartość [zł] netto | G5: VAT | H5: Cena jednostkowa [zł] brutto | I5: Wartość [zł] brutto | J5: Producent/Nazwa handlowa
A6: 1 | B6: Amoxicillinum z inhibitorem beta-laktamazy inj. im./iv. (proszek do p. roztworu) 1200 mg | C6: 1 fiol | D6: 7000
A7: 2 | B7: Amoxicillinum z inhibitorem beta-laktamazy tabl. 500mg +125mg | C7: op.21 tabl. | D7: 20
A8: 3 | B8: Amoxicillinum z inhibitorem beta-laktamazy inj. im./iv. (proszek do p. Roztworu) 600 mg | C8: 1 fiol | D8: 600
A9: 4 | B9: Amoxicillinum z inhibitorem beta-laktamazy tabl. 875mg +125mg | C9: op. 14 szt. | D9: 400
A10: 5 | B10: Amoxicillinum z inhibitorem beta-laktamazy inj. im./iv. (proszek do p. roztworu) 2200 mg | C10: 1 fiol | D10: 3000
B11: RAZEM | F11: =SUM(F6:F10) -> 0 | I11: =SUM(I6:I10) -> 0
B14: Data | G14: Podpis osoby/osób upoważnionej
B15: ……………………………………………. | G15: ……………………………….

Sheet Zadanie nr 14
A1: Załącznik nr 9 | H1: ZOZ/DZP/PN/28/21
A4: Zadanie nr 14 - Heparinum
A5: Lp. | B5: Nazwa produktu | C5: Jednostka miary | D5: Ilość | E5: Cena jednostkowa[zł] netto | F5: Wartość [zł] netto | G5: VAT | H5: Cena jednostkowa [zł] brutto | I5: Wartość [zł] brutto | J5: Producent/Nazwa handlowa
A6: 1 | B6: Heparinum inj. sc./iv. (roztwór) 25000 j.m./5 ml | C6: porcja po 10 amp. 5 ml | D6: 150
A7: 2 | B7: Heparinum krem 300 j.m./g | C7: porcja po 1 tuba 20 g | D7: 50
B8: RAZEM | F8: =SUM(F6:F7) -> 0 | I8: =SUM(I6:I7) -> 0
B13: Data | G13: Podpis osoby/osób upoważnionej
B14: ……………………………………………. | G14: ……………………………….

Sheet Zadanie nr 15
A1: Załącznik nr 9 | H1: ZOZ/DZP/PN/28/21
A4: Zadanie nr 15 - Omeprazol
A5: Lp. | B5: Nazwa produktu | C5: Jednostka miary | D5: Ilość | E5: Cena jednostkowa[zł] netto | F5: Wartość [zł] netto | G5: VAT | H5: Cena jednostkowa [zł] brutto | I5: Wartość [zł] brutto | J5: Producent/Nazwa handlowa
A6: 1 | B6: Omeprazolum inj. (liofilizat) 40mg | C6: porcja po 1 fiol. | D6: 11000
A7: 2 | B7: Pantoprazol inj. 40 mg | C7: porcja po 1 fiol. | D7: 5000
B8: RAZEM | F8: =SUM(F6:F7) -> 0 | I8: =SUM(I6:I7) -> 0
B10: Data …………………………………………. ………………………………………………...
H11: Podpis osoby/osób uprawnionej

Sheet Zadanie nr 16
A1: Załącznik nr 9 | H1: ZOZ/DZP/PN/28/21
A4: Zadanie nr 16 – Antybiotyki różne
A5: Lp. | B5: Nazwa produktu | C5: Jednostka miary | D5: Ilość | E5: Cena jednostkowa[zł] netto | F5: Wartość [zł] netto | G5: VAT | H5: Cena jednostkowa [zł] brutto | I5: Wartość [zł] brutto | J5: Producent/Nazwa handlowa
A6: 1 | B6: Amoxicillinum tabl. 500 mg | C6: porcja po 16 tabl. rozpuszczalne | D6: 240
A7: 2 | B7: Amoxicillinum tabl. 1000 mg | C7: porcja po 20 tabl. rozpuszczalne | D7: 40
A8: 3 | B8: Ampicillinum inj. im./iv. (proszek do p. roztworu) 1000 mg | C8: porcja po 1 fiol. s.subst. | D8: 2300
A9: 4 | B9: Ampicillinum inj. im./iv. (proszek do p. roztworu) 500 mg | C9: porcja po 1 fiol. s.subst. | D9: 2800
A10: 5 | B10: Ampicillinum+Sulbactam, 2 g + 1g, proszek do sporządzania roztworu do wstrzykiwań i infuzji | C10: 1 fiol | D10: 1000
A11: 6 | B11: Azithromycinum syrop 100 mg/5 ml | C11: porcja po 1 butelka 20 ml | D11: 5
A12: 7 | B12: Azitromycinum 500mg | C12: op.12 tabl. | D12: 15
A13: 8 | B13: Betamethasonum+Clotrimazolum+Gentamycinum maść na skórę | C13: porcja po 15g | D13: 8
A14: 9 | B14: Benzylpenicillinum procainum inj. im. (proszek do p. zawiesiny) 1,2 mln. j.m. | C14: porcja po 1 fiol. s.subst. | D14: 10
A15: 10 | B15: Benzylpenicillinum procainum inj. im. (proszek do p. zawiesiny) 2,4 mln. j.m. | C15: porcja po 1 fiol. s.subst. | D15: 10
A16: 11 | B16: Ceclorum 250mg/5ml granulat do p. zawiesiny | C16: porcja po 100ml | D16: 20
A17: 12 | B17: Cefaclorum 125mg/5ml granulat do spoż zawiesiny | C17: porcja po 75ml | D17: 10
... A94: 89 | B94: Tigecycline 50mg inj. | C94: porcja po 10 fiol. | D94: 25
B95: RAZEM | F95: =SUM(F6:F94) -> 0 | I95: =SUM(I6:I94) -> 0
B99: Data | G99: Podpis osoby/osób upoważnionej
B100: ……………………………………………. | G100: ……………………………….

Sheet Zadanie nr 17
A1: Załącznik nr 9 | H1: ZOZ/DZP/PN/28/21
A4: Zadanie nr 17 - Amikacyna
A5: Lp. | B5: Nazwa produktu | C5: Jednostka miary | D5: Ilość | E5: Cena jednostkowa[zł] netto | F5: Wartość [zł] netto | G5: VAT | H5: Cena jednostkowa [zł] brutto | I5: Wartość [zł] brutto | J5: Producent/Nazwa handlowa
A6: 1 | B6: Amikacinum inj.1000 mg / 4 ml | C6: porcja po 4ml | D6: 1200
A7: 2 | B7: Amikacinum inj. im./iv. (roztwór) 250 mg/2 ml | C7: porcja po 2 ml | D7: 1000
A8: 3 | B8: Amikacinum ophtalm.0,3% krople | C8: op.5 ml | D8: 20
A9: 4 | B9: Amikacinum inj. im./iv. (roztwór) 500 mg/2 ml | C9: porcja po 2 ml | D9: 1200
B10: RAZEM | F10: =SUM(F6:F9) -> 0 | I10: =SUM(I6:I9) -> 0
B15: Data | G15: Podpis osoby/osób upoważnionej
B16: ……………………………………………. | G16: ……………………………….

Sheet Zadanie nr 18
A1: Załącznik nr 9 | H1: ZOZ/DZP/PN/28/21
A4: Zadanie nr 18 - Żel do cewnikowania
A5: Lp. | B5: Nazwa produktu | C5: Jednostka miary | D5: Ilość | E5: Cena jednostkowa[zł] netto | F5: Wartość [zł] netto | G5: VAT | H5: Cena jednostkowa [zł] brutto | I5: Wartość [zł] brutto | J5: Producent/Nazwa handlowa
A6: 1 | B6: Lidocainum żel znieczulający do cewnikowania 5 ml lub 6ml sterylny do stosowania przy intubacji | C6: porcja po1 szt. | D6: 3500
B7: RAZEM | F7: =SUM(F6) -> 0 | I7: =SUM(I6) -> 0
B11: Data | G11: Podpis osoby/osób upoważnionej
B12: ……………………………………………. | G12: ……………………………….

Sheet Zadanie nr 19
A1: Załącznik nr 9 | H1: ZOZ/DZP/PN/28/21
A4: Zadanie nr 19 - Dalteparinum
A5: Lp. | B5: Nazwa produktu | C5: Jednostka miary | D5: Ilość | E5: Cena jednostkowa[zł] netto | F5: Wartość [zł] netto | G5: VAT | H5: Cena jednostkowa [zł] brutto | I5: Wartość [zł] brutto | J5: Producent/Nazwa handlowa
A6: 1 | B6: Hdcz 7 500 j.m anty -Xa / 0,3 ml | C6: op.10 amp.strz. | D6: 10
A7: 2 | B7: Hdcz 5 000 j.m anty Xa / 0,2 ml | C7: op.10 amp.strz. | D7: 200
B8: RAZEM | F8: =SUM(F6:F7) -> 0 | I8: =SUM(I6:I7) -> 0
B11: Data …………………………………………. ………………………………………………...
H12: Podpis osoby/osób uprawnionej

Sheet Zadanie nr 20
A1: Załącznik nr 9 | H1: ZOZ/DZP/PN/28/21
A4: Zadanie nr 20 - Preparaty do żywienia pozajelitowego
A5: Lp. | B5: Nazwa produktu | C5: Jednostka miary | D5: Ilość | E5: Cena jednostkowa[zł] netto | F5: Wartość [zł] netto | G5: VAT | H5: Cena jednostkowa [zł] brutto | I5: Wartość [zł] brutto | J5: Producent/Nazwa handlowa
A6: 1 | B6: Worek dwukomorowy zawierający aminokwasy (40g/l) węglowodany (80g/l) i elektrolity do stosowania drogą żył obwodowych | C6: porcja po 1000ml, 1 worek | D6: 20
A7: 2 | B7: Worek dwukomorowy zawierający aminokwasy (40g/l) węglowodany (80g/l) i elektrolity do stosowania drogą żył obwodowych | C7: porcja po 2000ml, 1 worek | D7: 20
A8: 3 | B8: Worek dwukomorowy zawierający aminokwasy (48,1/l) węglowodany (150g/l) i elektrolity do stosowania drogą żył centralnych | C8: porcja po 1000ml | D8: 20
A9: 4 | B9: Worek dwukomorowy zawierający aminokwasy (48,1/l) węglowodany (150g/l) i elektrolity do stosowania drogą żył centralnych | C9: porcja po 2000ml | D9: 20
A10: 5 | B10: Worek trzykomorowy zawierający aminokwasy 40g, emulsje tłuszczowe MCT/LCT oraz glukozę ( nie więcej niż 80 g) do stosowania drogą żył obwodowych | C10: porcja po 1250ml | D10: 150
A11: 6 | B11: Worek trzykomorowy zawierający aminokwasy 60g, emulsje tłuszczowe MCT/LCT oraz glukozę ( nie więcej niż 120 g) do stosowania drogą żył obwodowych | C11: porcja po 1875ml | D11: 300
A12: 7 | B12: Worek trzykomorowy zawierający aminokwasy 48-50g azot (min. 6,8g), tłuszcze MCT/LCT, elektrolity i węglowodany do 150g). Droga podania – żyły centralne | C12: porcja po 1250ml, 1 worek | D12: 50
A13: 8 | B13: Worek trzykomorowy zawierający aminokwasy 68-72g azot (min. 10,2 g), tłuszcze MCT/LCT, elektrolity i węglowodany do 225 g). Droga podania – żyły centralne | C13: porcja po 1875ml, 1worek | D13: 150
A14: 9 | B14: Worek trzykomorowy aminokwasy: min. 35g, węglowodany: min 90g, elektrolity oraz trriglicerydy kwasów omega-3 Droga podania – żyły centralne. | C14: porcja po 625ml, 1worek | D14: 20
A15: 10 | B15: Worek trzykomorowy aminokwasy: min. 70g, węglowodany: min 180g, elektrolity oraz trriglicerydy kwasów omega-3 Droga podania – żyły centralne. | C15: porcja po 1250ml, 1 worek | D15: 50
A16: 11 | B16: Worek trzykomorowy aminokwasy: min. 105g, węglowodany: min 270g, elektrolity oraz triglicerydy kwasów omega-3 Droga podania – żyły centralne. | C16: porcja po 1875ml, 1worek | D16: 150
A17: 12 | B17: Worek trzykomorowy aminokwasy: min. 70g, węglowodany: min 180g, bez elektrolitów oraz triglicerydy kwasów omega-3 Droga podania – żyły centralne. | C17: porcja po 1250ml, 1worek | D17: 150
... A19: 14 | B19: Worek trzykomorowy aminokwasy: min. 35g, węglowodany: min 90g, bez elektrolitów oraz triglicerydy kwasów omega-3 Droga podania – żyły centralne. | C19: porcja po 625ml, 1worek | D19: 150
B20: RAZEM | F20: =SUM(F6:F19) -> 0 | I20: =SUM(I6:I19) -> 0
B23: Data …………………………………………. ………………………………………………...
H24: Podpis osoby/osób uprawnionej

Sheet Zadanie nr 21
A1: Załącznik nr 9 | H1: ZOZ/DZP/PN/28/21
A4: Zadanie nr 21 - Preparaty do żywienia dojelitowego
A5: Lp. | B5: Nazwa produktu | C5: Jednostka miary | D5: Ilość | E5: Cena jednostkowa[zł] netto | F5: Wartość [zł] netto | G5: VAT | H5: Cena jednostkowa [zł] brutto | I5: Wartość [zł] brutto | J5: Producent/Nazwa handlowa
A6: 1 | B6: Dieta kompletna pod względem odżywczym, hiperkaloryczna (2,4 kcal/ml) oparty na białku kazeinowym i serwatkowym, w minimalnym składzie: Zawartość białka nie mniejsza niż 9,6g/100 ml.% energii z: białka-16%, węglowodanów-49%, tłuszczów-35%. Dieta bezglutenowa, bezresztkowa. Smak: neutralny. Opakowanie typu butelka 125 ml. | C6: Op =4x125ml | D6: 50
A7: 2 | B7: Dieta kompletna pod względem odżywczym, hiperkaloryczna (2,4 kcal/ml) oparty na białku kazeinowym i serwatkowym, w minimalnym składzie Zawartość białka nie mniejsza niż 9,6g/100 ml.% energii z: białka-16%, węglowodanów-49%, tłuszczów-35%. Dieta bezglutenowa, bezresztkowa. Opakowanie typu butelka 125 ml. Smaki: truskawkowy, waniliowy, owoce leśne. | C7: Op =4x125ml | D7: 100
A8: 3 | B8: Dieta kompletna,hiperkaloryczna ( 1,5 kcal/ml) z dodatkiem jogurtu, zródłem białka jest serwatka i kazeina, zawiera wyłacznie tłuszcze LCT,źródłem węglowodanów są wolno wchłaniane maltodekstryny, sacharoza i laktoza , ubogoresztkowa, bezglutenowa, w minimalnym składzie zawartośc białka 6g/100ml,węglowodany 18,7 g/100ml, 16% energii z białka, o osmolarności 740 mOsmol/l , opakowanie 4 x 200 ml, w dwóch smakach : waniliowo-cytrynowy, malinowy; | C8: Op =4x200ml | D8: 50
A9: 4 | B9: Dieta kompletna,hiperkaloryczna ( 2,4 kcal/ml) w minimalnym składzie o zawartości białka 9,5g/100ml, dieta do podaży doustnej o smaku waniliowym, dieta bogatoresztkowa - zawartość błonnika 3,6 g/100 ml, bezglutenowa w opakowaniu 4x125 ml, o osmolarności 790 mOsmol/l. | C9: Op =4x125ml | D9: 50
A10: 5 | B10: Dieta wspomagająca proces gojenia odleżyn i ran przewlekłych, kompletna, bezresztkowa, hiperkaloryczna (1,24 kcal/ml), bezglutenowa. Dieta zawiera argininę oraz inne składniki odżywcze, w odpowiednich proporcjach, które wspomagają i przyspieszają gojenie ran - zwiększona zawartość przeciwutleniaczy (wit C i E, karotenoidów, cynku). W minimalnym składzie: Dieta wysokobiałkowa - zawartość białka 8,8 g /100ml, o niskiej zawartości tłuszczu - 3,5g / 100ml, węglowodany 14,5 g/100ml, 28 % energii z białka, 46 % energii z węglowodanów, 26 % energii z tłuszczy, o osmolarności min. 500 mOsmol/l opakowanie 4 x 200 ml, w trzech smakach: truskawkowy, czekoladowy, waniliowy. | C10: Op =4x200ml | D10: 50
A11: 6 | B11: Dieta beztłuszczowa,hiperkaloryczna ( 1,5 kcal/ml) bogatobiałkowa, oparta na białku serwatkowym, źródłem węglowodanów są wolno wchłaniane maltodekstryny i sacharoza, niska zawartość sodu i fosforanów,bezresztkowa, bezglutenowa,klinicznie wolna od laktozy, w minimalnym składzie zawartośc białka 4g/100ml,węglowodany 33,5 g/100ml, 11% energii z białka, o osmolarności 750 mOsmol/l, opakowanie 4x200 ml, w dwóch smakach: truskawkowy, jabłkowy; | C11: Op =4x200ml | D11: 50
A12: 7 | B12: Dieta bezresztkowa normokaloryczna (1 kcal/ml), w minimalnym składzie zawierająca mieszankę białek w proporcji: 35% serwatkowych, 25% kazeiny, 20% białek soi, 20% białek grochu, zawartość białka nie mniej niż 4g/100; zawartość wielonienasyconych tłuszczów omega-6/omega-3 w proporcji 2,87; zawartość DHA+EPA nie mniej niż 33,5 mg/100 ml, dieta zawierająca 6 naturalnych karotenoidów, klinicznie wolna do laktozy, % energii z: białka-16%, węglowodanów-49%, tłuszczów-35%, o osmolarności 255 mOsmol/l, opakowanie typu butelka 500ml. | C12: 500ml | D12: 150
A13: 8 | B13: Dieta bezresztkowa normokaloryczna (1 kcal/ml), w minimalnym składzie zawierająca mieszankę białek w proporcji: 35% serwatkowych, 25% kazeiny, 20% białek soi, 20% białek grochu, zawartość białka nie mniej niż 4g/100; zawartość wielonienasyconych tłuszczów omega-6/omega-3 w proporcji 2,87; zawartość DHA+EPA nie mniej niż 33,5 mg/100 ml, dieta zawierająca 6 naturalnych karotenoidów,klinicznie wolna do laktozy, % energii z: białka-16%, węglowodanów-49%, tłuszczów-35%,o osmolarności 255 mOsmol/l,w opakowaniu miękkim typu pack o pojemności 1000 ml. | C13: 1000ml | D13: 400
A14: 9 | B14: Dieta bezresztkowa hiperkaloryczna (1,5 kcal/ml), w minimalnym składzie zawierająca mieszankę białek w proporcji: 35% serwatkowych, 25% kazeiny, 20% białek soi, 20% białek grochu, zawartość białka nie mniej niż 6g/100 ml; zawartość wielonienasyconych tłuszczów omega-6/omega-3 w proporcji 3,12; zawartość DHA+EPA nie mniej niż 34mg/100 ml, dieta zawierająca 6 naturalnych karotenoidów, klinicznie wolna do laktozy,% energii z: białka-16%, węglowodanów-49%, tłuszczów-35%, o osmolarności 360 mOsmol/l , w opakowaniu miękkim typu pack o pojemności 1000 ml. | C14: 1000ml | D14: 800
A15: 10 | B15: Dieta bogatoresztkowa w minimalnym składzie z zawartością 6 rodzajów błonnika MF6, normokaloryczna (1 kcal/ml) zawierająca mieszankę białek w proporcji: 35% serwatkowych, 25% kazeiny, 20% białek soi, 20% białek grochu, zawartość białka nie mniej niż 4g/100; zawartość wielonienasyconych tłuszczów omega-6/omega-3 w proporcji 2,87; zawartość DHA+EPA nie mniej niż 33,5 mg/100 ml, dieta zawierająca 6 naturalnych karotenoidów, klinicznie wolna do laktozy, % energii z: białka-16%, węglowodanów-47%, tłuszczów-34%, błonnika 3% , o osmolarności 250 mOsmol/l ,w opakowaniu miękkim typu pack o pojemności 1000 ml. | C15: 1000ml | D15: 350
A16: 11 | B16: Dieta kompletna w minimalnym składzie pod względem odżywczym , wysokobiałkowa, 6,3 g białka/100ml , w oparciu wyłącznie o białko kazeinowe, z glutaminą 1,28 g/100ml, hiperkaloryczna ( 1,25 kcal/ml), bezresztkowa, klinicznie wolna od laktozy, % energii z : białka - 20%, węglowodanów- 45%, tłuszczu- 35%, o osmolarności 275 mOsmol/l, w opakowaniu miękkim typu pack o pojemności 1000ml | C16: 1000ml | D16: 700
A17: 12 | B17: Dieta kompletna w minimalnym składzie pod względem odżywczym , wysokobiałkowa, 6,3 g białka/100ml , w oparciu wyłącznie o białko kazeinowe, z glutaminą 1,28 g/100ml, hiperkaloryczna ( 1,25 kcal/ml), bezresztkowa, klinicznie wolna od laktozy, % energii z : białka - 20%, węglowodanów- 45%, tłuszczu- 35%, o osmolarności 275 mOsmol/l, w opakowaniu miękkim typu pack o pojemności 500ml | C17: 500ml | D17: 600
... A52: 47 | B52: Zgłębnik nosowo-żołądkowy do żywienia dojelitowego wyposażony w dodatkowy port do odbarczania rozmiar, 14 CH na 110 cm. | C52: op=10szt | D52: 20
B53: RAZEM | F53: =SUM(F6:F52) -> 0 | I53: =SUM(I6:I52) -> 0
B55: Zamawiający dopuszcza dietetyczne środki spożywcze
B57: Data …………………………………………. ………………………………………………...
H58: Podpis osoby/osób uprawnionej

Sheet Zadanie nr 22
A1: Załącznik nr 9 | H1: ZOZ/DZP/PN/28/21
A3: Zadanie nr 22 - Immunoglobuliny anty D
A4: Lp. | B4: Nazwa produktu | C4: Jednostka miary | D4: Ilość | E4: Cena jednostkowa[zł] netto | F4: Wartość [zł] netto | G4: VAT | H4: Cena jednostkowa [zł] brutto | I4: Wartość [zł] brutto | J4: Producent/Nazwa handlowa
A5: 1 | B5: Immunoglobulina anty D 50j.m. inj. | C5: 1 szt. | D5: 120
A6: 2 | B6: Immunoglobulina anty D 150j.m. inj. | C6: 1 szt. | D6: 200
B7: Razem | F7: =SUM(F5:F6) -> 0 | I7: =SUM(I5:I6) -> 0
B10: Data | G10: Podpis osoby/osób upoważnionej
B11: ……………………………………………. | G11: ……………………………….

Sheet Zadanie nr 23
A1: Załącznik nr 9 | H1: ZOZ/DZP/PN/28/21
A4: Zadanie nr 23 Żywienie dojelitowe 2
A5: Lp. | B5: Nazwa produktu | C5: Jednostka miary | D5: Ilość | E5: Cena jednostkowa[zł] netto | F5: Wartość [zł] netto | G5: VAT | H5: Cena jednostkowa [zł] brutto | I5: Wartość [zł] brutto | J5: Producent/Nazwa handlowa
A6: 1 | B6: Kompletna pod względem odżywczym bezresztkowa dieta po podaży przez zgłębnik lub doustnie, o kaloryczności 1,2 kcal/1 ml, o objętości 1000 ml w opakowaniu typu tetra. | C6: 1szt | D6: 10
A7: 2 | B7: Kompletna pod względem odżywczym bezresztkowa dieta po podaży przez zgłębnik lub doustnie, o kaloryczności 1,5 kcal/1 ml, o objętości 1000 ml w opakowaniu typu tetra. | C7: 1szt | D7: 10
A8: 3 | B8: Kompletna pod względem odżywczym bogatoresztkowa dieta po podaży przez zgłębnik lub doustnie, o kaloryczności 1,2 kcal/1 ml, o objętości 1000 ml w opakowaniu typu tetra. | C8: 1szt | D8: 10
A9: 4 | B9: Kompletna pod względem odżywczym bogatoresztkowa dieta po podaży przez zgłębnik lub doustnie, o kaloryczności 1,2 kcal/1 ml, o objętości 1000 ml w opakowaniu typu tetra. | C9: 1szt | D9: 10
A10: 5 | B10: Kompletna pod względem odżywczym bogatoresztkowa dieta po podaży przez zgłębnik lub doustnie dla pacjentów z cukrzycą lub zaburzeniami glikemii, o kaloryczności 1 kcal/1 ml, o objętości 1000 ml w opakowaniu typu tetra. | C10: 1szt | D10: 10
A11: 6 | B11: Kompletna pod względem odżywczym bogatoresztkowa dieta po podaży przez zgłębnik lub doustnie dla pacjentów z cukrzycą lub zaburzeniami glikemii, o kaloryczności 1 kcal/1 ml, o objętości 1000 ml w opakowaniu typu tetra. | C11: 1szt | D11: 10
A12: 7 | B12: Kompletna pod względem odżywczym bezresztkowa dieta po podaży doustnie, o kaloryczności 1,5 kcal/1 ml, smaku truskawkowym., objętości 200 ml, w opakowaniu typu tetra. | C12: 1szt | D12: 10
A13: 8 | B13: Kompletna pod względem odżywczym bezresztkowa dieta po podaży doustnie, o kaloryczności 1,5 kcal/1 ml, smaku czekoladowym., objętości 200 ml, w opakowaniu typu tetra. | C13: 1szt | D13: 10
A14: 9 | B14: Kompletna pod względem odżywczym bezresztkowa dieta po podaży doustnie, o kaloryczności 1,5 kcal/1 ml, smaku waniliowym., objętości 200 ml, w opakowaniu typu tetra. | C14: 1szt | D14: 10
A15: 10 | B15: Kompletna pod względem odżywczym bogtoresztkowa dieta po podaży doustnie, o zredukowanej zawartości fosforu, sodu i potasu dla pacjentów dializowanych, o kaloryczności 1,5 kcal/1 ml, objętości 200 ml, w opakowaniu typu tetra, o smaku waniliowym. | C15: 1szt | D15: 10
A16: 11 | B16: Kompletna pod względem odżywczym, bezresztkowa dieta w proszku o smaku waniliowym, masa 800 g. | C16: 1szt | D16: 10
A17: 12 | B17: Kompletna pod względem odżywczym, bezresztkowa dieta w proszku o smaku waniliowym, masa 400 g. | C17: 1szt | D17: 10
... A29: 24 | B29: Uniwersalny worek o pojemności 1600 ml kompatybilny z każdym zestawem do podaży | C29: 1szt | D29: 10
B30: RAZEM | F30: =SUM(F6:F29) -> 0 | I30: =SUM(I6:I29) -> 0
B33: Data …………………………………………. ………………………………………………...
H34: Podpis osoby/osób uprawnionej

Sheet Zadanie nr 24
A1: Załącznik nr 9 | H1: ZOZ/DZP/PN/28/21
A4: Zadanie nr 24 - Żywienie pozajelitowe 2
A5: Lp. | B5: Nazwa produktu | C5: Jednostka miary | D5: Ilość | E5: Cena jednostkowa[zł] netto | F5: Wartość [zł] netto | G5: VAT | H5: Cena jednostkowa [zł] brutto | I5: Wartość [zł] brutto | J5: Producent/Nazwa handlowa
A6: 1 | B6: Worek trzykomorowy do żywienia pozajelitowego drogą żył centralnych zawierający roztwór aminokwasów, 20% emulsję tłuszczową LTC, 80% oliwy z oliwek, węglowodany i elektrolity. Zawartość azotu 9 g ,energia 1070, osmolarność 1310 mOsm/l w pojemności 1000ml typu Olimel N9 E | C6: szt. | D6: 200
A7: 2 | B7: Worek trzykomorowy do żywienia pozajelitowego drogą żył centralnych zawierający roztwór aminokwasów, 20% emulsję tłuszczową LTC, 80% oliwy z oliwek, węglowodany bez zawartości elektrolitów Zawartość azotu 13,5g ,energia 1600, osmolarność 1170 mOsm/l w pojemności 1500ml typu Olimel N9 | C7: szt. | D7: 150
A8: 3 | B8: Worek trzykomorowy do żywienia pozajelitowego drogą żył centralnych zawierający roztwór aminokwasów, 20% emulsję tłuszczową LTC, 80% oliwy z oliwek, węglowodany i elektrolity. Zawartość azotu 13.5 g ,energia 1600, osmolarność 1310 mOsm/l w pojemności 1500ml typu Olimel N9 E | C8: szt. | D8: 150
A9: 4 | B9: Worek trzykomorowy do żywienia pozajelitowego drogą żył centralnych zawierający roztwór aminokwasów, 20% emulsję tłuszczową LTC, 80% oliwy z oliwek, węglowodany i elektrolity. Zawartość azotu 7 g ,energia 1140, osmolarność 1360 mOsm/l w pojemności 1000ml typu Olimel N7 E | C9: szt. | D9: 30
A10: 5 | B10: Worek trzykomorowy do żywienia pozajelitowego drogą żył centralnych zawierający roztwór aminokwasów, 20% emulsję tłuszczową LTC, 80% oliwy z oliwek, węglowodany i elektrolity. Zawartość azotu 10,5 g ,energia 1710, osmolarność 1360 mOsm/l w pojemności 1500ml typu Olimel N7 E | C10: szt. | D10: 30
A11: 6 | B11: Worek trzykomorowy do żywienia pozajelitowego drogą żył centralnych zawierający roztwór aminokwasów, 20% emulsję tłuszczową LTC, 80% oliwy z oliwek, węglowodany i elektrolity. Zawartość azotu 14 g ,energia 2270, osmolarność 1360 mOsm/l w pojemności 2000ml typu Olimel N7 E | C11: szt. | D11: 30
A12: 7 | B12: Roztwór aminokwasów z dodatkiem glukozy oraz emulsji tłuszczowej zawierającej 20% LCT i 80% oliwy z oliwek, węglowodany i elektrolity w systemie worków trzykomorowych do pełnego żywienia pozajelitowego droga żył obwodowych i centralnych, o zawartości azotu 4, energii całkowitej 700 kcali, osmolarności 760 mOsm/l poj. 1000 ml, typu Olimel Peri N4E | C12: szt. | D12: 30
A13: 8 | B13: Roztwór aminokwasów z dodatkiem glukozy oraz emulsji tłuszczowej zawierającej 20% LCT i 80% oliwy z oliwek, węglowodany i elektrolity w systemie worków trzykomorowych do pełnego żywienia pozajelitowego droga żył obwodowych i centralnych, o zawartości azotu 6, energii całkowitej 1050 kcali, osmolarności 760 mOsm/l poj. 1500 ml typu Olimel Peri N4E | C13: szt. | D13: 30
A14: 9 | B14: Worek trzykomorowy do żywienia pozajelitowego drogą żył centralnych zawierający roztwór aminokwasów: 14,2%, emulsję tłuszczową 17,5%, oczyszczony olej z oliwek+oczyszczony olej sojowy 22,75 g, węglowodany 27,5% i elektrolity. 650ml typu Olimel N12 E | C14: szt. | D14: 30
A15: 10 | B15: Worek trzykomorowy do żywienia pozajelitowego drogą żył centralnych zawierający roztwór aminokwasów: 14,2%, emulsję tłuszczową 17,5%, oczyszczony olej z oliwek+ oczyszczony olej sojowy 35,00 g, węglowodany 27,5% i elektrolity. 1000 ml typu Olimel N12 E | C15: szt. | D15: 30
A16: 11 | B16: Worek trzykomorowy do żywienia pozajelitowego drogą żył centralnych zawierający roztwór aminokwasów: 14,2%, emulsję tłuszczową 17,5%, oczyszczony olej z oliwek+oczyszczony olej sojowy 52,50 g, węglowodany 27,5% i elektrolity. 1500 ml typu Olimel N12 E | C16: szt. | D16: 120
A17: 12 | B17: 20% emulsja tłuszczowa zawierająca oliwę z oliwek i olej sojowy o objętości 250 ml typu Clinoleic 20 % | C17: szt. | D17: 100
... A21: 16 | B21: Preparat złożony: glukoza, sodu chlorek, sodu octan trójwodny, potasu chlorek, magnezu chlorek sześciowodny | C21: op.=10 worków po 1000 ml | D21: 120
B22: Razem | F22: =SUM(F6:F21) -> 0 | I22: =SUM(I6:I21) -> 0
B24: Data | G24: Podpis osoby/osób upoważnionej
B25: ……………………………………………. | G25: ……………………………….

Sheet Zadanie nr 25
A1: Załącznik nr 9 | H1: ZOZ/DZP/PN/28/21
A3: Zadanie nr 25 – Leki OAIiT
A4: Lp. | B4: Nazwa produktu | C4: Jednostka miary | D4: Ilość | E4: Cena jednostkowa[zł] netto | F4: Wartość [zł] netto | G4: VAT | H4: Cena jednostkowa [zł] brutto | I4: Wartość [zł] brutto | J4: Producent/Nazwa handlowa
A5: 1 | B5: Anidulafungina proszek do sporządzania koncentratu roztworu do infuzji; 100 mg; 1 fiol. | C5: 1 fiol | D5: 3
A6: 2 | B6: Alteplaza, proszek i rozpuszczalnik do sporządzania roztworu do wlewu; 50 mg; 1 flak. + rozp. 50 ml | C6: Op=1 szt. | D6: 3
A7: 3 | B7: Argipressinum 40j.m. inj. | C7: op=5amp | D7: 60
A8: 4 | B8: Koncentrat do sporządzania roztworu do infuzji; 1 ml zawiera: 170,1 mg diwodorofosforanu potasowego, 133,5 mg diwodnego wodorofosforanu sodowego, 14 mg wodorotlenku potasu, co odpowiada 1,5 mmol (59 mg) jonów potasu, 1,5 mmol (34 mg) jonów sodu i 2 mmol (62 mg) fosforanów; 10 fiol. 20 ml | C8: op=10fiol. | D8: 50
A9: 5 | B9: Calcium chloratum inj 10 ml 100mg/ml zamiennie z Calcium gluconatum 100mg/ml | C9: op=10amp | D9: 2500
A10: 6 | B10: Caspofunginum 50mg inj. | C10: 1 szt. | D10: 150
A11: 7 | B11: Caspofunginum 70mg inj. | C11: 1 szt. | D11: 12
A12: 8 | B12: Clatribine 10mg/10ml fiol | C12: porcja po 1 fiol. | D12: 5
A13: 9 | B13: Cytarabina 1g/20ml fiol | C13: porcja po 1 fiol | D13: 5
A14: 10 | B14: deksmedetomidyna 0,2mg/2ml | C14: porcja po 25 amp. | D14: 40
A15: 11 | B15: deksmedetomidyna 0,4mg/4ml | C15: porcja po 4 fiol. | D15: 60
A16: 12 | B16: Empagliflozin 10mg | C16: porcja po 28 tabl. | D16: 5
... A36: 32 | B36: Maść z tormentiolem z A+E | C36: tuba | D36: 50
A37: 33 | B37: Naldemedine 0,2mg | C37: tabl x 28 szt
A38: 34 | B38: Ornitinum 5g/10ml koncentrat do inf. | C38: op=10amp | D38: 10
A39: 35 | B39: Posaconazole 40mg/ml | C39: porcja po 105 ml | D39: 3
A40: 36 | B40: Prebagaina 75mg | C40: op=56tabl | D40: 100
A41: 37 | B41: Prebagaina 150mg | C41: op=56tabl | D41: 100
A42: 38 | B42: Preparat stosowany w kompletnym żywieniu pozajelitowym jako uzupełnienie zapotrzebowania na witaminy rozpuszczalne w tłuszczach wskazany dla pacjentów powyżej 11 roku życia | C42: op=10szt | D42: 10
A43: 39 | B43: Dożylny płyn podawany w celu pokrycia zapotrzebowania na witaminy rozpuszczalne w wodzie podczas żywienia pozajelitowego dla dorosłych i dzieci powyżej 10 kg | C43: porcja po 10ml w fiol. po 10 szt. | D43: 10
A44: 40 | B44: Preparaty do odżywiania pozajelitowego. W składzie zawierający same aminokwasy w ilości 85g/l, zawartość azotu 13,5g/l. | C44: op=500ml | D44: 250
A45: 41 | B45: Puder płynny 140g | C45: op=140g | D45: 20
A46: 42 | B46: Resonium A Proszek 1,42g Na +15g lub równoważny | C46: op=454g | D46: 5
A47: 43 | B47: Retinol krople do oczu. | C47: op=10ml | D47: 10
A48: 44 | B48: Ropivacainum 10mg/ml a 10 ml | C48: op. 5amp | D48: 150
A49: 45 | B49: Ropivacainum 5mg/ml a 10 ml | C49: op. 5amp | D49: 150
... A61: 57 | B61: Woryconazolum 200mg tabl | C61: porcja po 20 tabl | D61: 4
B62: Razem | F62: =SUM(F5:F61) -> 0 | I62: =SUM(I5:I61) -> 0
B65: Data | G65: Podpis osoby/osób upoważnionej
B66: ……………………………………………. | G66: ……………………………….

Sheet Zadanie nr 26
A1: Załącznik nr 9 | H1: ZOZ/DZP/PN/28/21
A4: Zadanie nr 26 – Cefalosporyny
A5: Lp. | B5: Nazwa produktu | C5: Jednostka miary | D5: Ilość | E5: Cena jednostkowa[zł] netto | F5: Wartość [zł] netto | G5: VAT | H5: Cena jednostkowa [zł] brutto | I5: Wartość [zł] brutto | J5: Producent/Nazwa handlowa
A6: 1 | B6: Cefuroxym inj. I.m./i.v 500 mg | C6: 1 fiolka | D6: 1000
A7: 2 | B7: Cefuroxym inj. I.m./i.v 750 mg | C7: 1 fiolka | D7: 1000
A8: 3 | B8: Cefuroxym inj. I.m./i.v 1500 mg | C8: 1 fiolka | D8: 14000
C9: RAZEM | F9: =SUM(F6:F8) -> 0 | I9: =SUM(I6:I8) -> 0
B12: Data …………………………………………. ………………………………………………...
H13: Podpis osoby/osób uprawnionej

Sheet Zadanie nr 27
A1: Załącznik nr 9 | H1: ZOZ/DZP/PN/28/21
A4: Zadanie nr 27 - Propofolum
A5: Lp. | B5: Nazwa produktu | C5: Jednostka miary | D5: Ilość | E5: Cena jednostkowa[zł] netto | F5: Wartość [zł] netto | G5: VAT | H5: Cena jednostkowa [zł] brutto | I5: Wartość [zł] brutto | J5: Producent/Nazwa handlowa
A6: 1 | B6: Propofolum inj. 10mg/1ml – 20ml fiolki | C6: porcja po 5 fiol. 20 ml | D6: 2500
A7: 2 | B7: Propofolum inj. 10 mg/1ml – 20ml amp | C7: porcja po 5 amp. 20 ml | D7: 780
A8: 3 | B8: Propofolum inj. 2% 50ml fiol emulsja | C8: porcja po 1 fiol. | D8: 700
A9: 4 | B9: Propofol 2% fiol 20ml | C9: porcja po 5fiol. | D9: 350
A10: 5 | B10: propofol lipuro 2% 20mg/ml poj 50ml | C10: porcja po 10fiol | D10: 70
B11: RAZEM | F11: =SUM(F6:F10) -> 0 | I11: =SUM(I6:I10) -> 0
B14: Data …………………………………………. ………………………………………………...
H15: Podpis osoby/osób uprawnionej

Sheet Zadanie nr 28
A1: Załącznik nr 9 | H1: ZOZ/DZP/PN/28/21
A4: Zadanie nr 28 – Leki Hospicjum
A5: Lp. | B5: Nazwa produktu | C5: Jednostka miary | D5: Ilość | E5: Cena jednostkowa[zł] netto | F5: Wartość [zł] netto | G5: VAT | H5: Cena jednostkowa [zł] brutto | I5: Wartość [zł] brutto | J5: Producent/Nazwa handlowa
A6: 1 | B6: Ac. ascorbicum, Hesperidinum, Ruscus aculeatus (Cyclo 3 fort) lub równoważne | C6: porcja po 30 kaps. | D6: 150
A7: 2 | B7: Acidum Valproicum 150mg | C7: Porcja po 100 szt. | D7: 3
A8: 3 | B8: Natrii Valproas+Acidum Valpronicum 300 mg | C8: porcja po 30 tabl. | D8: 250
A9: 4 | B9: Natrii Valproas 288,2mg/5ml | C9: porcja po 150ml | D9: 110
A10: 5 | B10: Natrii Valproas+Acidum Valproicum 500mg | C10: porcja po 30 tabl. | D10: 80
A11: 6 | B11: Natrii Valproas inj 400mg/4ml | C11: op=4fiol. | D11: 60
A12: 7 | B12: Natrii Valproas 750mg saszetki 30 szt. | C12: op=30sasz. | D12: 150
A13: 8 | B13: Alfuzosinum 10mg | C13: porcja po 30 szt. | D13: 22
A14: 9 | B14: Amantadinum 100mg | C14: porcja po 100tabl | D14: 9
A15: 10 | B15: Aminophylinum 200mg o przedł uwalnianiu | C15: porcja po 30kaps. | D15: 6
A16: 11 | B16: Amitryptilina 25mg | C16: 60 draż | D16: 10
A17: 12 | B17: Amitriptilina 10mg | C17: 60 draż | D17: 10
... A81: 76 | B81: Ziprazidonum 80mg | C81: porcja po 56 kaps. | D81: 12
B82: RAZEM | F82: =SUM(F6:F81) -> 0 | I82: =SUM(I6:I81) -> 0
B85: Data | H85: Podpis osoby/osób upoważnionej
B86: ……………………………………………. | H86: ………………………………… | I86: ………………………………. | J86: ………………

Sheet zadanie nr 29
A1: Załącznik nr 9 | H1: ZOZ/DZP/PN/28/21
A4: Zadanie nr 29 - Leki przeciwbólowe
A5: Lp. | B5: Nazwa produktu | C5: Jednostka miary | D5: Ilość | E5: Cena jednostkowa[zł] netto | F5: Wartość [zł] netto | G5: VAT | H5: Cena jednostkowa [zł] brutto | I5: Wartość [zł] brutto | J5: Producent/Nazwa handlowa
A6: 1 | B6: Bupremorfina 35 mcg/h plastry | C6: Porcja po 5 plastrów | D6: 150
A7: 2 | B7: Bupremorfina plastry 52,5mcg/h | C7: Op=5 plastrów | D7: 100
A8: 3 | B8: Bupremorfina plastry 70mcg/h | C8: Op=5 plastrów | D8: 75
A9: 4 | B9: Diclofenacum + Misoprostolum tabl. powl. | C9: porcja po 20 tabl. | D9: 25
A10: 5 | B10: Diclofenacum czopki 100 mg | C10: porcja po 1 op. 10 szt. | D10: 250
A11: 6 | B11: Diclofenacum czopki 50 mg | C11: porcja po 1 op. 10 szt. | D11: 180
A12: 7 | B12: Diclofenacum 75 mg x 10 szt. doustny | C12: op=20szt | D12: 15
A13: 8 | B13: Diclofenacum inj. (roztwór) 75 mg/3 ml | C13: porcja po 5 amp. 3 ml | D13: 20
A14: 9 | B14: Diclofenacum tabl. dojelitowe 25 mg | C14: porcja po 30 tabl. | D14: 3
A15: 10 | B15: Diclofenacum tabl. dojelitowe 50 mg | C15: porcja po 30 tabl. | D15: 75
A16: 11 | B16: Diclofenacum 100mg | C16: porcja po 20tabl. | D16: 200
A17: 12 | B17: Diclofenacum maść vel żel | C17: Porcja po 50 do 60g | D17: 40
... A93: 88 | B93: Zofenopryl 30mg | C93: porcja po 28tabl | D93: 50
B94: RAZEM | F94: =SUM(F6:F93) -> 0 | I94: =SUM(I6:I93) -> 0
B97: Data | H97: Podpis osoby/osób upoważnionej
B98: ……………………………………………. | H98: …………………… | I98: ……………………………….

Sheet Zadanie nr 31
A1: Załącznik nr 9 | H1: ZOZ/DZP/PN/28/21
B4: Zadanie nr 31 - Kontrasty jodowe
A5: Lp. | B5: Nazwa produktu | C5: Jednostka miary | D5: Ilość | E5: Cena jednostkowa[zł] netto | F5: Wartość [zł] netto | G5: VAT | H5: Cena jednostkowa [zł] brutto | I5: Wartość [zł] brutto | J5: Producent/Nazwa handlowa
A6: 1 | B6: Iodiksanol 320mg/ml i.v. | C6: porcja po 10 x 50ml | D6: 2
A7: 2 | B7: Iodiksanol 320mg/ml i.v. | C7: porcja po 10 x 200ml | D7: 2
A8: 3 | B8: Iomeprolum 300 mg jodu/ml i.v. | C8: Porcja po 20ml | D8: 40
A9: 4 | B9: Iomeprolum 300 mg jodu/ml i.v. | C9: Porcja po 50ml | D9: 30
A10: 5 | B10: Iomeprolum 350mg/ml i.v. | C10: porcja po 50ml | D10: 20
A11: 6 | B11: Iomeprolum 350mg/ml i.v. | C11: porcja po 200ml | D11: 20
A12: 7 | B12: Iopromidum 300mg/ml i.v. | C12: Porcja po 10 x 20ml | D12: 30
A13: 8 | B13: Iopromidum 300mg/ml i.v. | C13: porcja po 10 x 50ml | D13: 20
A14: 9 | B14: Iopromidum 370 mgI/ml i.v. | C14: porcja po 50ml | D14: 2
A15: 10 | B15: Iopromidum 370 mgI/ml i.v | C15: porcja po 200ml | D15: 15
A16: 11 | B16: Iohexolum 300 mg I / ml i.v. | C16: Porcja po 10 x 20ml | D16: 35
A17: 12 | B17: Iohexolum 300 mg I / ml i.v. | C17: porcja po 10 x 50 ml | D17: 30
... A19: 14 | B19: Iohexolum 350 mg I / ml i.v. | C19: porcja po 10 x 200ml | D19: 55
B20: RAZEM | F20: =SUM(F6:F19) -> 0 | I20: =SUM(I6:I19) -> 0
B23: Data | H23: Podpis osoby/osób upoważnionej
B24: ……………………………………………. | H24: …………………… | I24: ……………………………….

Sheet Zadanie nr 32
A1: Załącznik nr 9 | H1: ZOZ/DZP/PN/28/21
B4: Zadanie nr 32 - Acidum ibandronicum
A5: Lp. | B5: Nazwa produktu | C5: Jednostka miary | D5: Ilość | E5: Cena jednostkowa[zł] netto | F5: Wartość [zł] netto | G5: VAT | H5: Cena jednostkowa [zł] brutto | I5: Wartość [zł] brutto | J5: Producent/Nazwa handlowa
A6: 1 | B6: Acidum ibandronicum 3mg/3ml ampułkostrzykawka + igła | C6: 1 ampułko-strzykawka | D6: 70
B7: RAZEM | F7: =SUM(F6) -> 0 | I7: =SUM(I6) -> 0
B10: Data | H10: Podpis osoby/osób upoważnionej
B11: ……………………………………………. | H11: …………………… | I11: ……………………………….

Sheet Zadanie nr 33
A1: Załącznik nr 9 | H1: ZOZ/DZP/PN/28/21
A4: Zadanie nr 33 - Imigluceraza i eliglustat
A5: Lp. | B5: Nazwa produktu | C5: Jednostka miary | D5: Ilość | E5: Cena jednostkowa[zł] netto | F5: Wartość [zł] netto | G5: VAT | H5: Cena jednostkowa [zł] brutto | I5: Wartość [zł] brutto | J5: Producent/Nazwa handlowa
A6: 1 | B6: Cerezyme (Imigluceraza) 400j./10ml | C6: fiolka | D6: 363
A7: 2 | B7: Eliglustat 0,84mg | C7: Op=56 kaps | D7: 30
B8: RAZEM | F8: =SUM(F6:F7) -> 0 | I8: =SUM(I6:I7) -> 0
B11: Data | G11: Podpis osoby/osób upoważnionej
B12: ……………………………………………. | G12: …………………… | H12: ……………………………….

Sheet Zadanie nr 34
A1: Załącznik nr 9 | H1: ZOZ/DZP/PN/28/21
A4: Zadanie nr: 34- Ferrum
A5: Lp. | B5: Nazwa produktu | C5: Jednostka miary | D5: Ilość | E5: Cena jednostkowa[zł] netto | F5: Wartość [zł] netto | G5: VAT | H5: Cena jednostkowa [zł] brutto | I5: Wartość [zł] brutto | J5: Producent/Nazwa handlowa
A6: 1 | B6: Ferrum isomaltozidum 500mg/5ml | C6: pocja po 5fiolek | D6: 150
B7: RAZEM | F7: =SUM(F6) -> 0 | I7: =SUM(I6) -> 0
B10: Data | G10: Podpis osoby/osób upoważnionej
B11: ……………………………………………. | G11: ………………………….. | H11: ……………………………….

Sheet Zadanie nr 35
A1: Załącznik nr 9 | H1: ZOZ/DZP/PN/28/21
B4: Zadanie nr 35 - Glikokotykosteroidy
A5: Lp. | B5: Nazwa produktu | C5: Jednostka miary | D5: Ilość | E5: Cena jednostkowa[zł] netto | F5: Wartość [zł] netto | G5: VAT | H5: Cena jednostkowa [zł] brutto | I5: Wartość [zł] brutto | J5: Producent/Nazwa handlowa
A6: 1 | B6: Dexamethasonum inj. (roztwór) 4 mg/ml | C6: porcja po 10 amp. 2 ml | D6: 400
A7: 2 | B7: Dexamethasonum inj. (roztwór) 4 mg/ml | C7: porcja po 10 amp. 1 ml | D7: 400
A8: 3 | B8: Dexamethasonum 0,1% zawiesina do oczu | C8: porcja po 5ml | D8: 5
A9: 4 | B9: Hydrocortisonum fiol. 100Mg+2ml rozp. | C9: porcja po 5 fiol.+ rozp | D9: 1000
A10: 5 | B10: Hydrocortisonum 25 mg + 2 ml rozp | C10: porcja po 5 fiol.+ rozp | D10: 10
A11: 6 | B11: Hydrocortisonum 20 mg | C11: porcja po 20 tabl. | D11: 20
B12: RAZEM | F12: =SUM(F6:F11) -> 0 | I12: =SUM(I6:I11) -> 0
B15: Data | H15: Podpis osoby/osób upoważnionej
B16: ……………………………………………. | H16: …………………… | I16: ……………………………….

Sheet Zadanie nr 36
A1: Załącznik nr 9 | H1: ZOZ/DZP/PN/28/21
A4: Zadanie nr: 36 - Desfluran
A5: Lp. | B5: Nazwa produktu | C5: Jednostka miary | D5: Ilość | E5: Cena jednostkowa[zł] netto | F5: Wartość [zł] netto | G5: VAT | H5: Cena jednostkowa [zł] brutto | I5: Wartość [zł] brutto | J5: Producent/Nazwa handlowa
A6: 1 | B6: Desfluranum 240ml | C6: op=240ml | D6: 160
B7: Razem | F7: =SUM(F6) -> 0 | I7: =SUM(I6) -> 0
B9: Na czas trwania umowy wymagane jest użyczenie 2 szt. parowników do aparatu Drager . Koszt użyczenia należy wliczyć w cenę oferty.
B11: Data | G11: Podpis osoby/osób upoważnionej
B12: ……………………………………………. | G12: ……………………………….

Sheet Zadanie nr 37
A1: Załącznik nr 9 | H1: ZOZ/DZP/PN/28/21
A4: a | B4: Zadanie nr: 37 – Metamizolum
A5: Lp. | B5: Nazwa produktu | C5: Jednostka miary | D5: Ilość | E5: Cena jednostkowa[zł] netto | F5: Wartość [zł] netto | G5: VAT | H5: Cena jednostkowa [zł] brutto | I5: Wartość [zł] brutto | J5: Producent/Nazwa handlowa
A6: 1 | B6: Metamizolum inj. (roztwór) 500 mg/ml | C6: porcja po 5 amp. 5 ml | D6: 1000
A7: 2 | B7: Metamizolum inj. (roztwór) 500 mg/ml | C7: porcja po 5 amp po 2 ml | D7: 300
A8: 3 | B8: Metamizolum tabl. 500 mg | C8: porcja po 10 tabl. | D8: 300
A9: 4 | B9: Metamizolum inj. (roztwór) 500 mg/ml. Wskazanie do podania powyżej 3 m-ca życia | C9: porcja po 10 amp po 5 ml | D9: 600
A10: 5 | B10: Metamizolum inj. (roztwór) 500 mg/ml. Wskazanie do podania powyżej 3 m-ca życia | C10: porcja po 10 amp po 2 ml | D10: 150
A11: 6 | B11: Metamizolum 500mg/ml krople doustne | C11: poecja po 20ml | D11: 30
A12: 7 | B12: Metamizolum 500mg/ml krople doustne | C12: porcja po 100ml | D12: 30
B13: RAZEM | F13: =SUM(F6:F12) -> 0 | I13: =SUM(I6:I12) -> 0
B16: Data | H16: Podpis osoby/osób upoważnionej
B17: ……………………………………………. | H17: …………………… | I17: ……………………………….

Sheet Zadanie nr 38
A1: Załącznik nr 9 | H1: ZOZ/DZP/PN/28/21
B4: Zadanie nr 38 – Ciprofloxacinum
A5: Lp. | B5: Nazwa produktu | C5: Jednostka miary | D5: Ilość | E5: Cena jednostkowa[zł] netto | F5: Wartość [zł] netto | G5: VAT | H5: Cena jednostkowa [zł] brutto | I5: Wartość [zł] brutto | J5: Producent/Nazwa handlowa
A6: 1 | B6: Ciprofloxacinum tabl. powl. 500 mg | C6: porcja po 10 tabl. | D6: 500
A7: 2 | B7: Ciprofloxacinum roztwór do infuzji 2mg/ml | C7: porcja po 100ml | D7: 3000
A8: 3 | B8: Ciprofloxacinum roztwór do infuzji 2mg/ml | C8: porcja po 200ml | D8: 7000
B9: RAZEM | F9: =SUM(F6:F8) -> 0 | I9: =SUM(I6:I8) -> 0
B12: Data | H12: Podpis osoby/osób upoważnionej
B13: ……………………………………………. | H13: …………………… | I13: ……………………………….

Sheet Zadanie nr 39
A1: Załącznik nr 9 | H1: ZOZ/DZP/PN/28/21
A3: Zadanie nr 39 - Długo i krótko działające analogi insuliny i barbituran
A4: Lp. | B4: Nazwa produktu | C4: Jednostka miary | D4: Ilość | E4: Cena jednostkowa[zł] netto | F4: Wartość [zł] netto | G4: VAT | H4: Cena jednostkowa [zł] brutto | I4: Wartość [zł] brutto | J4: Producent/Nazwa handlowa
A5: 1 | B5: Insulinum glargine 300j. /ml | C5: 10 wstrzykiwaczy | D5: 30
A6: 2 | B6: Insulinum glargine 100j. /ml | C6: 5 wstrzykiwaczy | D6: 30
A7: 3 | B7: Insulinum glulisine 100j./ml | C7: 5 wstrzykiwaczy | D7: 30
A8: 4 | B8: Insulina Lizpro 100 j./ml, roztwór do wstrzykiwań, 10 wkładów po 3 ml | C8: 10 wstrzykiwaczy | D8: 20
A9: 5 | B9: Phenobarbitalum 40mg inj +2ml | C9: 1 szt. | D9: 12
B10: Razem | F10: =SUM(F5:F9) -> 0 | I10: =SUM(I5:I9) -> 0
B14: …………….., dnia ………………… ……………………………………
B15: Podpis
B16: osoby upoważnionej

Sheet Zadanie nr 40
A1: Załącznik nr 9 | H1: ZOZ/DZP/PN/28/21
A4: Zadanie nr 40 – Antybiotyki RTU
A5: Lp. | B5: Nazwa produktu | C5: Jednostka miary | D5: Ilość | E5: Cena jednostkowa[zł] netto | F5: Wartość [zł] netto | G5: VAT | H5: Cena jednostkowa [zł] brutto | I5: Wartość [zł] brutto | J5: Producent/Nazwa handlowa
A6: 1 | B6: Amikacinum 2,5mg/ml | C6: butelka do infuzji 100ml | D6: 100
A7: 2 | B7: Amikacinum 5mg/ml | C7: butelka do infuzji 100ml | D7: 100
A8: 3 | B8: Amikacinum 10mg/ml | C8: butelka do infuzji 100ml | D8: 100
A9: 4 | B9: Gentamicinum (roztwór) 80 mg/80 ml | C9: porcja fiolka 80 ml | D9: 100
A10: 5 | B10: Gentamicinum (roztwór) 240 mg/80 ml | C10: porcja fiolka 80 ml | D10: 100
A11: 6 | B11: Tobramycinum 240mg/80 ml | C11: Op=10 fl. | D11: 40
B12: RAZEM | F12: =SUM(F6:F11) -> 0 | I12: =SUM(I6:I11) -> 0
B16: Data | H16: Podpis osoby/osób upoważnionej
B17: ……………………………………………. | I17: ……………………………….

Sheet Zadanie nr 41
A1: Załącznik nr 9 | H1: ZOZ/DZP/PN/28/21
A4: Zadanie nr 41 - Antybiotyki
A5: Lp. | B5: Nazwa produktu | C5: Jednostka miary | D5: Ilość | E5: Cena jednostkowa[zł] netto | F5: Wartość [zł] netto | G5: VAT | H5: Cena jednostkowa [zł] brutto | I5: Wartość [zł] brutto | J5: Producent/Nazwa handlowa
A6: 1 | B6: Vancomycinym 1000 mg/5ml inj. i.v., p.o. | C6: porcja po 5 szt. | D6: 350
A7: 2 | B7: Clindamycin 150 mg/ml | C7: Porcja po 4ml w 5 amp | D7: 140
A8: 3 | B8: Clindamycin 600 mg | C8: porcja po 12 kaps. | D8: 20
A9: 4 | B9: Clindamycin 300mg | C9: porcja po 16 kaps. | D9: 30
B10: RAZEM | F10: =SUM(F6:F9) -> 0 | I10: =SUM(I6:I9) -> 0
B13: Data | H13: Podpis osoby/osób upoważnionej
B14: ……………………………………………. | I14: ……………………………….

Sheet Zadanie nr 42
A1: Załącznik nr 9 | H1: ZOZ/DZP/PN/28/21
B4: Zadanie nr 42 - Metronidazol
A5: Lp. | B5: Nazwa produktu | C5: Jednostka miary | D5: Ilość | E5: Cena jednostkowa[zł] netto | F5: Wartość [zł] netto | G5: VAT | H5: Cena jednostkowa [zł] brutto | I5: Wartość [zł] brutto | J5: Producent/Nazwa handlowa
A6: 1 | B6: Metronidazolum inj. iv. (roztwór) 5 mg/ml | C6: porcja po 1 fl. 100 ml | D6: 6500
B7: RAZEM | F7: =SUM(F6) -> 0 | I7: =SUM(I6) -> 0
B11: Data | H11: Podpis osoby/osób upoważnionej
B12: ……………………………………………. | I12: ……………………………….

Sheet Zadanie nr 43
A1: Załącznik nr 9 | H1: ZOZ/DZP/PN/28/21
A4: Zadanie nr 43 - Witamina K1
A5: Lp. | B5: Nazwa produktu | C5: Jednostka miary | D5: Ilość | E5: Cena jednostkowa[zł] netto | F5: Wartość [zł] netto | G5: VAT | H5: Cena jednostkowa [zł] brutto | I5: Wartość [zł] brutto | J5: Producent/Nazwa handlowa
A6: 1 | B6: Phytomenadionum (vit. K1) 2mg/0,2ml | C6: porcja po 5 amp. | D6: 230
B7: RAZEM | F7: =SUM(F6) -> 0 | I7: =SUM(I6) -> 0
B10: Data | G10: Podpis osoby/osób upoważnionej
B11: ……………………………………………. | G11: ………………………….. | I11: ……………………………….

Sheet Zadanie nr 44
A1: Załącznik nr 9 | H1: ZOZ/DZP/PN/28/21
B4: Zadania nr 44 - Imipenem, piperacillinum
A5: Lp. | B5: Nazwa produktu | C5: Jednostka miary | D5: Ilość | E5: Cena jednostkowa[zł] netto | F5: Wartość [zł] netto | G5: VAT | H5: Cena jednostkowa [zł] brutto | I5: Wartość [zł] brutto | J5: Producent/Nazwa handlowa
A6: 1 | B6: Imipenem/cilastatinum 500+500mg | C6: porcja po 10 fiol | D6: 250
A7: 2 | B7: Meropenem 500mg | C7: porcja po 10 fiol | D7: 150
A8: 3 | B8: Meropenem 1000mg | C8: porcja po 10 fiol | D8: 350
A9: 4 | B9: Piperacillinum + Tazobactamum 4g+0,5g | C9: porcja po 10fiol | D9: 600
B10: RAZEM | F10: =SUM(F6:F9) -> 0 | I10: =SUM(I6:I9) -> 0
B14: Data | H14: Podpis osoby/osób upoważnionej
B15: ……………………………………………. | H15: ………………….. | I15: ……………………………….

Sheet Zadanie nr 45
A2: Załącznik nr 9 | H2: ZOZ/DZP/PN/28/21
A4: Zadanie nr 45 - Insuliny i analogi
A5: Lp. | B5: Nazwa produktu | C5: Jednostka miary | D5: Ilość | E5: Cena jednostkowa[zł] netto | F5: Wartość [zł] netto | G5: VAT | H5: Cena jednostkowa [zł] brutto | I5: Wartość [zł] brutto | J5: Producent/Nazwa handlowa
A6: 1 | B6: Insulina aspart, szybkodziałający analog insuliny ludzkiej, którtkodziałające, doposiłkowe, analogowe,r-r do wstrzykiwań 100j.m./ml | C6: 10x3ml | D6: 30
A7: 2 | B7: Insulina detemir, długodziałający analog insuliny ludzkiej,analogowe, bazowe, długodziałające, r-r do wstrzykiwań 100j.m./ml | C7: 10x3ml | D7: 30
A8: 3 | B8: Insulina aspart/insulina aspart krystalizowana z protaminą w stosunku 30/70, analogowa mieszanka insulinowa, dwufazowa, zawiesina do wstrzykiwań 100j.m./ml | C8: 10x3ml | D8: 35
A9: 4 | B9: Insulina aspart/insulina aspart krystalizowana z protaminą w stosunku 50/50, analogowa mieszanka insulinowa, dwufazowa, zawiesina do wstrzykiwań 100j.m./ml | C9: 10x3ml | D9: 30
A10: 5 | B10: Insulina ludzka, szybkodziałająca, r-r do wstrzykiwań,100j.m./ml | C10: 5x3ml | D10: 60
A11: 6 | B11: Insulina ludzka izofanowa o posrednim czasie działania,zawiesina do wstrzykiwań, 100j.m./ml | C11: 5x3ml | D11: 45
A12: 7 | B12: Insulina ludzka i insulina ludzka izofanowa w stosunku 30/70, dwufazowa, ludzka mieszanina insuliny szybkodziałającej i długodziałającej,zawisina wstrzykiwań,100j.m./ml | C12: 5x3ml | D12: 25
A13: 8 | B13: Insulina ludzka i insulina ludzka izofanowa w stosunku 40/60, dwufazowa, ludzka mieszanina insuliny szybkodziałającej i długodziałającej,zawisina wstrzykiwań,100j.m./ml | C13: 5x3ml | D13: 20
A14: 9 | B14: Insulina ludzka i insulina ludzka izofanowa w stosunku 50/50, dwufazowa, ludzka mieszanina insuliny szybkodziałającej i długodziałającej,zawisina wstrzykiwań,100j.m./ml | C14: 5x3ml | D14: 20
A15: 10 | B15: roztwór do wstrzykiwań; 100 j./ml (zawiera: 70% insuliny degludec, 30% insuliny aspart); | C15: 5x3ml | D15: 10
A16: 11 | B16: Insulina deglutec roztwór do wstrzykiwań; 100 j./ml;3 ml | C16: 5x3ml | D16: 20
A17: 12 | B17: Insulina Humalog 300j.m lub równoważna | C17: porcja po 5 wkładów | D17: 30
... A21: 16 | B21: Insulina Humulin N 300j.m./3ml lub równoważna | C21: porcja po 5 wkładów | D21: 10
B22: Razem | F22: =SUM(F6:F21) -> 0 | I22: =SUM(I6:I21) -> 0
B25: Data | G25: Podpis osoby/osób upoważnionej
B26: ……………………………………………. | G26: ……………………………….

Sheet Zadanie nr 46
A1: Załącznik nr 9 | H1: ZOZ/DZP/PN/28/21
A4: Zadanie nr 46 - Budesonidum
A5: Lp. | B5: Nazwa produktu | C5: Jednostka miary | D5: Ilość | E5: Cena jednostkowa[zł] netto | F5: Wartość [zł] netto | G5: VAT | H5: Cena jednostkowa [zł] brutto | I5: Wartość [zł] brutto | J5: Producent/Nazwa handlowa
A6: 1 | B6: Budesonidum zawiesina do inhalacji 0,125 mg/ml (wskazania wirusowe zapalenie krtani u dzieci)wg wskazań z listy regundacyjnej Ministra Zdrowia | C6: porcja po 20 poj. 2 ml | D6: 65
A7: 2 | B7: Budesonidum zawiesina do inhalacji 0,5 mg/ml (wskazania wirusowe zapalenie krtani u dzieci) wg wskazań z listy regundacyjnej Ministra Zdrowia | C7: porcja po 20 poj. 2 ml | D7: 240
A8: 3 | B8: Budesonidum zawiesina do inhalacji 0,25 mg/ml (wskazania wirusowe zapalenie krtani u dzieci)wg wskazań z listy regundacyjnej Ministra Zdrowia | C8: porcja po 20 poj. 2 ml | D8: 280
B9: RAZEM | F9: =SUM(F6:F8) -> 0 | I9: =SUM(I6:I8) -> 0
B12: Data | G12: Podpis osoby/osób upoważnionej
B13: ……………………………………………. | G13: ………………………….. | H13: ……………………………….

Sheet Zadanie nr 47
A1: Załącznik nr 9 | H1: ZOZ/DZP/PN/28/21
A3: Zadanie nr 47 – Cefazolina
A4: Lp. | B4: Nazwa produktu | C4: Jednostka miary | D4: Ilość | E4: Cena jednostkowa[zł] netto | F4: Wartość [zł] netto | G4: VAT | H4: Cena jednostkowa [zł] brutto | I4: Wartość [zł] brutto | J4: Producent/Nazwa handlowa
A5: 1 | B5: Cefazolinum inj. im./iv. (proszek do p. roztworu) 1000 mg | C5: porcja po 1 fiol. | D5: 5000
B6: Razem | F6: =SUM(F5) -> 0 | I6: =SUM(I5) -> 0
B10: …………….., dnia ………………… ……………………………………
B11: Podpis
B12: osoby upoważnionej

Sheet Zadanie nr 48
A1: Załącznik nr 9 | H1: ZOZ/DZP/PN/28/21
A4: Zadanie nr 48 - Preparaty przeczyszczające
A5: Lp. | B5: Nazwa produktu | C5: Jednostka miary | D5: Ilość | E5: Cena jednostkowa[zł] netto | F5: Wartość [zł] netto | G5: VAT | H5: Cena jednostkowa [zł] brutto | I5: Wartość [zł] brutto | J5: Producent/Nazwa handlowa
A6: 1 | B6: Sodu pikosiarczan + magnezu tlenek lekki + kwas cytrynowy bezwodny(0,01 g + 3,50 g + 10,97 g)/saszetkę, | C6: op po 50 saszetek | D6: 5
A7: 2 | B7: Makrogol 4000 64 g + subst. Pomocnicze | C7: Saszetki po 74 g x 48szt | D7: 70
A8: 3 | B8: Makrogol koncentrat do sporządzania zawiesiny doustnej 52,5g/100ml | C8: porcja w butelce 200ml | D8: 30
A9: 4 | B9: Saszetka A: makrogol 3350-100g, +siarczan sodu bezwodny-7,5g + chlorek sodu-2,691g+chlorek potasu-10,15g. Saszetka B: Kwas askorbowy 4,7g + askorbinias sodu-5,9g | C9: porcja op.= Aszetka A+B | D9: 100
B10: RAZEM | F10: =SUM(F6:F9) -> 0 | I10: =SUM(I6:I9) -> 0
B13: Data | G13: Podpis osoby/osób upoważnionej
B14: ……………………………………………. | G14: ………………………….. | H14: ……………………………….

Sheet Zadanie nr 49
A1: Załącznik nr 9 | H1: ZOZ/DZP/PN/28/21
A5: Zadanie nr 49 Immunoglobuliny.
A6: Lp. | B6: Nazwa produktu | C6: Jednostka miary | D6: Ilość | E6: Cena jednostkowa[zł] netto | F6: Wartość [zł] netto | G6: VAT | H6: Cena jednostkowa [zł] brutto | I6: Wartość [zł] brutto | J6: Producent/Nazwa handlowa
A7: 1 | B7: Immunoglobulina ludzka do podania dożylnego 1 ml roztworu zawiera 50 mg białka osocza ludzkiego, w tym co najmniej 95% immunoglobuliny: immunoglobulina M (IgM) 6 mg, immunoglobulina A (IgA) 6 mg oraz immunoglobulina G (IgG) 38 mg. Rozkład podklas IgG: ok. 63% (IgG1), ok. 26% (IgG2), ok. 4% (IgG3), ok. 7% (IgG4) | C7: 2,5g/50ml | D7: 24
A8: 2 | B8: Immunoglobulina ludzka do podania dożylnego 1 ml roztworu zawiera 50 mg białka osocza ludzkiego, w tym co najmniej 95% immunoglobuliny: immunoglobulina M (IgM) 6 mg, immunoglobulina A (IgA) 6 mg oraz immunoglobulina G (IgG) 38 mg. Rozkład podklas IgG: ok. 63% (IgG1), ok. 26% (IgG2), ok. 4% (IgG3), ok. 7% (IgG4) | C8: 2,5g/100 | D8: 24
B9: RAZEM | F9: =SUM(F7:F8) -> 0 | I9: =SUM(I7:I8) -> 0
B12: Data | G12: Podpis osoby/osób upoważnionej
B13: ……………………………………………. | G13: ………………………….. | H13: ……………………………….

Sheet Zadanie nr 50
A2: Załącznik nr 9 | H2: ZOZ/DZP/PN/28/21
A4: Zadanie nr 50 -Leki okulistyczne 2
A5: Lp. | B5: Nazwa produktu | C5: Jednostka miary | D5: Ilość | E5: Cena jednostkowa[zł] netto | F5: Wartość [zł] netto | G5: VAT | H5: Cena jednostkowa [zł] brutto | I5: Wartość [zł] brutto | J5: Producent/Nazwa handlowa
A6: 1 | B6: Barwnik memranowy do witreoktomii typu Memran Blue Dual 0,5ml | C6: Op=5 szt. | D6: 8
A7: 2 | B7: Perfluorodekalina 7ml fiolka | C7: porcja po 1 fiol. | D7: 30
A8: 3 | B8: Zrównoważony roztwór soli fizjologicznej 500m l w but z tworzywa sztucznego. | C8: porcja po 500ml | D8: 100
B9: RAZEM
B10: Data | G10: Podpis osoby/osób upoważnionej
B11: ……………………………………………. | G11: ……………………………….

Sheet Zadanie nr 51
A3: Załącznik nr 9 | H3: ZOZ/DZP/PN/28/21
A5: Zadanie nr 51 -Leki okulistyczne
A6: Lp. | B6: Nazwa produktu | C6: Jednostka miary | D6: Ilość | E6: Cena jednostkowa[zł] netto | F6: Wartość [zł] netto | G6: VAT | H6: Cena jednostkowa [zł] brutto | I6: Wartość [zł] brutto | J6: Producent/Nazwa handlowa
A7: 1 | B7: Karbachol r-r do stosowania wewnątrzgałkowego 0,1mg/ml fiol | C7: Op=12 fiol | D7: 8
A8: 2 | B8: Tropicamidum 1% krople oczne | C8: op. =2x5ml | D8: 280
A9: 3 | B9: Phenylephrini hydrochloridum 10% krople do oczu | C9: op-=10ml | D9: 60
A10: 4 | B10: Proxymetacaini hydrochloridum 0,5% krople do oczu | C10: op=15ml | D10: 80
A11: 5 | B11: Atropinum 1% krople do oczu | C11: op= 5ml | D11: 30
A12: 6 | B12: Tymololi 0,5% krople do oczu | C12: op= 5ml | D12: 45
A13: 7 | B13: Ofloxacinum 3mg/ml x 5ml krople do oczu | C13: op= 5ml | D13: 150
A14: 8 | B14: Dexamethazonum + gentamycinum 5+0,3mg/g maść do oczu | C14: op= 3g | D14: 300
A15: 9 | B15: Acetazolamidum 250mg | C15: Op= 30 tabl | D15: 70
A16: 10 | B16: Natrium chloratum 5% krople do oczu 0,5ml | C16: op=20x 0,5ml | D16: 40
A17: 11 | B17: Latanoprost 0,005% krople | C17: porcja po 2,5ml | D17: 10
A18: 12 | B18: Brimonidini tartras krople do oczu | C18: op=5ml | D18: 18
B19: Suma | F19: =SUM(F7:F18) -> 0 | I19: =SUM(I7:I18) -> 0
B23: …………….., dnia ………………… ……………………………………
B24: Podpis
B25: osoby upoważnionej

Sheet Zadanie nr 52
A1: Załącznik nr 9 | H1: ZOZ/DZP/PN/28/21
A4: Zadanie nr 52 - Butelki do receptury
A5: Lp. | B5: Nazwa produktu | C5: Jednostka miary | D5: Ilość | E5: Cena jednostkowa[zł] netto | F5: Wartość [zł] netto | G5: VAT | H5: Cena jednostkowa [zł] brutto | I5: Wartość [zł] brutto | J5: Producent/Model/nr katalogowy
A6: 1 | B6: Butelka 10 ml z kroplomierzem sterylna | C6: szt. | D6: 250
A7: 2 | B7: Butelka 20 ml z korkiem sterylna | C7: szt. | D7: 400
A8: 3 | B8: Butelka 125 ml z korkiem sterylna | C8: szt. | D8: 200
A9: 4 | B9: Butelka szklana 200-250 ml z korkiem sterylna | C9: szt. | D9: 50
A10: 5 | B10: Etykiety „Trucizna” pomarańczowe 100szt | C10: szt. | D10: 5
A11: 6 | B11: Etykieta „zmieszać przed użyciem” 100szt. | C11: szt. | D11: 5
A12: 7 | B12: Etykiety na krople oczne pomarańczowe samoprzylepne 100szt | C12: szt. | D12: 7
A13: 8 | B13: Etykiety pomarańczowe samoprzylepne 100szt. | C13: szt. | D13: 20
A14: 9 | B14: Podkładki pergaminowe śr. 100 mm x 500 szt. | C14: szt. | D14: 2
A15: 10 | B15: Pudełko na maść zakręcane | C15: porcja po 1szt z gwintem o poj 100ml lub 85g | D15: 1000
B16: Razem | F16: =SUM(F6:F15) -> 0 | I16: =SUM(I6:I15) -> 0
B19: Data | H19: Podpis osoby/osób upoważnionej
B20: ……………………………………………. | H20: …………………… | I20: ……………………………….

Sheet Zadanie nr 53
A1: Załącznik nr 9 | H1: ZOZ/DZP/PN/28/21
A4: Zadanie nr – 53 Smoczki i butelki
A5: Lp. | B5: Nazwa produktu | C5: Jednostka miary | D5: Ilość | E5: Cena jednostkowa[zł] netto | F5: Wartość [zł] netto | G5: VAT | H5: Cena jednostkowa [zł] brutto | I5: Wartość [zł] brutto | J5: Producent/Model/nr katalogowy
A6: 1 | B6: Smoczek z elastomeru dla niemowląt 0-3 miesiące do butelek typu bebiko RTF 1 płyn, sterylne, pakowane pojedyńczo. | C6: op=48szt | D6: 188
A7: 2 | B7: Smoczek z elastomeru dla wcześniaków do butelek typu bebiko RTF 1 płyn, sterylne, pakowane pojedyńczo. | C7: op=48szt | D7: 25
A8: 3 | B8: Smoczek stosowany przy rozszczepie podniebienia. | C8: 1 szt. | D8: 50
A9: 4 | B9: Butelka jednorazowa gotowa do użytku dla niemowląt z nakrętką. | C9: 1 szt. po 50ml lub 80ml | D9: 650
A10: 5 | B10: Butelka jednorazowa gotowa do użytku dla niemowląt z nakrętką. | C10: 1 szt. po 230ml | D10: 780
A11: 6 | B11: Gruszka z miękkim końcem nr 2 | C11: 1szt. | D11: 100
B12: Razem | F12: =SUM(F6:F11) -> 0 | I12: =SUM(I6:I11) -> 0
B15: Data | H15: Podpis osoby/osób upoważnionej
B16: ……………………………………………. | H16: ………………….. | I16: ……………………………….

Sheet Zadanie nr 54
A1: Załącznik nr 9 | H1: ZOZ/DZP/PN/28/21
A4: Zadanie nr 54 Preparat do zamgławiania.
A5: Lp. | B5: Nazwa produktu | C5: Jednostka miary | D5: Ilość | E5: Cena jednostkowa netto | F5: Wartość netto | G5: VAT | H5: Cena jednostkowa brutto | I5: Wartość brutto | J5: Producent/Model/nr katalogowy
A6: 1 | B6: Preparat do urządzenia zamgławiającego. Środek dezynfekujący dwuskładnikowy oparty na 6% nadtlenku wodoru i kationach srebra o zapachu miętowym gotowy do użycia roztwór wodny, środek nietoksyczny, niekorozyjny, biodegradowalny w 99,9%, działanie na bakterie, wirusy, grzyby i spory, działanie przy dawce 1ml/mᶾ, produkt nie pozostawia osadu na powierzchni, kompatybilny urządzeniem Nocospray | C6: 1000ml | D6: 70
B7: Łącznie | F7: =SUM(F6) -> 0 | I7: =SUM(I6) -> 0
B10: Data | H10: Podpis osoby/osób upoważnionej
B11: ……………………………………………. | H11: ………………….. | I11: ……………………………….

Sheet zadanie nr 55
A1: Załącznik nr 9 | H1: ZOZ/DZP/PN/28/21
A4: Zadanie nr: 55– Okularki do fototerapii
A5: Lp. | B5: Nazwa produktu | C5: Jednostka miary | D5: Ilość | E5: Cena jednostkowa netto | F5: Wartość netto | G5: VAT | H5: Cena jednostkowa brutto | I5: Wartość brutto | J5: Producent/Model/Nr katalogowy
A6: 1 | B6: Okularki do fototerapii:w trzech rozmiarach: zwykłe - ob. głowy 33-38cm (+/- 4cm), dla wcześniaków 26-32 cm (+/- 4cm), do wyboru przy zakupie Okularki stosowane do fototerapii podczas leczenia żółtaczki, mocowane wokół głowy posiadające dwa niezależne punkty regulacji, zapobiegające przypadkowemu przesunięciu i umożliwiające precyzyjne dopasowanie do główki dziecka. Okularki: w kształcie litery Y, wykonane z jednego materiału zmniejszającego podrażnienia skóry, miłe w dotyku i wygodne dla główki i twarzy dziecka; chroniące oczy przed szkodliwym działaniem światła, nie zawierającego lateksu. | C6: szt. | D6: 700
B7: RAZEM | F7: =SUM(F6:F6) -> 0 | I7: =SUM(I6) -> 0
B10: Data | H10: Podpis osoby/osób upoważnionej
B11: ……………………………………………. | I11: ……………………………….

Sheet Zadanie nr 56
A1: Załącznik nr 9 | H1: ZOZ/DZP/PN/28/21
A2: Zadanie nr: 56 Koszyk do narzędzi
A3: Lp. | B3: Nazwa produktu | C3: Jednostka miary | D3: Ilość | E3: Cena jednostkowa netto | F3: Wartość netto | G3: VAT | H3: Cena jednostkowa brutto | I3: Wartość brutto | J3: Producent/Model/Nr katalogowy
A4: 1 | B4: Mini koszyk do sterylizacji w autoklawie w temp. do 134°. Przeznaczony do ochrony delikatnych narzędzi i śrubek. Wykonany z siatki ze stali nierdzewnej o bardzo drobnych oczkach, wymiar 80X80X40 MM, uchwyty z boku koszyka umożliwiające przenoszenie. Zamykana pokrywa. | C4: szt. | D4: 1
A5: 2 | B5: Mały koszyk do sterylizacji w autoklawie w temp. do 134°. Przeznaczony do ochrony delikatnych narzędzi i śrubek. Wykonany z siatki ze stali nierdzewnej o bardzo drobnych oczkach, wymiar 200X100X50 MM, uchwyt na dłuższym boku koszyka umożliwiający przenoszenie. Zamykana pokrywa. | C5: szt. | D5: 1
B6: RAZEM | F6: =SUM(F4:F5) -> 0 | I6: =SUM(I4:I5) -> 0
B9: Data | H9: Podpis osoby/osób upoważnionej
B10: ……………………………………………. | I10: ……………………………….

Sheet Zadanie nr 57
A1: Załącznik nr 9 | H1: ZOZ/DZP/PN/28/21
A2: Zadanie nr: 57– Łyżki do Wideolaryngoskopu
A3: Lp. | B3: Nazwa produktu | C3: Jednostka miary | D3: Ilość | E3: Cena jednostkowa netto | F3: Wartość netto | G3: VAT | H3: Cena jednostkowa brutto | I3: Wartość brutto | J3: Producent/Model/Nr katalogowy
A4: 1 | B4: Łyżka do wideolaryngoskopu Is3-L jednorazowego użytku, wykonana z tworzywa, pakowana pojedynczo. Rozmiar standard M iL dla dorosłych, do wyboru przy zakupie Opakowanie folia-papier, na opakowaniu czytelna informacja o rozmiarze łyżki. | C4: szt. | D4: 100
B5: RAZEM | F5: =SUM(F4:F4) -> 0 | I5: =SUM(I4) -> 0
B8: Data | H8: Podpis osoby/osób upoważnionej
B9: ……………………………………………. | I9: ……………………………….

Sheet Zadanie nr 58
A1: Załącznik nr 9 | H1: ZOZ/DZP/PN/28/21
A3: Zadanie nr: 58- Akcesoria do Neopuff
A4: Lp. | B4: Nazwa produktu | C4: Jednostka miary | D4: Ilość | E4: Cena jednostkowa netto | F4: Wartość netto | G4: VAT | H4: Cena jednostkowa brutto | I4: Wartość brutto | J4: Producent/Model/Nr katalogowy
A5: 1 | B5: Osłonka j.u. na czujnik temperatury typu NC 040-10 | C5: op.=50szt | D5: 4
A6: 2 | B6: Dren z zastawką do aparatu Neopuff | C6: szt. | D6: 50
B7: Razem | F7: =SUM(F5:F6) -> 0 | I7: =SUM(I5:I6) -> 0
B10: Data | H10: Podpis osoby/osób upoważnionej
B11: ……………………………………………. | H11: ……………………………….

Sheet Zadanie nr 59
A1: Załącznik nr 9 | H1: ZOZ/DZP/PN/28/21
A3: Zadanie nr: 59 - Podkłady
A4: Lp. | B4: Nazwa produktu | C4: Jednostka miary | D4: Ilość | E4: Cena jednostkowa netto | F4: Wartość netto | G4: VAT | H4: Cena jednostkowa brutto | I4: Wartość brutto | J4: Producent/Model/Nr katalogowy
A5: 1 | B5: 3-4 warstwowy, nieprzepuszczalny podkład chłonny z możliwością cięcia, jednorazowy, rozmiar 80 x 200cm.Warstwa chłonna min50cmx200cm zmieniająca się w żel utrzymujący skórę pacjenta suchą po 1min od zmoczenia. Warstwa wierzchnia PE/PP, Warstwa pośrednia średnią gęstość 65 ± 5 g/m2, niebieska dolna warstwa PE 35g/m2 .Niesterylny klasy 1,zgodny z normą EN 13795.Możliwość przenoszenia do 150kg.Grubość 0,5mm.Chłonność 2000ml/m2. | C5: szt | D5: 120
A6: 2 | B6: 3-4 warstwowy ,nieprzepuszczalny podkład chłonny z możliwością cięcia, jednorazowy ,rozmiar 80 x 200cm.Warstwa chłonna min50cmx200cm zmieniająca się w żel utrzymujący skórę pacjenta suchą po 1min od zmoczenia. Warstwa wierzchnia PE/PP, Warstwa pośrednia średnią gęstość 65 ± 5 g/m2, fioletowa dolna warstwa PE 42g/m2 .Niesterylny klasy 1,zgodny z normą EN 13795.Warstwa zabezpieczająca stół odporna na rozdarcia bez zawartości latexu .Niesterylny. Możliwość przenoszenia do 500kg.Grubość 0,5mm.Chłonność płynów 2600ml/m2. | C6: szt | D6: 50
A7: 3 | B7: 3-4 warstwowy, nieprzepuszczalny podkład chłonny z możliwością cięcia, jednorazowy, rozmiar 140x 230cm.Warstwa chłonna min50cmx230cm zmieniająca się w żel utrzymujący skórę pacjenta suchą po 1min od zmoczenia. Warstwa wierzchnia hydrofilowy PP, Warstwa pośrednia średnią gęstość 65 ± 5 g/m2, dolna warstwa złoto-srebrna PET 20g/m2 izolująca termicznie i elektrycznie o grubości12 µm. Niesterylny klasy 1,zgodny z normą EN 13795.Możliwość przenoszenia do 150kg.Chłonność 2000ml/m2. | C7: szt | D7: 150
A8: 4 | B8: 3-4 warstwowy, nieprzepuszczalny podkład chłonny z możliwością cięcia ,utrzymujący płyny nawet pod naciskiem, jednorazowy, rozmiar 140cm x 200cm.Warstwa chłonna min70cmx200cm zmieniająca się w żel utrzymujący skórę pacjenta suchą po 1min od zmoczenia. Warstwa wierzchnia PE/PP, Warstwa pośrednia średnią gęstość 85 ± 5 g/m2, niebieska dolna warstwa PE 35g/m2 .Niesterylny klasy 1,zgodny z normą EN 13795.Możliwość przenoszenia do 150kg.Grubość 0,5mm.Chłonność 4000ml/m2. | C8: szt | D8: 150
B9: Razem | F9: =SUM(F5:F8) -> 0 | I9: =SUM(I5:I8) -> 0
B13: Data | H13: Podpis osoby/osób upoważnionej
B14: ……………………………………………. | H14: ……………………………….

Sheet Zadanie nr 60
A1: Załącznik nr 9 | H1: ZOZ/DZP/PN/28/21
A3: Zadanie nr: 60- Nasadka do amniotomii
A4: Lp. | B4: Nazwa produktu | C4: Jednostka miary | D4: Ilość | E4: Cena jednostkowa netto | F4: Wartość netto | G4: VAT | H4: Cena jednostkowa brutto | I4: Wartość brutto | J4: Producent/Model/Nr katalogowy
A5: 1 | B5: Jednorazowa, lateksowa nasadka na palec zaopatrzona w haczyk do wykonania bezpiecznej amniotomii. | C5: op=100szt | D5: 12
B6: RAZEM | F6: =SUM(F5:F5) -> 0 | I6: =SUM(I5:I5) -> 0
B8: Oświadczam, że oferowany przedmiot zamówienia jest zgodny z opisem i spełnia wymagane parametry techniczne
B10: Data | H10: Podpis osoby/osób upoważnionej
B11: ……………………………………………. | H11: ……………………………….

Sheet Zadanie nr 61
A1: Załącznik nr 9 | H1: ZOZ/DZP/PN/28/21
A3: Zadanie nr 61- Żele i gaziki
A4: Lp | B4: Nazwa produktu | C4: Jednostka | D4: Ilość | E4: Cena jednostkowa netto | F4: Wartość netto | G4: VAT | H4: Cena jednostkowa brutto | I4: Wartość brutto | J4: Producent/Model/Nr katalogowy
A5: 1 | B5: Sterylny (sterylizowany radiacyjnie) lubrykant poślizgowy ,pakowany podwójnie , saszetka z wyprofilowaną końcówką do dokładnej aplikacji, końcówka z nacięciem, lubrykant na bazie wody, odtłuszczony, bezzapachowy i bezbarwny, nie powoduje podrażnień, saszetki po 5g | C5: op=150szt. | D5: 6
A6: 2 | B6: Sterylny żel do miejscowego znieczulenia z lignokainą oraz zapewniający optymalne smarowanie przy wstawianiu instrumentów do jam ciała. Skład chemiczny żelu podany na sterylnej ampułkostrzykawce oraz opakowaniu zbiorczym. Ampułkostrzykawka pakowana pojed po 6ml | C6: op=10szt | D6: 50
A7: 3 | B7: Gaziki nasączane chlorheksydyną 2% i 70% alkoholem izopropylowy.Do dezynfekcji cewników centralnych i obwodowych.Pakowane pojedynczo. w rozmiarze 12,5 (+/- 0,5 cm) x 18,5 ( +/- 0,5 cm) | C7: op=200szt. | D7: 10
A8: 4 | B8: Pałeczki do nawilżania jamy ustnej. Niezawierające cukru,nasączone gliceryną . | C8: op=75szt. | D8: 30
B9: RAZEM | F9: =SUM(F5:F8) -> 0 | I9: =SUM(I5:I8) -> 0
B12: Data | H12: Podpis osoby/osób upoważnionej
B13: ……………………………………………. | H13: ……………………………….

Sheet Zadanie nr 62
A2: Załącznik nr 9 | H2: ZOZ/DZP/PN/28/21
A5: Zadanie nr:62 - Reduktory
A6: Lp. | B6: Nazwa produktu | C6: Jednostka miary | D6: Ilość | E6: Cena jednostkowa[zł] netto | F6: Wartość [zł] netto | G6: VAT | H6: Cena jednostkowa [zł] brutto | I6: Wartość [zł] brutto | J6: Producent/Model/Nr katalogowy
A7: 1 | B7: Reduktor z dozownikiem 0-15 l/min.+ szybkozłącze / DIN/lub AGA do wyboru przy zakupie | C7: szt. | D7: 20
A8: 2 | B8: Dozownik z zaworem umożliwiającym płynną regulację dozowania tlenu, wielorazową butelką nawilżacza,ze złączem typu AGA lub DIN do wyboru przy zakupie. | C8: szt | D8: 30
A9: 3 | B9: Reduktor ssania z butlą zabezpieczającą mocowany bezpośrednio do gniazda próżni (technologia DIN. Regulacja w zakresie od 0 do podciśnienia istniejącego w instalacji. Wysokość całkowita nie większa niż 20cm. | C9: szt | D9: 4
A10: 4 | B10: Pojemnik zabezpieczający ok 250 ml z poliwęglanu z zaworem odcinającym | C10: szt | D10: 6
A11: 5 | B11: Wąż silikonowy do ssaka 12x,5 do ssaka medycznego typu PR – 12/7 | C11: szt | D11: 6
B12: Razem | F12: =SUM(F7:F11) -> 0 | I12: =SUM(I7:I11) -> 0
B15: Data | G15: Podpis osoby/osób upoważnionej
B16: ……………………………………………. | G16: ……………………………….

Sheet Zadanie nr 63
A1: Załącznik nr 9 | H1: ZOZ/DZP/PN/28/21
A3: Zadanie nr: 63 - Retraktor
A4: Lp. | B4: Nazwa produktu | C4: Jednostka miary | D4: Ilość | E4: Cena jednostkowa[zł] netto | F4: Wartość [zł] netto | G4: VAT | H4: Cena jednostkowa [zł] brutto | I4: Wartość [zł] brutto | J4: Producent/Model/Nr katalogowy
A5: 1 | B5: Retraktor narządów miękkich do utrzymywania tkanek miękkich z dala od pola operacyjnego oraz wchłaniania krwi i/lub płynów podczas zabiegu. Przed użyciem wymagane jest nasączenie roztworem soli fizjologicznej. Rozmiar:250x50x50mm | C5: op=25szt. | D5: 10
A6: 2 | B6: Retraktor narządów miękkich do utrzymywania tkanek miękkich z dala od pola operacyjnego oraz wchłaniania krwi i/lub płynów podczas zabiegu. Przed użyciem wymagane jest nasączenie roztworem soli fizjologicznej. Rozmiar:300x50x50mm | C6: op=25szt. | D6: 4
B7: Razem | F7: =SUM(F5:F6) -> 0 | I7: =SUM(I5:I6) -> 0
B10: Data | G10: Podpis osoby/osób upoważnionej
B11: ……………………………………………. | G11: ……………………………….

Sheet Zadanie nr 64
A1: Załącznik nr 9 | H1: ZOZ/DZP/PN/28/21
A3: Zadanie nr: 64 Filtry wielorazowe do kontenera.
A4: Lp. | B4: Nazwa produktu | C4: Jednostka miary | D4: Ilość | E4: Cena jednostkowa netto | F4: Wartość netto | G4: VAT | H4: Cena jednostkowa brutto | I4: Wartość brutto | J4: Producent /Nazwa handlowa
A5: 1 | B5: Filtr PTFE wielorazowy do kontenera typ Mini oraz dental do długotrwałego użytkowania min. 1000 cykli sterylizacji. | C5: op=2szt. | D5: 5
B6: RAZEM | F6: =SUM(F5:F5) -> 0 | I6: =SUM(I5) -> 0
B10: Data | G10: Podpis osoby/osób upoważnionej
B11: ……………………………………………. | G11: ……………………………….

Sheet podsumowanie
C7: L.p. | D7: Przedmiot zamówienia | E7: wartość netto | F7: wartość brutto | G7: netto euro
C8: 1 | D8: Zadanie nr 1 - Leki różne | E8: ='Zadanie nr 1'!F610 -> 0 | F8: ='Zadanie nr 1'!I610 -> 0 | G8: =E8/4.2693 -> 0 | I8: 4.2693
C9: 2 | D9: Zadanie nr 2 - Płyny infuzyjne pojemnikach stojących | E9: ='Zadanie nr 2'!F23 -> 0 | F9: ='Zadanie nr 2'!I23 -> 0 | G9: =E9/4.2693 -> 0
C10: 3 | D10: Zadanie nr 3 - Płyny infuzyjne | E10: ='Zadanie nr 3'!F36 -> 0 | F10: ='Zadanie nr 3'!I36 -> 0 | G10: =E10/4.2693 -> 0
C11: 4 | D11: Zadanie nr 4 - Enoxaparinum | E11: ='Zadanie nr 4'!F14 -> 0 | F11: ='Zadanie nr 4'!I14 -> 0 | G11: =E11/4.2693 -> 0
C12: 5 | D12: Zadanie nr 5 - Nadroparinum | E12: ='Zadanie nr 5'!F11 -> 0 | F12: ='Zadanie nr 5'!I11 -> 0 | G12: =E12/4.2693 -> 0
C13: 6 | D13: Zadanie nr 6 - Leki różne 2 | E13: ='Zadanie nr 6'!F25 -> 0 | F13: ='Zadanie nr 6'!I25 -> 0 | G13: =E13/4.2693 -> 0
C14: 7 | D14: Zadanie nr 7 - Albuminy | E14: ='Zadanie nr 7'!F8 -> 0 | F14: ='Zadanie nr 7'!I8 -> 0 | G14: =E14/4.2693 -> 0
C15: 8 | D15: Zadanie nr 8 - Leki różne 14 | E15: ='Zadanie nr 8'!F16 -> 0 | F15: ='Zadanie nr 8'!I16 -> 0 | G15: =E15/4.2693 -> 0
C16: 9 | D16: Zadanie nr 9 - Leki anestezjologiczne | E16: ='Zadanie nr 9'!F17 -> 0 | F16: ='Zadanie nr 9'!I17 -> 0 | G16: =E16/4.2693 -> 0
C17: 10 | D17: Zadanie nr 10 - Sevofluran | E17: ='Zadanie nr 10'!F7 -> 0 | F17: ='Zadanie nr 10'!I7 -> 0 | G17: =E17/4.2693 -> 0
C18: 11 | D18: Zadanie nr 11 - Mleko + preparaty dietetyczne | E18: ='Zadanie nr 11'!F43 -> 0 | F18: ='Zadanie nr 11'!I43 -> 0 | G18: =E18/4.2693 -> 0
C19: 12 | D19: Zadanie nr 12 – Leki ZOL | E19: ='Zadanie nr 12'!F54 -> 0 | F19: ='Zadanie nr 12'!I54 -> 0 | G19: =E19/4.2693 -> 0
C20: 13 | D20: Zadanie nr 13 – Amoxycylina z inhibitorem | E20: ='Zadanie nr 13'!F11 -> 0 | F20: ='Zadanie nr 13'!I11 -> 0 | G20: =E20/4.2693 -> 0
C21: 14 | D21: Zadanie nr 14 - Heparinum | E21: ='Zadanie nr 14'!F8 -> 0 | F21: ='Zadanie nr 14'!I8 -> 0 | G21: =E21/4.2693 -> 0
C22: 15 | D22: Zadanie nr 15 - Omeprazol | E22: ='Zadanie nr 15'!F8 -> 0 | F22: ='Zadanie nr 15'!I8 -> 0 | G22: =E22/4.2693 -> 0
C23: 16 | D23: Zadanie nr 16 - Antybiotyki różne | E23: ='Zadanie nr 16'!F95 -> 0 | F23: ='Zadanie nr 16'!I95 -> 0 | G23: =E23/4.2693 -> 0
C24: 17 | D24: Zadanie nr 17 - Amikacyna | E24: ='Zadanie nr 17'!F10 -> 0 | F24: ='Zadanie nr 17'!I10 -> 0 | G24: =E24/4.2693 -> 0
C25: 18 | D25: Zadanie nr 18 - Żel do cewnikowania | E25: ='Zadanie nr 18'!F7 -> 0 | F25: ='Zadanie nr 18'!I7 -> 0 | G25: =E25/4.2693 -> 0
C26: 19 | D26: Zadanie nr 19 - Dalteparinum | E26: ='Zadanie nr 19'!F8 -> 0 | F26: ='Zadanie nr 19'!I8 -> 0 | G26: =E26/4.2693 -> 0
C27: 20 | D27: Zadanie nr 20 - Preparaty do żywienia pozajelitowego | E27: ='Zadanie nr 20'!F20 -> 0 | F27: ='Zadanie nr 20'!I20 -> 0 | G27: =E27/4.2693 -> 0
C28: 21 | D28: Zadanie nr 21 - Preparaty do żywienia dojelitowego | E28: ='Zadanie nr 21'!F53 -> 0 | F28: ='Zadanie nr 21'!I53 -> 0 | G28: =E28/4.2693 -> 0
C29: 22 | D29: Zadanie nr 22 - Immunoglobuliny anty D | E29: ='Zadanie nr 22'!F7 -> 0 | F29: ='Zadanie nr 22'!I7 -> 0 | G29: =E29/4.2693 -> 0
C30: 23 | D30: Zadanie nr 23 Żywienie dojelitowe 2 | E30: ='Zadanie nr 23'!F30 -> 0 | F30: ='Zadanie nr 23'!I30 -> 0 | G30: =E30/4.2693 -> 0
C31: 24 | D31: Zadanie nr 24 - Żywienie pozajelitowe 2 | E31: ='Zadanie nr 24'!F22 -> 0 | F31: ='Zadanie nr 24'!I22 -> 0 | G31: =E31/4.2693 -> 0
C32: 25 | D32: Zadanie nr 25 - Leki OAIiT | E32: ='Zadanie nr 25'!F62 -> 0 | F32: ='Zadanie nr 25'!I62 -> 0 | G32: =E32/4.2693 -> 0
C33: 26 | D33: Zadanie nr 26 – Cefalosporyny | E33: ='Zadanie nr 26'!F9 -> 0 | F33: ='Zadanie nr 26'!I9 -> 0 | G33: =E33/4.2693 -> 0
C34: 27 | D34: Zadanie nr 27 - Propofolum | E34: ='Zadanie nr 27'!F11 -> 0 | F34: ='Zadanie nr 27'!I11 -> 0 | G34: =E34/4.2693 -> 0
C35: 28 | D35: Zadanie nr 28 - Leki Hospicjum | E35: ='Zadanie nr 28'!F82 -> 0 | F35: ='Zadanie nr 28'!I82 -> 0 | G35: =E35/4.2693 -> 0
C36: 29 | D36: Zadanie nr 29 - Leki przeciwbólowe | E36: ='zadanie nr 29'!F94 -> 0 | F36: ='zadanie nr 29'!I94 -> 0 | G36: =E36/4.2693 -> 0
C37: 30 | D37: Zadanie nr 31 - Kontrasty jodowe | E37: ='Zadanie nr 31'!F20 -> 0 | F37: ='Zadanie nr 31'!I20 -> 0 | G37: =E37/4.2693 -> 0
C38: 31 | D38: Zadanie nr 32 - Acidum ibandronicum | E38: ='Zadanie nr 32'!F7 -> 0 | F38: ='Zadanie nr 32'!I7 -> 0 | G38: =E38/4.2693 -> 0
C39: 32 | D39: Zadanie nr 33 - Imigluceraza i eliglustat | E39: ='Zadanie nr 33'!F8 -> 0 | F39: ='Zadanie nr 33'!I8 -> 0 | G39: =E39/4.2693 -> 0
C40: 33 | D40: Zadanie nr: 34- Ferrum | E40: ='Zadanie nr 34'!F7 -> 0 | F40: ='Zadanie nr 34'!I7 -> 0 | G40: =E40/4.2693 -> 0
C41: 34 | D41: Zadanie nr 35 - Glikokotykosteroidy | E41: ='Zadanie nr 35'!F12 -> 0 | F41: ='Zadanie nr 35'!I12 -> 0 | G41: =E41/4.2693 -> 0
C42: 35 | D42: Zadanie nr: 36 - Desfluran | E42: ='Zadanie nr 36'!F7 -> 0 | F42: ='Zadanie nr 36'!I7 -> 0 | G42: =E42/4.2693 -> 0
C43: 36 | D43: Zadanie nr: 37 – Metamizolum | E43: ='Zadanie nr 37'!F13 -> 0 | F43: ='Zadanie nr 37'!I13 -> 0 | G43: =E43/4.2693 -> 0
C44: 37 | D44: Zadanie nr 38 – Ciprofloxacinum | E44: ='Zadanie nr 38'!F9 -> 0 | F44: ='Zadanie nr 38'!I9 -> 0 | G44: =E44/4.2693 -> 0
C45: 38 | D45: Zadanie nr 39 - Długo i krótko działające analogi insuliny i barbituran | E45: ='Zadanie nr 39'!F10 -> 0 | F45: ='Zadanie nr 39'!I10 -> 0 | G45: =E45/4.2693 -> 0
C46: 39 | D46: Zadanie nr 40 – Antybiotyki RTU | E46: ='Zadanie nr 40'!F12 -> 0 | F46: ='Zadanie nr 40'!I12 -> 0 | G46: =E46/4.2693 -> 0
C47: 40 | D47: Zadanie nr 41 - Antybiotyki | E47: ='Zadanie nr 41'!F10 -> 0 | F47: ='Zadanie nr 41'!I10 -> 0 | G47: =E47/4.2693 -> 0
C48: 41 | D48: Zadanie nr 42 - Metronidazol | E48: ='Zadanie nr 42'!F7 -> 0 | F48: ='Zadanie nr 42'!I7 -> 0 | G48: =E48/4.2693 -> 0
C49: 42 | D49: Zadanie nr 43 - Witamina K1 | E49: ='Zadanie nr 43'!F7 -> 0 | F49: ='Zadanie nr 43'!I7 -> 0 | G49: =E49/4.2693 -> 0
C50: 43 | D50: Zadania nr 44 - Imipenem, piperacillinum | E50: ='Zadanie nr 44'!F10 -> 0 | F50: ='Zadanie nr 44'!I10 -> 0 | G50: =E50/4.2693 -> 0
C51: 44 | D51: Zadanie nr 45 - Insuliny i analogi | E51: ='Zadanie nr 45'!F22 -> 0 | F51: ='Zadanie nr 45'!I22 -> 0 | G51: =E51/4.2693 -> 0
C52: 45 | D52: Zadanie nr 46 - Budesonidum | E52: ='Zadanie nr 46'!F9 -> 0 | F52: ='Zadanie nr 46'!I9 -> 0 | G52: =E52/4.2693 -> 0
C53: 46 | D53: Zadanie nr 47 – Cefazolina | E53: ='Zadanie nr 47'!F6 -> 0 | F53: ='Zadanie nr 47'!I6 -> 0 | G53: =E53/4.2693 -> 0
C54: 47 | D54: Zadanie nr 48 - Preparaty przeczyszczające | E54: ='Zadanie nr 48'!F10 -> 0 | F54: ='Zadanie nr 48'!I10 -> 0 | G54: =E54/4.2693 -> 0
C55: 48 | D55: Zadanie nr 49 Immunoglobuliny. | E55: ='Zadanie nr 49'!F9 -> 0 | F55: ='Zadanie nr 49'!I9 -> 0 | G55: =E55/4.2693 -> 0
C56: 49 | D56: Zadanie nr 50 -Leki okulistyczne 2 | E56: ='Zadanie nr 50'!F9 -> 0 | F56: ='Zadanie nr 50'!I9 -> 0 | G56: =E56/4.2693 -> 0
C57: 50 | D57: Zadanie nr 51 -Leki okulistyczne | E57: ='Zadanie nr 51'!F19 -> 0 | F57: ='Zadanie nr 51'!I19 -> 0 | G57: =E57/4.2693 -> 0
C58: 51 | D58: Zadanie nr 52 - Butelki do receptury | E58: ='Zadanie nr 52'!F16 -> 0 | F58: ='Zadanie nr 52'!I16 -> 0 | G58: =E58/4.2693 -> 0
C59: 52 | D59: Zadanie nr – 53 Smoczki i butelki | E59: ='Zadanie nr 53'!F12 -> 0 | F59: ='Zadanie nr 53'!I12 -> 0 | G59: =E59/4.2693 -> 0
C60: 53 | D60: Zadanie nr 54 Preparat do zamgławiania. | E60: ='Zadanie nr 54'!F7 -> 0 | F60: ='Zadanie nr 54'!I7 -> 0 | G60: =E60/4.2693 -> 0
C61: 54 | D61: Zadanie nr: 55– Okularki do fototerapii | E61: ='zadanie nr 55'!F7 -> 0 | F61: ='zadanie nr 55'!I7 -> 0 | G61: =E61/4.2693 -> 0
C62: 55 | D62: Zadanie nr: 56 Koszyk do narzędzi | E62: ='Zadanie nr 56'!F6 -> 0 | F62: ='Zadanie nr 56'!I6 -> 0 | G62: =E62/4.2693 -> 0
C63: 56 | D63: Zadanie nr: 57– Łyżki do Wideolaryngoskopu | E63: ='Zadanie nr 57'!F5 -> 0 | F63: ='Zadanie nr 57'!I5 -> 0 | G63: =E63/4.2693 -> 0
C64: 57 | D64: Zadanie nr: 58- Akcesoria do Neopuff | E64: ='Zadanie nr 58'!F7 -> 0 | F64: ='Zadanie nr 58'!I7 -> 0 | G64: =E64/4.2693 -> 0
C65: 58 | D65: Zadanie nr: 59 - Podkłady | E65: ='Zadanie nr 59'!F9 -> 0 | F65: ='Zadanie nr 59'!I9 -> 0 | G65: =E65/4.2693 -> 0
C66: 59 | D66: Zadanie nr: 60- Nasadka do amniotomii | E66: ='Zadanie nr 60'!F6 -> 0 | F66: ='Zadanie nr 60'!I6 -> 0 | G66: =E66/4.2693 -> 0
C67: 60 | D67: Zadanie nr 61- Żele i gaziki | E67: ='Zadanie nr 61'!F9 -> 0 | F67: ='Zadanie nr 61'!I9 -> 0 | G67: =E67/4.2693 -> 0
C68: 61 | D68: Zadanie nr:62 - Reduktory | E68: ='Zadanie nr 61'!F9 -> 0 | F68: ='Zadanie nr 62'!I12 -> 0 | G68: =E68/4.2693 -> 0
C69: 62 | D69: Zadanie nr: 63 - Retraktor | E69: ='Zadanie nr 63'!F7 -> 0 | F69: ='Zadanie nr 63'!I7 -> 0 | G69: =E69/4.2693 -> 0
C70: 63 | D70: Zadanie nr: 64 Filtry wielorazowe do kontenera. | E70: ='Zadanie nr 64'!F6 -> 0 | F70: ='Zadanie nr 64'!I6 -> 0 | G70: =E70/4.2693 -> 0
D71: RAZEM | E71: =SUM(E8:E70) -> 0 | F71: =SUM(F8:F70) -> 0 | G71: =SUM(G8:G70) -> 0
