Workbook
Name Print_Area_0: Zad.11!$A$1:$J$48
Name Print_Area_0: Zad.21!$A$1:$I$21
Name Print_Area_0: Zad.79!$A$1:$J$10

Sheet Zad.1
B1: ZOZ/DZP/PN/33/19
B2: Załącznik Nr: 9
A4: Zadanie nr: 1 - Cewniki, dreny, kanki, zgłębniki
A5: Lp. | B5: Nazwa produktu | C5: Jednostka miary | D5: Ilość | E5: Cena jednostkowa netto | F5: Wartość netto | G5: VAT | H5: Cena jednostkowa brutto | I5: Wartość brutto | J5: Producent /Nazwa handlowa/Nr katalogowy
A6: 1 | B6: Cewnik do odsysania Redon 12 F/70, z paskiem rtg silikonowane | C6: szt. | D6: 20
A7: 2 | B7: Cewnik do odsysania Redon 14 F/70, z paskiem rtg silikonowane | C7: szt. | D7: 580
A8: 3 | B8: Cewnik do odsysania Redon 16 F / 70, z paskiem rtg silikonowane | C8: szt. | D8: 470
A9: 4 | B9: Cewnik do odsysania Redon 18 F / 70, z paskiem rtg silikonowane | C9: szt. | D9: 240
A10: 5 | B10: Cewnik do odsysania Redon 20 F / 70, z paskiem rtg silikonowane | C10: szt. | D10: 50
A11: 6 | B11: Pojemnik typ Redon, sterylny o pojemności 200-250ml, końcówka schodkowa do załączenia drenów Redon, kształt płaski, pakowane w opakowanie papier folia. | C11: szt. | D11: 100
A12: 7 | B12: Cewnik do odsysania g. dróg oddech. C 4, dł. 40 cm | C12: szt. | D12: 100
A13: 8 | B13: Cewnik do odsysania g. dróg oddech. C 6, dł. 40 cm | C13: szt. | D13: 720
A14: 9 | B14: Cewnik do odsysania g. dróg oddech. C 8, dł. 40 cm | C14: szt. | D14: 2000
A15: 10 | B15: Cewnik do odsysania g. dróg oddech. C 10, dł. 40 cm | C15: szt. | D15: 3500
A16: 11 | B16: Cewnik do odsysania g. dróg oddech. C 12, dł. 40-60 cm | C16: szt. | D16: 1500
A17: 12 | B17: Cewnik do odsysania g. dróg oddech. C 14, dł. 50-60 cm | C17: szt. | D17: 18800
... A65: 60 | B65: Zgłębnik Sengstakena G-16 | C65: szt. | D65: 10
B66: RAZEM | F66: =SUM(F6:F65) -> 0 | I66: =SUM(I6:I65) -> 0
B68: Oświadczam, że oferowany przedmiot zamówienia spełnia wyżej wymienione wymagania.
B69: Data | H69: Podpis osoby/osób upoważnionej
B70: ……………………………………………. | I70: ……………………………….

Sheet Zad.2
B1: ZOZ/DZP/PN/33/19
B2: Załącznik Nr: 9
A4: Zadanie nr: 2 - Embolektomia, cewniki do żył centralnych, igły do znieczuleń
A5: Lp. | B5: Nazwa produktu | C5: Jednostka miary | D5: Ilość | E5: Cena jednostkowa netto | F5: Wartość netto | G5: VAT | H5: Cena jednostkowa brutto | I5: Wartość brutto | J5: Producent /Nazwa handlowa/Nr katalogowy
A6: 1 | B6: Cewnik do embolektomii F3/800 bal. 0,2 ml | C6: szt. | D6: 20
A7: 2 | B7: Cewnik do embolektomii F 4 / 800 bal. 0,7 ml | C7: szt. | D7: 40
A8: 3 | B8: Cewnik do embolektomii F 5/ 800 bal. 1,5 ml | C8: szt. | D8: 30
A9: 4 | B9: Cewnik do embolektomii F 6 / 800 bal. 2,0 ml | C9: szt. | D9: 20
A10: 5 | B10: Cewnik do żył centralnych met Seldingera 1- światł. 20 cm x 70 mm | C10: szt. | D10: 20
A11: 6 | B11: Cewnik do żył centralnych met Seldingera 2- światł. 20 cm x 70 mm | C11: szt. | D11: 260
A12: 7 | B12: Cewnik do żył centralnych met Seldingera 3- światł. 20 cm x 70 mm | C12: szt. | D12: 150
A13: 8 | B13: Cewnik pęcherzowo-miedniczkowy / szynowanie moczowodów / Dubble J 7 F 26 cm śr pętli 4 cm | C13: szt. | D13: 6
A14: 9 | B14: Dren do drenażu kl. piersiowej z trokarem 24 F | C14: szt. | D14: 50
A15: 10 | B15: Dren do drenażu kl. piersiowej z trokarem 28 F | C15: szt. | D15: 50
A16: 11 | B16: Igła do znieczuleń z ostrzem typu Pencil-Point o długości 88-90mm, w komplecie z igłą prowadzącą 20-22G, igła wykonana z wysokiej jakości stali nierdzewnej, przeźroczysta nasadka, ułatwiająca wizualizację płynu, karbowany uchwyt. 25-27G | C16: szt. | D16: 300
A17: 12 | B17: Elektroda endokawitarna do czasowej stymulacji serca(bipolarna) skład:Kateter 6F, odlekłośc między odprowadzeniami 10mm, zakończenie Tip Z długośc katetera 110cm, geometria wtyku 15x2,0mm | C17: szt. | D17: 10
A18: 13 | B18: Zestaw z zastawką do wprowadzania i wymiany kateterów oraz elektrod endokawitarnych, skład: Koszulka z zastawką 6Fx11cm z kranikiem trójdrożnym, rozszerzacz 6Fx 18cm, Prowadnik J.035”x4cm, Igła prosta 18Gx7cm | C18: szt. | D18: 10
B19: Kateter do odsysania ran typu redon, rozmiar 12-18CH. Dł. 50 lub 70cm Do wyboru przy zamówieniu. | C19: szt. | D19: 300
B20: RAZEM | F20: =SUM(F6:F19) -> 0 | I20: =SUM(I6:I19) -> 0
B21: Oświadczam, że oferowany przedmiot zamówienia spełnia wyżej wymienione wymagania.
B22: Data | H22: Podpis osoby/osób upoważnionej
B23: ……………………………………………. | I23: ……………………………….

Sheet Zad.3
B1: ZOZ/DZP/PN/33/19
B2: Załącznik Nr: 9
A3: Zadanie nr: 3 – Osłony na ramię C
A4: Lp. | B4: Nazwa produktu | C4: Jednostka miary | D4: Ilość | E4: Cena jednostkowa netto | F4: Wartość netto | G4: VAT | H4: Cena jednostkowa brutto | I4: Wartość brutto | J4: Producent /Nazwa handlowa/Nr katalogowy
A5: 1 | B5: Osłona sterylna na przewody tubus złożona teleskopowo 16 x 200 cm z taśmą do mocowania na końcach | C5: szt. | D5: 1200
A6: 2 | B6: Sterylny pokrowiec na ramię C aparatu rtg o wymiarach 100x220cm, wykonany z mocnej przezroczystej folii PE z dodatkową elastyczną gumką na głowice i taśmami lepnymi | C6: szt. | D6: 200
A7: Razem | F7: =SUM(F5:F6) -> 0 | I7: =SUM(I5:I6) -> 0
B9: Oświadczam, że oferowany przedmiot zamówienia spełnia wyżej wymienione wymagania.
B10: Data | H10: Podpis osoby/osób upoważnionej
B11: ……………………………………………. | I11: ……………………………….

Sheet Zad.4
B2: ZOZ/DZP/PN/33/19
B3: Załącznik Nr: 9
A4: Zadanie nr: 4 - Elektromedycyna
A5: Lp. | B5: Nazwa produktu | C5: Jednostka miary | D5: Ilość | E5: Cena jednostkowa netto | F5: Wartość netto | G5: VAT | H5: Cena jednostkowa brutto | I5: Wartość brutto | J5: Producent /Nazwa handlowa/Nr katalogowy
A6: 1 | B6: Elektrody do EKG z żelem dla noworodków | C6: Op=50 szt. | D6: 8
A7: 2 | B7: Elektrody do EKG z żelem dla dzieci | C7: Op=50 szt. | D7: 120
A8: 3 | B8: Elektrody do EKG do badań spoczynkowych 44-30mm w kształcie prostokąta | C8: Op=50 szt. | D8: 1800
A9: 4 | B9: Elektrody do EKG do badań holterowskich i wysiłkowych, prostokątna z podłuznym otworem do mocowania przewodu o wyminarach 55x40mm | C9: Op=50 szt. | D9: 1000
A10: 5 | B10: Elektrody do EKG Holter do próby wysiłkowej prostokątna z zaokraglonymi rogami i wypustką o wymiarach 50x40mm | C10: Op=50 szt. | D10: 200
A11: 6 | B11: Elektroda do EKG z możliwością użycia w promieniach RTG dla dorosłych, okrągła o wymiarach 45x42mm z wypustką do badań spoczynkowych | C11: Op=50 szt. | D11: 500
A12: 7 | B12: Elektrody przedsercowe, przyssawkowe komplet 6 szt. dla dorosłych | C12: 1 komplet | D12: 35
A13: 8 | B13: Elektrody przedsercowe, przyssawkowe komplet 6 szt. dziecięce | C13: 1 komplet | D13: 35
A14: 9 | B14: Elektrody kończynowe, klamrowe komplet 4 szt. dla dorosłych | C14: 1 komplet | D14: 16
A15: 10 | B15: Elektrody kończynowe, klamrowe komplet 4 szt. dla dzieci | C15: 1 komplet | D15: 3
A16: 11 | B16: Elektroda do stymulacji serca typu Quick – Combo RTS | C16: op. 2 szt. | D16: 60
A17: 12 | B17: Elektroda silikonowo węglowa do elektroterapii pasująca do urządzenia BTL, rozmiar 6x6cm | C17: szt. | D17: 35
... A37: 36 | B37: Papier termiczny na rolce 57mm x 25 bez nadruku | C37: szt. | D37: 180
B38: RAZEM | F38: =SUM(F6:F37) -> 0 | I38: =SUM(I6:I37) -> 0
B40: Oświadczam, że oferowany przedmiot zamówienia spełnia wyżej wymienione wymagania.
B41: Data | H41: Podpis osoby/osób upoważnionej
B42: ……………………………………………. | I42: ……………………………….

Sheet Zad.5
B2: ZOZ/DZP/PN/33/19
B3: Załącznik Nr: 9
A4: Zadanie nr: 5 - Sterylizacja
A5: Lp. | B5: Nazwa produktu | C5: Jednostka miary | D5: Ilość | E5: Cena jednostkowa netto | F5: Wartość netto | G5: VAT | H5: Cena jednostkowa brutto | I5: Wartość brutto | J5: Producent /Nazwa handlowa/Nr katalogowy
A6: 1 | B6: Rękaw fol.- pap. bez fałdy, płaski 50 mm x 200m | C6: szt. | D6: 4
A7: 2 | B7: Rękaw fol.- pap. bez fałdy, płaski 75mm x 200m | C7: szt. | D7: 25
A8: 3 | B8: Rękaw fol.- pap. bez fałdy, płaski 100 mm x 200m | C8: szt. | D8: 25
A9: 4 | B9: Rękaw fol.- pap. bez fałdy, płaski 120mm x 200m | C9: szt. | D9: 25
A10: 5 | B10: Rękaw fol.- pap. bez fałdy, płaski 150 mm x 200m | C10: szt. | D10: 34
A11: 6 | B11: Rękaw fol.- pap. bez fałdy, płaski 200-210 mm x 200m | C11: szt. | D11: 20
A12: 7 | B12: Rękaw fol.- pap. bez fałdy, płaski 300mm x 200m | C12: szt. | D12: 20
A13: 8 | B13: Rękaw fol.-pap z fałdą 150 mm x 100m | C13: szt. | D13: 47
A14: 9 | B14: Rękaw fol.-pap z fałdą 200 mm x 100m | C14: szt. | D14: 28
A15: 10 | B15: Rękaw fol.-pap z fałdą 300 mm x 100m | C15: szt. | D15: 20
A16: 11 | B16: Rękaw fol.-pap z fałdą 420 mm x 66m | C16: szt. | D16: 30
A17: 12 | B17: Taśma neutralna 19 mm | C17: szt. | D17: 80
... A32: 27 | B32: Torebki papierowo-foliowe samoklejące 300 mm x 450 mm op. a 200 szt. | C32: op.=200szt | D32: 20
B33: RAZEM | F33: =SUM(F6:F32) -> 0 | I33: =SUM(I6:I32) -> 0
B35: Poz 1-11
B36: Parametry techniczne:
A37: - | B37: gramatura min 60g/m2
A38: - | B38: wskaźniki sterylizacji umieszczone poza obszarem pakowania na linii zgrzewu
A39: - | B39: 2 wskaźniki sterylizacji: para wodna/tlenek etylenu
A40: - | B40: folia 6-warstwowa wraz z warstwą kleju
A41: - | B41: na każdym rękawie papierowo-foliowym umieszczony wymiar nominalny rękawa (długość i szerokość numer serii)
A42: - | B42: zgrzew fabryczny 3-kanałowy
B43: Poz 18
A44: - | B44: Polyolefin i folia połączone są 3-kanałowym zgrzewem fabrycznym, którego wytrzymałość wynosi 6 Nm.
A45: - | B45: Laminat foliowy wykonany z 6-warstwowego kompozytu poliestru i polipropylenu o grubości 50μm, oraz polyolefin o gramaturze 93g/m2
B47: Oświadczam, że oferowany przedmiot zamówienia spełnia wyżej wymienione wymagania.
B48: Data | H48: Podpis osoby/osób upoważnionej
B49: ……………………………………………. | I49: ……………………………….

Sheet Zad.6
B2: ZOZ/DZP/PN/33/19
B3: Załącznik Nr: 9
A4: Zadanie nr: 6 - Rękawice
A5: Lp. | B5: Nazwa produktu | C5: Jednostka miary | D5: Ilość | E5: Cena jednostkowa netto | F5: Wartość netto | G5: VAT | H5: Cena jednostkowa brutto | I5: Wartość brutto | J5: Producent /Nazwa handlowa/Nr katalogowy
A6: 1 | B6: Rękawice lateksowe, z warstwą polimerową, diagnostyczne, bezpudrowe, z rolowanym mankietem, długość minimum: 240 mm, Grubość na palcu min. 0,14 mm, na dłoni min. 0,11 mm, na mankiecie min. 0,08 mm. Siła zrywu w okresie przechowywania min. 9 N, po starzeniu min. 7 N, teksturowane. AQL: 1,0, zawartość protein <30 ug/g ; Zarejestrowane w klasie I zgodnie z Rozporządzeniem (UE) 2017/745 oraz Rozporządzeniem (UE) 2016/425 o środkach ochrony indywidualnej w kategorii III Typ B, rękawice przebadane na przenikanie mikroorganizmów zgodnie z ASTM F1671 lub EN 374-5 . Rozmiar od XS do XL. | C6: op.100szt | D6: 2500
A7: 2 | B7: Rękawice diagnostyczne, bezpudrowe, mikroteksturowane z dodatkową teksturową na końcach palców, niejałowe, nitrylowe, rolowany brzeg, AQL 1,0, zarejestrowane jako wyrób medyczny i środek ochrony indywidualnej kat. III ; długość min.240 mm, grubość na palcu min 0,12 mm, na części dłoniowej min 0,08mm, na mankiecie min 0,06mm. Siła zrywu przed starzeniem min.9N po starzeniu min.8N. Zgodność z wymaganiami normy EN 455-1-2-3-4. Rękawice zgodne z Rozporządzeniem (UE) 2017/745 w klasie I oraz Rozporządzenie (UE) 2016/425 o środkach ochrony indywidualnej w kategorii III typ B. EN 374-1, EN 374-2, EN 16523-1, EN 374-4, EN 374-5. Przebadane na substancje chemiczne zgodnie z normą EN 374-4 oraz EN 16523-1. Rękawice przebadane na przenikanie mikroorganizmów zgodnie z ASTM F1671 lub EN 374-5. Rozmiar od XS do XL ,200 sztuk w opakowaniu, | C7: op.200szt | D7: 18000
A8: 3 | B8: Rękawice chirurgiczne, sterylne, ortopedyczne, bezpudrowe, o wysokie odporności na przekłucia i rozdarcia oraz wytrzymałe i rozciągliwe spełniające wymogi zabiegów podwyższonego ryzyka, chirurgii urazowej, ortopedycznej oraz rekonstrukcyjnej. Parametry techniczne : lateksowe kolor brązowy, kształt anatomiczny, rolowany mankiet, teksturowane, chlorowane i silikonowane na zewnątrz, pokryte warstwą poliuretanową i silikonowane od wewnątrz. Średnie grubości pojedynczej ścianki na palcu min. 0,33mm, na części dłoniowej min. 0,30mm, na mankiecie min. 0,26mm, minimalna długość rękawicy 295mm, rozmiary 6,0-9,0, AQL 1,0, poziom protein <30μg/g, jałowe, pakowane w opakowanie foliowe - wyjątkowo odporne na wilgoć. | C8: Para | D8: 2200
A9: 4 | B9: Rękawice chirurgiczne sterylne bezpudrowe mikrochirurgiczne, wykonane z lateks kauczuku naturalnego koloru brązowego mankiet z rolowanym brzegiem. Powierzchnia zewnętrzna: gładka, chlorowana i silikonowana, powierzchnia wewnętrzna: pokryta warstwą poliuretanową i silikonowana. Średnia grubość pojedynczej ścianki na palcu min. 0,18mm, na części dłoniowej min. 0,15mm, na mankiecie min. 0,12mm. Długość minimalna rękawicy 295mm, AQL: 1,0 zawartość protein <30μg/g, pakowane w opakowania foliowe -wyjątkowo odporne na wilgoć | C9: Para | D9: 2500
A10: 5 | B10: Rękawice chirurgiczne jałowe, z lateksu kauczuku naturalnego, pudrowane. Powierzchnia zew. teksturowana, z rolowanym mankietem, o anatomicznym kształcie. Długość rękawicy min.280mm. Grubość ścianki o obszarze środkowego palca min. 0.21mm, dł. min. 0.20mm, mankietu min. 0.15mm., AQL1.0, poziom protein <70ug. | C10: Para | D10: 26000
A11: 6 | B11: Rękawice chirurgiczne sterylne, bezpudrowe, lateks kauczuku naturalnego, kształt anatomiczny, mankiet prosty bez rolowanego zakończenia, powierzchnia zewnętrzna – mikroteksturowana, chlorowana, powierzchnia wewnętrzna – chlorowana. Średnia grubości pojedynczych ścianek: min. palec 0,220mm, dłoń min. 0,205mm, mankiet min. 0,240mm. Długość minimalna rękawicy 285mm, zawartość protein <30μg/g AQL-1,0, rozmiar 6,0-9,0 | C11: para | D11: 17200
A12: 7 | B12: Rękawice chirurgiczne neoprenowe kolor kremowy, jałowe,. Długość rękawicy min.300 mm, mankiet rolowany. Powierzchnia zewnętrzna teksturowana, chlorowana i silikonowana. Powierzchnia wewnętrzna pokryta warstwą poliuretanową i silikonowana. Średnia grubość pojedynczej ścianki na palcu 0,16 mm, na części dłoniowej 0,15 mm, na mankiecie 0,15 mm. AQL 1,0. Rękawice zgodne z Dyrektywa o Wyrobie Medycznym MDD 93/42/EEC & 2007/47/EC w klasie II a, zgodne z wymaganiami normy EN 455 część 1-4). Rozmiar 6-9,0 | C12: para | D12: 1500
A13: 8 | B13: Rękawice diagnostyczne nitrylowe, bezpudrowedo procedur wysokiego ryzyka, kolor pomarańczowy, mankiet rolowany, AQL 1,0, powierzchnia zewnętrzna mikroteksturowana z dodatkową teksturową na końcach palców, powierzchnia wewnętrzna chlorowana, długość rękawicy minimum 280 mm , grubość na palcu min 0.20, na dłoni min 0.13 mm oraz na mankiecie 0.09 mm. Siła zrywu przed starzeniem min.13N po starzeniu min.12N. Rękawice przebadane na przenikanie mikroorganizmów zgodnie z ASTM F1671 lub EN 374-5. Rękawice zgodne z Rozporządzeniem (UE) 2017/745 w klasie I oraz Rozporządzenie (UE) 2016/425 o środkach ochrony indywidualnej w kategorii III typ B. opakowanie a 100 szt, rozm S-XL | C13: op.100szt | D13: 1050
A14: 9 | B14: Chirurgiczne rękawice lateksowe, jałowe, z wewnętrzną warstwą polimerową, bezpudrowe, powierzchnia zewnętrzna teksturowana, z rolowanym mankietem, anatomiczny kształt, długość minimalna rękawicy 285mm, grubość ścianki na palcu min.0,21mm, dłoni min. 0,20mm, mankiet min.0,15mm, siła zrywu przed starzeniem min.14N, siła po starzeniu min. 12 N, AQL 1,0, poziom protein lateksu <30ug/g, zaklasyfikowane jako środek ochrony indywidualnej w kat III. Zgodne z Dyrektywą Medyczną 93/42/EEC w klasie IIa i normą EN 455 część 1-4, posiadające Deklarację CE, Rozmiar 6,0 -9,0 | C14: Para | D14: 8000
A15: 10 | B15: Rękawice chirurgiczne do systemu podwójnego zakładania jako rękawice spodnie, jałowe, lateksowe bezpudrowe, kształt anatomiczny, kolor zielony, mankiet rolowany, powierzchnia zewnętrzna gładka, chlorowana i silikonowana, powierzchnia wewnętrzna pokryta poliuretanem, pokrywana warstwą nawilżającą, długość rękawicy minimum 295 mm.Grubość pojedynczej ścianki na palcu min. 0,19; na dłoni min. 0,18 mm; na mankiecie min. 0,13mm. Zawartość protein <30 ug/g, AQL 1,0. Zgodne z normą EN 455 część 1,2,3. Przebadane na przenikanie mikroorganizmów zgodnie z normą ASTM F1671 chemicznych zgodnie z normą EN 374-3. Rozmiar od 6,0-9,0 | C15: Para | D15: 2000
A16: 11 | B16: Rękawice foliowe PE , rozmiar M-L | C16: op=100szt. | D16: 1100
A17: 12 | B17: Rękawice chirurgiczne, ginekologiczne, o przedłużonym mankiecie, jałowe, lateksowe bezpudrowe, kształt anatomiczny, mankiet rolowany, powierzchnia zewnętrzna teksturowana, chlorowana, powierzchnia wewnętrzna chlorowana, długość rękawicy minimum 500mm, grubość na palcu min. 0,33mm, na dłoni min 0,30mm, mankiet min. 0,18mm, poziom protein lateksu poniżej 20µg/g, AQL max.0,65;. Rękawice zgodne z Dyrektywą o Wyrobie Medycznym MDD 93/42/EEC & 2007/47/EC w klasie II a, rękawice zgodne z EN 455(1-4), rękawice przebadane na przenikanie mikroorganizmów zgodnie z ASTM F1671, rozmiar S-L | C17: op.=25szt | D17: 5
A18: 13 | B18: Rękawice diagnostyczne syntetyczne, nitrylowe bezpudrowe, kształt uniwersalny, kolor niebieski, pobierane pojedynczo za mankiet od spodu w celu uniknięcia kontaktu z pozostałą częścią rękawicy, powierzchnia zewnętrzna pokrywana polimerem (potwierdzone oświadczeniem wytwórcy),teksturowana na końcach palców, długość rękawicy min. 240 mm, grubość na palcu min. 0.12 mm, na dłoni min. 0.08 mm oraz na mankiecie min. 0.06 mm (potwierdzone badaniami producenta), siła zrywu przed starzeniem min. 9 N po starzeniu min. 8N, rękawice bez protein lateksu, AQL max.1.0, rękawice zgodne z Rozporządzeniem UE 2017/745 w klasie I oraz Dyrektywa o Środkach Ochrony Indywidualnej - PPE 89/686/EEC oraz typ wyrobu ochronnego zgodny z Rozporządzeniem (UE) 2016/425 w kategorii III, rękawice zgodne z EN 455(1-4), EN 420posiadające Certyfikat Badania Typu UE w kategorii III Środków Ochrony Indywidualnej, rękawice przebadane na przenikanie mikroorganizmów zgodnie z ASTM F1671(potwierdzone badaniem z niezależnego laboratorium). Rozmiar od XS do XL ,200 sztuk w opakowaniu, | C18: op.200szt | D18: 200
B19: RAZEM | F19: =SUM(F6:F18) -> 0 | I19: =SUM(I6:I18) -> 0
B26: Oświadczam, że oferowany przedmiot zamówienia spełnia wyżej wymienione wymagania.
B27: Data | H27: Podpis osoby/osób upoważnionej
B28: ……………………………………………. | I28: ……………………………….

Sheet Zad.7
B2: ZOZ/DZP/PN/33/19
B3: Załącznik Nr: 9
B4: Zadanie nr: 7 – Kaniule, aparaty do przygotowywania i pobierania leków z butelek
A5: Lp. | B5: Nazwa produktu | C5: Jednostka miary | D5: Ilość | E5: Cena jednostkowa netto | F5: Wartość netto | G5: VAT | H5: Cena jednostkowa brutto | I5: Wartość brutto | J5: Producent /Nazwa handlowa/Nr katalogowy
A6: 1 | B6: Aparat do przygot. i pobierania leków z butelek z filtrem bakteryjnym 0,45 mikrometra z odpowietrznikiem z zamknięciem zatrzaskowym z mikrokolcem | C6: szt. | D6: 17000
A7: 2 | B7: Przyrząd do aspiracji leku z butelek, z wbudowanym filtrem bakteryjnym 0,45µm i filtrem cząsteczkowym 5µm, nieruchoma osłona otaczająca nasadkę łączącą ze strzykawką, zintegrowana zastawka zabezpieczająca lek przed wyciekaniem po odłączeniu od strzykawki. | C7: szt. | D7: 8000
A8: 3 | B8: Kaniula dożylna typu bezpiecznego z portem bocznym od G-24 do G-17 zaopatrzona w specjalny metalowy automatyczny zatrzask zabezpieczający koniec igły przed przypadkowym zakłuciem personelu z minimum 4 paskami kontroli pod promieniowaniem RTG membrana hydrofobowa, chroniąca przed wypływem krwi po założeniu kaniuli | C8: szt. | D8: 54000
A9: 4 | B9: Kaniula dożylna typu bezpiecznego bez portu bocznego z zaworem eliminujacym całkowicie wypływ krwi podczas kaniulacji, od G-24 do G-17 zaopatrzona w specjalny metalowy automatyczny zatrzask zabezpieczający koniec igły przed przypadkowym zakłuciem personelu z minimum 4 paskami kontroli pod promieniowaniem RTG membrana hydrofobowa, chroniąca przed wypływem krwi po założeniu kaniuli | C9: szt. | D9: 5000
A10: 5 | B10: Koreczki dwufunkcyjne do kaniul i strzykawek | C10: szt. | D10: 30000
A11: 6 | B11: Korek do wenflonu Luer Lock | C11: szt. | D11: 84000
A12: 7 | B12: Korek dezynfekcyjny zawierający 70% alkohol izopropylowy, sterylny, z aplikatorem umożliwiający sterylne podłączenie, bez możliwości kontaminacji obudowy koreczka przed podłączeniem. | C12: op=200szt. | D12: 25
A13: 8 | B13: Skala pomiarowa do inf. systemu OCŻ od +35 do -15cm wielokrotnego użytku, plastik. Z 2 uchwytami, z efektem powiększenia wyniku | C13: szt. | D13: 10
A14: 9 | B14: Zestaw bezpieczny do przetoczeń płynów inf. z zastawkami : zatrzymującymi wypływ płynu przy odpowietrzaniu i zabezpieczającymi przed dostaniem się pow. do drenu po infuzji, z odpowietrznikiem z filtrem p/bakteryjnym z wskaźnikiem BFE minimum 99,99999% zamykanym klapką, dwuczęściowa komora kroplowa z 15μm filtrem, zaciskiem rolkowym z zabezpieczeniem na kolec komory kroplowej dla zapewnienia bezpieczeństwa po użyciu (ostry kolec umożliwiający całkowite opróżnienie butelki), wolny od ftalanów | C14: szt. | D14: 131000
A15: 10 | B15: Igła do bezpiecznego pobierania leków ze zintegrowanym filtrem 5µm, zapobiegająca zanieczyszczeniom mechanicznym pobieranych leków - opakowanie typu folia/papier. | C15: szt. | D15: 1600
A16: 11 | B16: Rurka do bezpiecznego pobierania leków z filtrem 5µm, do pobierania leków z dużych ampułek i otwartych fiolek, długość robocza rurki min. 10cm - opakowanie typu folia/papier. | C16: szt. | D16: 800
A17: 12 | B17: Łącznik międzystrzykawkowy luer-lock umożliwiający swobodny transfer zawartości jednej strzykawki do drugiej - pakowane indywidualnie opak. folia/papier | C17: szt. | D17: 400
... A21: 16 | B21: Zestaw do przetoczeń płynów infuzyjnych światłoczułych z dwuczęściową komorą kroplową, odpowietrznikiem z filtrem p/bakteryjnym oraz miejscem na kolec komory kroplowej dla zapewnienia bezpieczeństwa po użyciu. Długość drenu 180 cm. Opakowanie pojedyncze, sterylne. | C21: szt. | D21: 2000
B22: RAZEM | F22: =SUM(F6:F21) -> 0 | I22: =SUM(I6:I21) -> 0
B24: Oświadczam, że oferowany przedmiot zamówienia spełnia wyżej wymienione wymagania.
B25: Data | H25: Podpis osoby/osób upoważnionej
B26: ……………………………………………. | I26: ……………………………….

Sheet Zad.8
B2: ZOZ/DZP/PN/33/19
B3: Załącznik Nr: 9
A4: Zadanie nr: 8 – Testy do sterylizacji.
A5: Lp. | B5: Nazwa produktu | C5: Jednostka miary | D5: Ilość | E5: Cena jednostkowa netto | F5: Wartość netto | G5: VAT | H5: Cena jednostkowa brutto | I5: Wartość brutto | J5: Producent /Nazwa handlowa/Nr katalogowy
A6: 1 | B6: Pakiet jednokrotnego użytku typu Bowie-Dick,symulujący pakiet porowaty pakowany w papier krepowy, Testzapewniają łatwą i jednoznaczną interpretację wyniku - zmiana koloru. | C6: 1 szt. | D6: 1600
A7: 2 | B7: Test wieloparametrowy MVI-S S-4 test parowy liniowe ułożenie wskaźnika | C7: op=250 | D7: 250
A8: 3 | B8: Zintegrowany test chemiczny Kl. 5 z ruchomą substancją wskaźnikową do pary wodnej. Zgodny z normą PN EN 867-1 i ISO 11140 lub równoważną, Test wyraźnie oznaczonym polem bezpieczeństwa odczytu poprawności testu. Kompatybilny z cieplarką 3M | C8: op.100szt | D8: 48
A9: 4 | B9: Szybki test do wykrywania protein i hemoglobiny. Parametry techniczne: wynik w czasie nie krótszym niż 10 minut, test składający się z tuby i nasączonego tamponu. Wynik w postaci zmiany barwy odczynnika na fioletową. Test zapewniający weryfikację HACCP/SSOP | C9: op.=25szt | D9: 15
A10: 5 | B10: Test jednorazowy kontroli mycia w myjniach dezynfektorach. Wskaźnik umieszczony na blaszce aluminiowej | C10: op.=100szt | D10: 40
A11: 6 | B11: Test jednorazowy rutynowej kontroli w myjniach ultradźwiękowych. Wskaźnik umieszczony na blaszce aluminiowej. | C11: op=50szt | D11: 24
A12: 7 | B12: Uchwyt do mocowania testów z pozycji 5,6 | C12: 1szt | D12: 8
A13: 8 | B13: Fiolkowy wskaźnik biologiczny do pary wodnej. Ostateczny odczyt po 48 godzinach inkubacji. Zmiana koloru pożywki w przypadku nieprawidłowego wyniku łatwa w interpretacji z fioletowego na żółty. Nakrętka wskaźnika w kolorze brązowym. Na fiolce repozycjonowalna nierwąca się naklejka ze wskaźnikiem chemicznym i miejscem do opisu. | C13: op. 100szt | D13: 2
A14: 9 | B14: Test kontroli zgrzewu | C14: Op=250 szt | D14: 2
B15: RAZEM | F15: =SUM(F6:F14) -> 0 | I15: =SUM(I6:I14) -> 0
B18: Oświadczam, że oferowany przedmiot zamówienia spełnia wyżej wymienione wymagania.
B19: Data | H19: Podpis osoby/osób upoważnionej
B20: ……………………………………………. | I20: ……………………………….

Sheet Zad.9
A1: Załącznik nr 9 | I1: ZOZ/DZP/PN/21/21
A3: Zadanie nr 9 – Pościel jednorazowa
A4: Lp. | B4: Nazwa produktu | C4: Jednostka miary | D4: Ilość | E4: Cena jednostkowa netto | F4: Wartość netto | G4: VAT | H4: Cena jednostkowa brutto | I4: Wartość brutto | J4: Producent /Nazwa handlowa/Nr katalogowy
A5: 1 | B5: Komplet pościeli, jednorazowy, niejałowy, wykonany z włókniny polipropylenowej w kolorze niebieskim lub zielonym (włóknina min. 25g/m2): Wyrób medyczny pakowany pojedynczo w torebkę z foli PE, posiadającą , na stałe przymocowaną etykietę samoprzylepną, zawierającą następujące informacje: numer REF, nazwa produktu, rozmiar, LOT, znak CE,, data ważności, nazwa producenta Wymiary: poszwy na kołdrę – 210x140 cm, poszwy na poduszkę 70x80 cm, prześcieradła – 210x140cm | C5: komplet | D5: 500
A6: 2 | B6: Jednorazowa miękka kołdra wykonana w zewnętrznej warstwie z włókniny typu Spunlance (materiał oddychający, miękki, delikatny dla skóry) oraz wypełnienia wykonanego w 100% z Poliestru. Kołdra zawiera przeszycia zabezpieczające przed przesuwaniem się poszczególnych warstw materiału. Kolor biały. Szyty ultradźwiękowo. Dla zachowania higieny każda sztuka pakowana osobno w woreczki zawierające etykietę z nazwą oraz parametrami produktu. Waga 300g. Rozmiar 110 x 190cm | C6: szt. | D6: 1200
A7: 3 | B7: Poduszka jednorazowa o wymiarach 40xm x 40cm, wewnątrz 100% Polyester + zewnętrzna warstwa włókniny PP, gramatura - 200g | C7: szt. | D7: 3000
A8: 4 | B8: Jednorazowe, niejałowy prześcieradło medyczne, czyste mikrobiologicznie wykonane z włókniny polipropylenowej w kolorze białym gramatura 25 g/m2, 150 x 240 cm, białe, pakowane pojedynczo | C8: szt. | D8: 1200
A9: 5 | B9: Jednorazowa poszewka na poduszkę, niejałowa, wykonany z włókniny polipropylenowej w kolorze zielonym (włóknina min. 20g/m2): Wyrób medyczny pakowany po 20 szt. Rozmiar 70cm x 80cm | C9: szt. | D9: 800
A10: 6 | B10: Jednorazowy niesterylny podkład wysokochłonny pod pacjenta przeznaczony na blok operacyjny. - warstwa podkładu od strony stołu operacyjnego wykonana z paroprzepuszczalnego, nieprzemakalnego białego laminatu - rdzeń chłonny po zaabsorbowaniu płynów, suchy na powierzchni po maksymalnie 5 minutach. - nośność > 190 kg - warstwa podkładu „od pacjenta” trwale spojona z rdzeniem chłonnym, wykonana z miękkiej, pikowanej i przyjemnej dla skóry włókniny. - wyrób medyczny, pakowany pojedynczo w torebkę z foli PE, posiadającą , na stałe przymocowaną etykietę samoprzylepną, zgodnie z wymaganiami normy PN-EN 1041 A1:2013-12 , zawierającą następujące informacje: numer REF, nazwa produktu, rozmiar, LOT, znak CE,, data ważności, nazwa producenta; podkad o wymiarach całkowitych 100x200 cm, strefa absorbcyjna wym. 90 x180cm (+/- 5cm). absorpcja >3000 ml. | C10: szt. | D10: 1500
A11: 7 | B11: Kołdra/koc do okrycia pacjenta jednorazowego użytku 3 warstwowy wewnątrz 100% Polyester + zewnętrzne warstwy włókniny PP, materiał miękki i oddychający, pikowany z przeszyciami w kształcie rombów na całej powierzchni zapobiegającymi przemieszczaniu się elementów poszczególnych warstw, szyty ultradźwiękowo, Kolor granatowy. Waga 300g. Rozmiar 110x190cm | C11: szt. | D11: 3500
A12: 8 | B12: Antypoślizgowa, podłogowa mata chłonna, może być stosowana zarówno na suchych jak i mokrych podłogach, bez super chłonnych proszków, dzięki czemu mata nie pęcznieje i jest równa na powierzchni, odpowiednia kapilarność utrzymuje matę na mokrej podłodze. Rozmiar 84cm x 30m na roli, pomarańczowa/biała, absorbcja -5L /m2 | C12: rolka | D12: 12
B13: suma | F13: =SUM(F5:F12) -> 0 | I13: =SUM(I6:I12) -> 0
B14: Oferowany asortyment w poz.2, 3,7,8 nie jest wyrobem medycznym.
B15: Oświadczam, że oferowany przedmiot zamówienia jest zgodny z opisem i spełnia wymagane parametry techniczne
B18: data ………………………………. | G18: podpis ……………………………………….

Sheet Zad.10
B1: ZOZ/DZP/PN/33/19
B2: Załącznik Nr: 9
A4: Zadanie nr: 10 - Strzykawki, igły
A5: Lp. | B5: Nazwa produktu | C5: Jednostka miary | D5: Ilość | E5: Cena jednostkowa netto | F5: Wartość netto | G5: VAT | H5: Cena jednostkowa brutto | I5: Wartość brutto | J5: Producent /Nazwa handlowa/Nr katalogowy
A6: Strzykawka dwuczęściowa luer, wykonana z wysokiej jakości PP i/lub PE, w pełni przeźroczysty cylinder z wyraźną czarną, trwałą skalą pomiarową o przedłużonej skali o min. 20% w stosunku do skali nominalnej, wyraźna kryza zabezpieczająca przed wypadaniem tłoka, idealne dopasowanie cylindra i tłoka zapewniające pełną szczelność i bezskokowy przesów tłoka, tłok w wyraźnym, kontrastującym kolorze ułatwiającym odczyt ze sferycznym zakończeniem umożliwiającym maksymalne zmniejszenie przestrzeni martwej, logo producetna i nazwa własna na cylindrze i opakowaniu jednostkowym - Strzykawki jednego producenta, pakowane indywidualnie w opakowanie typu folia/papier - opakowania a 100 szt. Parametry dla pozycji 1-4
A7: 1 | B7: 2 ml skala co 0,1ml x 100 szt. | C7: op.=100szt | D7: 1200
A8: 2 | B8: 5 ml skala co 0,2ml x 100 szt. | C8: op.=100szt | D8: 1400
A9: 3 | B9: 10 ml skala co 0,5ml x 100 szt. | C9: op.=100szt | D9: 1200
A10: 4 | B10: 20 ml skala co 1ml x 100 szt. | C10: op.=100szt | D10: 1300
A11: 5 | B11: Strzykawka do tuberkuliny 1 ml 3 częściowe z igłą 0,45 x 12 mm x 100 szt. z osobną igłą | C11: op.=100szt | D11: 150
A12: 6 | B12: 100 ml Janeta z łącznikiem Luer,trzyczęściowa,wykonana z polipropylenu, skala w kolorze niebieskim, zaopatrzona w dodatkowy stożek do łączenia z cewnikiem | C12: szt. | D12: 5000
A13: Strzykawki - szczelne, łatwy przesuw tłoka, wyraźna skala. Wykazane na liście producenta pomp infuzyjnych MEDIMA S2 i Medima P2. Opis dla pozycji 7-10 | F13: =E13*D13 -> 0
A14: 7 | B14: 10ml x 100 szt., 3 częściowe | C14: op.=100szt | D14: 300
A15: 8 | B15: 20ml x 100 szt., 3 częściowe | C15: op.=100szt | D15: 1000
A16: 9 | B16: 50 ml do pomp 3 cz .do pomp Luer-Lock ze skalą dwustronną | C16: szt. | D16: 36000
A17: 10 | B17: 50 ml do pomp 3 cz .do pomp Luer-Lock do leków światłoczułych | C17: szt. | D17: 15000
A18: 11 | B18: Strzykawka 3-częściowa Luer-Lock model wymagany zgodnie z intrukcją producenta dializatora Primaflex 50ml | C18: szt. | D18: 5000
A19: Igły iniekcyjne o ostrzach zapewniających minimalny opór skóry, rurki pokryte silikonem, cienkościenne nasadki barwione zgodnie z kodem kolorów | F19: =E19*D19 -> 0
A20: 12 | B20: 0,45 x 13 mm x 100 szt. | C20: op=100szt | D20: 65
A21: 13 | B21: 0,5 x 25 mm x 100 szt. | C21: op=100szt | D21: 360
A22: 14 | B22: 0,6 x 25 mm x 100 szt. | C22: op=100szt | D22: 50
A23: 15 | B23: 0,7 x 30 mm x 100 szt. | C23: op=100szt | D23: 180
A24: 16 | B24: 0,8 x 40 mm x 100 szt. | C24: op=100szt | D24: 700
A25: 17 | B25: 0,9 x 40 mm x 100 szt. | C25: op=100szt | D25: 160
A26: 18 | B26: 1,1 x 40 mm x 100 szt. | C26: op=100szt | D26: 500
A27: 19 | B27: 1,2 x 40 mm x 100 szt. | C27: op=100szt | D27: 1700
A28: 21 | B28: 1,6 x 40 mm x 100 szt. | C28: op=100szt | D28: 30
A29: 22 | B29: Igła 0,8 x 120 mm x 100 szt. do blokad nerwowych | C29: op=50szt | D29: 36
A30: 23 | B30: Igła do bezpiecznego pobierania i rozpuszczania leków 18G x 30mm, szlif ołówkowy z otworem bocznym, końcówka pasująca do luer i luer-lock. | C30: op=100szt | D30: 1400
A31: 24 | B31: Igła do bezpiecznego pobierania i rozpuszczania leków z filtrem 18G x 30-50mm, szlif ścięty z otworem bocznym, końcówka pasująca do luer i luer-lock. | C31: op=100szt | D31: 500
... A37: 30 | B37: Kaniula do płukania kanalików łzowych, zagięta 27G x7/8in, ,40x22mm | C37: Op=100 szt | D37: 2
B38: RAZEM | F38: =SUM(F20:F37,F14:F18,F7:F12) -> 0 | I38: =SUM(I7:I37) -> 0
B41: Oświadczam, że oferowany przedmiot zamówienia spełnia wyżej wymienione wymagania.
B42: Data | H42: Podpis osoby/osób upoważnionej
B43: ……………………………………………. | I43: ……………………………….

Sheet Zad.11
B1: ZOZ/DZP/PN/33/19
B2: Załącznik Nr: 9
A4: Zadanie nr: 11 - Rurki
A5: Lp. | B5: Nazwa produktu | C5: Jednostka miary | D5: Ilość | E5: Cena jednostkowa netto | F5: Wartość netto | G5: VAT | H5: Cena jednostkowa brutto | I5: Wartość brutto | J5: Producent /Nazwa handlowa/Nr katalogowy
A6: 1 | B6: Rurki intubacyjne bez mankietu 2,0 – 4,5silikonowane, jałowe | C6: szt. | D6: 120
A7: Rurki intubacyjne z mankietem, ustno-nosowa, z termoplastycznego PCV, przeźroczysta, typ Murphy, linia RTG na całej dł., z czytelnym oznaczeniem znacznika głębokości i rozmiaru rurki na baloniku jałowe silikonowane | F7: =E7*D7 -> 0
A8: 2 | B8: Nr 2,5-9,5 co 0,5 do wyboru przy zakupie | C8: szt. | D8: 1500
A9: Rurki intubacyjne zbrojone z mankietem, typ Murphy, odporne na zginanie, znakowany balonik,rozmiar, jałowe, silikonowane | F9: =E9*D9 -> 0
A10: 17 | B10: Nr. 4,0-8,5 co 0,5 do wyboru przy zakupie | C10: szt. | D10: 800
A11: Rurki intubacyjne zbrojone z mankietem, typ Murphy, odporne na zginanie, znakowany balonik rozmiar, jałowe, silikonowane z prowadnicą | F11: =E11*D11 -> 0
A12: 21 | B12: nr. 6-9 co 0,5 do wyboru przy zakupie | C12: szt. | D12: 70
A13: 28 | B13: Rurka tracheostomijna z dwoma niskociśnieniowymi mankietami uszczelniającymi, wykonana z medycznej odmiany termoplastycznego PCV, atraumatycznie wykończone wszystkie elementy rurki, linia kontrastowa RTG, baloniki kontrolne z samouszczelniejącymi się zaworami. Rozmiary do wyboru przy zakupie 7,0-9,0 co 1,0 | C13: szt. | D13: 70
A14: 29 | B14: Rurka tracheostomijna zbrojona z ruchomym szyldem, wydłużona część dystalna i proksymalna, z niskociśnieniowym mankietam uszczelniającym, wykonana z medycznej odmiany termoplastycznego PCV, atraumatycznie wykończone wszystkie elementy rurki, linia kontrastowa RTG, balonik kontrolne z samouszczelniejącym się zaworem. Rozmiary do wyboru przy zakupie 7,0-10, co 1,0 | C14: szt. | D14: 10
A15: 30 | B15: Rurka tracheostomijna z ruchomym szyldem, wydłużona część dystalna i proksymalna, z niskociśnieniowym mankietam uszczelniającym, wykonana z medycznej odmiany termoplastycznego PCV, atraumatycznie wykończone wszystkie elementy rurki, linia kontrastowa RTG, balonik kontrolne z samouszczelniejącym się zaworem. Rozmiary do wyboru przy zakupie 7,0-10, co 1,0 | C15: szt. | D15: 10
A16: 31 | B16: Rurki ustno - gardłowe Guedel z medycznego PCV, barwne wkładki, zaokrąglone krawędzie, blokada przeciw zagryzieniu, jałowe,rozmiary od 000 do 6 do wyboru przy zamówieniu | C16: szt. | D16: 630
A17: 32 | B17: Rurka nosowo-gardłowa 6-8mm | C17: szt. | D17: 10
A18: Rurki tracheostomijne z mankietem silikonowane, jałowe | F18: =E18*D18 -> 0
A19: 33 | B19: nr. 5,0-10 co 0,5 do wyboru przy zakupie | C19: szt. | D19: 80
A20: 43 | B20: Zestaw o min. składzie: rurka tracheostomijna KAN bez mankietu 1 szt., prowadnica 1 szt., kaniula wewnętrzna z łącznikiem 15mm 1 szt., kaniula wewnętrzna z kołnierzem 2 szt., miękka opaska mocująca, łącznik 15mm nasadka łącząca, korek dekaniulacyjny, nasadka kosmetyczna rozmiary rurek do wyboru przy zakupie : 5,0-10,0 mm | C20: 1 zestaw | D20: 20
A21: 44 | B21: Zestaw o min. składzie: rurka tracheostomijna KAN z mankietem 1 szt., prowadnica 1 szt., kaniula wewnętrzna z łącznikiem 15mm 1 szt., kaniula wewnętrzna z kołnierzem 2 szt., miękka opaska mocująca, łącznik 15mm nasadka łącząca, korek dekaniulacyjny, nasadka kosmetyczna rozmiary rurek do wyboru przy zakupie : 5,0-10,0 mm | C21: 1 zestaw | D21: 10
A22: 45 | B22: Zestaw o min. składzie: rurka tracheostomijna KAN bez mankietu,fenestracyjna 1 szt., prowadnica 1 szt., kaniula wewnętrzna z łącznikiem 15mm, z otworami 1 szt., kaniula wewnętrzna z łącznikiem 15mm, bez otworów fenestracyjnych 1 szt, kaniula wewnętrzna z kołnierzem, z otworami fenestracyjnymi 1 szt., miękka opaska mocująca, łącznik 15mm nasadka łącząca, korek dekaniulacyjny, nasadka kosmetyczna rozmiary rurek do wyboru przy zakupie : 5,0-10,0 mm | C22: 1 zestaw | D22: 20
A23: 46 | B23: Zestaw o min. składzie: rurka tracheostomijna KAN z mankietem,fenestracyjna 1 szt., prowadnica 1 szt., kaniula wewnętrzna z łącznikiem 15mm, z otworami 1 szt., kaniula wewnętrzna z łącznikiem 15mm, bez otworów fenestracyjnych 1 szt, kaniula wewnętrzna z kołnierzem, z otworami fenestracyjnymi 1 szt., miękka opaska mocująca, łącznik 15mm nasadka łącząca, korek dekaniulacyjny, nasadka kosmetyczna rozmiary rurek do wyboru przy zakupie : 5,0-10,0 mm | C23: 1 zestaw | D23: 10
A24: 47 | B24: Łącznik do drenów symetryczny, sterylny, O.D. 15mm I.D. 6mm | C24: szt | D24: 3600
A25: Prowadnice do rurek intubacyjnych -metal, pokryty tworzywem, miękki koniec, jałowe | F25: =E25*D25 -> 0
A26: 48 | B26: Rozmiar 2-2,2 mm / 230 mm | C26: szt. | D26: 160
A27: 49 | B27: Rozmiar 3 mm / 340 mm | C27: szt. | D27: 160
A28: 50 | B28: Rozmiar 4 mm / 360 mm | C28: szt. | D28: 300
A29: 51 | B29: Rozmiar 5 mm / 370 mm | C29: szt. | D29: 300
A30: Prowadnice do trudnych intubacji bez futerału. Elastyczna, wzmocniona na całej długości, skalowana podziałka, zagięty koniec ułatwiający wprowadzanie, materiał o właściwościach poślizgowych, jałowe | F30: =E30*D30 -> 0
A31: 52 | B31: Rozmiar 1,6 x 600 mm | C31: szt. | D31: 10
A32: 53 | B32: Rozmiar 2,0 x 600 mm | C32: szt. | D32: 10
A33: 54 | B33: Rozmiar 5,0 długość 800mm | C33: szt. | D33: 70
A34: Prowadnice do wymiany rurek intubacyjnych z kanałem do wentylacji: w komplecie z łącznikiem 15mm i Luer Lock z zagiętym końcem, jałowa, elastyczna, wzmocniona na całej długości. | F34: =E34*D34 -> 0
A35: 55 | B35: Rozmiar 5,0 długość 800 mm | C35: szt. | D35: 40
A36: 56 | B36: Prowadnica do trudnej intubacji, z wygiętym zakończeniem, elastyczna, wzmocniona na całej długości, skalowana - wielorazowego użytku, śr. zewn. 3.3 i 5.0mm - długość 60-80cm | C36: szt. | D36: 60
A37: 57 | B37: Prowadnica do rurek intubacyjnych z możliwością podawania tlenu, z prostym lub wygiętym końcem dystalnym, elastyczna, wzmocniona na całej długości, skalowana, z wewnętrznym kanałem oraz łącznikiem 15mm i łącznikiem luer-lock, śr. zewn. 2.6, 3.3, 5.0 i 6.0mm - długość 60-83cm | C37: szt. | D37: 20
A38: 58 | B38: Opaska do rurek tracheostomijnych, jałowa. | C38: szt | D38: 180
A39: Rurka tracheostomijna metalowa z okienkiem | F39: =E39*D39 -> 0
A40: 59 | B40: nr.7 | C40: szt. | D40: 15
A41: 60 | B41: nr.8 | C41: szt. | D41: 10
A42: 61 | B42: nr.9 | C42: szt. | D42: 5
A43: 62 | B43: Szczoteczki do mycia rurek tracheostomijnych | C43: szt. | D43: 350
B44: RAZEM | F44: =SUM(F40:F43,F35:F38,F31:F33,F26:F29,F19:F24,F12:F17,F10,F8,F6) -> 0 | I44: =SUM(I40:I43,I35:I38,I31:I33,I26:I29,I19:I24,I12:I17,I10,I8,I6) -> 0
B47: Oświadczam, że oferowany przedmiot zamówienia spełnia wyżej wymienione wymagania.
B48: Data | H48: Podpis osoby/osób upoważnionej
B49: ……………………………………………. | I49: ……………………………….

Sheet Zad.12
B1: ZOZ/DZP/PN/33/19
B2: Załącznik Nr: 9
A4: Zadanie nr: 12 - Okulary ochronne
A5: Lp. | B5: Nazwa produktu | C5: Jednostka miary | D5: Ilość | E5: Cena jednostkowa netto | F5: Wartość netto | G5: VAT | H5: Cena jednostkowa brutto | I5: Wartość brutto | J5: Producent /Nazwa handlowa/Nr katalogowy
A6: 1 | B6: Okulary ochronne | C6: szt. | D6: 120
B7: RAZEM | F7: =SUM(F6) -> 0 | I7: =SUM(I6) -> 0
B10: Wymogi produktu:
B11: Poz. 1.wykonane z przeźroczystego poliwęglanu. Wyposażone w zauszniki i wielostopniową regulacją kąta pochylenia szybki oraz regulacją długości. Szkła posiadają powłokę chroniącą przed zaparowaniem. Zgodny z normą EN 166 lub równoważna
B14: Oświadczam, że oferowany przedmiot zamówienia spełnia wyżej wymienione wymagania.
B15: Data | H15: Podpis osoby/osób upoważnionej
B16: ……………………………………………. | I16: ……………………………….

Sheet Zad. 13
A1: Załącznik nr 9 | H1: ZOZ/DZP/PN/28/21
A3: Zadanie nr: 13 Pojemniki z formaliną.
A4: Lp. | B4: Nazwa produktu | C4: Jednostka miary | D4: Ilość | E4: Cena jednostkowa netto | F4: Wartość netto | G4: VAT | H4: Cena jednostkowa brutto | I4: Wartość brutto | J4: Producent /Nazwa handlowa/Nr katalogowy
A5: 1 | B5: Pojemnik BiopSafe 60ml. Bezpieczny pojemnik tworzący system zamknięty do materiału biopsyjnego/histopatologicznego składający się z pokrywy zawierającej środek utrwalający i zbiornika. Pokrywa zbudowana z elementów : 1.Tłok zakończony nakłuwaczem 2.Folia aluminiowa zgrzana z nakrętką 3.Filtr zabezpieczający 4.Przycisk uwalniający substancję utrwalającą 5.Substancja utrwalająca - Formaldechyd 4% w roztworze wodnym (10% roztwór formaliny) i <2.5% metanol o łącznej objętości 60ml 5. Pokrywa wyposażona w gwint zewnętrzny. Zbiornik wyposażony w gwint wewnętrzny służący do zamknięcia i szczelnego połączenia z pokrywą. Substancja utrwalająca uwalniana po połączeniu pokrywy ze zbiornikiem i przez wciśnięcie przycisku wbudowanego w górną część pokrywy. | C5: op.=18 szt | D5: 20
A6: 2 | B6: Pojemnik BiopSafe 20ml. Bezpieczny pojemnik tworzący system zamknięty do materiału biopsyjnego/histopatologicznego składający się z pokrywy zawierającej środek utrwalający i zbiornika. Pokrywa zbudowana z elementów : 1.Tłok zakończony nakłuwaczem 2.Folia aluminiowa zgrzana z nakrętką 3.Filtr zabezpieczający 4.Przycisk uwalniający substancję utrwalającą 5.Substancja utrwalająca - Formaldechyd 4% w roztworze wodnym (10% roztwór formaliny) i <2.5% metanol o łącznej objętości 20ml 5. Pokrywa wyposażona w gwint zewnętrzny. Zbiornik wyposażony w gwint wewnętrzny służący do zamknięcia i szczelnego połączenia z pokrywą. Substancja utrwalająca uwalniana po połączeniu pokrywy ze zbiornikiem i przez wciśnięcie przycisku wbudowanego w górną część pokrywy. | C6: op=24szt. | D6: 50
B7: Razem | F7: =SUM(F5:F6) -> 0 | I7: =SUM(I5:I6) -> 0
B10: Oświadczam, że oferowany przedmiot zamówienia spełnia wyżej wymienione wymagania.
B11: Data | H11: Podpis osoby/osób upoważnionej
B12: ……………………………………………. | I12: ……………………………….

Sheet zad.14
B1: ZOZ/DZP/PN/33/19
B2: Załącznik Nr: 9
A4: Zadanie nr: 14 – Opatrunek hemostatyczny
A5: Lp. | B5: Nazwa produktu | C5: Jednostka miary | D5: Ilość | E5: Cena jednostkowa netto | F5: Wartość netto | G5: VAT | H5: Cena jednostkowa brutto | I5: Wartość brutto | J5: Producent /Nazwa handlowa/Nr katalogowy
A6: 1 | B6: Gaza hemostatyczna 5x5cm | C6: 1 szt. | D6: 5
A7: 2 | B7: Gaza hemostatyczna 7,5x5cm | C7: 1 szt. | D7: 5
A8: 3 | B8: Gaza hemostatyczna 10x10cm | C8: 1 szt. | D8: 5
B9: RAZEM | F9: =SUM(F6:F8) -> 0 | I9: =SUM(I6:I8) -> 0
B11: Opis produktu:
B12: Tkana, bawełniana gaza hemostatyczna, z nieutlenionej celulozy, z funkcjonalnymi grupami cząsteczkowymi (FMGs) zapewniającymi specjalne właściwości fizyczne i zwiększające wydajnośc produktu. Po kontakcie z płynem przekształcająca się w elastyczną membranę o strukturze żelu, który przylega do rany pozwalając kontrolować krwawienie. Opatrunek mogący wchłonąć do 3500% własnego ciężaru podczas kontraktu z krwią. Nie wymagający wcześniejszego namaczania, nie wymagający kompresji. Możliwość stosowania przez porty 6 mm. Do stosowania w procedurach naczyniowych i sercowo- naczyniowych, obszarach szczególnie wrażliwych(nerwy, drogi nerwowe). Nie wymagający oczyszczania rany z krwi. W pełni biokompatybilny i sterylny (sterylizacja przez napromieniowanie), Całkowita biodegradacja w ciągu 7 dni .pH 5,5, Klasa III. Rozpuszczalny w wodzie. Stabilność materiału pozwalająca na usunięcie gazy z pola operacyjnego w całości. Nie przyklejający się do narzędzi, do rękawiczek.
B16: Oświadczam, że oferowany przedmiot zamówienia spełnia wyżej wymienione wymagania.
B17: Data | H17: Podpis osoby/osób upoważnionej
B18: ……………………………………………. | I18: ……………………………….

Sheet zad.15
B1: ZOZ/DZP/PN/33/19
B2: Załącznik Nr: 9
A3: Zadanie nr: 15 – Akcesoria do systemu ssącego i oddechowego
A4: Lp. | B4: Nazwa produktu | C4: Jednostka miary | D4: Ilość | E4: Cena jednostkowa netto | F4: Wartość netto | G4: VAT | H4: Cena jednostkowa brutto | I4: Wartość brutto | J4: Producent /Nazwa handlowa/Nr katalogowy
A5: 1 | B5: Wkład workowy jednorazowy z integralną zastawką zabezpieczającą, z maksymalnie 2 otworami w pokrywie worka. Kompatybilny z systemem RECEPTAL poj. 2 litry, z data ważności na każdym wkładzie. | C5: szt. | D5: 600
A6: 2 | B6: Trwały pojemnik/ kanister/ wielokrotnego użytku o śr. nie większej niż 11 cm z nietł. się tworzywa z podziałką co 25 ml, ze złączem do próżni, poj. 2 litry | C6: szt. | D6: 5
A7: 3 | B7: Linia monitorująca do próbkowania gazów, złącze typu męskie / żeńskie, dł. 3 m | C7: szt. | D7: 10
A8: 4 | B8: Pułapka wodna czarna typu D-fend do monitora f-my Datex - Ohmeda i Sirius | C8: szt. | D8: 110
A9: 5 | B9: Jednorazowy, układ oddechowy do respiratora dla dorosłych w składzie: 2 rury karbowane śr.2 2 mm z pamięcią kształtu, o dł. min 1,5 m, złączka Y, łącznik prosty 22m/22m | C9: szt. | D9: 200
A10: 6 | B10: Filtr p/bakteryjny z portem do kapnografii dla dorosłych o objętości oddechowej 180-250 ml bez wymiennika ciepła i wilgoci | C10: szt. | D10: 3500
A11: 7 | B11: Filtr p/bakteryjny z wymiennikiem ciepła i wilgoci, z portem do kapnografii dla dorosłych o objętości oddechowej 180-250 ml | C11: szt. | D11: 4000
A12: 8 | B12: Filtr p/bakteryjny z wymiennikiem ciepła i wilgoci, z portem do kapnografii, pediatryczny o objętości oddechowej 50-90 ml. | C12: szt. | D12: 500
A13: 9 | B13: Filtr p/bakteryjny z wymiennikiem ciepła i wilgoci z portem do kapnografii, noworodkowy o objętości oddechowej 25-40 ml. | C13: szt. | D13: 60
A14: 10 | B14: Wymiennik ciepła i wilgoci „sztuczny nos” do rurek tracheostomijny dla dorosłych bez drenu. | C14: szt. | D14: 800
A15: 11 | B15: Wapno sodowane do aparatu do zniecz. 4,5 kg | C15: szt. | D15: 24
A16: 12 | B16: Maska tlenowa, hypoalergiczna, bezzapachowa, przeźroczysta, wykonana z medycznej odmiany miękkiego PCV, do wysokich stężeń tlenu z przewodem tlenowym, z kulką do monitorowania oddechów i gumką naciągającą oraz rezerwuarem tlenowym | C16: szt. | D16: 375
... A31: 27 | B31: Przewód o gładkim świetle dla dorosłych z PCV długość 200cm, złącza 22 Typ Flex , przewód sterylny | C31: Op=10 szt | D31: 3
B32: RAZEM | F32: =SUM(F5:F31) -> 0 | I32: =SUM(I5:I31) -> 0
B34: Oświadczam, że oferowany przedmiot zamówienia spełnia wyżej wymienione wymagania.
B35: Data | H35: Podpis osoby/osób upoważnionej
B36: ……………………………………………. | I36: ……………………………….

Sheet Zad.16
B2: ZOZ/DZP/PN/33/19
B3: Załącznik Nr: 9
A4: Zadanie nr: 16 - Akcesoria do aparatów elektrochirurgicznych
A5: Lp. | B5: Nazwa produktu | C5: Jednostka miary | D5: Ilość | E5: Cena jednostkowa netto | F5: Wartość netto | G5: VAT | H5: Cena jednostkowa brutto | I5: Wartość brutto | J5: Producent /Nazwa handlowa/Nr katalogowy
A6: 1 | B6: Jednorazowy uchwyt z elektrodą szpatułkową, 2 przyciski opak 10 szt. | C6: op. | D6: 80
A7: 2 | B7: Kabel elektrody neutralnej jednorazowej, 4m | C7: szt. | D7: 10
A8: 3 | B8: Uchwyt typu ErgoPen do elektrody 4mm, wąski, 2 przyc., z kablem 4m, wtyk 3-bolc. | C8: szt. | D8: 8
A9: 4 | B9: Uchwyt typu ErgoPen do elektrody 4mm, wąski, 2 przyc., z kablem 4m, wtyk 1-bolc. | C9: szt. | D9: 4
A10: 5 | B10: Nóż prosty, 3,4x24 mm dł 45 mm do uchwytu Ergo Pen 4mm z dwoma przyciskami i kablem | C10: szt. | D10: 6
A11: 6 | B11: Elektroda bierna jednorazowa, owalna z odseparowanym pierścieniem ekwipotencjalnym. Powierzchnia 85 cm2, powierzchnia pierścienia 23 cm2 , nie wymagająca orientacji dla dorosłych i dzieci, zapewniające maksymalne bezpieczeństwo dla pacjenta, wykonana na włókninie op. 50 szt. | C11: op=50 | D11: 70
A12: 7 | B12: Czyścik narzędzi elektrochirurgicznych op. 100 szt. | C12: op. | D12: 1
A13: 8 | B13: Kabel szczypiec bipolar. 5M, wtyk 2-bolc. 29 mm | C13: szt. | D13: 4
A14: 9 | B14: Kulka prosta 6 mm, dł. 100 mm | C14: szt. | D14: 2
A15: 10 | B15: Kabel monopolarny do laparoskopu, dł. 4m | C15: szt. | D15: 4
A16: 11 | B16: Wielorazowe kleszcze do zamykania naczyń zagięte z końcówką ceramiczną, dł. 210 mm z kablem dł. 4m, kompatybilne z diatermią typu VIO | C16: szt. | D16: 4
A17: 12 | B17: Wielorazowe kleszcze do zamykania naczyń zagięte z końcówką ceramiczną, dł. 270 mm z kablem dł. 4m, kompatybilne z diatermią typu VIO | C17: szt. | D17: 4
... A39: 34 | B39: Pinceta bipolarna PREMIUM, bagnetowa, końcówki 1,2 mm, tępe, długość 230 mm | C39: szt | D39: 1
B40: RAZEM | F40: =SUM(F6:F39) -> 0 | I40: =SUM(I6:I39) -> 0
B43: Oświadczam, że oferowany przedmiot zamówienia spełnia wyżej wymienione wymagania.
B44: Data | H44: Podpis osoby/osób upoważnionej
B45: ……………………………………………. | I45: ……………………………….

Sheet Zad.17
B2: ZOZ/DZP/PN/33/19
B3: Załącznik Nr: 9
A4: Zadanie nr: 17– Pojemniki na próbki
A5: Lp. | B5: Nazwa produktu | C5: Jednostka miary | D5: Ilość | E5: Cena jednostkowa netto | F5: Wartość netto | G5: VAT | H5: Cena jednostkowa brutto | I5: Wartość brutto | J5: Producent /Nazwa handlowa/Nr katalogowy
A6: 1 | B6: Pojemnik na mocz 100-125 ml niesterylny z zakrętką zakręcaną | C6: szt. | D6: 32000
A7: 2 | B7: Pojemnik na mocz lub materiał biologiczny 50-60 ml sterylny z zakrętką zakręcaną | C7: szt. | D7: 12000
A8: 3 | B8: Pojemnik na kał z łopatką 20-25 ml | C8: szt. | D8: 3600
A9: 4 | B9: Pojemnik na kał z łopatką 20-25 ml sterylny | C9: szt. | D9: 1000
A10: 5 | B10: Zestaw do pobierania próbek z drzewa oskrzelowego z łącznikami pasującymi do wszystkich typów cewników do odsysania, przeźroczysta probówka o poj. 10ml, dodatkowa zakrętka oraz nalepka identyfikacyjna - sterylny | C10: szt. | D10: 500
B11: RAZEM | F11: =SUM(F6:F10) -> 0 | I11: =SUM(I6:I10) -> 0
B14: Oświadczam, że oferowany przedmiot zamówienia spełnia wyżej wymienione wymagania.
B15: Data | H15: Podpis osoby/osób upoważnionej
B16: ……………………………………………. | I16: ……………………………….

Sheet Zad.18
B2: ZOZ/DZP/PN/33/19
B3: Załącznik Nr: 9
A4: Zadanie nr: 18 – Nebulizacja i akcesoria do urządzeń.
A5: Lp. | B5: Nazwa produktu | C5: Jednostka miary | D5: Ilość | E5: Cena jednostkowa netto | F5: Wartość netto | G5: VAT | H5: Cena jednostkowa brutto | I5: Wartość brutto | J5: Producent /Nazwa handlowa/Nr katalogowy
A6: 1 | B6: Jednorazowy ustnik do spirometru o wymiarach: średnica wewnętrzna 20mm, średnica zewnętrzna 22mm, długość: 65mm +-1mm pakowane pojedynczo. | C6: Op=200 | D6: 50
A7: 2 | B7: Jednorazowy ustnik do spirometru Microlab ML3500 z zaworkiem. | C7: Op=200 | D7: 15
A8: 3 | B8: Inhalator tłokowy do nebulizacji do stosowania w szpitalu do pracy ciągłej z wbudowanym manometrem z regulacją cisnienia 1,3-2,5 bar. Przepływ max. 16l/min., wielokość cząsteczek (MMAD) max 3,5µm, waga urzadzenia max 2,2 kg, | C8: szt | D8: 10
A9: 4 | B9: Nebulizator do kompresora Pari: wydajność 600mg/min, średnia masa cząsteczki MMD:3,5 µm, ilość czątek poniżej 5µm:67%, nadaje się do sterylizacji w autoklawie (ok. 300 razy w temp. 134oC), pojemnik na lek 2-8 ml | C9: szt | D9: 8
A10: 5 | B10: Maska miękka bez stabilizatora dla dorosłych | C10: szt | D10: 8
A11: 6 | B11: Turbinka do spirometru Microlab 8 ML 3500 | C11: szt. | D11: 4
A12: 7 | B12: Uchwyt do lampy ML501/701 | C12: szt. | D12: 10
A13: 8 | B13: Maska dla dzieci współpracująca z nebulizatorami Pari- do sterylizacji w autoklawie (po założeniu stabilizatorów) | C13: szt | D13: 10
A14: 9 | B14: Maska w rozmiarach 0- dla wcześniaków,1 – dla noworodków i niemowląt od 0-1 roku życia, 2 – dla dzici 1-3 roku życia,3- dla dzieci powyżej 3 roku życia, w komplecie kolanko umożliwiające inhalację dziecka w pozycji leżącej - do sterylizacji w autoklawie | C14: szt | D14: 30
A15: 10 | B15: Nebulizator: - do inhalacji dzieci powyżej powyżej 4 roku życia oraz osób dorosłych- możliwość sterylizacji w autoklawie ok. 300 razy, temperatura sterylizacji 134st. C. Charakterystyka aerozolu (w połączeniu z kompresorem Pari Turbo Boy SX) Wydajność: 600mg/min średnia masa cząsteczki MMD 3,5um ilość cząstek poniżej 5um 67% | C15: szt | D15: 30
A16: 11 | B16: Nebulizator: - w połączeniu z maską do inhalacji noworodków - możliwość sterylizacji w autoklawie ok. 300 razy, temperatura sterylizacji 134st. C. Charakterystyka aerozolu (w połączeniu z kompresorem Pari Boy SX) Wydajność: 450mg/min Średnia masa cząsteczki MMD 2,2um ilość cząstek poniżej 5um 89% | C16: szt | D16: 30
A17: 12 | B17: Inhalator tłokowy do nebulizacji do stosowania w szpitalu do pracy ciągłej, ciśnienie 1,6bar max waga 1,7kg, wyposażony w nebulizator z ustnikiem o wydajności 600mg/min, śr. wielkość cząsteczek 3,5 µm z wężykiem min 2m. | C17: szt. | D17: 4
... A20: 15 | B20: Filtr do przeciwbakteryjny do ustnika od spirometru Microlab | C20: Op=50 szt | D20: 40
B21: RAZEM | F21: =SUM(F6:F20) -> 0 | I21: =SUM(I6:I20) -> 0
B24: Oświadczam, że oferowany przedmiot zamówienia spełnia wyżej wymienione wymagania.
B25: Data | H25: Podpis osoby/osób upoważnionej
B26: ……………………………………………. | I26: ……………………………….

Sheet Zad.19
B1: ZOZ/DZP/PN/33/19
B2: Załącznik Nr: 9
A3: Zadanie nr: 19- Test wód płodowych
A4: Lp. | B4: Nazwa produktu | C4: Jednostka miary | D4: Ilość | E4: Cena jednostkowa netto | F4: Wartość netto | G4: VAT | H4: Cena jednostkowa brutto | I4: Wartość brutto | J4: Producent /Nazwa handlowa/Nr katalogowy
A5: 1 | B5: Szybki test paskowy do wykrywania przedwczesnego pęknięcia błon płodowych u kobiet ciężarnych. Detekcja IGFBP-1. | C5: op=10 szt. | D5: 30
B6: RAZEM | F6: =SUM(F5) -> 0 | I6: =SUM(I5) -> 0
B10: Oświadczam, że oferowany przedmiot zamówienia spełnia wyżej wymienione wymagania.
B11: Data | H11: Podpis osoby/osób upoważnionej
B12: ……………………………………………. | I12: ……………………………….

Sheet Zad.20
B2: ZOZ/DZP/PN/33/19
B3: Załącznik Nr: 9
A4: Zadanie nr: 20 - Różne
A5: Lp. | B5: Nazwa produktu | C5: Jednostka miary | D5: Ilość | E5: Cena jednostkowa netto | F5: Wartość netto | G5: VAT | H5: Cena jednostkowa brutto | I5: Wartość brutto | J5: Producent /Nazwa handlowa/Nr katalogowy
A6: 1 | B6: Igła przeznaczona dla dorosłych oraz dla dzieci powyżej 12 r.ż. Igła jest automatycznym wkłuciem doszpikowym, przeznaczonym do użycia u pacjentów, u których założenie obwodowego dostępu dożylnego jest bardzo trudne bądź niemożliwe. Szczególnie podczas działań ratunkowych. Opis: stały dostęp do naczynia; odpowiedni do przetaczania krwi; mało bolesna penetracja igły do kości gąbczastej; sprzęt jednorazowego użycia podnosi bezpieczeństwo; szybka infuzja płynów i leków; brak bezpośredniego kontaktu z krwią; szczególnie odpowiedni w sytuacjach zagrożenia życia (wypadki lotnicze i drogowe, trzęsienia ziemi, konflikty zbrojne, w medycynie katastrof, resuscytacji, planowe znieczulenia kostne) | C6: szt. | D6: 6
A7: 2 | B7: Igła przeznaczona dla dzieci poniżej 12 r.ż. Igła jest automatycznym wkłuciem doszpikowym, przeznaczonym do użycia u pacjentów, u których założenie obwodowego dostępu dożylnego jest bardzo trudne bądź niemożliwe. Szczególnie podczas działań ratunkowych. Opis: stały dostęp do naczynia; odpowiedni do przetaczania krwi; mało bolesna penetracja igły do kości gąbczastej; sprzęt jednorazowego użycia podnosi bezpieczeństwo; szybka infuzja płynów i leków; brak bezpośredniego kontaktu z krwią; szczególnie odpowiedni w sytuacjach zagrożenia życia (wypadki lotnicze i drogowe, trzęsienia ziemi, konflikty zbrojne, w medycynie katastrof, resuscytacji, planowe znieczulenia kostne) | C7: szt. | D7: 6
A8: 3 | B8: Kieliszek szklany | C8: szt. | D8: 80
A9: 4 | B9: Kieliszek plast. do leków 30ml skala co 1ml w pięciu kolorach. | C9: Op=90 szt. | D9: 2500
A10: 5 | B10: Nakładka do kieliczków jednorazowych | C10: Op=600 szt. | D10: 6
A11: 6 | B11: Kruszarka do leków, wielorazowa do miażdżenia tabletek bezpośrednio w kieliszku jednorazowym. | C11: szt. | D11: 12
A12: 7 | B12: Kompres żelowy (okład) chłodząco / rozgrzewający wielorazowy, nadający się do dezynfekcji, 18-20 x 28-30cm | C12: szt | D12: 100
A13: 8 | B13: Kompres żelowy (okład) chłodząco/rozgrzewający wielorazowy, nadający się do dezynfekcji, 9-11 x 26-28cm | C13: szt. | D13: 40
A14: 9 | B14: Marker skórny 2 końcówki, jałowy | C14: op. 25 szt | D14: 4
A15: 10 | B15: Miska nerkowata plastikowa 20 cm | C15: szt. | D15: 20
A16: 11 | B16: Miska nerkowata plastikowa 28 cm | C16: szt. | D16: 20
A17: 12 | B17: Nożyczki / bocianki / do otwierania klemów | C17: szt. | D17: 50
... A53: 46 | B53: Stetoskop kardiologiczny: Technologia głowicy: dwustronna Duża membrana średnicy 4,5cm Mała membrana / lejek: 33cm Przewód (lira) dwukanałowy, wykonany jest z niekruszejącego i nie sklejającego się tworzywa PVC niezawierającego lateksu, o dużej gęstości. Oliwki miękkie Dostępny do zakupu w 6 różnych kolorach Gwarancja dożywotnia | C53: szt. | D53: 12
B54: RAZEM | F54: =SUM(F6:F53) -> 0 | I54: =SUM(I6:I53) -> 0
B56: Oświadczam, że oferowany przedmiot zamówienia spełnia wyżej wymienione wymagania.
B57: Data | H57: Podpis osoby/osób upoważnionej
B58: ……………………………………………. | I58: ……………………………….

Sheet Zad.21
B2: ZOZ/DZP/PN/33/19
B3: Załącznik Nr: 9
A4: Zadanie nr: 21 – Akcesoria do kardiomonitorów
A5: Lp. | B5: Nazwa produktu | C5: Jednostka miary | D5: Ilość | E5: Cena jednostkowa netto | F5: Wartość netto | G5: VAT | H5: Cena jednostkowa brutto | I5: Wartość brutto | J5: Producent /Nazwa handlowa/Nr katalogowy
A6: 1 | B6: Czujnik SpO2 (typ klips lub silikonowy na palec dla dorosłych do wyboru przez zamawiającego) wielorazowego użytku, nierozłączny o długości 3 m, kompatybilny z kardiomonitorem Philips/HP | C6: szt. | D6: 5
A7: 2 | B7: Przewód EKG z 3 odprowadzeniami (typ klamra lub zatrzask do wyboru przez zamawiającego) wielorazowego użytku, nierozłączny kompatybilny z kardiomonitorem Philips/HP | C7: szt. | D7: 5
A8: 3 | B8: Przewód EKG z 5 odprowadzeniami (typ klamra lub zatrzask do wyboru przez zamawiającego) wielorazowego użytku, kompatybilny ze złączem Mulitimed Draeger Delta | C8: szt. | D8: 2
A9: 4 | B9: Czujnik SpO2 (typ Y z opaską silikonową lub silikonowy na palec dla dzieci do wyboru przez zamawiającego) wielorazowego użytku, nierozłączny o długości 3 m, kompatybilny z kardiomonitorem Nihon Kohden | C9: szt. | D9: 2
A10: 5 | B10: Przewód EKG (3 odprowadzenia - typ klamra lub zatrzask, do wyboru przez zamawiającego) nierozłączny, wielorazowego użytku, kompatybilny z kardiomonitorem Nihon Kohden | C10: szt. | D10: 2
A11: 6 | B11: Czujnik SpO2 w technologi Masimo, typ Y, nierozłączny, wielorazowego użytku, kompatybilny z kardiomonitorem Dash, długość 3m. | C11: szt. | D11: 3
A12: 7 | B12: Czujnik SpO2 w technologi Masimo LNOP, typ Y, wielorazowego użytku, długość 0,9m | C12: szt. | D12: 5
A13: 8 | B13: Czujnik SpO2 wielokrotnego użytku- silikonowy, dla dzieci, typu Masimo LNCS, długość 0,9m. | D13: 4
A14: 9 | B14: Czujnik SpO2 wielokrotnego użytku- klips na palec, dla dzieci, typu Nellcor-Oximax, długość 0,9m. | D14: 4
A15: 10 | B15: Mankiet NIBP wielorazowego użytku z konektorem łączącym przewód kardiomonitora, jedno żyłowy (długość drenu 20 cm ), z wyjmowanym balonem, dwuwarstowy, wykonany z materiału niezawierającego lateks, kolor brązowy. Rozmiar mankietu 27-35 cm | C15: szt. | D15: 50
A16: 11 | B16: Konaktor męski typu MLDA szybkozłącze do mankietów | C16: szt. | D16: 40
A17: 12 | B17: Konaktor żeński typu MLDA szybkozłącze do mankietów | C17: szt. | D17: 40
A18: 13 | B18: Mankiet NIBP wielorazowego użytku z konektorem łączącym przewód kardiomonitora, dwu żyłowy (długość drenu 20 cm ), z wyjmowanym balonem, dwuwarstowy, wykonany z materiału niezawierającego lateks, kolor brązowy. Rozmiar mankietu 27-35 cm | C18: szt. | D18: 8
A19: 14 | B19: Mankiet NIBP wielorazowego użytku, dwu żyłowy (długość drenu 20 cm ), z wyjmowanym balonem, dwuwarstowy, wykonany z materiału niezawierającego lateks. Rozmiar mankietu 27/35-35/44 cm | C19: szt. | D19: 20
A20: 15 | B20: Czujnik SPO2 na ucho gumowy z kablem 3 m, kompletny do kardiomonitora Nihon Kohden | C20: szt. | D20: 16
F21: =SUM(F6:F20) -> 0 | I21: =SUM(I6:I20) -> 0
B23: Oświadczam, że oferowany przedmiot zamówienia spełnia wyżej wymienione wymagania.
B24: Data | H24: Podpis osoby/osób upoważnionej
B25: ……………………………………………. | I25: ……………………………….

Sheet Zad. 22
B2: ZOZ/DZP/PN/33/19
B3: Załącznik Nr: 9
B4: Zadanie nr 22 Kaniule bezpieczne.
A5: Lp. | B5: Nazwa produktu | C5: Jednostka miary | D5: Ilość | E5: Cena jednostkowa netto | F5: Wartość netto | G5: VAT | H5: Cena jednostkowa brutto | I5: Wartość brutto | J5: Producent /Nazwa handlowa/Nr katalogowy
A6: 1 | B6: Kaniula dotętnicza 20 G 1,1 x 45 mm, przepływ 49 ml/min., cewnik z PTFE, z zaworem odcinającym - suwakowo-kulkowym typu Flowswitch w kolorze czerwonym, ze skrzydełkami z otworami do przyszycia do skóry pacjenta, sterylne, jednorazowego użytku. Produkt nie zawierający DEHP, PVC oraz naturalnego lateksu. Sterylizowane tlenkiem etylenu | C6: szt. | D6: 1200
A7: 2 | B7: Bezpieczna kaniula dożylna przeznaczona do małych, delikatnych żył u pacjentów neonatologicznych, pediatrycznych i osób starszych. Posiadająca wyjmowany uchwyt w którym schowane są skrzydełka kaniuli,ułatwiające kaniulację naczynia. Bez dodatkowego portu górnego. Kaniula widoczna w promieniach RTG, 6 wtopionych pasków radiocieniujących. Wykonana z unikalnego poliuretanu, biokompatybilnego, o potwierdzonym klinicznie wpływie na zmniejszenie ryzyka wystąpienia zakrzepowego zapalenia żył. Dodatkowy otwór przy ostrzu igły umożliwiający natychmiastowe wzrokowe potwierdzenie wejścia do naczynia podczas kaniulacji (system 3-krotnego potwierdzenia wypływu krwi). Sterylna, jednorazowego użytku, pakowana pojedynczo w opakowanie typu blister papier/folia w rozmiarach 26G dł 19 mm, prędkość przepływu 14 ml/min ,24 G długość 19mm,,prędkość przeplywu 19 ml/min Rozmiar do wyboru przy zakupie. | C7: szt. | D7: 2200
A8: 3 | B8: Bezpieczna kaniula dożylna wykonana z biokompatybilnego poliuretanu. Posiadająca dodatkowy, samodomykający się port do wstrzyknięć, min. 5 pasków kontrastujących w promieniach RTG. Możliwość identyfikacji radiologicznej położenia końca kaniuli. Posiadająca zastawkę bezzwrotną zapobiegającą wypływowi krwi. Posiadająca zabezpieczenie igły w postaci plastikowej osłonki o gładkich krawędziach z systemem kapilar zapobiegających zakłuciu się oraz zachlapaniu krwią. Pozbawiona jakichkolwiek ostrych elementów wchodzących w skład mechanizmu zabezpieczającego kaniulę, a jej konstrukcja ma chronić personel medyczny przed przypadkowym zakłuciem/zadraśnięciem/ zachlapaniem krwią, uniemożliwiając jednocześnie powtórne użycie cewnika. Kaniula dożylna bezpieczna - sterylna, jednorazowego użytku, pakowana pojedynczo, wyraźne oznaczenie rozmiaru i daty ważności na opakowaniu jednostkowym. Wykonana z biokompatybilnego poliuretanu nowej generacji (badania kliniczne). Hypoalergiczna, termoplastyczna, odporna na zginanie (tzw. pamięć kształtu) z samodomykającym się portem iniekcyjnym oraz zastawką bezzwrotną zapobiegającą wypływowi krwi, elastyczne skrzydełka ułatwiające bezpieczne mocowanie widoczne w rtg, konstrukcja kaniuli eliminująca ryzyko ekspozycji na krew podczas kaniulacji naczyń. Posiadająca plastikową osłonkę z systemem kapilar zapobiegających zakłuciu się oraz zachlapaniu krwią, która w pełni zamyka ostrze i światło igły. rodukt nie zawiera PVC, DEHP ani naturalnego lateksu. Sterylizowane radiacyjnie Rozmiary : 0,9 mmx25mm-22G( niebieski) przepływ 42 ml/min. 1,1x32mm -20G (różowy)przepływ 67 ml/min 1,3x32mm-18G( zielony)przepływ 103ml/min 1,3x45mm-18G( zielony)przepływ 103ml/min 1,5x45mm-17G(biały)przepływ 133ml/min 1,8x45mm-16G(szary) przepływ236ml/min 2,0x45mm-14G(pomarańczowy)270 ml/min do wyboru przy zakupie; | C8: szt. | D8: 6000
A9: 4 | B9: Zamknięty system dostępu naczyniowego z końcówką typu Luer -Lock i Luer- Slip posiadający membramę silikonową z kołnierzem aktywowaną połaczeniem luer.przepływ powyżej 500ml/min., | C9: szt. | D9: 1000
A10: 5 | B10: Kaniula bezpieczna i.v. w systemie zamkniętym, typu motylkowego z pasywnym zabezpieczeniem ostrza, wykonana z silikonowanego poliuretanu z minimum 4-cioma paskami cieniującymi w RTG wtopionymi w strukturę materiału i, z rozgałęzionym podwójnie portem luer-lok na transparentnym przedłużeniu z klemą. Minimum jedna odnoga portu zabezpieczona transparentnym zaworem bezigłowym, druga odnoga zabezpieczona usuwalnym filtrem hydrofobowym. Rozmiary 24G-18G do wyboru przy zakupie | C10: szt. | D10: 200
A11: 6 | B11: Wężyk do kaniuli donaczyniowej z podwójnym przedłużaczem 15 cm zakończony systemem dostępu naczyniowego z końcówką typu Luer posiadającą membramę silikonową aktywowaną połączeniem luer przy obu końcach. | C11: szt. | D11: 200
A12: 7 | B12: Kranik odcinający do terapii dożylnej, trójdrożny z przedłużaczem* 7cm bez DEHP, z dodatkowym portem iniekcyjnym, wykonany z poliwęglanu -tworzywa odpornego na mechaniczne pęknięcia oraz na wszystkie leki w tym również na działanie lipidów i leków do chemioterapii. Białe trójramienne pokrętło umożliwiające swobodną i precyzyjną obsługę kraników i podwójny: optyczny i wyczuwalny identyfikator pozycji otwarty/zamknięty, jałowy, j.u. objętość wypełnienia 0,8 ml, sterylizowany radiacyjnie . | C12: szt. | D12: 2500
A13: 8 | B13: Kranik odcinający do terapii dożylnej, trójdrożny, wykonany z poliwęglanu-tworzywa odpornego na mechaniczne pęknięcia oraz na wszystkie leki w tym również na działanie lipidów i leków do chemioterapii. Białe trójramienne pokrętło umożliwiające swobodną i precyzyjną obsługę kraników i podwójny: optyczny i wyczuwalny identyfikator pozycji otwarty/zamknięty, jałowy, j.u., Niezależnie obracająca się nakrętka luer lock umożliwiająca podłączenie kranika z innym złączem luer lock bez konieczności skręcania/obracania łączonych elementów. Wyposażony w znaczniki : czerwony dla oznaczenia linii tętniczej, niebieski dla oznaczenia linii żylnej | C13: szt. | D13: 5000
A14: 9 | B14: Taca z koreczkami do strzykawek: Zamknięcie/zabezpieczenie strzykawki wypełnionej lekiem lub roztworem , zmniejsza ryzyko zanieczyszczenia przez dotyk, zapobiega wyciekowi leku przygotowanego w strzykawce. Zabezpieczenie może być stosowane do strzykawek Luer Lock oraz Luer . Na końcówce LL zabezpieczenie jest nałożone . opakowanie jednostkowe 1 taca = 10 szt koreczków . Sterylizowane EO. | C14: op=200tacek po 10 szt | D14: 10
B15: RAZEM | F15: =SUM(F6:F14) -> 0 | I15: =SUM(I6:I14) -> 0
B18: Oświadczam, że oferowany przedmiot zamówienia spełnia wyżej wymienione wymagania.
B19: Data | H19: Podpis osoby/osób upoważnionej
B20: ……………………………………………. | I20: ……………………………….

Sheet Zad.23
B1: ZOZ/DZP/PN/33/19
B2: Załącznik Nr: 9
A3: Zadanie nr: 23 - Zestaw do przezskórnej gastrostomii
A4: Lp. | B4: Nazwa produktu | C4: Jednostka miary | D4: Ilość | E4: Cena jednostkowa netto | F4: Wartość netto | G4: VAT | H4: Cena jednostkowa brutto | I4: Wartość brutto | J4: Producent /Nazwa handlowa/Nr katalogowy
A5: 1 | B5: Zestawy do przezskórnej gastrostomii (PEG): dostępne średnice 20Fr(6,67mm) i 24Fr(8mm), w wersji typu „Pull” i „Push”, wykonany z wysokiej jakości silikonu, dający możliwość usunięcia przez powłoki brzuszne (bez konieczności wykonywania endoskopii) zawierający dwie zewnętrzne nasadki: okrągłą i w kształcie półwalca wyposażony w złącze –„Y”, pozwalające na rozdzielenie portu do odżywiania i podawania leków, z klamrą typu „C” dająca możliwość sterowania przepływem wewnątrz drenu, zestaw zapakowany na 2 sterylnych tacach. Zestaw zawierający ponadto: obłożenie z otworem, skalpel, pętlę do przeciągania drutu przez kanał, drut do wprowadzania drenu PEG, prowadnik, gaziki (10x10 cm) – 4 szt., nożyczki, pean zakrzywiony, gaziki z otworem (5x5 cm) – 4 szt., igła z mandrynem. Opakowanie zawiera 2 zestawy. | C5: 1kpl.=2szt | D5: 10
A6: 2 | B6: Klips hemostatyczny , jednorazowy,do kanału 230cm | C6: 1op = 10szt | D6: 8
B7: RAZEM | F7: =SUM(F5:F6) -> 0 | I7: =SUM(I5:I6) -> 0
B10: Oświadczam, że oferowany przedmiot zamówienia spełnia wyżej wymienione wymagania.
B11: Data | H11: Podpis osoby/osób upoważnionej
B12: ……………………………………………. | I12: ……………………………….

Sheet Zad.24
B1: ZOZ/DZP/PN/33/19
B2: Załącznik Nr: 9
A3: Zadanie 24- Mankiety do szybkiej infuzji
A4: Lp. | B4: Nazwa produktu | C4: Jednostka miary | D4: Ilość | E4: Cena jednostkowa netto | F4: Wartość netto | G4: VAT | H4: Cena jednostkowa brutto | I4: Wartość brutto | J4: Producent /Nazwa handlowa/Nr katalogowy
A5: 1 | B5: Mankiety wielorazowe do szybkiego przetaczania płynów infuzyjnych o objętości 500-1000ml z manometrem zegarowym i pomką. | C5: szt | D5: 35
B6: RAZEM | F6: =SUM(F5) -> 0 | I6: =SUM(I5) -> 0
B8: Oświadczam, że oferowany przedmiot zamówienia spełnia wyżej wymienione wymagania.
B9: Data | H9: Podpis osoby/osób upoważnionej
B10: ……………………………………………. | I10: ……………………………….

Sheet Zad.25
B1: ZOZ/DZP/PN/33/19
B2: Załącznik Nr: 9
A3: Zadanie nr: 25- System ochraniaczy do sterylizacji narzędzi
A4: Lp. | B4: Nazwa produktu | C4: Jednostka miary | D4: Ilość | E4: Cena jednostkowa netto | F4: Wartość netto | G4: VAT | H4: Cena jednostkowa brutto | I4: Wartość brutto | J4: Producent /Nazwa handlowa/Nr katalogowy
A5: 1. | B5: Ochraniacz końcówek ( kieszeni z przelotkami) rozmiar 27x41cm | C5: op=50szt. | D5: 2
B6: Razem | F6: =SUM(F5) -> 0 | I6: =SUM(I5) -> 0
B9: Oświadczam, że oferowany przedmiot zamówienia spełnia wyżej wymienione wymagania.
B10: Data | H10: Podpis osoby/osób upoważnionej
B11: ……………………………………………. | I11: ……………………………….

Sheet Zad.26
B2: ZOZ/DZP/PN/33/19
B3: Załącznik Nr: 9
A4: Zadanie nr: 26 – Klipsy.
A5: Lp. | B5: Nazwa produktu | C5: Jednostka miary | D5: Ilość | E5: Cena jednostkowa netto | F5: Wartość netto | G5: VAT | H5: Cena jednostkowa brutto | I5: Wartość brutto | J5: Producent /Nazwa handlowa/Nr katalogowy
A6: 1 | B6: Klipsy tytanowe, sterylne, pakowane w zasobniki po z taśmą samoprzylepną, rozmiar M/L, pasujące do klipsownicy STORZ | C6: 1 zasobnik 6 szt. | D6: 300
A7: 2 | B7: Klipsy tytanowe, sterylne, pakowane w zasobniki po . z taśmą samoprzylepną, rozmiar M/L, pasujące do klipsownicy STORZ | C7: 1 zasobnik 4 szt | D7: 300
B8: RAZEM | F8: =SUM(F6:F7) -> 0 | I8: =SUM(I6:I7) -> 0
B11: Oświadczam, że oferowany przedmiot zamówienia spełnia wyżej wymienione wymagania.
B12: Data | H12: Podpis osoby/osób upoważnionej
B13: ……………………………………………. | I13: ……………………………….

Sheet Zad.27
B1: ZOZ/DZP/PN/33/19
B2: Załącznik Nr: 9
A3: Zadanie nr: 27 – Zestaw do toalety jamy ustnej.
A4: Lp. | B4: Nazwa produktu | C4: Jednostka miary | D4: Ilość | E4: Cena jednostkowa netto | F4: Wartość netto | G4: VAT | H4: Cena jednostkowa brutto | I4: Wartość brutto | J4: Producent /Nazwa handlowa/Nr katalogowy
A5: 1 | B5: Zestaw do toalety jamy ustnej zawierający w jednym fabrycznym opakowaniu: 1 szczoteczkę do zębów z odsysaniem z ukośną manualną zastawką do regulacji siły odsysania, z 2 otworami ssącymi oraz z impregnowaną gąbką na górnej powierzchni, 15 ml bezalkoholowego płynu do płukania jamy ustnej w saszetce,1 gąbka-aplikator z poprzecznym pofałdowaniem,1 saszetkę z 3 g preparatu nawilżającego do ust na bazie wodnej. Każde pojedyncze opakowanie zestawu typu blister pełni jednocześnie funkcję pojemnika na płyn. | C5: szt | D5: 4000
A6: 2 | B6: Cewnik typu yankauer z osłonką i z silikonową końcówką o długości roboczej po zsunięciu osłonki minimum 14 cm, uniwersalny uchwyt ssący z suwakową regulacją siły ssania, łącznik ‘’Y’’ do układu ssącego o konstrukcji: dwa końce męskie zagięte pod kątem prostym w stosunku do jednego końca żeńskiego (lejka). | C6: szt | D6: 100
B7: RAZEM | F7: =SUM(F5:F6) -> 0 | I7: =SUM(I5:I6) -> 0
B10: Oświadczam, że oferowany przedmiot zamówienia spełnia wyżej wymienione wymagania.
B11: Data | H11: Podpis osoby/osób upoważnionej
B12: ……………………………………………. | I12: ……………………………….

Sheet Zad.28
B1: ZOZ/DZP/PN/33/19
B2: Załącznik Nr: 9
A3: Zadanie nr: 28 - Odsysanie pola operacyjnego
A4: Lp. | B4: Nazwa produktu | C4: Jednostka miary | D4: Ilość | E4: Cena jednostkowa netto | F4: Wartość netto | G4: VAT | H4: Cena jednostkowa brutto | I4: Wartość brutto | J4: Producent /Nazwa handlowa/Nr katalogowy
A5: 1 | B5: Dren, wąż do ssaka z końcówką lejkowatą z jednej strony, z drugiej zakończoną łącznikiem typu finger-tip z kontrolą odsysania kompatybilną z cewnikami do odsysania górnych dróg oddechowych, długość drenu 210-220 cm przekrój 24CH, fi wewnętrzne 5,6mm, zewnętrzne 8mm, jałowy. | C5: szt. | D5: 1200
A6: 2 | B6: Dren, wąż do ssaka zakończenia z obu stron lejkowate, długość 210-220 cm, przekrój 24Ch, fi wewnętrzne 5,6mm, zewnętrzne 8mm,jałowy | C6: szt. | D6: 5000
A7: 3 | B7: Dren do odsysania pola operacyjnego połączony końcówką standardową typu Yankauer, z otworami szczytowymi, bez oliwkowatego zakończenia o przekroju 21CH bez kontroli odsysania, o długości 210-220cm o przekroju 24CH, jałowy | C7: szt. | D7: 1500
A8: 4 | B8: Końcówka do odsysania pola operacyjnego z wymiennym filtrem w rączce z załączoną końcówką o długości 15 i 23 w komplecie, lub 15 i 23 cm do wyboru przy zakupie, jałowa. | C8: szt. | D8: 100
A9: 5 | B9: Łącznik typu finger-tip z kontrolą odsysania do drenu z pozycji 2, kompatybilną z cewnikami do odsysania górnych dróg oddechowych, | C9: szt. | D9: 4500
B10: RAZEM | F10: =SUM(F5:F9) -> 0 | I10: =SUM(I5:I9) -> 0
B12: Oświadczam, że oferowany przedmiot zamówienia spełnia wyżej wymienione wymagania.
B13: Data | H13: Podpis osoby/osób upoważnionej
B14: ……………………………………………. | I14: ……………………………….

Sheet Zad.29
B2: ZOZ/DZP/PN/33/19
B3: Załącznik Nr: 9
B4: Zadanie nr: 29 - Cewniki do terapii i dializ
A5: Lp. | B5: Nazwa produktu | C5: Jednostka miary | D5: Ilość | E5: Cena jednostkowa netto | F5: Wartość netto | G5: VAT | H5: Cena jednostkowa brutto | I5: Wartość brutto | J5: Producent /Nazwa handlowa/Nr katalogowy
A6: 1 | B6: Trzykanałowy cewnik do wkłuć centralnych wykonany z termowrażliwego poliuretanu w całości kontrastujący w RTG wprowadzany techniką Seldingera. Znaczniki odległości od 9cm od dystalnego końca cewnika co 1 cm. Cewnik w rozmiarze 7,5FR (światła 14G, 18G, 18G), długość cewnika 20cm . Użytkownik może wybrać jeden z dwóch wariantów wprowadzacza : igłę lub krótką kaniulę. Każdy zestaw zawiera : Cewnik trzykanałowy, Igła do nakłucia 18G/70mm, krótka kaniula 18G, Prowadnik typu „J” 60cm, ze znacznikami głębokości z elastyczną dystalną końcówką, dylatator, dodatkowe skrzydełka mocujące, 3 zatyczki z membraną do wstrzyknięć, skalpel, strzykawka 5ml | C6: szt. | D6: 300
A7: 2 | B7: Czterokanałowy cewnik do wkłuć centralnych wykonany z termowrażliwego poliuretanu w całości kontrastujący w RTG wprowadzany techniką Seldingera. Znaczniki odległości od 9cm od dystalnego końca cewnika co 1 cm. Cewnik w rozmiarze 8,5FR (światła 16G, 14G, 18G, 18G), długość cewnika 20cm . Użytkownik może wybrać jeden z dwóch wariantów wprowadzacza : igłę lub krótką kaniulę. Każdy zestaw zawiera : cewnik czterokanałowy, igła do nakłucia 18G/70mm, krótka kaniula 18G, prowadnik typu "J" 60cm ze znacznikami głębokości z elastyczną dystalną końcówką, dylatator, dodatkowe skrzydełka mocujące, 4 zatyczki z membraną do wstrzyknięć, skalpel, strzykawka 5ml | C7: szt. | D7: 300
A8: 3 | B8: Cewnik dotętniczy wprowadzany metodą Seldingera wykonany z polietylenu, widoczny w RTG. W zestawie igła do wprowadzania, prowadnik. Cewnik w rozmiarach: 3FR o długościach 6cm, igła wprowadzająca 20G/38cm, prowadnik 0,53mm/20cm, 4FR o długościach 8, 10cm, igła wprowadzająca 19G/54cm, prowadnik 0,71mm/30cm dla długości 18cm igła wprowadzająca 19G/68cm, prowadnik 0,1mm/46cm, 4,5FR o długości 18cm, igła wprowadzająca 17G/70cm, prowadnik 0,9mm/46cm, 5FR/18cm, igła wprowadzająca 16G/70cm, prowadnik 1,1mm/46cm. Rozmiary 4FR/18cm, 4,5F/18cm, 5FR/18cm w zestawie zawierają dodatkowo polietylenową przedłużkę 30cm, strzykawkę 5ml, trójdrożny zawór regulujący przepływ. | C8: szt. | D8: 200
A9: 4 | B9: Podwójny cewnik do diagnostycznego płukania oskrzelowo-pęcherzykowego ( pobieranie do diagnostyki zapalenia płuc), dystalna końcówka zewnętrznego cewnika jest zamknięta zatyczką polietylenową glikolową , cewnik zewnętrzny cieniujący RTG o ś ,2,0x2,7mm (9F) dł 60cm Ilośc do zamówienia 50szt. | C9: szt. | D9: 250
A10: 5 | B10: Igła do blokady nerwów obwodowych pokryta drobinkami szkła, całkowicie echogeniczna ( do samej końcówki igły), ze szlifem ułatwiającym penetrację przez skórę, a zarazem zapewniającym maksymalną widoczność, ze znacznikami odległości co 1 cm, odkręcana przedłużka 50 cm (objętość 1 ml) pozwalająca na podłączenie strzykawki bezpośrednio do igły jeżeli zachodzi taka potrzeba. Kabel podłączeniowy 60 cm przymocowany z tyłu igły wskazujący na kierunek szlifu igły. Kompatybilna ze wszystkimi neurostymulatorami. Igła w rozmiarach:23G/25mm, 23G/35mm, 22G/50mm, 21G/85mm,21G/100mm, 20G/120mm, 20G/150mm. | C10: szt. | D10: 1200
A11: 6 | B11: Dwukanałowy cewnik do hemodializy wykonany z wysoce termowrażliwego, biokompatybilnego poliuretanu optymalnie dostosowującego się do warunków anatomicznych. Elastyczna, zaokrąglona końcówka cewnika. Elastyczne przewody doprowadzające z ochroną przed załamywaniem światła cewnika wyposażone w kodowane kolorami zaciski. Cewnik w rozmiarach 10Fr/15cm, 10Fr/20cm, 12Fr/15cm, 12Fr/20cm do wyboru przez Zamawiającego. Zestaw cewnika zawiera: cewnik dwuświatłowy, igła do punktacji, skalpel, prowadnik „J”, rozszerzacz. | C11: szt. | D11: 50
A12: 7 | B12: Antybakteryjny, dwukanałowy cewnik do hemodializy wykonany z wysoce termowrażliwego, biokompatybilnego poliuretanu inkorporowanego aktywnym srebrem, optymalnie dostosowującego się do warunków anatomicznych. Elastyczna, zaokrąglona końcówka cewnika. Elastyczne przewody doprowadzające z ochroną przed załamywaniem światła cewnika wyposażone w kodowane kolorami zaciski. Cewnik w rozmiarach 12Fr/15cm, 12Fr/20cm, 10FR/15cm, 10FR/20cm do wyboru przez Zamawiającego. Zestaw cewnika zawiera: cewnik dwuświatłowy, igła do punktacji, skalpel, prowadnik „J” wykonany z nitynolu, rozszerzacz. | C12: szt. | D12: 100
A13: 8 | B13: Antybakteryjny trzykanałowy cewnik do wkłuć centralnych wykonany z termowrażliwego poliuretanu w całości kontrastujący w RTG, inkorporowany aktywnym srebrem, wprowadzany techniką Seldingera. Znaczniki odległości od 9cm od dystalnego końca cewnika co 1 cm. Cewnik w rozmiarze 7,5FR (światła 14G, 18G, 18G), długość cewnika 16cm lub 20cm do wyboru przez Zamawiającego. Użytkownik może wybrać jeden z dwóch wariantów wprowadzacza : igłę lub krótką kaniulę. Każdy zestaw zawiera : Cewnik trzykanałowy, Igła do nakłucia 18G/70mm, krótka kaniula 18G, Prowadnik typu „J” 60cm, ze znacznikami głębokości z elastyczną dystalną końcówką, dylatator, dodatkowe skrzydełka mocujące, 3 zatyczki z membraną do wstzryknięć, skalpel, strzykawka 5ml | C13: szt. | D13: 100
A14: 9 | B14: Antybakteryjny czterokanałowy cewnik do wkłuć centralnych wykonany z termowrażliwego poliuretanu inkorporowany aktywnym srebrem, w całości kontrastujący w RTG wprowadzany techniką Seldingera. Znaczniki odległości od 9cm od dystalnego końca cewnika co 1 cm | C14: szt. | D14: 200
A15: 12 | B15: Cewnik pępowinowy 3,5F, 4F | C15: szt. | D15: 25
A16: 13 | B16: System bezigłowy o objętości martwej 0,02ml, o zerowym wypływie wstecznym z silikonowa podzielna membraną w obudowę wbudowany mechanizm srężynowy. Opakowanie folia-papier , lub w bezdotykowym aplikatorze. Do wyboru przy zakupie przez zamawiającego | C16: szt. | D16: 4000
A17: 14 | B17: Rampa 4 -kranikowa z portem bocznym, z drenem 50 cm. | C17: szt. | D17: 800
B18: Razem | F18: =SUM(F6:F17) -> 0 | I18: =SUM(I6:I17) -> 0
B20: Na czas trwania umowy wymagane jest użyczenie 1 szt. neurostymulatora. Koszt użyczenia należy wliczyć w cenę oferty.
B23: Oświadczam, że oferowany przedmiot zamówienia spełnia wyżej wymienione wymagania.
B24: Data | H24: Podpis osoby/osób upoważnionej
B25: ……………………………………………. | I25: ……………………………….

Sheet Zad.30
B2: ZOZ/DZP/PN/33/19
B3: Załącznik Nr: 9
A4: Zadanie nr: 30 - Oznaczniki chirurgiczne
A5: Lp. | B5: Nazwa produktu | C5: Jednostka miary | D5: Ilość | E5: Cena jednostkowa netto | F5: Wartość netto | G5: VAT | H5: Cena jednostkowa brutto | I5: Wartość brutto | J5: Producent /Nazwa handlowa/Nr katalogowy
A6: 1 | B6: Oznaczniki chir. poliestrowe, taśmy dziane, posiadające trwałe wymiary poprzeczne i podłużne x 10 szt., jałowe, nie strzępiące się. (różne kolory do wyboru: biały, czerwony, żółty, niebieski) (rozmiar 2 lub równoważny) | C6: 1op.=10szt | D6: 28
B7: RAZEM | F7: =SUM(F6) -> 0 | I7: =SUM(I6) -> 0
B10: Oświadczam, że oferowany przedmiot zamówienia spełnia wyżej wymienione wymagania.
B11: Data | H11: Podpis osoby/osób upoważnionej
B12: ……………………………………………. | I12: ……………………………….

Sheet Zad.31
B2: ZOZ/DZP/PN/33/19
B3: Załącznik Nr: 9
A4: Zadanie nr: 31 – Akcesoria anestezjologiczne
A5: Lp. | B5: Nazwa produktu | C5: Jednostka miary | D5: Ilość | E5: Cena jednostkowa netto | F5: Wartość netto | G5: VAT | H5: Cena jednostkowa brutto | I5: Wartość brutto | J5: Producent /Nazwa handlowa/Nr katalogowy
A6: 1 | B6: Maski twarzowe, anestezjologiczne, jednorazowego użytku, w rozmiarach od 1-6 kodowane kolorem, przeźroczyste, wykonane z PCW bez szkodliwych ftalanów i lateksu. Maska zawiera miękki, elastyczny mankiet powietrzny, bez zaworu, dopasowujący się do kształtu twarzy pacjenta. | C6: szt. | D6: 5000
A7: 2 | B7: Pełnotwarzowa, wielorazowa maska do nieinwazyjnej wentylacji oraz CPAP, obejmująca wyłącznie usta i nos pacjenta, wyposażona w wsparcie czołowe z możliwością regulacji nachylenia za pomocą wbudowanego w maskę pokrętła. Wszystkie elementy wspierające się na twarzy pacjenta wyposażone w poduszki żelowe zapewniające szczelność oraz komfort pacjenta. Maska łatwa w montażu, wyposażona w dedykowaną opaskę mocującą z unikalnymi zatrzaskami magnetycznymi, zapewniającymi szybkie i łatwe pozycjonowanie maski. Wyposażona w port kapno oraz niebieskie obrotowe kolanko w zakresie 360 stopni. W zestawie szablony rozmiarowe dla łatwej identyfikacji rozmiaru maski S, M lub L.Maska nie zawiera: lateksu, PVC, DEHP, DBP, BBP, PBB, PBDE. Dostępna w rozmiarach S, M, L, XL | C7: szt. | D7: 30
A8: 3 | B8: Układ anestezjologiczny pediatryczny, jednorazowego użytku, mikrobiologicznie czysty, składający się z rur o średnicy 15mm: dwóch ramion o długości 150cm oraz trzeciej rury o długości 110cm z workiem oddechowym bez lateksu o pojemności 1L. Układ wykonany z EVA, PE, PP bez lateksu i PVC. Przeznaczony do wentylacji pacjentów o wadze 5-40kg. Układ zabezpieczony czerwonym kapturkiem, pozwalającym na zachowanie czystości układu do momentu jego użycia. Pakowany we folię. | C8: szt. | D8: 300
A9: 4 | B9: Układ anestezjologiczny dla dorosłych,średnica rur i złączy 22 mm, jednorazowy, mikrobiologicznie czysty, wyprodukowany z wysokiej jakości materiału: PP, TPE, CR, PE, bez lateksu. Zestaw zawiera: ramię wdechowe i wydechowe o stałej długości 180 cm zakończone od strony pacjenta rozłącznym trójnikiem Y oraz łącznikiem kątowym z portem Luer Lock, zabezpieczonym zintegrowanym koreczkiem, złącza usztywnione; ramię do worka o stałej długości 150 cm, worek oddechowy bezlateksowy o pojemności 2L wraz z łącznikiem do worka. Worek w okolicy szyjki wewnątrz zaopatrzony w koszyczek zapobiegający sklejaniu się jego powierzchni. Układ zabezpieczony czerwonym kapturkiem, pozwalającym na zachowanie czystości układu do momentu jego użycia. Pakowany we folię. | C9: szt. | D9: 1300
A10: 5 | B10: Układ anestezjologiczny dla noworodków z AutoBreath | D10: 100
A11: 6 | B11: Układ anestezjologiczny do Venstar Cavina | D11: 100
A12: 9 | B12: Łącznik oddechowy- martwa przestrzeń-jednorazowego użycia, gładka powierzchnia wewnętrzna, długość 15cm wraz z podwójnie obrotowym łącznikiem kątowym, mikrobiologicznie czysty, bez lateksu i PVC. Złącze kątowe posiada port próbkowania gazów oraz port do ssania/ bronchoskopii. | C12: szt. | D12: 3000
A13: 10 | B13: Filtr do inkubatora Isolette C45OH-1C z nawilżaczem | C13: szt. | D13: 12
A14: 11 | B14: Filtr do inkubatora Isolette C2000 | C14: szt. | D14: 8
A15: 12 | B15: Filtr do inkubatora Isolette C400QT | C15: szt. | D15: 16
B16: RAZEM
B19: Oświadczam, że oferowany przedmiot zamówienia spełnia wyżej wymienione wymagania.
B20: Data | H20: Podpis osoby/osób upoważnionej
B21: ……………………………………………. | I21: ……………………………….

Sheet Zad.32
B1: ZOZ/DZP/PN/33/19
B2: Załącznik Nr: 9
A3: Zadanie nr: 32 - Części wymienne do aparatów f - my Drager
A4: Lp. | B4: Nazwa produktu | C4: Jednostka miary | D4: Ilość | E4: Cena jednostkowa netto | F4: Wartość netto | G4: VAT | H4: Cena jednostkowa brutto | I4: Wartość brutto | J4: Producent /Nazwa handlowa/Nr katalogowy
A5: 1 | B5: Czujnik przepływu służący do pomiaru objętości przepływających gazów w aparatach do znieczulania oraz respiratorach firmy Drager Przeznaczony do dezynfekcji, a nie do sterylizacji, z czytnikiem RIFD. Opakowanie zbiorcze 5szt. | C5: op=5 szt. | D5: 6
A6: 2 | B6: Czujnik jednorazowy na palec dla dorosłych z pianki typu MS16445 | C6: Op=24 szt | D6: 5
A7: 3 | B7: Pułapka wodna do monitorowania gazów anestetycznych przystosowana do pracy z dostępnymi na rynku aparatami Drager, zapewniająca zabezpieczenie modułu pomiarowego przed wilgocią, wyposażona w dwa zintegrowane filtry hydrofobowe. Czas pracy 4 tyg., nie podlegająca sterylizacji. Opakowanie zbiorcze 12szt. | C7: op=12szt | D7: 8
A8: 4 | B8: Czujnik tlenu do aparatu Fabius GS typu premium Oxygen sensor | C8: szt. | D8: 10
A9: 5 | B9: Mankiet 23-33/33cm, 23-33/43cm,23-33/53cm, 31-40cm/40cm, 38-50cm/50cm, 38-50cm/50cm do pomiaru ciśnienia. kompatybilne z poz 6 | C9: szt. | D9: 8
A10: 6 | B10: Mankiet NIPC, wielokrotnego użytku, kompatybilne z poz 6 rozmiar XS, S, 12–19 cm / 19 cm 17–25 cm / 29 cm | C10: szt. | D10: 12
A11: 7 | B11: Dren łączący NIPC, do monitorów Infinity | C11: szt. | D11: 4
A12: 8 | B12: Linia próbkująca do Scio (dren pomiarowy) do monitorowania stężenia gazów anestetycznych CO2, O2, N2O; jednorazowego użytku, mikrobiologicznie czysta, wolne od latexu, dł 250cm, końcówki męskie, kompatybilna z pułapką WaterLock 2. Opakowanie zbiorcze 10szt-niepodzielne. | C12: op=10szt | D12: 10
A13: 9 | B13: Moduł przewodowy do MultiMed 5, wieloparametrowy, do pomiarów EWKG, SpO2, Temperatury, Oddechu, długość 1,5 m, kompatybilny z kardiomonitorami Drager | C13: szt. | D13: 1
A14: 10 | B14: Przedłużacz do Sp02 Nellcor / Drager; kompatybilny z modułem MultiMed 5 do kardiomonitorów Drager, dł. 1m | C14: szt. | D14: 4
A15: 11 | B15: Czujnik do SpO2, na palec,wielokrotnego użytku, kompatybilny z przedłużaczem SpO2 Nellcor/Drager do modułu MultiMed5. | C15: szt. | D15: 6
A16: 12 | B16: Przewód EKG 3-odprowadzeniowy 2-pinowy, kompatybilny z MultiMed 5 do kardiomonitorów Draeger, dł 1m. | C16: szt. | D16: 4
... A20: 16 | B20: Nebulizator do Savina | C20: szt. | D20: 4
A21: 17 | B21: Mankiet 31-40cm/55cm Rozmiar L+ | D21: 2
A22: 18 | B22: Przedłużacz Spo2 do Nelcor z kablem 2m | D22: 4
A23: 19 | B23: Kostka przeciwzakłóceniowa EKG ESU | D23: 4
A24: 20 | B24: Kabel EKG 5 odprowadzeń, 2 piny | D24: 1
A25: 21 | B25: Jednorazowe wkłady kompatybilne z ssakiem Vacu smart, 700ml z wkładką żelową i bez żelu do wyboru przy zakupie. | C25: op=25szt. | D25: 24
A26: 22 | B26: Zbiornik na wydzielinę wielokrotnego użytku PSU 700ml | C26: szt. | D26: 10
A27: 23 | B27: Filtr p/bakteryjny do ssaków przy aparacie Primus | C27: Op=20 szt | D27: 1
B28: RAZEM
B31: Oświadczam, że oferowany przedmiot zamówienia spełnia wyżej wymienione wymagania.
B32: Data | H32: Podpis osoby/osób upoważnionej
B33: ……………………………………………. | I33: ……………………………….

Sheet Zad.33
B1: ZOZ/DZP/PN/33/19
B2: Załącznik Nr: 9
A4: Zadanie nr: 33 – Produkty do bezpiecznej linii infuzyjnej
A5: Lp. | B5: Nazwa produktu | C5: Jednostka miary | D5: Ilość | E5: Cena jednostkowa netto | F5: Wartość netto | G5: VAT | H5: Cena jednostkowa brutto | I5: Wartość brutto | J5: Producent /Nazwa handlowa/Nr katalogowy
A6: 1 | B6: Zestaw do cewnikowania tętnic : Kateter 18Ga x 16cm przepływie 0,24ml, sprężysta porwadnica 45cm, „J” , igła wprowadnicą 18 Ga (7cm) | C6: szt. | D6: 100
A7: 2 | B7: Łącznik bezigłowy o przepływie minimalnym 165 ml/min, kompatybilny z końcówką luer i luer lock, z możliwością podłączenia do pacjenta przez min 700 aktywacji i 7 dni. Zawór działający w technologii wewnętrznej stożkowej kaniuli i podzielnej membrany. Łącznik przeźroczysty o długości roboczej 2-2,5 cm, długość całkowita 3-3,3 cm. Zawór w postaci jednoelementowej, silikonowej membrany z gładką powierzchnią do dezynfekcji. Przestrzeń martwa 0,04 ml. Wnętrze pozbawione części metalowych i mechanicznych. | C7: szt. | D7: 3000
A8: 3 | B8: Zestaw przedłużający z bezigłowym zaworem dostępu naczyniowego do wielokrotnego kontaktu z krwią, lipidami, chemioterapeutykami, chlorhexydyną i alkoholami z potrójnym przedłużaczem, dł. zestawu ok. 10cm z 2 zaciskami ślizgowymi. Zestaw o objętości wypełnienia max.0,35ml. Każdy z przedłużaczy zakończony zaworem bezigłowym, zawór bezigłowy o przepływie min. 165ml/min, z możliwością podłączenia u pacjenta przez 700 aktywacji( użyć). | C8: szt. | D8: 1000
A9: 4 | B9: Rampa 5-kranikowa wykonana z polisulfonu bez DEHP, z niezależnie obracającą się nakrętką umożliwiającą połączenie z innym złączem bez konieczności skręcania, obracania łączonych elementów. | C9: szt. | D9: 200
A10: 5 | B10: Rampa trójkranikowa wykonana z polisulfonu z przedłużaczem 25cm bez DEHP, z niezależnie obracającą się nakrętką umożliwiającą połączenie z innym złączem bez konieczności skręcania, obracania łączonych elementów. | C10: szt. | D10: 200
A11: 6 | B11: Przyrząd do bezpiecznego otwierania szklanych ampułek, korpus wykonany z aluminium, sprężynowy mechanizm utylizacji odłamanej główki ampułki, do ampułek o pojemności 2-15 ml. Wersja kieszonkowa. | C11: szt. | D11: 18
B12: Korek dezynfekcyjny zawierający 70% alkohol izopropylowy, sterylny, z aplikatorem umożliwiający sterylne podłączenie, bez możliwości kontaminacji obudowy koreczka przed podłączeniem. | C12: op=200szt | D12: 25
B13: RAZEM
B16: Oświadczam, że oferowany przedmiot zamówienia spełnia wyżej wymienione wymagania.
B17: Data | H17: Podpis osoby/osób upoważnionej
B18: ……………………………………………. | I18: ……………………………….

Sheet Zad.34
B1: ZOZ/DZP/PN/33/19
B2: Załącznik Nr: 9
A3: Załącznik nr 9 | H3: ZOZ/DZP/PN/28/21
A5: Zadanie nr: 34- Akcesoria do Neopuff
A6: Lp. | B6: Nazwa produktu | C6: Jednostka miary | D6: Ilość | E6: Cena jednostkowa netto | F6: Wartość netto | G6: VAT | H6: Cena jednostkowa brutto | I6: Wartość brutto | J6: Producent /Nazwa handlowa/Nr katalogowy
A7: 1 | B7: Dren z zastawką do aparatu Neopuff | C7: szt. | D7: 50
B8: Razem
B11: Oświadczam, że oferowany przedmiot zamówienia spełnia wyżej wymienione wymagania.
B12: Data | H12: Podpis osoby/osób upoważnionej
B13: ……………………………………………. | I13: ……………………………….

Sheet Zad.35
B1: ZOZ/DZP/PN/33/19
B2: Załącznik Nr: 9
A4: Zadanie nr: 35 -Maty dekontaminacyjne
A5: Lp. | B5: Nazwa produktu | C5: Jednostka miary | D5: Ilość | E5: Cena jednostkowa netto | F5: Wartość netto | G5: VAT | H5: Cena jednostkowa brutto | I5: Wartość brutto | J5: Producent /Nazwa handlowa/Nr katalogowy
A6: 1 | B6: Mata dekontaminacja 60 x115cm, niebieska. Opis produktu: Mata składająca się z 30 cienkich arkuszy lepnych wykonanych z folii pozbawionej metali ciężkich, substancja lepna na bazie akrylu, powłoka grzybobójcza hamująca rozwój bakterii na macie, w rogu maty małe numerowane etykietki umożliwiające łatwe usuwanie kolejnych warstw. | C6: 1op = 30 arkuszy | D6: 180
B7: RAZEM
B12: Oświadczam, że oferowany przedmiot zamówienia spełnia wyżej wymienione wymagania.
B13: Data | H13: Podpis osoby/osób upoważnionej
B14: ……………………………………………. | I14: ……………………………….

Sheet Zad.36
B1: ZOZ/DZP/PN/33/19
B2: Załącznik Nr: 9
A3: Zadanie nr: 36 – Stojaki na kroplówki
A4: Lp. | B4: Nazwa produktu | C4: Jednostka miary | D4: Ilość | E4: Cena jednostkowa netto | F4: Wartość netto | G4: VAT | H4: Cena jednostkowa brutto | I4: Wartość brutto | J4: Producent /Nazwa handlowa/Nr katalogowy
A5: 1 | B5: Stojak do kroplówek z uchwytem na worek i butelkę,z nożliwością zawieszenia pompy infuzyjnej, na kółkach,obudowa podstawy zalana tworzywem sztucznym, na 5 kółkach min 2 z blokadą listwą zasilającą min 3 gniazda i przewodem minimum 5 metrów | C5: szt. | D5: 20
B6: RAZEM
B9: Oświadczam, że oferowany przedmiot zamówienia spełnia wyżej wymienione wymagania.
B10: Data | H10: Podpis osoby/osób upoważnionej
B11: ……………………………………………. | I11: ……………………………….

Sheet Zad.37
B1: ZOZ/DZP/PN/33/19
B2: Załącznik Nr: 9
A4: Zadanie nr: 37 - Etykiety do sterylizacji
A5: Lp. | B5: Nazwa produktu | C5: Jednostka miary | D5: Ilość | E5: Cena jednostkowa netto | F5: Wartość netto | G5: VAT | H5: Cena jednostkowa brutto | I5: Wartość brutto | J5: Producent /Nazwa handlowa/Nr katalogowy
A6: 1 | B6: Etykieta podwójnie samoprzylepna z miejscem na 6 pól. Kompatybilna z metkownicą trzyrzędową BLITZ | C6: rolka | D6: 240
B7: RAZEM
B10: Oświadczam, że oferowany przedmiot zamówienia spełnia wyżej wymienione wymagania.
B11: Data | H11: Podpis osoby/osób upoważnionej
B12: ……………………………………………. | I12: ……………………………….

Sheet Zad.38
B1: ZOZ/DZP/PN/33/19
B2: Załącznik Nr: 9
B4: Zadanie nr: 38 – System odsysania.
A5: Lp. | B5: Nazwa produktu | C5: Jednostka miary | D5: Ilość | E5: Cena jednostkowa netto | F5: Wartość netto | G5: VAT | H5: Cena jednostkowa brutto | I5: Wartość brutto | J5: Producent /Nazwa handlowa/Nr katalogowy
A6: 1 | B6: Pojemniki wielorazowego użytku na wkłady workowe, wykonane z przeźroczystego tworzywa ze skala pomiarową, wyposażone w zintegrowany zaczep do mocowania oraz króciec obrotowy typu schodkowego do przyłączenia próżni , pojemność 1000ml, przystosowane do zawieszenia na aparatach anestezjologicznych (wymagany spłaszczony kształt) | C6: szt. | D6: 12
A7: 2 | B7: Pojemniki wielorazowego użytku na wkłady workowe, wykonane z przeźroczystego tworzywa ze skala pomiarową, wyposażone w zintegrowany zaczep do mocowania oraz króciec obrotowy typu schodkowego do przyłączenia próżni pojemność 2000ml | C7: szt. | D7: 45
A8: 3 | B8: Pojemniki wielorazowego użytku na wkłady workowe, wykonane z przeźroczystego tworzywa ze skala pomiarową, wyposażone w zintegrowany zaczep do mocowania oraz króciec obrotowy typu schodkowego do przyłączenia próżni, pojemność 3000ml | C8: szt. | D8: 18
A9: 4 | B9: Wymienne zapasowe przyłącza do próżni do mocowania na pojemnikach wielorazowych | C9: szt. | D9: 20
A10: 5 | B10: Zestaw: wkład workowy 1000ml z drenem 210cm z końcówkami żeńską i męską do podłączenia cewników, zapakowany razem w 1 opakowanie | C10: szt. | D10: 1500
A11: 6 | B11: Wkłady workowe jednorazowego użytku, z trwale dołączoną pokrywą, z zastawką zapobiegającą wypływowi wydzieliny do źródła próżni, dużym otworem do pobierania próbek, posiadające w pokrywie tylko jeden króciec łączący (wymagany króciec obrotowy typu schodkowego) , pojemność 2000 ml | C11: szt. | D11: 4700
A12: 7 | B12: Wkłady workowe jednorazowego użytku, z trwale dołączoną pokrywą, z zastawką zapobiegającą wypływowi wydzieliny do źródła próżni, dużym otworem do pobierania próbek, posiadające w pokrywie tylko jeden króciec łączący (wymagany króciec obrotowy typu schodkowego) , pojemność 3000 ml | C12: szt. | D12: 1500
A13: 8 | B13: Uchwyt uniwersalny sprężynowy do mocowania pojemników na szynie wąskiej | C13: szt. | D13: 13
A14: 9 | B14: Uchwyt z obejmą do mocowania pojemników na aparatach anestezjologicznych | C14: szt. | D14: 4
A15: 10 | B15: Mata absorpcyjna na rozlane wydzieliny na bloku operacyjnym rozmiar120 x 60cm, wchłaniająca ok. 6 litrów płynów, zawierająca preparat żelujący w osłonie z włóknistej tkaniny | C15: szt. | D15: 100
A16: 11 | B16: Wózek na kółkach do montowania zestawu wkładów wielorazowych | C16: szt. | D16: 2
A17: 12 | B17: Filtr hydrofobowy do ssaka | C17: szt. | D17: 130
A18: 13 | B18: Zestaw do drenażu opłucnej dwu-butlowy z portem dla dorosłych | C18: szt. | D18: 40
B19: RAZEM
B22: Oświadczam, że oferowany przedmiot zamówienia spełnia wyżej wymienione wymagania.
B23: Data | H23: Podpis osoby/osób upoważnionej
B24: ……………………………………………. | I24: ……………………………….

Sheet Zad.39
B1: ZOZ/DZP/PN/33/19
B2: Załącznik Nr: 9
A4: Zadanie nr: 39 – Czujniki
A5: Lp. | B5: Nazwa produktu | C5: Jednostka miary | D5: Ilość | E5: Cena jednostkowa netto | F5: Wartość netto | G5: VAT | H5: Cena jednostkowa brutto | I5: Wartość brutto | J5: Producent /Nazwa handlowa/Nr katalogowy
A6: 1 | B6: Klips do pulsoxymetru TS-F-D | C6: szt. | D6: 2
A7: 2 | B7: Kabel połączeniowy do czujnika saturacji ze złączką okrągłą typu TS-G3 | C7: szt. | D7: 2
A8: 3 | B8: Czujnik typu TS-F4- GE | C8: szt. | D8: 2
B9: Czujnik tlenowy do respiratora 7900 | C9: szt. | D9: 2
A10: 4 | B10: Komplet czujników przepływowych do aparatu Aespiro | C10: Komplet 2 szt. | D10: 2
A11: 5 | B11: Czujnik natężenia tlenu do aparatu Aespiro | C11: szt. | D11: 2
A12: 6 | B12: Przewód czujnika natężenia tlenu do aparatu Aespiro | C12: szt. | D12: 2
A13: 7 | B13: Pułapka wodna do monitora przy aparacie Aespiro | C13: szt. | D13: 4
A14: 8 | B14: Kabel EKG 3- odprowadzeniowy kompatybilny z kardiomonitorem Datex Ohmeda wejście okrągłe. | C14: szt. | D14: 1
A15: 9 | B15: Mankiet NIBP dla dorosłych 31-40cm, wielorazowy, 2 -żyłowy | C15: szt. | D15: 1
A16: 10 | B16: Mankiet NIBP dla dorosłych 36-36cm wielorazowy, 2 -żyłowy | C16: szt. | D16: 1
A17: 11 | B17: Kabel połączeniowy, dla dorosłych i dzieci, czarny, sło min 3,6m | C17: szt. | D17: 1
A18: 12 | B18: Kabel 3-odprowadzeniowy ekg 74 cm IEC | C18: szt. | D18: 1
A19: 13 | B19: Nakładka odbijająca promieniowanie typu Girafe Family | C19: Op=50 szt | D19: 4
B20: RAZEM
B23: Oświadczam, że oferowany przedmiot zamówienia spełnia wyżej wymienione wymagania.
B24: Data | H24: Podpis osoby/osób upoważnionej
B25: ……………………………………………. | I25: ……………………………….

Sheet Zad.40
B1: ZOZ/DZP/PN/33/19
B2: Załącznik Nr: 9
A3: Zadanie nr: 40 - Akcesoria do histeroskopii i laparoskopii
A4: Lp. | B4: Nazwa produktu | C4: Jednostka miary | D4: Ilość | E4: Cena jednostkowa netto | F4: Wartość netto | G4: VAT | H4: Cena jednostkowa brutto | I4: Wartość brutto | J4: Producent /Nazwa handlowa/Nr katalogowy
A5: 1 | B5: Zestaw drenów do histeroskopii | C5: op.10szt. | D5: 32
A6: 2 | B6: Uszczelka do laparoskopu 50x50 | C6: szt. | D6: 20
A7: 3 | B7: Uszczelka do laparoskopu 60x12 | C7: szt. | D7: 20
A8: 4 | B8: Uszczelka do laparoskopu 10x60 | C8: szt. | D8: 20
A9: 5 | B9: Uszczelka do laparoskopu 50x40 | C9: szt. | D9: 20
A10: 6 | B10: Uszczelka walcowata do płaszcza histeroskopu 0,8 mm | C10: szt. | D10: 20
A11: 7 | B11: Zatyczka 1KS 29100 op=10szt | C11: op. | D11: 4
A12: 8 | B12: Szczoteczki do mycia laparoskopu śr. 2,5mm, dł. 35 cm. | C12: szt. | D12: 10
A13: 9 | B13: Szczoteczka do czyszczenia atraumatycznych szczęk, sterylizowalna, | C13: op=5szt. | D13: 5
A14: 10 | B14: Dren ssąco płuczący silikonowy, sterylizowalny do pokryw słoja. | C14: szt. | D14: 4
A15: 11 | B15: Zestaw drenów do gazu do insuflatora 2szt. | C15: Op=2 szt | D15: 7
A16: 12 | B16: Filtr gazu CO2, do insuflatorów Karl Storz, Electronic Endoflator i thermoflator, sterylny. | C16: op. 25szt. | D16: 2
... A59: 55 | B59: Rack na 14 instrumentów o śr. 2,5 - 10 mm, z tacą drucianą 39502V i 39502X, wym. 480 x 250 x 125 mm | C59: szt. | D59: 1
B60: RAZEM
B63: Oświadczam, że oferowany przedmiot zamówienia spełnia wyżej wymienione wymagania.
B64: Data | H64: Podpis osoby/osób upoważnionej
B65: ……………………………………………. | I65: ……………………………….

Sheet Zad.41
B1: ZOZ/DZP/PN/33/19
B2: Załącznik Nr: 9
A3: Zadanie nr: 41- Punkcje
A4: Lp. | B4: Nazwa produktu | C4: Jednostka miary | D4: Ilość | E4: Cena jednostkowa netto | F4: Wartość netto | G4: VAT | H4: Cena jednostkowa brutto | I4: Wartość brutto | J4: Producent /Nazwa handlowa/Nr katalogowy
A5: 1 | B5: Zestaw do punkcji opłucnej 3-igłowy typu Toraset | C5: szt. | D5: 150
A6: 2 | B6: Igła do punkcji z talerza biodrowego 1,8 x 45 mm 15G | C6: szt. | D6: 250
A7: 3 | B7: Igła do trepanobiopsji 8G x 100mm z elementem wycinającym | C7: szt. | D7: 60
A8: 4 | B8: Zestaw z igłą do trepanobiopsji 8G x 100mm. Igła do trepanobiopsji - wersja z zewnętrzną kaniulą ekstrakcyjną, wygodny, ergonomiczny uchwyt typu „młotek”,piramidalnie zakończony mandryn, zewnętrzny element wycinający w pełni diagnostyczny, nieuszkodzony bioptat, w uchwycie kaniuli gniazdo typu Luer-Lock, wypychacz bioptatu, zatyczka, prowadnica. | C8: szt. | D8: 60
B9: RAZEM
B11: Oświadczam, że oferowany przedmiot zamówienia spełnia wyżej wymienione wymagania.
B12: Data | H12: Podpis osoby/osób upoważnionej
B13: ……………………………………………. | I13: ……………………………….

Sheet Zad.42
B1: ZOZ/DZP/PN/33/19
B2: Załącznik Nr: 9
A3: Zadanie nr: 42 – Koszule dla pacjentów
A4: Lp. | B4: Nazwa produktu | C4: Jednostka miary | D4: Ilość | E4: Cena jednostkowa netto | F4: Wartość netto | G4: VAT | H4: Cena jednostkowa brutto | I4: Wartość brutto | J4: Producent /Nazwa handlowa/Nr katalogowy
A5: 1 | B5: Koszula dla pacjentek min.110g/m2 rozmiar XXL długość ok 110cm tylko z rozcięciem z przodu ok. 35 cm długości wiązana na troki bez wiązania z tyłu, zszyta z tylu w całości. Wielorazowa do prania. Biała ze wzorkiem. | C5: szt. | D5: 200
A6: 2 | B6: Koszula dla pacjentów min.110g/m2 rozmiar XXL długość ok 110cm Wiązana na troki z tyłu na zakładkę. Wielorazowa do prania, Biała. | C6: szt. | D6: 250
B7: Razem
B9: Oświadczam, że oferowany przedmiot zamówienia spełnia wyżej wymienione wymagania.
B10: Data | H10: Podpis osoby/osób upoważnionej
B11: ……………………………………………. | I11: ……………………………….

Sheet Zad.43
B2: ZOZ/DZP/PN/33/19
B3: Załącznik Nr: 9
A4: Zadanie nr: 43 – Pieluchy dla dorosłych
A5: Lp. | B5: Nazwa produktu | C5: Jednostka miary | D5: Ilość | E5: Cena jednostkowa netto | F5: Wartość netto | G5: VAT | H5: Cena jednostkowa brutto | I5: Wartość brutto | J5: Producent /Nazwa handlowa/Nr katalogowy
A6: 1 | B6: Pieluchomajtki oddychające na całej powierzchni, nie zawierające lateksu, posiadające dwa elastyczne ściągacze taliowe, podwójny wkład chłonny z superabsorbentem, podwójne przylepcorzepy umożliwiające wielokrotne zapinanie i odpinanie, hydrofobowe falbanki boczne, "dzienne", rozmiar XL (obwód 130-170 cm), chłonność nie mniej niż 2600g | C6: op. a30 szt. | D6: 500
A7: 2 | B7: Pieluchomajtki oddychające na całej powierzchni, nie zawierające lateksu, posiadające dwa elastyczne ściągacze taliowe, podwójny wkład chłonny z superabsorbentem, podwójne przylepcorzepy umożliwiające wielokrotne zapinanie i odpinanie, hydrofobowe falbanki boczne, "dzienne", rozmiar L (obwód 100-150 lub 110-150 cm), chłonność nie mniej niż 2200g | C7: op. a30 szt. | D7: 3500
A8: 3 | B8: Pieluchomajtki oddychające na całej powierzchni, nie zawierające lateksu, posiadające dwa elastyczne ściągacze taliowe, podwójny wkład chłonny z superabsorbentem, podwójne przylepcorzepy umożliwiające wielokrotne zapinanie i odpinanie, hydrofobowe falbanki boczne, "dzienne" rozmiar M (obwód 75-110 cm), chłonność nie mniej niż 2000g | C8: op. a30 szt. | D8: 1200
A9: 4 | B9: Pieluchomajtki oddychające na całej powierzchni, nie zawierające lateksu, posiadające dwa elastyczne ściągacze taliowe, podwójny wkład chłonny z superabsorbentem, podwójne przylepcorzepy umożliwiające wielokrotne zapinanie i odpinanie, hydrofobowe falbanki boczne o zwiększonej chłonności "nocne" rozmiar L (obwód 100-150 lub 110-150 cm), chłonność nie mniej niż 2800g | C9: op. a30 szt. | D9: 600
A10: 5 | B10: Pieluchomajtki oddychające na całej powierzchni, nie zawierające lateksu, posiadające dwa elastyczne ściągacze taliowe, podwójny wkład chłonny z superabsorbentem, podwójne przylepcorzepy umożliwiające wielokrotne zapinanie i odpinanie, hydrofobowe falbanki boczne o zwiększonej chłonności "nocne" rozmiar M (obwód 75-110 cm), chłonność nie mniej niż 2600g | C10: op. a30 szt. | D10: 600
A11: 6 | B11: Pielucha anatomiczna w rozmiarze 28-35x50-64cm chłonności 1100-1200 gram lub mililitrów | C11: op. a30 szt. | D11: 3500
A12: 7 | B12: Podkład chłonny 90x60 cm | C12: op= 30szt. | D12: 1800
B13: RAZEM
B16: Oświadczam, że oferowany przedmiot zamówienia spełnia wyżej wymienione wymagania.
B17: Data | H17: Podpis osoby/osób upoważnionej
B18: ……………………………………………. | I18: ……………………………….

Sheet Zad.44
B1: ZOZ/DZP/PN/33/19
B2: Załącznik Nr: 9
A3: Zadanie nr: 44- Strzykawki do przepłukiwania cewników.
A4: Lp. | B4: Nazwa produktu | C4: Jednostka miary | D4: Ilość | E4: Cena jednostkowa netto | F4: Wartość netto | G4: VAT | H4: Cena jednostkowa brutto | I4: Wartość brutto | J4: Producent /Nazwa handlowa/Nr katalogowy
A5: 1 | B5: Strzykawka napełniona fabrycznie do przepłukiwania zawierająca chlorek sodu (izotoniczny roztwór NaCl 0,9%) o pojemności 20 ml, gotowa do użycia bez konieczności odblokowywania tłoka. Sterylna wewnątrz i na zewnątrz. Ma posiadać długi korek zamykający o dł. min 12 mm, posiadający gwintowane przedłużenie zamykające wejście do strzykawki Luer Lock, w opakowaniu ograniczający, generowanie zanieczyszczeń mechanicznych, bez zawartości celulozy, z optycznie i wyczuwalnie zaznaczonym miejscem otwarcia – szerokość listka do otwierania 0,8 cm. Klasa II b lub III. Na cylindrze piktogram oznaczający dawkę. | C5: szt. | D5: 2000
A6: 2 | B6: Strzykawka napełniona fabrycznie do przepłukiwania zawierająca chlorek sodu (izotoniczny roztwór NaCl 0,9%) o pojemności 10 ml, gotowa do użycia bez konieczności odblokowywania tłoka. Sterylna wewnątrz i na zewnątrz. Ma posiadać długi korek zamykający o dł. min 12 mm, posiadający gwintowane przedłużenie zamykające wejście do strzykawki Luer Lock, w opakowaniu ograniczający, generowanie zanieczyszczeń mechanicznych, bez zawartości celulozy, z optycznie i wyczuwalnie zaznaczonym miejscem otwarcia – szerokość listka do otwierania 0,8 cm. Klasa II b lub III. . Na cylindrze piktogram oznaczający dawkę. | C6: szt. | D6: 2200
B7: System do utrzymania drożności dostępów naczyniowych w postaci strzykawek ze złączem luer-lock z tłokiem zapobiegającym cofaniu krwi do cewnika. Duopack zawiera dwie strzykawki z cytrynianem o stężeniu 30% lub 4 % do wyboru przez zamawiającego i pojemności 3ml w strzyk 5 ml. Gotowe do użycia bez konieczności odblokowywania tłoka. Możliwość użycia w jałowym polu. | C7: szt. | D7: 1000
B8: RAZEM
B11: Oświadczam, że oferowany przedmiot zamówienia spełnia wyżej wymienione wymagania.
B12: Data | H12: Podpis osoby/osób upoważnionej
B13: ……………………………………………. | I13: ……………………………….

Sheet Zad.45
B1: ZOZ/DZP/PN/33/19
B2: Załącznik Nr: 9
A3: Zadanie nr: 45 - Pojemniki HDPE.
A4: Lp. | B4: Nazwa produktu | C4: Jednostka miary | D4: Ilość | E4: Cena jednostkowa netto | F4: Wartość netto | G4: VAT | H4: Cena jednostkowa brutto | I4: Wartość brutto | J4: Producent /Nazwa handlowa/Nr katalogowy
A5: 1 | B5: Pojemnik HDPE pojemność 100ml średnica wlotu 35mm śr pojemnika 52x62mm | C5: szt | D5: 500
A6: 2 | B6: Pojemnik HDPE pojemność 250ml średnica wlotu 58mm śr pojemnika 73x90mm | C6: szt | D6: 800
A7: 3 | B7: Pojemnik HDPE pojemność 500ml średnica wlotu 74mm śr pojemnika 85x110mm | C7: szt | D7: 400
A8: 4 | B8: Pojemnik HDPE pojemność 1000ml średnica wlotu 88mm śr pojemnika 110x132mm | C8: szt | D8: 300
A9: 5 | B9: Pojemnik HDPE pojemność 2000ml średnica wlotu 88mm śr pojemnika 137x165mm | C9: szt | D9: 200
A10: 6 | B10: Pojemnik z polipropylenu do transportu i przechowywania materiałów tkankowych w 10% zbuforowanej formalinie. Pojemność 3000ml wymiar minimalny: 182x172x137mm | C10: szt. | D10: 100
A11: 7 | B11: Pojemnik z polipropylenu do transportu i przechowywania materiałów tkankowych w 10% zbuforowanej formalinie. Pojemność 5000ml wymiar minimalny: 208x192x192mm | C11: szt. | D11: 80
A12: 8 | B12: Pojemnik z polipropylenu do transportu i przechowywania materiałów tkankowych w 10% zbuforowanej formalinie. Pojemność 10000ml wymiar minimalny: 251x251x264mm | C12: szt. | D12: 50
B13: RAZEM
B15: Oświadczam, że oferowany przedmiot zamówienia spełnia wyżej wymienione wymagania.
B16: Data | H16: Podpis osoby/osób upoważnionej
B17: ……………………………………………. | I17: ……………………………….
B19: Data | H19: Podpis osoby/osób upoważnionej
B20: ……………………………………………. | H20: ……………………………….

Sheet Zad.46
B1: ZOZ/DZP/PN/33/19
B2: Załącznik Nr: 9
A3: Zadanie nr: 46 – Igła z kulką
A4: Lp. | B4: Nazwa produktu | C4: Jednostka miary | D4: Ilość | E4: Cena jednostkowa netto | F4: Wartość netto | G4: VAT | H4: Cena jednostkowa brutto | I4: Wartość brutto | J4: Producent /Nazwa handlowa/Nr katalogowy
A5: 1 | B5: Jałowe, jednorazowe narzędzie chirurgiczne wykonane z austenitycznej stali nierdzewnej o wymiarach 8,0cm,18G(1,2x80mm) z końcówką luer, | C5: op.=50szt | D5: 15
B6: RAZEM
B9: Oświadczam, że oferowany przedmiot zamówienia spełnia wyżej wymienione wymagania.
B10: Data | H10: Podpis osoby/osób upoważnionej
B11: ……………………………………………. | I11: ……………………………….

Sheet Zad.47
B1: ZOZ/DZP/PN/33/19
B2: Załącznik Nr: 9
A3: Zadanie nr: 47- Pojemniki na odpady
A4: Lp. | B4: Nazwa produktu | C4: Jednostka miary | D4: Ilość | E4: Cena jednostkowa netto | F4: Wartość netto | G4: VAT | H4: Cena jednostkowa brutto | I4: Wartość brutto | J4: Producent /Nazwa handlowa/Nr katalogowy
A5: 1 | B5: Pojemnik na igły pojemność 0,5 litra | C5: szt. | D5: 200
A6: 2 | B6: Pojemnik na igły pojemność 0,7 litra | C6: szt. | D6: 600
A7: 3 | B7: Pojemnik na igły pojemność 2,0 litry, wysokość min. 220mm, | C7: szt. | D7: 8500
A8: 4 | B8: Pojemnik na igły pojemność 1,0-1,4 litra 120mm | C8: szt. | D8: 5000
A9: 5 | B9: Pojemnik na igły pojemność 5 litrów | C9: szt. | D9: 3000
A10: 6 | B10: Pojemnik na odpady medyczne pojemność 10 litrów | C10: szt. | D10: 200
A11: 7 | B11: Pojemnik na odpady medyczne pojemność 20-25 litrów | C11: szt. | D11: 200
B12: RAZEM
B16: Oświadczam, że oferowany przedmiot zamówienia spełnia wyżej wymienione wymagania.
B17: Data | H17: Podpis osoby/osób upoważnionej
B18: ……………………………………………. | I18: ……………………………….

Sheet Zad.48
B1: ZOZ/DZP/PN/33/19
B2: Załącznik Nr: 9
A3: Zadanie nr: 48 - Kaniule teflonowe i przyrządy
A4: Lp. | B4: Nazwa produktu | C4: Jednostka miary | D4: Ilość | E4: Cena jednostkowa netto | F4: Wartość netto | G4: VAT | H4: Cena jednostkowa brutto | I4: Wartość brutto | J4: Producent /Nazwa handlowa/Nr katalogowy
A5: 1 | B5: Kaniula dożylna 0,7 24G dł. 19mm przepływ 23ml/min. Ze skrzydełkami. Wykonana z teflonu. | C5: szt. | D5: 4500
A6: 2 | B6: Kaniula dożylna 22 G (0,8-0,9) dł. 25 mm z portem, z teflonu, ze skrzydełkami. Do wkłuć dożylnych. | C6: szt. | D6: 2000
A7: 3 | B7: Kaniula dożylna 20 G (0,8-1,1) dł. 32 mm z portem, z teflonu, ze skrzydełkami. Do wkłuć dożylnych. | C7: szt. | D7: 400
A8: 4 | B8: Kaniula dożylna 18 G (0,9-1,3) dł. 32 mm z portem, z teflonu, ze skrzydełkami. Do wkłuć dożylnych. | C8: szt. | D8: 400
A9: 5 | B9: Przyrząd do pomiaru ośrodkowego ciśnienia żylnego | C9: szt. | D9: 100
A10: 6 | B10: Przyrząd do szybkiego przetaczana krwi | C10: szt. | D10: 500
A11: 7 | B11: Przyrząd do transfuzji komora kropl. o poj. 18 ml wolna od PCV,dren wolny od ftalanów z filtrem o śr. oczek 200 m/mikr.Długość przyrządu 150 cm | C11: szt. | D11: 6500
A12: 8 | B12: Przedłużacz do pomp inf. 150 cm | C12: szt. | D12: 14000
A13: 9 | B13: Przedłużacz do pomp inf. 120 cm | C13: szt. | D13: 5000
A14: 10 | B14: Przedłużacz do pomp inf. 150 cm, bursztynowy, | C14: szt. | D14: 3900
A15: 11 | B15: Łącznik kolec – luerlock | C15: szt. | D15: 700
B16: RAZEM
B19: Oświadczam, że oferowany przedmiot zamówienia spełnia wyżej wymienione wymagania.
B20: Data | H20: Podpis osoby/osób upoważnionej
B21: ……………………………………………. | I21: ……………………………….

Sheet Zad.49
B1: ZOZ/DZP/PN/33/19
B2: Załącznik Nr: 9
A3: Zadanie nr: 49 - Żarówki
A4: Lp. | B4: Nazwa produktu | C4: Jednostka miary | D4: Ilość | E4: Cena jednostkowa netto | F4: Wartość netto | G4: VAT | H4: Cena jednostkowa brutto | I4: Wartość brutto | J4: Producent /Nazwa handlowa/Nr katalogowy
A5: 1 | B5: Żarówki typ EFR, trzonek GZ6,35, W150, V15, średnica 50, odbłyśnik tak | C5: szt. | D5: 16
A6: 2 | B6: zarówki do l. oper., trzonek G6,35, W150, V24, odbłyśnik nie | C6: szt. | D6: 12
A7: 3 | B7: Żarówki do l. oper., trzonek G6,35, W120, V24, odbłyśnik nie | C7: szt. | D7: 16
A8: 4 | B8: oprawka ceramiczna do lamp Martin ML 501/701 do żarówek z pozycji :2,3 | C8: szt. | D8: 15
B9: RAZEM
B11: Oświadczam, że oferowany przedmiot zamówienia spełnia wyżej wymienione wymagania.
B12: Data | H12: Podpis osoby/osób upoważnionej
B13: ……………………………………………. | I13: ……………………………….

Sheet Zad.50
B1: ZOZ/DZP/PN/33/19
B2: Załącznik Nr: 9
B3: Zadanie nr:50 - Akcesoria do respiratora Bennet
A4: Lp. | B4: Nazwa produktu | C4: Jednostka miary | D4: Ilość | E4: Cena jednostkowa netto | F4: Wartość netto | G4: VAT | H4: Cena jednostkowa brutto | I4: Wartość brutto | J4: Producent /Nazwa handlowa/Nr katalogowy
A5: 1 | B5: Wydechowy filtr jednorazowego użytku zintegrowany z pojemnikiem na skropliny, jednopacjentowy, kompatybilny z respiratorem Puritan Bennet 980 | C5: op=12szt. | D5: 35
A6: 2 | B6: Wdechowy filtr jednorazowego użytku kompatybilny z respiratorem Puritan Bennet 980 | C6: op=12szt. | D6: 35
A7: 3 | B7: Filtr p/bakteryjny wdechowy kompatybilny z respiratorem Bennet 980 | C7: 1szt. | D7: 120
A8: 4 | B8: Filtr p/bakteryjny wydechowy kompatybilny z respiratorem Bennet | C8: 1szt. | D8: 4
A9: 5 | B9: Wdechowy filtr bakteryjny Puritan Bennett™980 , wielorazowego użytku (Re/Flex™ 22 mm) | C9: szt. | D9: 26
A10: 6 | B10: Filtr wydechowy Puritan Bennett™980 dla dzieci i dorosłych, wielorazowego użytku | C10: szt. | D10: 30
A11: 7 | B11: Zbiornik na skropliny Puritan Bennett™980 | C11: szt. | D11: 16
A12: 8 | B12: Jednorazowe czujniki CO2 do respiratora Bennett 980 | C12: szt. | D12: 450
A13: 9 | B13: Mankiet duży do urządzenia Bennet 980 | C13: szt. | D13: 18
A14: 10 | B14: Zatyczka zbiornika na skropliny do respiratora Puritan Bennet 980 | C14: szt. | D14: 10
A15: 11 | B15: Uszczelka do pojemnika na skropliny do filtra wydechowego wielorazowego wydechowego do respiratora Puritan Bennet 980 | C15: szt. | D15: 10
B16: Razem
B19: Oświadczam, że oferowany przedmiot zamówienia spełnia wyżej wymienione wymagania.
B20: Data | H20: Podpis osoby/osób upoważnionej
B21: ……………………………………………. | I21: ……………………………….

Sheet Zad.51
B1: ZOZ/DZP/PN/33/19
B2: Załącznik Nr: 9
A3: Zadanie 51- System zbiórki kału.
A4: Lp. | B4: Nazwa produktu | C4: Jednostka miary | D4: Ilość | E4: Cena jednostkowa netto | F4: Wartość netto | G4: VAT | H4: Cena jednostkowa brutto | I4: Wartość brutto | J4: Producent /Nazwa handlowa/Nr katalogowy
A5: 1 | B5: Jednorazowy system do kontrolowanej zbiórki luźnego stolca wyposażony w: silikonowy rękaw o długości 167 cm z wbudowaną w strukturę silikonu na całej długości substancją neutralizującą nieprzyjemne zapachy; balonik retencyjny z niebieską kieszonką dla umieszczenia palca wiodącego; port do napełniania balonika retencyjnego z sygnalizatorem, który wypełnia się, gdy balonik osiągnie wielkość optymalną dla pacjenta oraz port do irygacji umożliwiający także doodbytnicze podanie leków, z klamrą zamykającą światło drenu w celu utrzymania leku w miejscu podania. System zawiera port do pobierania próbek stolca, pasek koralikowy do podwieszania kompatybilny z ramami łóżek szpitalnych i z miejscem na opis. System przebadany klinicznie (ocena bezpieczeństwa stosowania systemu do 29 dni), czas utrzymania systemu do 29 dni, biologicznie czysty. W zestawie 3 worki do zbiórki stolca, o pojemności 1000 ml, z zastawką zabezpieczającą przed wylaniem zawartości skalowane co 25 ml oraz z filtrem węglowym. W sklad zestawu wchodzi 1 system i 3 worki po 1000ml. | C5: 1 zestaw | D5: 40
A6: 2 | B6: Kompatybilne z zestawem worki do zbiórki stolca o pojemności 1000ml nieprzezroczyste, z okienkiem podglądu, skalowane co 25ml, w tym numerycznie co 100ml, z filtrem węglowym, zastawką zabezpieczającą przed wylaniem zawartości, biologicznie czyste. | C6: Op=10 sztuk | D6: 20
B7: Razem
B10: Oświadczam, że oferowany przedmiot zamówienia spełnia wyżej wymienione wymagania.
B11: Data | H11: Podpis osoby/osób upoważnionej
B12: ……………………………………………. | I12: ……………………………….

Sheet Zad.52
B1: ZOZ/DZP/PN/33/19
B2: Załącznik Nr: 9
A3: Zadanie nr: 52 – Narzędzia i łyżki.
A4: Lp. | B4: Nazwa produktu | C4: Jednostka miary | D4: Ilość | E4: Cena jednostkowa netto | F4: Wartość netto | G4: VAT | H4: Cena jednostkowa brutto | I4: Wartość brutto | J4: Producent /Nazwa handlowa/Nr katalogowy
A5: 1 | B5: Łyżka jednorazowego użytku, metalowa, diodowa,współpracująca z rękojeściami standardowymi. Z wyraźnym nadrukiem rozmiaru na opakowaniu jednostkowym. Dostępne rozmiary łyżek: Mac 0- dł. 82mm, szer. 9mm, 1- dł. 92mm, szer 11,50mm, 2- dł. 114mm, szer. 14mm, 3- dł. 133mm, szer. 14mm , 4- dł. 158mm, szer. 14mm,5- dł. 174, szer. 14mm, Mill 00-dł. 65mm, szer.11,5mm, 0- dł. 76mm, szer. 11,5mm, 1- dł. 100mm, szer. 11,5mm, 2 – dł. 151mm, szer. 13mm, 3 – dł. 190mm, szer. 13, 4 – dł. 207, szer. 13mm. – do wyboru przez Zamawiającego Pakowane pojedynczo, zdezynfekowane, gotowe do użytku Współpracują ze wszystkimi rękojeściami w standardzie ISO 7376-1. Data przydatności i seria na jednostkowym opakowaniu każdej łyżki | C5: szt. | D5: 1800
A6: 2 | B6: Łyżki jednorazowe, metalowe: Metalowe łyżki światłowodowe, jednorazowego użytku z podstawą z tworzywa sztucznego. Z wyraźnym nadrukiem rozmiaru na opakowaniu jednostkowym. Wytrzymały materiał oraz ergonomiczny kształt Zaokrąglona końcówka łyżki i gładkie krawędzie zmniejszają ryzyko uszkodzeń Pakowane pojedynczo – gotowe do użytku Dostępne w rozmiarach Mac 0- dł. 82mm, szer. 9mm, 1- dł. 94mm, szr. 11,50mm, 2- dł. 116mm, szer 14mm, 3- dł. 133mm, szer. 14mm, 4- dł. 159mm, szer 14mm, 5- dł. 172mm, szer. 14mm oraz Miller 00-dł. 69mm, szer11,5mm, 0 – dł. 79mm, szer. 11,5mm, 1 – dł. 102mm, szer. 11,5mm, 2 – dł. 152mm, szer. 13mm 3 – dł. 193mm, szer. 13mm, 4 – dł. 209mm, szer. 13mm. do wyboru przez zamawiającego Współpracują z rękojeściami światłowodowymi w standardzie ISO 7376-3 Nie zawierają latexu Pakowanie folia-papier.Data przydatności i seria na jednostkowym opakowaniu każdej łyżki | C6: szt. | D6: 1800
A7: 3 | B7: Rękojeści wielorazowe LED, współpracujące z łyżkami z poz. 2 Mocne, jasne światło LED: 9500 lux, min. 50 000h pracy Do sterylizacji w systemach systemach nisko-temperaturowych oraz w autoklawie, po wyciągnięciu diody LED Dostępne w 3 rozmiarach: średni, krótki, pediatryczny Współpracują z łyżkami światłowodowymi w standardzie ISO 7376-3 | C7: szt. | D7: 6
A8: 4 | B8: Rękojeść wielorazowa klasyczna rozmiar standardowy zasilanie bateryjne (baterie R-14). Rękojeść zgodne z normą ISO 7376-1 | C8: szt. | D8: 6
A9: 5 | B9: Rękojeść jednorazowa kompatybilna z łyżkami światłowodowymi | C9: szt. | D9: 200
A10: 6 | B10: Kontener do sterylizacji (bezfiltrowy) rozmiar 1/2 o wymiarach267x272x220mm+/-5mm,kontener posiadający wielorazowy wskaźnik uwidaczniający próbę otwarcia. Wskaźnik pozwala wizualnie wykryć przypadkowe otwarcie kontenera po sterylizacji. Pojemnik składający się z wanny i pokrywy. Wanna kontenera wykonana z jednego kawałka blachy ze stopu aluminium, brzeg wanny kontenera wywinięty na zewnątrz, wyposażona w 2 uchwyty blokowane pod kątem 90 stopni, uchwyty znaczone kolorem do wyboru przez Zamawaiającego z min. 5 kolorów/ miejsce na tabliczki opisowe po obu stronach kontenera, tabliczki z naniesioną laserowo nazwą zestawu. Pokrywa wykonana z wysokiej jakości tworzywa sztucznego z jedną labiryntową płytką bariery bakteriologicznej bez konieczności wymiany filtrów. Bariera mikrobiologiczna z nieograniczoną liczba sterylizacji (zdejmowalna do dezynfekcji przed kolejnym użyciem) możliwość samodzielnej wymiany uszczelek w pokrywie kontenera. Kontener wyposażony w : kosz wykonany ze stali nierdzewnej wyposażony w uchwyty do wyjmowania z wanny rozmiar 240x251x94mm +/- 5mm, mata silikonowa typu „jeżyk” 234x244 +/-5mm | C10: szt. | D10: 2
A11: 7 | B11: Kontener do sterylizacji (bezfiltrowy) rozmiar 1/2 o wymiarach267x272x122mm+/-5mm,kontener posiadający wielorazowy wskaźnik uwidaczniający próbę otwarcia. Wskaźnik pozwala wizualnie wykryć przypadkowe otwarcie kontenera po sterylizacji. Pojemnik składający się z wanny i pokrywy. Wanna kontenera wykonana z jednego kawałka blachy ze stopu aluminium, brzeg wanny kontenera wywinięty na zewnątrz, wyposażona w 2 uchwyty blokowane pod kątem 90 stopni, uchwyty znaczone kolorem do wyboru przez Zamawaiającego z min. 5 kolorów/ miejsce na tabliczki opisowe po obu stronach kontenera, tabliczki z naniesioną laserowo nazwą zestawu. Pokrywa wykonana z wysokiej jakości tworzywa sztucznego z jedną labiryntową płytką bariery bakteriologicznej bez konieczności wymiany filtrów. Bariera mikrobiologiczna z nieograniczoną liczba sterylizacji (zdejmowalna do dezynfekcji przed kolejnym użyciem) możliwość samodzielnej wymiany uszczelek w pokrywie kontenera. Kontener wyposażony w : kosz wykonany ze stali nierdzewnej wyposażony w uchwyty do wyjmowania z wanny rozmiar 240x251x44mm +/- 5mm, mata silikonowa typu „jeżyk” 234x244 +/-5mm | C11: szt. | D11: 2
A12: 8 | B12: Kontener do sterylizacji (bezfiltrowy) rozmiar 1/1 o wymiarach553x272x272mm+/-5mm,kontener posiadający wielorazowy wskaźnik uwidaczniający próbę otwarcia. Wskaźnik pozwala wizualnie wykryć przypadkowe otwarcie kontenera po sterylizacji. Pojemnik składający się z wanny i pokrywy. Wanna kontenera wykonana z jednego kawałka blachy ze stopu aluminium, brzeg wanny kontenera wywinięty na zewnątrz, wyposażona w 2 uchwyty blokowane pod kątem 90 stopni, uchwyty znaczone kolorem do wyboru przez Zamawaiającego z min. 5 kolorów/ miejsce na tabliczki opisowe po obu stronach kontenera, tabliczki z naniesioną laserowo nazwą zestawu. Pokrywa wykonana z wysokiej jakości tworzywa sztucznego z dwiema labiryntowymi płytkami bariery bakteriologicznej bez konieczności wymiany filtrów. Bariera mikrobiologiczna z nieograniczoną liczba sterylizacji (zdejmowalna do dezynfekcji przed kolejnym użyciem) możliwość samodzielnej wymiany uszczelek w pokrywie kontenera. Kontener wyposażony w : silikonowa siatkę zabezpieczającą 520x250 mm +/-5mm | C12: szt. | D12: 1
A13: 9 | B13: Kontener do sterylizacji (bezfiltrowy) rozmiar 3/4 o wymiarach 448x272x143mm+/-5mm,kontener posiadający wielorazowy wskaźnik uwidaczniający próbę otwarcia. Wskaźnik pozwala wizualnie wykryć przypadkowe otwarcie kontenera po sterylizacji. Pojemnik składający się z wanny i pokrywy. Wanna kontenera wykonana z jednego kawałka blachy ze stopu aluminium, brzeg wanny kontenera wywinięty na zewnątrz, wyposażona w 2 uchwyty blokowane pod kątem 90 stopni, uchwyty znaczone kolorem do wyboru przez Zamawaiającego z min. 5 kolorów/ miejsce na tabliczki opisowe po obu stronach kontenera, tabliczki z naniesioną laserowo nazwą zestawu. Pokrywa wykonana z wysokiej jakości tworzywa sztucznego z dwiema labiryntowymi płytkami bariery bakteriologicznej bez konieczności wymiany filtrów. Bariera mikrobiologiczna z nieograniczoną liczba sterylizacji (zdejmowalna do dezynfekcji przed kolejnym użyciem) możliwość samodzielnej wymiany uszczelek w pokrywie kontenera. Kontener wyposażony w :Kontener wyposażony w : kosz wykonany ze stali nierdzewnej wyposażony w uchwyty do wyjmowania z wanny rozmiar 410x251x64mm +/- 5mm, mata silikonowa typu „jeżyk” 394x244 +/-5mm | C13: szt. | D13: 1
A14: 10 | B14: Kleszcze naczyniowe Pean, standard, odgiete dł. 16,5cm cm | C14: szt. | D14: 5
A15: 11 | B15: Kleszcze naczyniowe Pean,standard, proste, dł. 14,5 cm | C15: szt. | D15: 5
A16: 12 | B16: Kleszcze naczyniowe Kocher (Ochsner), 1x2 z., proste, dł. 24 cm | C16: szt. | D16: 1
... A38: 34 | B38: Rozszerzadła szyjki macicy Hegar, 11-14 mm co 0,5 dł. 18.5cm | C38: szt. | D38: 14
B39: RAZEM | J39: =SUM(J5:J30) -> 0
B42: Wymogi dla poz. 6-34: - parametry oferowanych narzędzi potwierdzić oryginalnym katalogiem; - certyfikaty i parametry przedstawione w formie oryginału lub kopii; - narzędzia fabrycznie nowe, nieregenerowane, nieużywane, - narzędzia pakowane pojedynczo, każde w osobnym opakowaniu, - narzędzia ocechowane numerem katalogowym, nazwą producenta, - dostawca zapewni serwis na terenie Unii Europejskiej, gwarancyjny i pogwarancyjny w formie kompleksowej naprawy instrumentów wraz z wymianą twardych wkładek oraz niezbędnych części i pełną obróbkę powierzchni. Serwis dostawcy certyfikowany normami :ISO 9001 2011 i ISO EN 13485 - narzędzia muszą być wykonane ze stali zgodnie z DIN 58298, ISO 13402, ISO 7741, ISO 7151, DIN 58295 spełniać standard dla stali ISO 7153-1 oraz dla poszczególnych grup wyrobów, posiadać stal wg norm DIN (wraz z potwierdzeniem parametrów stali certyfikatem producenta): nożyczki- X38CrMoV15 - twardość stali w zakresie 50-58 HRC dla wszystkich rodzi nożyczek kleszczyki, podważki, klemy - X20Cr13- twardość stali w zakresie 42-50 HRC; imadła - X20Cr13 - twardość stali w zakresie 42-50 HRC; Imadła z twardą wkładką - X20Cr13 lub X30Cr13- twardość stali w zakresie 42-50HRC; retraktory- X20Cr13 lub X5CrNi18-10- twardość stali w zakresie 185 HV 10;
B49: Oświadczam, że oferowany przedmiot zamówienia spełnia wyżej wymienione wymagania.
B50: Data | H50: Podpis osoby/osób upoważnionej
B51: ……………………………………………. | I51: ……………………………….

Sheet Zad.53
B1: ZOZ/DZP/PN/33/19
B2: Załącznik Nr: 9
B3: Zadanie nr: 53 - Kaseta do podgrzewania płynów infuzyjnych
A4: Lp. | B4: Nazwa produktu | C4: Jednostka miary | D4: Ilość | E4: Cena jednostkowa netto | F4: Wartość netto | G4: VAT | H4: Cena jednostkowa brutto | I4: Wartość brutto | J4: Producent /Nazwa handlowa/Nr katalogowy
A5: 1 | B5: Kaseta do podgrzewania płynów infuzyjnych typu Fluido Sa200 | C5: szt. | D5: 20
B6: RAZEM
B11: Oświadczam, że oferowany przedmiot zamówienia spełnia wyżej wymienione wymagania.
B12: Data | H12: Podpis osoby/osób upoważnionej
B13: ……………………………………………. | I13: ……………………………….

Sheet Zad. 54
B2: ZOZ/DZP/PN/33/19
B3: Załącznik Nr: 9
A4: Zadanie nr: 54 - Układ oddechowy
A5: Lp. | B5: Nazwa produktu | C5: Jednostka miary | D5: Ilość | E5: Cena jednostkowa netto | F5: Wartość netto | G5: VAT | H5: Cena jednostkowa brutto | I5: Wartość brutto | J5: Producent /Nazwa handlowa/Nr katalogowy
A6: 1 | B6: Obwód oddechowy do aparatu do znieczulenia dla dorosłych w składzie: 2 rury śr. 22 mm, i dł. min 150 cm, a dodatkowa 3 rura o śr. 22 mm, dł. 120 cm, złączka Y z zakończeniem 22M/15F, worek oddechowy bezlateksowy o poj. 2 l., złączka L z portem Kapno. Rury wykonane z PCV, o gładkich powierzchniach wewnętrznych, końcówki rur elastyczne typu Flex. Sterylny. | C6: szt | D6: 100
A7: 2 | B7: Anestezjologiczny obwód oddechowy dla dzieci z PCW, dwie rury o gładkich powierzchniach wewnętrznych o długości 120cm i 15mm średnicy zakończone łącznikiem Y prostym ze złaczem 22M/15F, złącza respiratora 22 typu Flex, dodatkowe ramię 120cm ze złaczem 22 typu Flex, 1 l worek bezlateksowy, sterylny | C7: szt | D7: 50
B8: Razem
B10: Oświadczam, że oferowany przedmiot zamówienia spełnia wyżej wymienione wymagania.
B11: Data | H11: Podpis osoby/osób upoważnionej
B12: ……………………………………………. | I12: ……………………………….

Sheet Zad.55
B1: ZOZ/DZP/PN/33/19
B2: Załącznik Nr: 9
A3: Zadanie nr: 55- Taśmy retrakcyjne.
A4: Lp. | B4: Nazwa produktu | C4: Jednostka miary | D4: Ilość | E4: Cena jednostkowa netto | F4: Wartość netto | G4: VAT | H4: Cena jednostkowa brutto | I4: Wartość brutto | J4: Producent /Nazwa handlowa/Nr katalogowy
A5: 1 | B5: Taśmy retrakcyjne wykonane z nieprzepuszczalnej dla promieni rentgenowskich bawełny do wewnątrzoperacyjnej izolacji, znakowania, mechanicznego podtrzymywania i podwiązywania organów, naczyń krwionośnych, ścięgien i nerwów. 8 mm x 75cm, biały lub, niebieski do wyboru przy zakupie. | C5: Op=24 szt. | D5: 30
B6: RAZEM
B8: Oświadczam, że oferowany przedmiot zamówienia spełnia wyżej wymienione wymagania.
B9: Data | H9: Podpis osoby/osób upoważnionej
B10: ……………………………………………. | I10: ……………………………….

Sheet Zad.56
B1: ZOZ/DZP/PN/33/19
B2: Załącznik Nr: 9
A3: Zadanie nr: 56 - Intubacja.
A4: Lp. | B4: Nazwa produktu | C4: Jednostka miary | D4: Ilość | E4: Cena jednostkowa netto | F4: Wartość netto | G4: VAT | H4: Cena jednostkowa brutto | I4: Wartość brutto | J4: Producent /Nazwa handlowa/Nr katalogowy
A5: 1 | B5: Rurka intubacyjna z niskociśnieniowym mankietem uszczelniającym o dużej objętości, wykonana z termoczułego materiału z oczkiem Murphy'ego i nitką RTG wzdłuż całej rurki, z wyraźnym i dokładnym oznaczeniem rozmiaru w min. 2 miejscach na rurce, czytelna skala głębokości co 2 cm, wyraźny podwójny oring do okola rurki; rozmiar 3,0-10,0. Sterylna. Długość rurki uzależniona od rozmiaru i zawierająca się w przedziale 160 mm do 320 mm. Półtransparentny zdejmowany łącznik 15 mm. | C5: szt. | D5: 2500
A6: 2 | B6: Rurka nosowo-gardłowa służąca do odsysania oraz do zabezpieczenia drożności dróg oddechowych, wnętrze rurki, dostosowane specjalnie do łatwego wprowadzania cewników do odsysania rozmiary do wyboru przy zakupie 6,5- 8,5 co 0,5 | C6: szt. | D6: 62
A7: 3 | B7: Rurka tracheostomijna z przedłużoną częścią dystalną, posiadająca kaniulę wewnętrzną, miękki obrotowy kołnierz rurki, mankiet typu "duża objętość-niskie ciśnienie", dwuelementowy regulowany ogranicznik do stabilizacji kaniuli, atraumatycznie wykończone wszystkie elementy, rozmiary do wyboru przy zakupie 5,0-8,0 co 1,0 | C7: szt. | D7: 20
A8: 4 | B8: Rurka tracheostomijna z przedłużoną częścią proksymalną, posiadająca kaniulę wewnętrzną, miękki obrotowy kołnierz rurki, mankiet typu "duża objętość-niskie ciśnienie", dwuelementowy regulowany ogranicznik do stabilizacji kaniuli, atraumatycznie wykończone wszystkie elementy,rozmiary do wyboru przy zakupie 5,0-8,0 co 1,0 | C8: szt. | D8: 10
A9: 5 | B9: Rurka dooskrzelowa typu Robert Show z mankietem tchawiczym z poliuretanu i makietem dooskrzelowym z PCV, znaczniki RTG na zakończeniu dystalnym rurki, ponad mankietem dooskrzelowym oraz przy wejściu do tchawicy W zestawie min. dwa cewniki do odsysania oraz złączka Y wraz z zestawem złączy. Baloniki kontrolne oraz dreny łączące z rurką oraz zestaw złączy zgodne z kolorem danego mankietu. Położenie mankietu zapisane na baloniku kontrolnym. Prawa, rozmiar 35-41 i lewa 28-41 do wyboru przy zakupie. | C9: szt. | D9: 10
A10: 6 | B10: Rurka intubacyjna dwudrożna tchawiczo-przełykowa typu Combitube do szybkiej intubacji, zapewniająca drożność dróg oddechowych po założeniu zarówno do tchawicy jak i przełyku w sytuacjach nagłych, podwójne światło, dwa mankiety uszczelniające: krtaniowy i przełykowy, linia kontrastująca w RTG, dodatkowe oznaczenie głębokości w postaci dwóch pełnych ringów nad mankietem krtaniowym, dodatkowo w zestawie min. strzykawki: 20ml i 140ml oraz cewnik do odsysania - sterylna. rozmiaty do wyboru przy zakupie 37Fr i 41 Fr. | C10: szt. | D10: 5
A11: 7 | B11: Filtr oddechowy antybakteryjny/antywirusowy dla dorosłych z celulozowym, wyraźnie oddzielonym wymiennikiem ciepła i wilgoci - mechaniczny (bez warstwy elektrostatycznej), membrana filtrująca hydrofobowa, harmonijkowa, mała waga własna i przestrzeń martwa, port kapno, skuteczność filtracji dla bakterii i wirusów z powietrza min. 99,99% - sterylny - czas użytkowania do 24 godz. | C11: szt. | D11: 3000
A12: 8 | B12: Filtr antybakteryjny, antywirusowy, dla dorosłych, z elektrostatyczną warstwą filtrującą, z portem kapno, sterylny, o skuteczności filtracji dla bakterii i wirusów 99,999% o przestrzeni martwej 36ml, waga max. 19g, Skuteczność filtracyjna względem NaCl ≥ 97,100 % | C12: szt. | D12: 2000
A13: 9 | B13: Rurka tracheostomijna z niskoobjętościowym, niskociśnieniowym mankietem w kształcie stożka, stopniowo zwężającym się ku dołowi, wykonane z miękkiego materiału na bazie plastyfikatora wolnego od DEHP (bez ftalanów) z wyraźnie miękkim, nieprzylegającym na całej powierzchni dla mniejszej traumatyzacji stomii przezroczystym ruchomym szyldem (w płaszczyźnie góra-dół), (obrót szyldu umożliwia dopasowanie do warunków anatomicznych pacjenta) jednorazową kaniulą wewnętrzną mocowaną na rurce za pomocą specjalnego zatrzasku. W komplecie obturator oraz taśma do mocowania. Rurki posiadają bezpieczny zawór balonika pilotowego. Rozmiary do wyboru przy zakupie: 6,5 (śr. wewn. 6,5 mm, śr. zewn., 9,4 mm, dł. 30 mm); 7.0 (śr. wewn 7,0 mm, śr zewn. 10,1 mm); 7,5 (śr. wewn. 7,5 mm, śr. zewn. 10,8 mm); 8,0 (śr. wewn. 8.0 mm, śr. zewn. 11,4 mm); 8,5 (śr wewn. 8,5 mm, śr. zewn. 12,2 mm) 9,0 (śr. wewn. 9,0, śr. zewn. 12,7 mm), 10,0 (śr. wew. 10,0 mm, śr. zewn. 13,8 mm). Rurka do przedłużonego zastosowania. Rozmiar rurki, średnice wewn. i zewn. oraz rozmiar serii oznaczone na szyldzie rurki wraz z kodowaniem kolorystycznym uzależnionym od rozmiaru rurki. Sterylne. | C13: szt. | D13: 20
A14: 10 | B14: Pojemniki wypełnione 0,9% NaCl, bądź STERYLNĄ czystą postacią chemicznego H2O, pojemność 325ml oraz pojemność 500ml do wyboru przy zakupie, do tlenoterapii, możliwość zainstalowania do wielu pacjentów, opakowanie sterylne, pozostaje sterylne przez 30 dni (załączyć co najmniej 1 badanie mikrobiologiczne). W zestawie z butelką pakowana sterylna złączka do podłączenia do reduktora tlenowego | C14: szt. | D14: 2500
B15: RAZEM
B18: Oświadczam, że oferowany przedmiot zamówienia spełnia wyżej wymienione wymagania.
B19: Data | H19: Podpis osoby/osób upoważnionej
B20: ……………………………………………. | I20: ……………………………….

Sheet Zad. 57
A2: Załącznik nr 9 | H2: ZOZ/DZP/PN/28/21
A3: Zadanie nr:57 Statyw do pomp infuzyjnych
A4: Lp. | B4: Nazwa produktu | C4: Jednostka miary | D4: Ilość | E4: Cena jednostkowa netto | F4: Wartość netto | G4: VAT | H4: Cena jednostkowa brutto | I4: Wartość brutto | J4: Producent /Nazwa handlowa/Nr katalogowy
A5: 1 | B5: Statyw do pomp infuzyjnych: Podstawa jezdna pięcioramienna o średnicy 60cm z blokada na dwa koła wykonane z szarego tworzywa, z listwą elektryczną pięciogniazdową z centralnym wyłącznikiem, rura statywu o śr. 2,5 cm i dł. 195cm ze stali kwasoodpornej, czteroramienny uchwyt do butelek i worków. Stabilność konstrukcji do 17 kg. | C5: komplet | D5: 7
B6: razem
B9: Oświadczam, że oferowany przedmiot zamówienia spełnia wyżej wymienione wymagania.
B10: Data | H10: Podpis osoby/osób upoważnionej
B11: ……………………………………………. | I11: ……………………………….

Sheet Zad.58
B1: ZOZ/DZP/PN/33/19
B2: Załącznik Nr: 9
A3: Zadanie nr: 58 - Zestaw do drenażu aktywnego
A4: Lp. | B4: Nazwa produktu | C4: Jednostka miary | D4: Ilość | E4: Cena jednostkowa netto | F4: Wartość netto | G4: VAT | H4: Cena jednostkowa brutto | I4: Wartość brutto | J4: Producent /Nazwa handlowa/Nr katalogowy
A5: 1 | B5: Zestaw do drenażu opłucnej (aktywnego z opcją grawitacyjną z zastawką wodną , komora kolekcyjna o pojemności 2100ml z wersją lub dwoma drenami 1000ml+1100ml) do wyboru przy zakupie, wyskalowana co 5ml do objetości 200ml I co 10ml do 2000ml, komora wodnej regulacji siły ssania, zastawka bezpieczeństwa do uwolnienia wysokiego ciśnienia, automatyczny zawór uwalniający ciśnienie dodatnie, wypełnienie zastawki pozwala na monitoring ciśnienia, diagnozowanie przecieku, oraz zapobiega przed powrotem drenowanej treści pacjenta, samouszczelniający bezigłowy port do pobierania próbek,dren łączący, wysokość do 25cm, uchwyt do noszenia i powiedzenia, sterylny, podwójnie pakowany. | C5: szt | D5: 80
B6: Razem
B9: Oświadczam, że oferowany przedmiot zamówienia spełnia wyżej wymienione wymagania.
B10: Data | H10: Podpis osoby/osób upoważnionej
B11: ……………………………………………. | I11: ……………………………….

Sheet Zad.59
B1: ZOZ/DZP/PN/33/19
B2: Załącznik Nr: 9
A3: Zadanie nr: 59 - Strzykawki do gazometrii.
A4: Lp. | B4: Nazwa produktu | C4: Jednostka miary | D4: Ilość | E4: Cena jednostkowa netto | F4: Wartość netto | G4: VAT | H4: Cena jednostkowa brutto | I4: Wartość brutto | J4: Producent /Nazwa handlowa/Nr katalogowy
A5: 1 | B5: Strzykawka sterylna, do pobierania krwi tętniczej, żylnej i innych mateiałów, metodą aspiracji w ilości do 1,7ml, heparynizowana suchą, wysokoskoncentrowaną heparyną litową, elektrolitowo zbilansowaną jonami wapnia, sodu, oraz potasu, z systemem bezkontaktowego usuwania pęcherzyk powietrza ze strzykawki i bezkontaktowego podawania materiału do analizatora , z wewnętrznym urządzeniem wspomagającym mieszanie próbki, zakończenie luer, | C5: szt. | D5: 10000
A6: 2 | B6: Strzykawka do gazometrii napylona heparyną zbalansowana (zredukowaną) wapniem 2-3 ml | C6: szt. | D6: 6500
B7: Razem
B10: Oświadczam, że oferowany przedmiot zamówienia spełnia wyżej wymienione wymagania.
B11: Data | H11: Podpis osoby/osób upoważnionej
B12: ……………………………………………. | I12: ……………………………….

Sheet Zad.60
B1: ZOZ/DZP/PN/33/19
B2: Załącznik Nr: 9
A3: Zadanie nr: 60 – Pozycjoner pod głowę
A4: Lp. | B4: Nazwa produktu | C4: Jednostka miary | D4: Ilość | E4: Cena jednostkowa netto | F4: Wartość netto | G4: VAT | H4: Cena jednostkowa brutto | I4: Wartość brutto | J4: Producent /Nazwa handlowa/Nr katalogowy
A5: 1 | B5: Pozycjonery przeciwodleżynowe pod głowę o wymiarach 200x50 mm. Wykonane z pianki wiskoelastycznej i medycznego żelu silikonowego, pokryte poliuretanem, rozkładające ciężar ciała i obniżające nacisk powierzchniowy do bezpiecznego poziomu, chroniące przed ryzykiem podrażnienia nerwów, wielokrotnego użytku, o właściwościach nie powodujących podrażnień dla skóry - potwierdzone badaniami wg. normy ISO 10993-10 (Biologiczna ocena wyrobów medycznych – test na podrażnianie uczulanie skóry) i ISO 10993-1 (Biologiczna ocena wyrobów medycznych – ocena biokompatybilności) lub równoważnej, do dezynfekcji ogólnie dostępnymi środkami, żel nie wycieka w przypadku przecięcia powłoki, przezierne dla promieni RTG, nieprzewodzące ładunków elektrycznych, wolne od lateksu, gwarancja na wady fabryczne minimum 24 m-ce | C5: szt. | D5: 2
A6: 2 | B6: Pozycjonery przeciwodleżynowe, Półwałek o wymiarach 505x92x75 mm. Wykonane z medycznego żelu silikonowego, pokryte poliuretanem, rozkładające ciężar ciała i obniżające nacisk powierzchniowy do bezpiecznego poziomu, chroniące przed ryzykiem podrażnienia nerwów, wielokrotnego użytku, o właściwościach nie powodujących podrażnień dla skóry - potwierdzone badaniami wg. normy ISO 10993-10 (Biologiczna ocena wyrobów medycznych – test na podrażnianie uczulanie skóry) i ISO 10993-1 (Biologiczna ocena wyrobów medycznych – ocena biokompatybilności) lub równoważnej, do dezynfekcji ogólnie dostępnymi środkami, żel nie wycieka w przypadku przecięcia powłoki, przezierne dla promieni RTG, nieprzewodzące ładunków elektrycznych, wolne od lateksu, gwarancja na wady fabryczne minimum 24 m-ce | C6: szt. | D6: 2
B7: RAZEM
B11: Oświadczam, że oferowany przedmiot zamówienia spełnia wyżej wymienione wymagania.
B12: Data | H12: Podpis osoby/osób upoważnionej
B13: ……………………………………………. | I13: ……………………………….

Sheet Zad. 61
B2: ZOZ/DZP/PN/33/19
B3: Załącznik Nr: 9
B4: Zadanie nr: 61 - System do mierzenia ciśnienia śródbrzusznego.
A5: Lp. | B5: Nazwa produktu | C5: Jednostka miary | D5: Ilość | E5: Cena jednostkowa netto | F5: Wartość netto | G5: VAT | H5: Cena jednostkowa brutto | I5: Wartość brutto | J5: Producent /Nazwa handlowa/Nr katalogowy
A6: 1 | B6: Zamknięty system do nieinwazyjnego pomiaru ciśnienia śródbrzusznego metodą manometryczną ( fabrycznie połączony zestaw do godzinowej zbiórki moczu z linią pomiarową, sterylny, w jednym opakowaniu co zapewnia utrzymanie systemu zamkniętego), 20 ml dren manometryczny wyposażony w filtr biologiczny, umieszczony pomiędzy cewnikiem foley, a zestawem do godzinowej zbiórki moczu, zapewniający właściwe odpowietrzenie. Zastawka antyzwrotna wbudowana w łącznik do cewnika foley zapobiega cofaniu się moczu z zestawu do godzinowej zbiórki moczu do linii pomiarowej. Zintegrowany zacisk drenu pozwalający na wyrównanie ciśnień i precyzyjny odczyt wartości ciśnienia śródbrzusznego, bezigłowy port do pobierania próbek, linia pomiarowa wyskalowana w mm Hg, czas użycia do 7 dni. | C6: szt. | D6: 80
B7: Razem
B9: Oświadczam, że oferowany przedmiot zamówienia spełnia wyżej wymienione wymagania.
B10: Data | H10: Podpis osoby/osób upoważnionej
B11: ……………………………………………. | I11: ……………………………….

Sheet Zad.62
B2: ZOZ/DZP/PN/33/19
B3: Załącznik Nr: 9
A4: Zadanie nr: 62 - Drobny sprzęt wielorazowy
A5: Lp. | B5: Nazwa produktu | C5: Jednostka miary | D5: Ilość | E5: Cena jednostkowa netto | F5: Wartość netto | G5: VAT | H5: Cena jednostkowa brutto | I5: Wartość brutto | J5: Producent /Nazwa handlowa/Nr katalogowy
A6: 1 | B6: Aparat do mierzenia ciśnienia dla dzieci z kompletem 3 mankietów różnej wielkości | C6: szt. | D6: 3
A7: 2 | B7: Ciśnieniomierz automatyczny z mankietem naramiennym dla dorosłych z zasilaniem bateryjnym | C7: szt. | D7: 15
A8: 3 | B8: Aparat do mierzenia ciśnienia zegarowy dla dorosłych z gruszką zintegrowaną z mankietem ze słuchawkami z etui | C8: szt. | D8: 5
A9: 4 | B9: Aparat do mierzenia ciśnienia zegarowy dla dorosłych z gruszką osobno podpięta do mankietu 2-żyłowego z mankietem ze słuchawkami z etui | C9: szt. | D9: 4
A10: 5 | B10: Słuchawki lekarskie dla dorosłych typu Littmann lub równoważne spełniajace wymagania: Rodzaj membrany :‎ Pojedyncza dwutonowa membrana Rodzaj oliwek ‎: ‎ Miękkie Średnica małej membrany :‎ ‎ 3,3 cm Średnica membrany‎ : ‎ 4,3 cm Technologia głowicy ‎: ‎ Dwustronna Waga głowicy ‎: ‎ 82 g Waga netto‎ : ‎ 150 g Konstrukcja przewodu ‎: ‎ Pojedyncze światło przewodu Dodatkowe oliwki‎ : ‎ Tak Dodatkowy adaptor ‎: ‎Tak Skala akustyczna ‎: ‎ 7 Długość‎: ‎ 69 cm | C10: szt. | D10: 6
A11: 6 | B11: Słuchawki lekarskie do badania dzieci typu Littmann lub równoważne spełniajace wymagania: Średnica małej membrany‎ : 2,5 cm Średnica membrany‎ : 3,3 cm Technologia głowicy‎ : Dwustronna Waga głowicy‎ : 40 g Waga netto‎ : 105 g Pacjent‎ : Noworodek,‎ Dziecko Skala akustyczna : 7 Długość‎ : 71 cm Rodzaj membrany‎ : "Płynąca" membrana Rodzaj oliwek‎ : Miękkie | C11: szt. | D11: 1
A12: 7 | B12: Słuchawki lekarskie do badania noworodków typu Littmann lub równoważne spełniajace wymagania: Skala akustyczna : 7 Długość‎ : 71 cm Pacjrent : Noworodek Okres Gwarancji :‎ 3 lata Pacjent‎ : Noworodek, Rodzaj membrany‎ : "Płynąca" membrana Rodzaj oliwek‎ : Miękkie Średnica małej membrany‎ : 3,3 cm Średnica membrany ‎: 2,7 cm Technologia głowicy‎ : Dwustronna Waga głowicy‎ : 30 g Waga netto‎ : 95 g | C12: szt. | D12: 4
A13: 8 | B13: Latarka lekarska | C13: szt. | D13: 4
A14: 9 | B14: Szczypce Magilla do intubacji 15-17cm | C14: szt. | D14: 2
A15: 10 | B15: Szczypce Magilla do intubacji 19-22 cm | C15: szt. | D15: 1
A16: 11 | B16: Szczypce Magilla do intubacji 24-26 cm | C16: szt. | D16: 4
A17: 12 | B17: Moździeż z pistlem Fi 96-110 | C17: szt. | D17: 15
... A33: 28 | B33: Termometr elektroniczny, bezdotykowy | C33: szt. | D33: 40
B34: Razem
B37: Uwaga:
B38: Zamawiający wymaga wyrobu medycznego w pozycjach: 1-15, 17-19, 22-29.
B40: Oświadczam, że oferowany przedmiot zamówienia spełnia wyżej wymienione wymagania.
B41: Data | H41: Podpis osoby/osób upoważnionej
B42: ……………………………………………. | I42: ……………………………….

Sheet Zad.63
B1: ZOZ/DZP/PN/33/19
B2: Załącznik Nr: 9
A3: Zadanie nr: 63 – Opaski
A4: Lp. | B4: Nazwa produktu | C4: Jednostka miary | D4: Ilość | E4: Cena jednostkowa netto | F4: Wartość netto | G4: VAT | H4: Cena jednostkowa brutto | I4: Wartość brutto | J4: Producent /Nazwa handlowa/Nr katalogowy
A5: 1 | B5: Opaska zaciskowa na ramię, długa 82x8cm | C5: szt. | D5: 2
A6: 2 | B6: Opaska zaciskowa podwójna 84x16cm | C6: szt. | D6: 2
A7: 3 | B7: Opaska uciskowa dł. 5m, szer.6cm | C7: szt. | D7: 2
A8: 4 | B8: Opaska uciskowa dł. 5m, szer.10cm | C8: szt. | D8: 2
B9: RAZEM
B13: Oświadczam, że oferowany przedmiot zamówienia spełnia wyżej wymienione wymagania.
B14: Data | H14: Podpis osoby/osób upoważnionej
B15: ……………………………………………. | I15: ……………………………….

Sheet Zad.64
B1: ZOZ/DZP/PN/33/19
B2: Załącznik Nr: 9
B3: Zadanie nr: 64 - Koce grzewcze
A4: Lp. | B4: Nazwa produktu | C4: Jednostka miary | D4: Ilość | E4: Cena jednostkowa netto | F4: Wartość netto | G4: VAT | H4: Cena jednostkowa brutto | I4: Wartość brutto | J4: Producent /Nazwa handlowa/Nr katalogowy
A5: 1 | B5: Koce jednorazowe do ogrzewania pacjenta 195 x 100cm do 20% dla dorosłych kompatybilny z systemem Mistral-Air | C5: szt. | D5: 150
A6: 2 | B6: Koce jednorazowe do ogrzewania pacjenta 120 x 100cm z tolerancją 20% w górę, dla dorosłych kompatybilny z systemem Mistral-Air | C6: szt. | D6: 80
B7: RAZEM
B11: Oświadczam, że oferowany przedmiot zamówienia spełnia wyżej wymienione wymagania.
B12: Data | H12: Podpis osoby/osób upoważnionej
B13: ……………………………………………. | I13: ……………………………….

Sheet Zad.65
B1: ZOZ/DZP/PN/33/19
B2: Załącznik Nr: 9
A3: Zadanie nr 65 - Worki do moczu
A4: Lp. | B4: Nazwa produktu | C4: Jednostka miary | D4: Ilość | E4: Cena jednostkowa netto | F4: Wartość netto | G4: VAT | H4: Cena jednostkowa brutto | I4: Wartość brutto | J4: Producent /Nazwa handlowa/Nr katalogowy
A5: 1 | B5: Wieszak do worków na mocz przy łóżku | C5: szt. | D5: 1500
A6: 2 | B6: Worek do moczu z odprowadzeniem i zastawką zwrotna, jałowy 2000ml | C6: szt. | D6: 16000
A7: 3 | B7: Worek do moczu z odprowadzeniem i zastawką zwrotna, jałowy 750-1000ml do mocowania przy nodze | C7: szt. | D7: 350
A8: 4 | B8: Worek do moczu z odprowadzeniem i zastawką zwrotna, jałowy 2000ml, 7-dniowy z portem. | C8: szt. | D8: 350
B9: RAZEM
B11: Oświadczam, że oferowany przedmiot zamówienia spełnia wyżej wymienione wymagania.
B12: Data | H12: Podpis osoby/osób upoważnionej
B13: ……………………………………………. | I13: ……………………………….

Sheet Zad.66
B1: ZOZ/DZP/PN/33/19
B2: Załącznik Nr: 9
A3: Zadanie nr: 66 - Myjki.
A4: Lp. | B4: Nazwa produktu | C4: Jednostka miary | D4: Ilość | E4: Cena jednostkowa netto | F4: Wartość netto | G4: VAT | H4: Cena jednostkowa brutto | I4: Wartość brutto | J4: Producent /Nazwa handlowa/Nr katalogowy
A5: 1 | B5: Myjka w formie rękawic Dwuwarstwowa, jednorazowa myjka do mycia ciała w formie półokrągłej rękawicy. Nasączona jednostronnie środkami myjącymi o neutralnym pH 5,5, wykonana z jednej strony (części myjącej) z poliestru, z drugiej strony z włókniny. Obie warstwy myjki nie podfoliowane. Rozmiar 14 cm x 20 cm,(+,-2cm) gramatura 90g/m2. Produkowana zgodnie z wymaganiami. Czystość mikrobiologiczna na brak zawartości Pseudomonas aeruginosa, Candida albicans, Staphylococcus aureus oraz pozbawiony latexu. Opakowanie jednostkowe a'10 sztuk z nadrukowanym składem. Produkt pakowany w opakowanie foliowe.. | C5: op. 10szt. | D5: 8000
A6: 2 | B6: Szczoteczki do chirurgicznego mycia rąk, jednorazowego użytku. Produkt zaopatrzony jest z jednej strony w nylonową szczotkę, a z drugiej w miękką gąbkę. jego kształt zapewnia użytkownikowi wysoki komfort i łatwość posługiwania się. Każda szczoteczka zaopatrzona jest w szpatułkę do czyszczenia paznokci, szczoteczka jest sucha, gotowa do użycia bezpośrednio po wyjęciu z opakowania, wymiary:8x5x4cm, nasączone 4% chlorheksydyną pakowane zbiorczo w formie dyspensera | C6: szt. | D6: 3500
A7: 3 | B7: Szczoteczki do chirurgicznego mycia rąk, jednorazowego użytku. Produkt zaopatrzony jest z jednej strony w nylonową szczotkę, a z drugiej w miękką gąbkę. jego kształt zapewnia użytkownikowi wysoki komfort i łatwość posługiwania się. Każda szczoteczka zaopatrzona jest w szpatułkę do czyszczenia paznokci, szczoteczka jest sucha, gotowa do użycia bezpośrednio po wyjęciu z opakowania, wymiary:8x5x4cm, pakowane zbiorczo w formie dyspensera | C7: szt. | D7: 2000
A8: 4 | B8: formie dyspensera Gotowa do użycia, jednorazowa gąbka nasączona 25ml antyseptycznym, myjącym roztworem glukonianu chlorheksydyny o stężeniu wagowym 4 % (nie zawierająca mydła). Rozmiar 12cm x 7,5 cm x 2,3 cm(+,-0,5cm) wykonana z poliuretanu. Stosowana do antyseptycznego mycia ciała i oczyszczania skóry, wymaga spłukiwania. Pakowana pojedynczo Opakowanie blistrowe z systemem łatwego rozdzieralnego otwarcia. Wyrób nie zawiera latexu. | C8: szt. | D8: 3000
A9: 5 | B9: Czepek do bezwodnego mycia głowy Jednorazowy czepek do bezwodnego mycia głowy. Zewnętrzna warstwa polietylenowa, wewnętrzna warstwa włókniny nasączony substancjami myjącymi oraz odżywką. Nie wymagający namoczenia oraz spłukiwania. Zawierający w składzie m.in. kokamidopropylobetainę oraz dioctan glutaminianu tetrasodowego. Pakowany pojedynczo, z możliwością podgrzania w mikrofalówce (20 sek. w 800W). Zapachowy, pakowany pojedynczo. Na opakowaniu nadrukowany skład oraz instrukcja użycia Nie zawiera latexu. | C9: szt | D9: 100
B10: RAZEM
B14: Oświadczam, że oferowany przedmiot zamówienia spełnia wyżej wymienione wymagania.
B15: Data | H15: Podpis osoby/osób upoważnionej
B16: ……………………………………………. | I16: ……………………………….

Sheet Zad.67
B1: ZOZ/DZP/PN/33/19
B2: Załącznik Nr: 9
A3: Zadanie nr: 67 - Wyroby z masy celulozowej
A4: Lp. | B4: Nazwa produktu | C4: Jednostka miary | D4: Ilość | E4: Cena jednostkowa netto | F4: Wartość netto | G4: VAT | H4: Cena jednostkowa brutto | I4: Wartość brutto | J4: Producent /Nazwa handlowa/Nr katalogowy
A5: 1 | B5: Kaczka męska wykonana z pulpy celulozowej; wymiary 250 x 115 x 115mm; waga 37.5g (+/- 5g); pojemność: 800ml odporność na przesiąkanie: 4 godz.; odporność na temp cieczy: 35stC (+/- 3stC); ilość w opakowaniu: 100 szt.; Znak Ce oraz nazwa producenta na jednostkowym produkcie umożliwiająca identyfikację | C5: szt. | D5: 16000
A6: 2 | B6: Basen jednorazowy płaski 1900 – 2100ml, odporność na przesiąkanie: 4 godz.; odporność na temp cieczy: 35stC (+/- 3stC); ilość w opakowaniu: 100 szt.; Znak Ce oraz nazwa producenta na jednostkowym produkcie umożliwiająca identyfikację | C6: szt. | D6: 4000
A7: 3 | B7: Przykrywka jednorazowa do basenu płaskiego poz nr 2 ( Mozliwość utylizacji w maceratorze ) | C7: szt. | D7: 2000
A8: 4 | B8: Podstawa pod basen jednorazowy z pozycji 2 | C8: szt. | D8: 20
A9: 5 | B9: Miska nerkowata 690-710ml, odporność na przesiąkanie: 4 godz.; odporność na temp cieczy: 35stC (+/- 3stC); ilość w opakowaniu: 260 szt.: Znak Ce oraz nazwa producenta na jednostkowym produkcie umożliwiająca identyfikacje | C9: szt. | D9: 20000
A10: 6 | B10: Miska do mycia pacjenta wykonana z pulpy celulozowej; wymiary 330 x 255 x 100mm; waga 58.5g (+/- 3 g); Pojemność: 3-4 litry; odporność na przesiąkanie: 2 godziny; przystosowana do ciepłej wody z detergentem, do temperatury 45 stopni C; | C10: szt. | D10: 7000
A11: 7 | B11: Miska Mała Ogólnego zastosowania ( Nocnik Dziecięcy ) wymiary 233x86 mm pojemność robocza 1 litr Odporność na przesiąkanie dla zawartości o temperaturze do 35 stopni 4 godziny Znak Ce oraz nazwa producenta na jednostkowym produkcie umożliwiająca identyfikacja | C11: szt. | D11: 3000
A12: 8 | B12: Podstawka pod miskę ogólnego zastosowania ( Nocnik ) kompatybilna z pozycją nr 7 | C12: szt. | D12: 5
A13: 9 | B13: Przykrywka do miski ogólnego zastosowania ( Nocnik ) kompatybilna z pozycją nr. 7 ( Możliwość utylizacji w maceratorze ) | C13: szt. | D13: 500
A14: 10 | B14: Miska do mycia pacjenta wykonana z pulpy celulozowej; wymiary 365 x 258 x 170mm; wysokość ścian naczynia co najmniej 16 centymetrów od podstawy; waga 95g (+/- 5 g); pojemność: 6 litrów; odporność na przesiąkanie: 2 godziny;przystosowana do ciepłej wody z detergentem, do temperatury 45 stopni C; | C14: szt. | D14: 500
B15: Razem
B17: Pojemniki jednorazowego użytku do utylizacji ludzkich odpadów bytowych. Produkt wykonany z regenerowanych włókien celulozy, klejony naturalnym woskiem z dodatkiem żywicy ze środkiem pomocniczym zapobiegającym osadzaniu i pienieniu
B20: Oświadczam, że oferowany przedmiot zamówienia spełnia wyżej wymienione wymagania.
B21: Data | H21: Podpis osoby/osób upoważnionej
B22: ……………………………………………. | I22: ……………………………….

Sheet Zad.68
B1: ZOZ/DZP/PN/33/19
B2: Załącznik Nr: 9
B3: Zadanie nr: 68 - Zestawy cewników, igły.
A4: Lp. | B4: Nazwa produktu | C4: Jednostka miary | D4: Ilość | E4: Cena jednostkowa netto | F4: Wartość netto | G4: VAT | H4: Cena jednostkowa brutto | I4: Wartość brutto | J4: Producent /Nazwa handlowa/Nr katalogowy
A5: 1 | B5: Cewnik 1-światł. do żyły głównej zakładany przez kaniulę, odłokciowy G-16 1.1x1.7 dł. 70 cm | C5: szt. | D5: 30
A6: 2 | B6: Cewnik 1-swiatł. do żyły głównej zakładany przez kaniulę , odłokciowy G-14 1,4 x 2,1 dł. 70 cm | C6: szt. | D6: 30
A7: 3 | B7: Igła z ostrzem typu Pencil Point z bocznym otworem, przezroczysty uchwyt lock ze wskaźnikiem położenia szlifu igły, z pryzmatem zmieniającym barwę po wypełnieniu PMR G-25 x 3,5cala (0,53x88 ) z prowadnicą | C7: szt. | D7: 2800
A8: 4 | B8: Igła z ostrzem typu Pencil Point z bocznym otworem, przezroczysty uchwyt lock, ze wskaźnikiem położenia szlifu igły, z pryzmatem zmieniającym barwę po wypełnieniu PMR G-27 x 3,5cala (0,42x88 ) z prowadnicą | C8: szt. | D8: 1800
A9: 5 | B9: Igła z ostrzem typu Pencil Point z bocznym otworem, przezroczysty uchwyt lock, z pryzmatem zmieniającym barwę po wypełnieniu PMR G-22 x 3,5cala (0,7x88 ) | C9: szt. | D9: 100
A10: 6 | B10: Igła do znieczuleń zewnątrzoponowych G 16 1,7x80 typ TUOHY zakrzywiona, ze skrzydełkami mocowanymi na stałe igła oznaczona, co 1cm celem kontroli gł. wkłucia, wzmocniona mandrynem z tworzywa sztucznego do wyboru przy zakupie. | C10: szt. | D10: 50
A11: 7 | B11: Igła do znieczuleń z ostrzem typu Pencil-Point o długości 88-90mm, w komplecie z igłą prowadzącą 20-22G, igła wykonana z wysokiej jakości stali nierdzewnej, eleiptyczny, uchwyt z wskaźnikiem położenia szlifu w uchwycie igły i mandrynu, pryzmat wizualizacyjny, zmieniający barwę pod wpływem płynu mózgowo-rdzeniowego - konstrukcja uchwytów igły i prowadnicy zapewnia skrócenie długości roboczej igły o mniej niż 12mm. 25G-27G | C11: szt. | D11: 600
A12: 8 | B12: Igła do znieczuleń z ostrzem typu Pencil-Point o długości 103mm, w komplecie z igłą prowadzącą 20-22G, igła wykonana z wysokiej jakości stali nierdzewnej, eleiptyczny, uchwyt z wskaźnikiem położenia szlifu w uchwycie igły i mandrynu, pryzmat wizualizacyjny, zmieniający barwę pod wpływem płynu mózgowo-rdzeniowego - konstrukcja uchwytów igły i prowadnicy zapewnia skrócenie długości roboczej igły o mniej niż 12mm 25G-27G | C12: szt. | D12: 300
A13: 9 | B13: Igła do nakłuć lędźwiowych i znieczuleń - typu Standard - z ostrzem typu Quincke, idealnie dopasowany mandryn, przeźroczysta nasadka, ułatwiająca wizualizację płynu, eleiptyczny, wygodny uchwyt z wskaźnikiem położenia szlifu w uchwycie igły i mandrynu, pryzmat wizualizacyjny, zmianijący barwę pod wpływem płynu .mózgowo-rdzeniowego 19 G /1.1mm/ x 88-90mm oraz 22 G /0.7mm/ x 38-40mm. | C13: szt. | D13: 50
A14: 10 | B14: Igła zewnątrzoponowa TUOHY 18 G, sterylna apirogenna, wykonana z wysokiej klasy stali, 16-18G /1.7-1.3mm/ x 80-90mm | C14: szt. | D14: 50
A15: 11 | B15: Igła zewnątrzoponowa TUOHY 18 G, sterylna apirogenna, wykonana z wysokiej klasy stali , 18G x 150mm | C15: szt. | D15: 50
A16: 12 | B16: Igła do przepłukiwania portów 22Gx25mm zakrzywiona | C16: szt. | D16: 100
... A30: 26 | B30: Igła z ostrzem typu Pencil Point z bocznym otworem, przezroczysty uchwyt lock ze wskaźnikiem położenia szlifu igły, z pryzmatem zmieniającym barwę po wypełnieniu PMR G-27 x 3,5cala (0,53x120 ) z prowadnicą | C30: szt | D30: 125
B31: RAZEM
B33: Oświadczam, że oferowany przedmiot zamówienia spełnia wyżej wymienione wymagania.
B34: Data | H34: Podpis osoby/osób upoważnionej
B35: ……………………………………………. | I35: ……………………………….

Sheet Zad.69
B1: ZOZ/DZP/PN/33/19
B2: Załącznik Nr: 9
A3: Zadanie nr: 69 - Skalpele jednorazowe
A4: Lp. | B4: Nazwa produktu | C4: Jednostka miary | D4: Ilość | E4: Cena jednostkowa netto | F4: Wartość netto | G4: VAT | H4: Cena jednostkowa brutto | I4: Wartość brutto | J4: Producent /Nazwa handlowa/Nr katalogowy
A5: 1 | B5: Nożyk chirurgiczny jednorazowy typu skalpel z mechanizmem powalającym na bezpieczne chowanie oraz wysuwanie ostrza, wraz z blokadą, w rękojeści skala w cm i calach, mechanizm blokady ze słyszalnym kliknięciem i wizualizacją. Rozmiar nr 10,11,15,20,22 | C5: Op=10 szt | D5: 600
B6: RAZEM
B8: Oświadczam, że oferowany przedmiot zamówienia spełnia wyżej wymienione wymagania.
B9: Data | H9: Podpis osoby/osób upoważnionej
B10: ……………………………………………. | I10: ……………………………….

Sheet Zad.70
B1: ZOZ/DZP/PN/33/19
B2: Załącznik Nr: 9
A4: Zadanie nr: 70 - Akcesoria do OIT
A5: Lp. | B5: Nazwa produktu | C5: Jednostka miary | D5: Ilość | E5: Cena jednostkowa netto | F5: Wartość netto | G5: VAT | H5: Cena jednostkowa brutto | I5: Wartość brutto | J5: Producent /Nazwa handlowa/Nr katalogowy
A6: 1 | B6: Resuscytator wielorazowy, zawór pacjenta, maska z pompowanym mankietem roz. 5, rezerwuar tlenu do sterylizacji w autoklawie. Worek samorozprężalny umożliwiający wentylację pacjentów o masie ciała od 15 kg wzwyż - Maksymalna dostarczana objętość oddechowa 1300 ml - Możliwość podłączenia zaworu PEEP na zaworze pacjenta bez potrzeby stosowania dodatkowych złączek - Pasek zabezpieczający przed wyślizgiwaniem się z dłoni - Dodatkowa zewnętrzna (wymienna) powłoka worka zabezpieczająca przed wytworzeniem zbyt wysokiego ciśnienia w drogach oddechowych bez skokowej utraty objętości - Odłączany rezerwuar tlenu o objętości 1500 ml - Maska dla dorosłych z miękkim pompowanym mankietem rozmiar 5 - Możliwość sterylizacji wszystkich elementów resuscytatora w autoklawie (w temp 134ºC) włącznie z rezerwuarem tlenu i maską - Instrukcja obsługi w języku polskim zawierająca wykaz części zamiennych | C6: szt. | D6: 5
A7: 2 | B7: Resuscytator MARK IV Baby, zawór pacjenta, zamknięty rezerwuar tlenu nadający się do sterylizacji w autoklawie, maska 0 z pompowanym mankietem.- Możliwość wentylacji małych dzieci, niemowląt i noworodków (waga pacjenta poniżej 20 kg)- Maksymalna objętość oddechowa 300 ml- Prosta konstrukcja zaworu pacjenta ułatwiająca demontaż w celu czyszczenia i sterylizacji -zawór z pojedynczą membraną- Możliwość podłączenia zaworu PEEP na zaworze pacjenta bez potrzeby stosowania dodatkowych złączek- Dodatkowa powłoka worka zabezpieczająca przed wytworzeniem zbyt wysokiego ciśnienia w drogach oddechowych bez skokowej utraty objętości oddechowej- Zawór bezpieczeństwa 40 cm H2O- Zaczep do powieszenia aparatu- Odłączany rezerwuar tlenu o objętości 1500 ml - Złącze umożliwiające pomiar ciśnienia w drogach oddechowych podczas wentylacji- Maska twarzowa silikonowa rozmiar 0 - Możliwość sterylizacji wszystkich elementów resuscytatora w autoklawie - w temp 134 °C,włącznie z rezerwuarem tlenu i maską. | C7: szt. | D7: 5
A8: 3 | B8: Maska dla dzieci, rozmiar 2 z pompowanym mankietem. Przezroczysta kopuła umożliwiająca zaobserwowanie krwawienia, wymiocin lub oddechów spontanicznych. Oparcie na kciuk ułatwiające docisk maski do twarzy Anatomiczny kształt z pompowanym mankietem uszczelniającym. Możliwość zdjęcia mankietu w celu umycia. Możliwość sterylizacji w autoklawie w temp. 134°C. | C8: szt. | D8: 5
A9: 4 | B9: Resuscytator Ambu Oval Plus • Możliwość wentylacji pacjentów o macie ciała powyżej 30 kg, • Objętość oddechowa 1100 ml, • Możliwość podłączenia zaworu PEEP na zaworze pacjenta bez potrzeby stosowania dodatkowych złączek, • Rezerwuar tlenu o objętości 1500 ml • Możliwość podawania tlenu po odłączeniu rezerwuaru tlenu • Pasek zabezpieczający przed wyślizgiwaniem się z dłoni zintegrowany z workiem silikonowym • Obrotowe połączenie zaworu pacjenta z workiem • Maska dla dorosłych rozmiar 5, silikonowa z otwartym mankietem • Możliwość wielokrotnej sterylizacji wszystkich elementów resuscytatora w autoklawie (w temp. 134 stopni C) włącznie z rezerwuarem tlenu • Instrukcja obsługi w języku polskim z wykazem części zamiennych. | C9: szt. | D9: 25
A10: 5 | B10: Zawór pacjenta z pojedynczą membraną i obracanym złączem do Ambu MARK III /Ambu MARK IV | C10: szt. | D10: 5
A11: 6 | B11: Membrana do zaworu pacjenta z pojedynczą membraną i zaworu wlotowego | C11: szt. | D11: 5
A12: 7 | B12: Rezerwuar tlenu MARK IV do sterylizacji w autoklawie | C12: szt. | D12: 5
A13: 8 | B13: Zawór wlotowy do MARK IV kompletny | C13: szt. | D13: 5
A14: 9 | B14: Powłoka zewnętrzna do MARK IV | C14: szt. | D14: 5
A15: 10 | B15: Zawór pacjenta pediatryczny do Ambu MARK IV Baby | C15: szt. | D15: 5
A16: 11 | B16: Rezerwuar tlenu MARK IV (do sterylizacji w autoklawie) z adapterem umożliwiającym podłączenie do MARK IV Baby | C16: szt. | D16: 5
A17: 12 | B17: Powłoka zewnętrzna do MARK IV Baby | C17: szt. | D17: 5
... A20: 15 | B20: Worek rezerwuaru tlenu do Ambu Mark IV/Oval PLUS nadający się do sterylizacji w autoklawie | C20: szt. | D20: 5
A21: RAZEM
B24: Oświadczam, że oferowany przedmiot zamówienia spełnia wyżej wymienione wymagania.
B25: Data | H25: Podpis osoby/osób upoważnionej
B26: ……………………………………………. | I26: ……………………………….

Sheet Zad.71
B1: ZOZ/DZP/PN/33/19
B2: Załącznik Nr: 9
A3: Zadanie nr: 71- Tracheostomia i konikotomia
A4: Lp. | B4: Nazwa produktu | C4: Jednostka miary | D4: Ilość | E4: Cena jednostkowa netto | F4: Wartość netto | G4: VAT | H4: Cena jednostkowa brutto | I4: Wartość brutto | J4: Producent /Nazwa handlowa/Nr katalogowy
A5: 1 | B5: Rurka tracheostomijna z mankietem uszczelniejącym typu Fome-Cuf, wykonana ze 100% czystego medycznego silikonu, powłoka zmniejszająca przyleganie, łącznik 15mm, mankiet samorozprężalny z pianki poliuretanowej typu Fome-Cuf, elastyczny kołnierz z oznaczeniem średnicy wewnętrznej i zewnętrznej oraz długości rurki, mandryn, w zestawie strzykawka 60ml z kranikiem, łącznik do automatycznej regulacji ciśnienia, tasiemka do mocowania, klin do rozłączania oraz koreczek, rozmiary do dowolnego wyboru w trakcie realizacji umowy 5,0 do 9,0 co 1,0 | C5: szt. | D5: 5
A6: 2 | B6: Kompletny zestaw do przezskórnej tracheotomii metodą Griggsa. W Zestawie min.: Kompletny zestaw do przezskórnej tracheotomii metodą Griggsa, z wielorazowym peanem, zawierający skalpel, kaniulę z igłą i strzykawką do identyfikacji tchawicy, prowadnicę Seldingera, rozszerzadło oraz rurkę tracheostomijną z wbudowanym przewodem do odsysania z przestrzeni podgłośniowej z mankietem niskociśnieniowym, posiadającą sztywny samoblokujący się mandryn z otworem na prowadnicę Seldingera. Pakowany na jednej, sztywnej tacy umożliwiającej szybkie otwarcie zestawu. Rozmiary: 7,0mm, 8,0mm, 9,0mm | C6: szt. | D6: 3
A7: 3 | B7: Zestaw do przezskórnej tracheostomii metodą Griggsa, w zestawie min.: skalpel, kaniula z igłą i strzykawką do identyfikacji tchawicy, prowadnica Seldingera, rozszerzadło, rurka tracheostomijna z mankietem niskociśnieniowym i samoblokującym się mandrynem z otworem na prowadnicę Seldingera, możliwość odsysania z przestrzeni pogłośniowej, pakowany na jednej,sztywnej tacy umożliwiającej szybkie otwarcie zestawu. Rozmiary do wyboru podczas zakupu 7,0 -8,0 - 9,0 | C7: kpl. | D7: 75
A8: 4 | B8: Rurka tracheostomijna z regulowanym położeniem kołnierza, mechanizm blokujący, umożliwiający przesuwanie kołnierza wzdłuż osi rurki oraz obracanie o 360°, miękki, cienkościenny, niskociśnieniowy mankiet z systemem ograniczania wzrostu ciśnienia wewnątrz mankietu, wykonana z mieszaniny silikonu i PCV, oznaczenie na rurce jej rozmiaru, rodzaju oraz średnicy mankietu i zakresu zmiennej długości. Rozmiary do wtboru podczas zakupu 7,0-8,0-9,0 | C8: szt. | D8: 25
A9: 5 | B9: Rurka tracheotomijna z odsysaniem z przestrzeni podgłośniowej, z miękkim, cienkościennym mankietem niskociśnieniowym oraz systemem ograniczania wzrostu ciśnienia wewnątrz mankietu typu Soft Seal lub równoważnym z balonikiem kontrolnym wyraźnie wskazującym na wypełnienie mankietu (płaski przed wypełnieniem), oznaczenie na rurce jej rozmiaru, rodzaju i średnicy mankietu, wykonana z termoplastycznego PCV, przeżroczysty kołnierz z oznaczeniem rozmiaru i długości rurki, samoblokujący się mandryn z otworem na prowadnicę Seldingera umożliwiający założenie bądź wymianę rurki. Rozmiary do wyboru podczas zakupu 7,0-9,0 co 0,5 | C9: szt. | D9: 250
A10: 6 | B10: Zestaw do szybkiej, bezpiecznej, ratunkowej konikotomii - typu PCK, z igłą Veressa, wyposażoną we wskaźnik sygnalizujący wejście do światła tachawicy i kontakt z jej tylna ściną, w zestawie ponadto min.: rurka tracheostomijna 6,0mm z mankietem uszczelniającym. skalpel nr 15, strzykawka 10ml, miękka opaska do mocowania rurki, wymiennik ciepła i wilgoci typu thermovent T oraz szew chirurgiczny, nylonowy z igłą, opakowanie typu blister z graficzna instrukcją obsługi. Rozmiar 6,0 | C10: szt. | D10: 10
A11: 7 | B11: Zestaw do punkcji opłucnej ( / osierdzia / otrzewnej) o składzie: igła Veressa; cewnik z poliuretanu, widoczny w rtg, w rozmiarach 9Ch lub 12Ch, do 29 dni, z układem automatycznych zastawek jednokierunkowych (możliwość przełączenia w tryb drenażu z pominięciem zastawek); strzykawka luer lock 60ml; worek do drenażu 2000ml z kranikiem spustowym; skalpel z zatrzaskowym zabezpieczeniem ostrza przed zakłuciem; łącznik luer lock / schodkowy; linia do przedłużenia cewnika dł. 50cm, zacisk nożyczkowy; komplet mocowań cewnika do skóry pacjenta. | C11: szt | D11: 80
A12: 8 | B12: Rurka intubacyjna z mankietem typu Soft-Seal i odsysaniem z nad mankietu. Rurka intubacyjna z mankietem zwężającym się ku dołowi, o potwierdzonej badaniami klinicznymi obniżonej przenikalności dla podtlenku azotu, z wbudowanym przewodem do odsysania, z otworem Murphy’ego, balonik kontrolny wskazujący na stan wypełnienia mankietu z oznaczeniem nazwy producenta, średnicy rurki i mankietu oraz rodzaju mankietu, dodatkowe oznaczenie rozmiaru na korpusie rurki w miejscu widocznym po zaintubowaniu jak i na łączniku, linia Rtg na całej długości rurki, skala centymetrowa podana na korpusie rurki, sterylna, jednorazowa, rozmiary od 6,0 do 9,0 mm co 0,5 mm. | C12: szt | D12: 350
A13: 9 | B13: Rurka tracheostomijna z regulowanym położeniem kołnierza. Rurka tracheostomijna z regulowanym położeniem kołnierza, wykonana z czystego silikonu, z mankietem typu Aire-Cuf, zbrojona, z centymetrowymi znacznikami głębokości, z oznaczeniem na kołnierzu średnicy wew. i zew. długości, rodzaju i średnicy mankietu, z obturatorem i łącznikiem 15mm, w zestawie z opaską do mocowania oraz klinem do rozłączania obwodu oddechowego, sterylna, rozmiary: Śr. wew. (mm) / Śr. zew. (mm) / Długość (mm) 6,0 / 8,7 / 110 7,0 / 10,0 / 120 8,0 / 11,0 / 130 9,0 / 12,3 / 140 | C13: szt | D13: 3
A14: 10 | B14: Rurka Wyskalowana, zbrojona rurka tracheostomijna z mankietem niskociśnieniowym z balonikiem kontrolnym wyraźnie wskazującym na wypełnienie mankietu (płaski przed wypełnieniem) posiadający oznaczenia rozmiaru rurki oraz rodzaju i średnicy mankietu, wykonana z termoplastycznego PCW, zbrojona drutem, z elastycznym, przezroczystym regulowanym kołnierzem z zaciskiem utrzymującym właściwą pozycję, z oznaczeniem rozmiaru na giętkich skrzydełkach, z samoblokującym się mandrynem z otworem na cewnik prowadzący, w zestawie cienkościenna elastyczna kaniula z PTFE, gąbka do czyszczenia kaniuli, miękka opaska mocująca i klin do odłączania rurki. Rozmiary: 7mm, 8mm i 9mm | C14: szt | D14: 3
A15: 11 | B15: Rurka dooskrzelowa prawa, bez zaczepu, z dwoma mankietami niskociśnieniowymi zróżnicowanymi kolorami odpowiadającymi kolorom baloników kontrolnych, z oznaczeniem na korpusie rurki średnicy zarówno części tchawiczej jak i oskrzelowej, z otworem Murphy’ego, linia widoczna pod Rtg na całej długości rurki, zintegrowane łączniki kątowe z uszczelnionym wejściem do bronchoskopu, w zestawie: prowadnica do ukształtowania, łącznik obrotowy, trójnik, kolorystycznie zróżnicowane elastyczne przedłużki do zamknięcia światła oraz cztery cewniki do odsysania. Rozmiary: 28F, 32F, 35F, 37F, 39F, 41F | C15: szt | D15: 2
A16: 12 | B16: Rurka dooskrzelowa lewa, bez zaczepu, z dwoma mankietami niskociśnieniowymi zróżnicowanymi kolorami odpowiadającymi kolorom baloników kontrolnych, z oznaczeniem na korpusie rurki średnicy zarówno części tchawiczej jak i oskrzelowej, linia widoczna pod Rtg na całej długości rurki, zintegrowane łączniki kątowe z uszczelnionym wejściem do bronchoskopu, w zestawie: prowadnica do ukształtowania, łącznik obrotowy, trójnik, kolorystycznie zróżnicowane elastyczne przedłużki do zamknięcia światła oraz cztery cewniki do odsysania. Rozmiary: 28F, 32F, 35F, 37F, 39F, 41F | C16: szt | D16: 2
... A22: 18 | B22: Zatrzaskowy system mocowania cewnika do skóry pacjenta z przezroczystą, sztywną, płaską częścią zatrzaskową, gąbkową częścią przylepną, niskoprofilowy (wysokość do 5mm), rozmiary 18G i 16G/17G. | C22: szt | D22: 300
A23: RAZEM
B26: Oświadczam, że oferowany przedmiot zamówienia spełnia wyżej wymienione wymagania.
B27: Data | H27: Podpis osoby/osób upoważnionej
B28: ……………………………………………. | I28: ……………………………….

Sheet Zad.72
B1: ZOZ/DZP/PN/33/19
B2: Załącznik Nr: 9
B3: Zadanie nr: 72- Staplery
A4: Lp. | B4: Nazwa produktu | C4: Jednostka miary | D4: Ilość | E4: Cena jednostkowa netto | F4: Wartość netto | G4: VAT | H4: Cena jednostkowa brutto | I4: Wartość brutto | J4: Producent /Nazwa handlowa/Nr katalogowy
A5: 1. | B5: Stapler okrężny o średnicy zewnętrznej kowadełka 25,5mm i średnicy ostrza 17mm, zakrzywiony jednorazowego użytku do stosowania wewnętrznego. Kowadełko zaopatrzone w otwór do przeciągania szwu prowadzącego.Stapler z zintegrowaną automatyczną blokadą bezpieczeństwa, oraz systemem obrotowego ostrza.16 zszywek ze stopu tytanu w dwóch rzędach z kontrolowanym dociskiem tkanki i regulowaną wysokością zszywek w zakresie od 1mm do 2,5mm.Pokrętło regulacyjne „motylkowe” ułatwiające zamykanie i otwieranie staplera, z opcją podwójnej prędkości, | C5: Szt. | D5: 2
A6: 2. | B6: Stapler okrężny o średnicy zewnętrznej kowadełka 29,5mm i średnicy ostrza 20,5 mm zakrzywiony jednorazowego użytku do stosowania wewnętrznego. Kowadełko zaopatrzone w otwór do przeciągania szwu prowadzącego.Stapler z zintegrowaną automatyczną blokadą bezpieczeństwa, oraz systemem obrotowego ostrza.16 zszywek ze stopu tytanu w dwóch rzędach z kontrolowanym dociskiem tkanki i regulowaną wysokością zszywek w zakresie od 1mm do 2,5mm.Pokrętło regulacyjne „motylkowe” ułatwiające zamykanie i otwieranie staplera, z opcją podwójnej prędkości, | C6: Szt. | D6: 3
A7: 3. | B7: Stapler okrężny o średnicy zewnętrznej kowadełka 33,5mm i średnicy ostrza 24,8 mm zakrzywiony jednorazowego użytku do stosowania wewnętrznego. Kowadełko zaopatrzone w otwór do przeciągania szwu prowadzącego.Stapler z zintegrowaną automatyczną blokadą bezpieczeństwa, oraz systemem obrotowego ostrza.16 zszywek ze stopu tytanu w dwóch rzędach z kontrolowanym dociskiem tkanki i regulowaną wysokością zszywek w zakresie od 1mm do 2,5mm.Pokrętło regulacyjne „motylkowe” ułatwiające zamykanie i otwieranie staplera, z opcją podwójnej prędkości, | C7: Szt. | D7: 4
A8: 4. | B8: Stapler okrężny jednorazowego użytku do stosowania wewnętrznego, prosty, umożliwiający wykonanie zespolenia bez przecinających się linii zszywek. Stapler o średnicy zewnętrznej kowadełka 29,5mm i średnicy ostrza 20,5 mm. 24 zszywki wykonane ze stopu tytanu, o wysokości 5mm przed zamknięciem oraz 1,00 do 2,50 mm po zamknięciu. Wysokość obudowy 4mm, pojemność główki staplera 12,6mm.Stapler z 4 otworami trakcyjnymi pozwalające na wciągnięcie linii zszywek i tkanki do główki staplera, wzmocnione ostrze i system jego uwalniania (Power cut) wraz z akcesoriami trans analnymi do wykonania zespolenia bez przecinających się linii zszywek (anoskop, 2 trokary pomocnicze, szydełko, zestaw do oceny szczelności | C8: Szt. | D8: 5
A9: 5. | B9: Stapler okrężny jednorazowego użytku do stosowania wewnętrznego, prosty, umożliwiający wykonanie zespolenia bez przecinających się linii zszywek. Stapler o średnicy zewnętrznej kowadełka 33,5mm i średnicy ostrza 24,8 mm. 32 zszywki i wykonane ze stopu tytanu, o wysokości 5mm przed zamknięciem oraz 1,00 do 2,50 mm po zamknięciu. Wysokość obudowy 4mm, pojemność główki staplera 12,6mm.Stapler z 4 otworami trakcyjnymi pozwalające na wciągnięcie linii zszywek i tkanki do główki staplera, wzmocnione ostrze i system jego uwalniania (Power cut) wraz z akcesoriami trans analnymi do wykonania zespolenia bez przecinających się linii zszywek (anoskop, 2 trokary pomocnicze, szydełko, zestaw do oceny szczelności | C9: Szt. | D9: 6
A10: 6. | B10: Stapler liniowy z nożem wbudowanym w ładunek, w rozmiarze 60 o długości linii zszywek 65mm i długości linii cięcia 59mm, jednorazowego użytku do stosowania wewnętrznego.Stapler z dwustronną dźwignią do wystrzelenia ładunku wraz z przyciskiem szybkiego zwalniania.Wskaźnik końca linii cięcia,ruchomy ładunek zabezpieczający przed przypadkowym wystrzeleniem,oraz systemy zabezpieczające zespolenie: łańcuch pozycjonujący tkanki – zapobiega ześlizgiwaniu się tkanki z końcówek roboczych narzędzia, początek i koniec zespolenia na długości min.1,5 zszywki poza linią cięcia, system kontroli dźwigni zapewniający równoczesne zamykanie końcówek roboczych narzędzia i równomierną kompresję tkanki, -64 zszywek ze stopu tytanu o wysokości 4,5 mm ułożonych w dwóch rzędach, dla grubości tkanki od 1,8mm do 2mm. | C10: Szt. | D10: 7
A11: 7. | B11: Ładunek do staplera liniowego z nożem dł.60-zszywki 4,5(kolor zielony) | C11: Szt. | D11: 8
A12: 8. | B12: Stapler liniowy z nożem wbudowanym w ładunek, w rozmiarze 80 o długości linii zszywek 85mm i długości linii cięcia 79mm, jednorazowego użytku do stosowania wewnętrznego.Stapler z dwustronną dźwignią do wystrzelenia ładunku wraz z przyciskiem szybkiego zwalniania.Wskaźnik końca linii cięcia,ruchomy ładunek zabezpieczający przed przypadkowym wystrzeleniem,oraz systemy zabezpieczające zespolenie: łańcuch pozycjonujący tkanki – zapobiega ześlizgiwaniu się tkanki z końcówek roboczych narzędzia, początek i koniec zespolenia na długości min.1,5 zszywki poza linią cięcia, system kontroli dźwigni zapewniający równoczesne zamykanie końcówek roboczych narzędzia i równomierną kompresję tkanki,84 zszywek ze stopu tytanu o wysokości 3,8mm ułożonych w dwóch rzędach, dla grubości tkanki od 1mm do 1,5mm. | C12: Szt. | D12: 9
A13: 9. | B13: Ładunek do staplera liniowego z nożem dł.80-zszywki 3,8(kolor niebieski) | C13: Szt. | D13: 10
A14: 10. | B14: Stapler liniowy z nożem wbudowanym w ładunek, w rozmiarze 80 o długości linii zszywek 85mm i długości linii cięcia 79mm, jednorazowego użytku do stosowania wewnętrznego.Stapler z dwustronną dźwignią do wystrzelenia ładunku wraz z przyciskiem szybkiego zwalniania.Wskaźnik końca linii cięcia,ruchomy ładunek zabezpieczający przed przypadkowym wystrzeleniem,oraz systemy zabezpieczające zespolenie: łańcuch pozycjonujący tkanki – zapobiega ześlizgiwaniu się tkanki z końcówek roboczych narzędzia, początek i koniec zespolenia na długości min.1,5 zszywki poza linią cięcia, system kontroli dźwigni zapewniający równoczesne zamykanie końcówek roboczych narzędzia i równomierną kompresję tkanki,84 zszywek ze stopu tytanu o wysokości 4,5mm ułożonych w dwóch rzędach, dla grubości tkanki od 1mm do 1,5mm. | C14: Szt. | D14: 11
A15: 11. | B15: Ładunek do staplera liniowego z nożem dł.80-zszywki 4,5(kolor zielony) | C15: Szt. | D15: 12
A16: 12. | B16: Stapler liniowy z nożem wbudowanym w ładunek, w rozmiarze 100 o długości linii zszywek 105mm i długości linii cięcia 99mm, jednorazowego użytku do stosowania wewnętrznego.Stapler z dwustronną dźwignią do wystrzelenia ładunku wraz z przyciskiem szybkiego zwalniania.Wskaźnik końca linii cięcia,ruchomy ładunek zabezpieczający przed przypadkowym wystrzeleniem,oraz systemy zabezpieczające zespolenie: łańcuch pozycjonujący tkanki – zapobiega ześlizgiwaniu się tkanki z końcówek roboczych narzędzia, początek i koniec zespolenia na długości min.1,5 zszywki poza linią cięcia, system kontroli dźwigni zapewniający równoczesne zamykanie końcówek roboczych narzędzia i równomierną kompresję tkanki,104 zszywek ze stopu tytanu o wysokości 3,8mm ułożonych w dwóch rzędach, dla grubości tkanki od 1mm do 1,5mm. | C16: Szt. | D16: 13
... A20: 16. | B20: Skalpel bezpieczny ze sali węglowej FIG10,11,15,20 do wyboru przy zakupie | C20: op.=10 szt | D20: 35
B21: RAZEM
B24: Oświadczam, że oferowany przedmiot zamówienia spełnia wyżej wymienione wymagania.
B25: Data | H25: Podpis osoby/osób upoważnionej
B26: ……………………………………………. | I26: ……………………………….

Sheet Zad.73
A1: Załącznik nr 9 | H1: ZOZ/DZP/PN/10/20
A3: Zadanie nr: 73 - Obuwie operacyjne
A4: Lp. | B4: Nazwa produktu | C4: Jednostka miary | D4: Ilość | E4: Cena jednostkowa netto | F4: Wartość netto | G4: VAT | H4: Cena jednostkowa brutto | I4: Wartość brutto | J4: Producent /Nazwa handlowa/Nr katalogowy
A5: 1 | B5: Buty operacyjne : Buty operacyjne zielone, niebieskie, białe, fioletowe. Rozmiary: 36, 37, 38. 39. 40, 41, 42, 43, 44, 45, 46, 47. Obuwie operacyjne wykonane z tworzywa sztucznego. Obuwie ma zapełnić trwałość – ma być wykonane z jednego odlewu, wolne od klejenia czy innego łączenia poszczególnych elementów, bez elementów ruchomych w postaci pasków zabezpieczających stopę przed wysunięciem. Obuwie ma zapewnić wysoki komfort użytkowania: ma posiadać otwory wentylacyjne po bokach oraz anatomicznie wyprofilowaną powierzchnię styku ze stopą w części śródstopia. Obuwie ma zapewnić bezpieczeństwo użytkowania dzięki płaskiej podeszwie z dopuszczalnym prześwitem w części śródstopia nie wyższym niż 10mm mierzonym od podeszwy do płaszczyzny styku obuwia z podłożem, oraz podwyższonemu oparciu pięty o wysokości nie mniejszej niż 30mm mierzonej od wewnętrznej strony buta, w celu zabezpieczenia stopy przed wysunięciem się. Łatwa identyfikacja rozmiaru ma być zapewniona dzięki wytłoczeniu rozmiaru buta na jego pięcie. Antypoślizgowe dzięki wyprofilowanej podeszwie, antystatyczne. Nadające się do mycia i dezynfekcji w maksymalnej temp. 85 stopni. Gwarancja na 5 lat. | C5: para | D5: 40
A6: 2 | B6: Obuwie operacyjne: wykonane z tworzywa SEBS spełniające wymagania dla środków ochrony osobistej klasy 1 wg dyrektywy EEC 89/686. Obuwie ma zapewnić trwałość – ma być wykonane z jednego odlewu, wolne od klejenia czy też innego łączenia poszczególnych elementów, bez ruchomych elementów w postaci pasków zabezpieczających stopę przed wypadaniem. Tworzywo, z którego wykonane jest obuwie ma zapewnić wysoką elastyczność na poziomie minimum 85% przed zerwaniem, przy czym minimalna siła zrywająca powinna być nie mniejsza niż 6MPa (wytrzymałość na rozciąganie przy zrywaniu). Obuwie ma zapewnić wysoki komfort użytkowania: ma posiadać otwory wentylacyjne po bokach oraz anatomicznie wyprofilowaną powierzchnie styku ze stopą w części śródstopia oraz pod palcami stopy. Obuwie ma dodatkowo minimalizować potliwość stopy poprzez posiadanie wypustków po wewnętrznej stronie podbicia, dzięki czemu stworzona będzie poduszka powietrzna między stopą i powierzchnią wewnętrzną buta. Obuwie powinno być wyposażone w wypustki na powierzchni styku ze stopą, przyczyniające się do podniesienia komfortu użytkowania obuwia, poprzez masowanie powierzchni stopy oraz poprawiające krążenie krwi. Obuwie ma zapewnić bezpieczeństwo użytkowania dzięki płaskiej, urzeźbionej podeszwie, zapewniającej antypoślizgowość i podniesionej części tylnej w celu zabezpieczenia stopy przed wysunięciem się. Obuwie ma zapewnić łatwą identyfikację rozmiaru zapewnioną dzięki wytłoczeniu rozmiaru buta na jego pięcie. Gwarancja na 2 lata. Kolor zielony i niebieski. Obuwie nadające się do prania w temperaturze 90 st. C i sterylizacji w temperaturze 134 st. C. | C6: para | D6: 80
B7: RAZEM
B10: Oświadczam, że oferowany przedmiot zamówienia spełnia wyżej wymienione wymagania.
B11: Data | H11: Podpis osoby/osób upoważnionej
B12: ……………………………………………. | I12: ……………………………….

Sheet Zad.74
B1: ZOZ/DZP/PN/33/19
B2: Załącznik Nr: 9
B3: Zadanie nr: 74 - Ostrza do strzygarek
A4: Lp. | B4: Nazwa produktu | C4: Jednostka miary | D4: Ilość | E4: Cena jednostkowa netto | F4: Wartość netto | G4: VAT | H4: Cena jednostkowa brutto | I4: Wartość brutto | J4: Producent /Nazwa handlowa/Nr katalogowy
A5: 1 | B5: Ostrza jednokrotnego użytku o szerokości 38mm umożliwiające wymianę bezdotykowo, kompatybilne z posiadaną strzygarką 3M model 9661 z ruchomą głowicą | C5: op=50szt | D5: 28
A6: 2 | B6: Strzygarka pozwalająca na użytkowanie ostrzy z pozycji 1 | C6: szt | D6: 6
A7: 3 | B7: Ładowarka do strzygarki z pozycji 2 | C7: szt | D7: 6
B8: RAZEM
B11: Oświadczam, że oferowany przedmiot zamówienia spełnia wyżej wymienione wymagania.
B12: Data | H12: Podpis osoby/osób upoważnionej
B13: ……………………………………………. | I13: ……………………………….

Sheet Zad.75
B2: ZOZ/DZP/PN/33/19
B3: Załącznik Nr: 9
A4: Zadanie nr: 75 - Pieluchy dla dzieci
A5: Lp. | B5: Nazwa produktu | C5: Jednostka miary | D5: Ilość | E5: Cena jednostkowa netto | F5: Wartość netto | G5: VAT | H5: Cena jednostkowa brutto | I5: Wartość brutto | J5: Producent /Nazwa handlowa/Nr katalogowy
A6: 1 | B6: Pieluszki dla dzieci oddychająca warstwie zewnętrzna zapewniająca stały dostęp powietrza do delikatnej skóry dziecka. Superchłonny wkład pokryty miękką włókniną o strukturze mikrooczek - która dzięki swej budowie umożliwia wchłanianie nie tylko moczu, ale i wolnych stolców. Pieluszki z wycięciem na kikut pępowinowy. Elastyczne falbanki znajdujące się wewnątrz po bokach pieluszki. Mocne rzepy - zapięcia wielokrotnego użytku zapewniające właściwe mocowanie pieluszki. Superaabosrbent z wyciągiem z zielonej herbaty. Brak elementów lateksowych i chlorowanych, dla dzieci o wadze od 2 do 5 kilogramów, | C6: szt | D6: 3000
A7: 2 | B7: Pieluszki dla dzieci oddychająca warstwie zewnętrzna zapewniająca stały dostęp powietrza do delikatnej skóry dziecka. Superchłonny wkład pokryty miękką włókniną o strukturze mikrooczek - która dzięki swej budowie umożliwia wchłanianie nie tylko moczu, ale i wolnych stolców. Elastyczne falbanki znajdujące się wewnątrz po bokach pieluszki. Mocne rzepy - zapięcia wielokrotnego użytku zapewniające właściwe mocowanie pieluszki. Superaabosrbent z wyciągiem z zielonej herbaty. Brak elementów lateksowych i chlorowanych dla dzieci o wadze od 3 do 6 kilogramów, o wadze od 8 do 18 kilogramów, o wadze od 9 do 20 kilogramów. Do wyboru przy zakupie. | C7: szt | D7: 5000
B8: Razem
B11: Oświadczam, że oferowany przedmiot zamówienia spełnia wyżej wymienione wymagania.
B12: Data | H12: Podpis osoby/osób upoważnionej
B13: ……………………………………………. | I13: ……………………………….

Sheet Zad.76
B1: ZOZ/DZP/PN/33/19
B2: Załącznik Nr: 9
A3: Zadanie nr: 76 - Wzierniki i szczoteczki ginekologiczne
A4: Lp. | B4: Nazwa produktu | C4: Jednostka miary | D4: Ilość | E4: Cena jednostkowa netto | F4: Wartość netto | G4: VAT | H4: Cena jednostkowa brutto | I4: Wartość brutto | J4: Producent /Nazwa handlowa/Nr katalogowy
A5: 1 | B5: Wziernik ginekologiczny, dopochwowy, sterylny, jednorazowy, rozmiar od XXS, XS, S, M do L | C5: szt. | D5: 14000
A6: 2 | B6: Szczoteczka cytologiczna sterylna typu „grzebyk”, „wachlarz”. | C6: szt. | D6: 3000
B7: RAZEM
B10: Oświadczam, że oferowany przedmiot zamówienia spełnia wyżej wymienione wymagania.
B11: Data | H11: Podpis osoby/osób upoważnionej
B12: ……………………………………………. | I12: ……………………………….

Sheet Zad.77
B1: ZOZ/DZP/PN/33/19
B2: Załącznik Nr: 9
A3: Zadanie nr: 77 - Test ureazowy suchy
A4: Lp. | B4: Nazwa produktu | C4: Jednostka miary | D4: Ilość | E4: Cena jednostkowa netto | F4: Wartość netto | G4: VAT | H4: Cena jednostkowa brutto | I4: Wartość brutto | J4: Producent /Nazwa handlowa/Nr katalogowy
A5: 1 | B5: Test ureazowy suchy | C5: szt. | D5: 2000
B6: RAZEM
A10: Szybki Test Ureazowy SUCHY przeznaczony do wykrywania Helicobacter pylori w bioptatach z żołądka lub dwunastnicy. Zasada działania testu opiera się na fizjologicznej zdolności Helicobacter pylori do wytwarzania dużej ilości ureazy. Enzym ten rozkłada mocznik obecny w teście, czego następstwem jest wydzielanie amoniaku wywołującego zmianę koloru odpowiednich indykatorów.
A11: Cechy testu: - Prostota wykonania badania. - Możliwość oceny stopnia infekcji. - Nie daje fałszywie dodatnich wyników z żółcią i krwią.- Eliminacja tzw. Blushing effect. - Bez dodatku wody, ani soli fizjologicznej. - Wysoka czułość i specyficzność. - Szybki wynik badania. - Trwały w temperaturze pokojowej i może być przechowywany przez minimum 12 miesięcy.
A12: Odczyt wyników : zmianę koloru, od różowego aż do purpurowego, świadczącą o obecnościHelicobacter pylori,obserwuje się w pierścieniu widocznym na dnie studzienki. W większości przypadków dodatni wynik testu można odczytać w czasie 5-15 minut. W przypadku niewielkiego zakażenia, na pojawienie się koloru można oczekiwać do 2 godzin. Jeżeli w czasie do 2 godzin od wprowadzenia do testu bioptatów cały pierścień pozostaje żółty, należy przyjąć, że w badanych wycinkach nie byłoH.pylori.
B15: Oświadczam, że oferowany przedmiot zamówienia spełnia wyżej wymienione wymagania.
B16: Data | H16: Podpis osoby/osób upoważnionej
B17: ……………………………………………. | I17: ……………………………….

Sheet Zad.78
B1: ZOZ/DZP/PN/33/19
B2: Załącznik Nr: 9
A3: Zadanie nr: 78 - Paski do glukometrów
A4: Lp. | B4: Nazwa produktu | C4: Jednostka miary | D4: Ilość | E4: Cena jednostkowa netto | F4: Wartość netto | G4: VAT | H4: Cena jednostkowa brutto | I4: Wartość brutto | J4: Producent /Nazwa handlowa/Nr katalogowy
A5: 1 | B5: Paski do glukometru do pomiaru stężenia glukozy w krwi włośniczkowej, żylnej, tętniczej i noworodkowej, ze względów epidemiologicznych pakowane pojedynczo, | C5: op. 100pasków | D5: 800
B6: RAZEM
A9: Paski do glukometrów z pozycji 1 mają być: pakowane pojedynczo w celu zapobiegnięcia zanieczyszczeniu paska, objętość krwi do 0,6μl, każde opakowanie pasków może posiadać chip, zakres hematokrytu 20%-70%, metoda enzymatyczna GDH-NAD,
A10: Paski do glukometrów z pozycji 2 mają być: pakowane pojedynczo w celu zapobiegnięcia zanieczyszczeniu paska, objętość krwi do 1,5μl
A11: Należy dostarczyć 50szt. glukometrów których cena ma być wliczona w cenę pasków
A12: Glukometry mają posiadać czujnik minimalnej objętości próbki krwi, kodowany chipem lub nie z opakowania pasków testowych, posiada zabezpieczenie w postaci komunikatu o nieprawidłowej dacie przydatności do użycia przy kodowaniu chipem. Pomiar powinien się odbywać do 20 sekund lub mniej.
B17: Oświadczam, że oferowany przedmiot zamówienia spełnia wyżej wymienione wymagania.
B18: Data | H18: Podpis osoby/osób upoważnionej
B19: ……………………………………………. | I19: ……………………………….

Sheet Zad.79
B2: ZOZ/DZP/PN/5/20
B3: Załącznik Nr: 9
A4: Zadanie nr: 79 - Worki i narzędzia do laparoskopii.
A5: Lp. | B5: Nazwa produktu | C5: Jednostka miary | D5: Ilość | E5: Cena jednostkowa netto | F5: Wartość netto | G5: VAT | H5: Cena jednostkowa brutto | I5: Wartość brutto | J5: Producent /Nazwa handlowa/Nr katalogowy
A6: 1 | B6: Worek laparoskopowy ekstrakcyjny, jednorazowego użytku, z samorozprężającym drutem, z pamięcią kształtu, tuba odłączana, pojemność 200ml, wym. 95x161 mm, dedykowany do płaszczy trokarów o śr. 10/12mm (op. 10szt.) | C6: op.=10szt | D6: 24
A7: 2 | B7: Kleszcze grasper laparoskopowy CLAW jednorazowego użytku, kompletny, obrotowe 360 stopni.Obie bransze aktywne,pełne, narzędzie na powierzchni bransz wyposażone we wsteczne zęby chwytne a część dystalna zakończona zębami 1x2, rączka plastikowa z blokada na palec wskazujący, śr. 5mm, dł. 330mm, dł. bransz 16,5mm 1op (12 szt.) | C7: op.=12szt | D7: 2
A8: 3 | B8: Disektor laparoskopowy MARYLAND, narzędzie kompletne, obrotowe 360 stopni, jednorazowego użytku. Obie bransze aktywne, zakrzywione w lewo, delikatne, rączka plastikowa bez blokady, sr. 5mm, dł. bransz 19mm, dł. robocza 330mm (op.12 szt.) | C8: op.=12szt | D8: 2
A9: 4 | B9: Kompletne narzędzie laparoskopowe – nożyczki jednorazowe sterylne, opakowanie 12szt. | C9: op.=12szt | D9: 2
A10: 5 | B10: Płaszcz trokara, niemetalowy, wykonany z tworzywa PEEK, wielorazowego użytku, z zaworem do isuflacji, kaniula gwintowana skośna, dł. robocza 100mm, śr 11mm. | C10: szt. | D10: 1
A11: 6 | B11: Uszczelka silikonowa wewntrzna do trokarów Easyport, 10-12,5mm | C11: Op=5 szt | D11: 4
A12: 7 | B12: Uszczelka silikonowa wewntrzna do trokarów Easyport, 5mm | C12: Op=5 szt | D12: 2
A13: 8 | B13: Nożyczki laparoskopowe monopolarne, jednorazowego użytku, zagięte,obrotowe 360 stopni, rączka bez blokady, dł. 330mm, dł. ostrzy 17mm, śr. 5mm (op.5szt.). Wymóg posiadania w ofercie ww.nożyczek o dł.450mm oraz 330mm z branszami o dł.12mm | C13: op=5szt | D13: 1
A14: 9 | B14: Płaszcz trokara, jednorazowego użytku, karbowany, z uszczelką oraz kranikiem do insuflacji, o śr. 5mm i dł. 100mm, w komplecie z bezpiecznym gwoździem trokara w postaci płaskiego wysuwanego nożą w kształcie litery "V", aktywacja za pomocą oznaczonego kolorystycznie przycisku na rękojeści gwoździa, dedykowanym do płaszcza o śr. 5mm (op./5 szt.). Każdy płaszcz i gwóźdź znakowanie średnicy kaniuli. | C14: op=5szt | D14: 2
A15: 10 | B15: Zestaw dwóch płaszczy trokara jednorazowego użytku o śr. 10 mm oraz dł. tubusa 100 mm, w komplecie z gwoździem bezpiecznym trokara, z samocofającym się ostrzem. Płaszcze karbowane, przezroczyste, z opisem średnicy, posiadający uszczelkę oraz kranik do insuflacji. Płaszcze 2 – częściowe z odłączaną auto redukcją. Gwóźdź z opisem średnicy, plastikowy posiadający wysuwane metalowe ostrze. Uszczelki dolna oraz górna pokryte dodatkowo warstwą teflonu zmniejszającą tarcie podczas aplikacji i ekstrakcji narzędzi o dużych średnicach (op./5 szt.). Możliwość oferowania samej auto-redukcji. | C15: op=5szt | D15: 2
A16: 11 | B16: Płaszcz trokara, jednorazowego użytku, karbowany, z uszczelką oraz kranikiem do insuflacji, o śr. 10mm i dł. 100mm, w komplecie z bezpiecznym gwoździem trokara w postaci płaskiego wysuwanego nożą w kształcie litery "V", aktywacja za pomocą oznaczonego kolorystycznie przycisku na rękojeści gwoździa, dedykowanym do płaszcza o śr. 10mm (op./5 szt.).do wyboru przy zakupie. Płaszcz wyposażony w autoredukcję do śr.5mm. Każdy płaszcz i gwóźdź znakowanie średnicy kaniuli. | C16: op=5szt | D16: 5
A17: 11A | B17: Płaszcz trokara, jednorazowego użytku, karbowany, z uszczelką oraz kranikiem do insuflacji, o śr. 12mm i dł. 100mm, w komplecie z bezpiecznym gwoździem trokara w postaci płaskiego wysuwanego noża w kształcie litery "V", aktywacja za pomocą oznaczonego kolorystycznie przycisku na rękojeści gwoździa, dedykowanym do płaszcza o śr. 12mm (op./5 szt.).do wyboru przy zakupie. Płaszcz wyposażony w autoredukcję do śr.5mm. Każdy płaszcz i gwóźdź znakowanie średnicy kaniuli. | C17: op=5szt | D17: 5
A18: 12 | B18: Płaszcz trokara, dedykowany do narzędzi o śr.5mm, wykonany z tworzywa sztucznego PEEK i PPSU, wielorazowego użytku, bez limitu cykli sterylizacji, 3-częściowy, z metalowym i rozbieralnym zaworem do insuflacji. Wyposażony w uszczelkę wewnętrzną silikonową w kształcie "kominka"4-ramiennego, kaniula skośna i gwintowana, dł.kaniuli 10cm. | C18: szt. | D18: 1
A19: 13 | B19: Płaszcz trokara, dedykowany do narzędzi o śr.10mm, wykonany z tworzywa sztucznego PEEK i PPSU, wielorazowego użytku, bez limitu cykli sterylizacji, 3-częściowy, z metalowym i rozbieralnym zaworem do insuflacji. Wyposażony w uszczelkę wewnętrzną silikonową w kształcie "kominka"4-ramiennego, kaniula skośna i gwintowana, dł.kaniuli 10cm. | C19: szt. | D19: 1
A20: 14 | B20: Zapasowy korpus trokara, dwuczęściowy z metalowym zaworem do insuflacji, współpracujący z oferowanym płaszczem trokara do narzędzi o śr.5mm | C20: szt. | D20: 1
A21: 15 | B21: Zapasowy korpus trokara, dwuczęściowy z metalowym zaworem do insuflacji, współpracujący z oferowanym płaszczem trokara do narzędzi o śr.10mm | C21: szt. | D21: 1
A22: 16 | B22: Uchwyt silikonowy w postaci ucha do zastosowania z plastiowymi redukcjami 10/5mm lub 11/5mm, autoklawowalne (op./10 szt.) | C22: op=10szt | D22: 1
A23: 17 | B23: Uszczelka wewnętrzna do oferowanych płaszczy trokarów niemetalowych wykonanych z PEEK i PPSU kompatybilna z płaszczem trokarów 3,5 - 5,5 mm. Uszczelka z silikonu medycznego w kształcie walca (podwójnego stożka) z 4 wklęsłymi skrzydełkami.Uszczelka wielorazowego użytku w op. niesterylnym (5 szt. w op.) | C23: Op=5 szt | D23: 2
A24: 18 | B24: Uszczelka wewnętrzna do oferowanych płaszczy trokarów niemetalowych wykonanych z PEEK i PPSU kompatybilna z płaszczem trokarów 10 - 12,5 mm. Uszczelka z silikonu medycznego w kształcie walca (podwójnego stożka) z 4 wklęsłymi skrzydełkami.Uszczelka wielorazowego użytku w op. niesterylnym (5 szt. w op.) | C24: Op=5 szt | D24: 2
A25: 19 | B25: Uszczelka zewnętrzna do posiadanych przez Zamawiającego trokarów niemetalowych wykonanych z PEEK i PPSU, kompatybilna z płaszczem trokara do narzędzi o śr. 10 mm.Uszczelka wielorazowego użytku w op. niesterylnym (10 szt. w op.) | C25: op=10szt | D25: 1
A26: 20 | B26: Uszczelka zewnętrzna do posiadanych przez Zamawiającego trokarów niemetalowych wykonanych z PEEK i PPSU, kompatybilna z płaszczem trokara do narzędzi o śr. 5,0 mm.Uszczelka wielorazowego użytku w op. niesterylnym (10 szt. w op.) | C26: op=10szt | D26: 1
A27: 21 | B27: Wkład roboczy nożyczek monopolarnych METZENBAUM, dł.bransz 15mm, dł.robocza 330mm, kompatybilny z systemem mocowania oraz rękojeścią z oferowanymi narzędziami laparoskopowymi . Wkład kompatybilny z narzędziami laparoskopowymi RUDOLF Medical posiadanymi przez Zamawiającego. | C27: szt. | D27: 1
A28: 22 | B28: Tubus do narzędzia laparoskopowego kompatybilny z narzędziami o śr.5mm firmy RUDOLF Medical posiadanymi przez Zamawiającego. | C28: szt. | D28: 1
A29: 23 | B29: Rączka plastikowa do narzędzia laparoskopowego, wielorazowego użytku, bez blokady, kompatybilna z narzędziami firmy RUDOLF Medical posiadanymi przez Zamawiającego | C29: szt. | D29: 1
... A32: 26 | B32: Przewód monopolarny do narzędzi laparoskopowych oraz kompatybilny z diatermią ERBE ICC/ACC posiadaną przez Zamawiającego, dł.3,5m | C32: szt. | D32: 1
B33: RAZEM
B35: Oświadczam, że oferowany przedmiot zamówienia spełnia wyżej wymienione wymagania.
B36: Data | H36: Podpis osoby/osób upoważnionej
B37: ……………………………………………. | I37: ……………………………….

Sheet Zad.80
B1: ZOZ/DZP/PN/33/19
B2: Załącznik Nr: 9
A3: Zadanie nr: 80 - Drut do migdałków
A4: Lp. | B4: Nazwa produktu | C4: Jednostka miary | D4: Ilość | E4: Cena jednostkowa netto | F4: Wartość netto | G4: VAT | H4: Cena jednostkowa brutto | I4: Wartość brutto | J4: Producent /Nazwa handlowa/Nr katalogowy
A5: 1 | B5: Drut do migdałków do poliptomu, śr. 0,3mm | C5: zwój=10m | D5: 10
A6: 2 | B6: Drut do migdałków do poliptomu,Krauze śr. 0,4mm | C6: zwój=10m | D6: 10
B7: RAZEM
B10: Oświadczam, że oferowany przedmiot zamówienia spełnia wyżej wymienione wymagania.
B11: Data | H11: Podpis osoby/osób upoważnionej
B12: ……………………………………………. | I12: ……………………………….

Sheet Zad.81
B2: ZOZ/DZP/PN/33/19
B3: Załącznik Nr: 9
A4: Zadanie nr: 81 – System oznakowania.
A5: Lp. | B5: Nazwa produktu | C5: Jednostka miary | D5: Ilość | E5: Cena jednostkowa netto | F5: Wartość netto | G5: VAT | H5: Cena jednostkowa brutto | I5: Wartość brutto | J5: Producent /Nazwa handlowa/Nr katalogowy
A6: SYSTEM ZNAKOWANIA STRZYKAWEK
A7: System składający się z pojedynczych, plastikowych kartridżów z samoprzylepnymi etykietami kodowanymi kolorami. Pojedyncze kartridże można ze sobą łączyć i rozdzielać według potrzeb za pomocą zaczepów. Etykiety zgodne z międzynarodowym kodem koloru, który odpowiada konspektowi międzynarodowych standardów proponowanych przez Amerykańskie Stowarzyszenie Analiz i Materiałów D4777-94. Samoprzylepne dozowanie pozwala na obsługę jednoręczną. Etykiety oznaczone substancją czynną.
A8: 1 | B8: Jeden kartridż zawiera 600 etykiet | C8: szt. | D8: 42
A9: 2 | B9: Uchwyt metalowy lakierowany proszkowo, odporny na działanie środków dezynfekcyjnych, łatwy do utrzymania czystości, mieszczący 7 kartridży | C9: szt. | D9: 3
A10: 3 | B10: Uchwyt metalowy lakierowany proszkowo, odporny na działanie środków dezynfekcyjnych, łatwy do utrzymania czystości, mieszczący 11 kartridży | C10: szt. | D10: 3
A11: 4 | B11: Rampa metalowa lakierowana proszkowo, odporna na działanie środków dezynfekcyjnych, mieszcząca 7 strzykawek. | C11: szt. | D11: 3
A12: SYSTEM ZNAKOWANIA LINII DO KROPLÓWEK | F12: =E12*D12 -> 0
A13: System składający się z pojedynczych, plastikowych kartridżów z samoprzylepnymi etykietami kodowanymi kolorami. Pojedyncze kartridże można ze sobą łączyć i rozdzielać według potrzeb za pomocą zaczepów. Etykiety zgodne z międzynarodowym kodem koloru, który odpowiada konspektowi międzynarodowych standardów proponowanych przez Amerykańskie Stowarzyszenie Analiz i Materiałów D4777-94. Samoprzylepne dozowanie pozwala na obsługę jednoręczną. Etykiety oznaczone substancją czynną. | F13: =E13*D13 -> 0
A14: 5 | B14: Jeden kartridż zawiera 200 etykiet | C14: szt. | D14: 60
B15: Razem
B19: Oświadczam, że oferowany przedmiot zamówienia spełnia wyżej wymienione wymagania.
B20: Data | H20: Podpis osoby/osób upoważnionej
B21: ……………………………………………. | I21: ……………………………….

Sheet Zad.82
B1: ZOZ/DZP/PN/33/19
B2: Załącznik Nr: 9
A3: Zadanie nr: 82 – System zamknięty do odsysania pacjenta
A4: Lp. | B4: Nazwa produktu | C4: Jednostka miary | D4: Ilość | E4: Cena jednostkowa netto | F4: Wartość netto | G4: VAT | H4: Cena jednostkowa brutto | I4: Wartość brutto | J4: Producent /Nazwa handlowa/Nr katalogowy
A5: 1 | B5: System zamknięty do odsysania pacjenta o czasie użytkowania do min. 72 godz., do rurek intubacyjnych o dł. 54cm i tracheostomijnych o dł. 30,5cm, podwójnie obrotowy łącznik, samodomykająca się zastawka komory płuczącej oddzielająca samoistnie cewnik od pacjenta, możliwość rozdwojenia drenów poprzez pełną kompatybilność z łącznikiem Y poniżej, port typu MDI do wziewnej podaży ciśnieniowej aerozoli, w jednym zestawie osobno zapakowane min.12 fiolek soli fizjologicznej a 15ml. Rozmiary do wyboru przy zakupie Ch 14 i Ch16. | C5: szt. | D5: 1100
A6: 2 | B6: Zestaw dwóch łączników do zamkniętego systemu do odsysania pacjenta: jednopłaszczyznowy łącznik Y umożliwiający rozdwojenie drenów oraz łącznik z bezkontaktową zastawka do kontroli odsysania (jeden koniec gładki, drugi schodkowy), pakowany w komplecie w worek foliowy lub opakowanie folia/papier, produkt sterylny lub mikrobiologicznie czysty. Kompatybilny z poz 1 | C6: szt. | D6: 1100
A7: 3 | B7: Fiolka soli fizjologicznej o poj 15ml do płukania zamknietego systemu do odsysania pacjenta z zakończeniem kompatybilnym z portem do płukania zaoferowanego systemu z poz 1 | C7: szt. | D7: 400
B8: Razem
B11: Oświadczam, że oferowany przedmiot zamówienia spełnia wyżej wymienione wymagania.
B12: Data | H12: Podpis osoby/osób upoważnionej
B13: ……………………………………………. | I13: ……………………………….

Sheet Zad.83
B1: ZOZ/DZP/PN/33/19
B2: Załącznik Nr: 9
A3: Zadanie nr: 83 – Narzędzia endoskopowe wielorazowe
A4: Lp. | B4: Nazwa produktu | C4: Jednostka miary | D4: Ilość | E4: Cena jednostkowa netto | F4: Wartość netto | G4: VAT | H4: Cena jednostkowa brutto | I4: Wartość brutto | J4: Producent /Nazwa handlowa/Nr katalogowy
A5: 1 | B5: Szczypce biopsyjne wielorazowe o długości roboczej 220-230cm do kanału min 2,8mm; pancerz metalowy zwojowy; okienkowe, owalne | C5: szt. | D5: 2
A6: 2 | B6: Pętle wielorazowe monofilementne ( jednodrutowe ); średnica pętli 15 mm; długość narzędzia min.220 cm; zintegrowany uchwyt z przyłączem Olympus; na uchwycie luer-lock do mycia całego narzędzia; do kanału min 2,8mm | C6: szt. | D6: 4
A7: 3 | B7: Pętelki typ endo-loop o średnicy 30mm do wielorazowego aplikatora firmy Olympus typ HX-20 | C7: szt. | D7: 20
A8: 4 | B8: Jednorazowe klipsownice do zaopatrywania krwawień w przewodzie pokarmowym; do kanału min 2,8mm i długości narzędzia min. 220 cm | C8: szt. | D8: 40
A9: 5 | B9: Zaworki na wejście kanału biopsyjnego do endoskopu Olympus | C9: szt. | D9: 10
B10: RAZEM
B13: Oświadczam, że oferowany przedmiot zamówienia spełnia wyżej wymienione wymagania.
B14: Data | H14: Podpis osoby/osób upoważnionej
B15: ……………………………………………. | I15: ……………………………….

Sheet Zad.84
B1: ZOZ/DZP/PN/33/19
B2: Załącznik Nr: 9
A3: Zadanie nr: 84- Akcesoria jednorazowe do endoskopów.
A4: Lp. | B4: Nazwa produktu | C4: Jednostka miary | D4: Ilość | E4: Cena jednostkowa netto | F4: Wartość netto | G4: VAT | H4: Cena jednostkowa brutto | I4: Wartość brutto | J4: Producent /Nazwa handlowa/Nr katalogowy
A5: 1 | B5: Jednorazowa KRÓTKA podwójnie zakończona szczoteczka do zaworków biopsyjnych- średnica10mm/ długość 35mm oraz szczoteczka do kanału biopsyjnego- średnica 5mm/ długość 20mm. Całkowita długość szczoteczki 15cm. Pakowane indywidualnie. Nazwa producenta, data produkcji i nr serii na opakowaniu jednostkowym i zbiorczym w celu 100% identyfikacji produktu. Opakowanie typu dyspenser | C5: szt | D5: 600
A6: 2 | B6: Jednorazowa szczoteczka do czyszczenia endoskopu z CZYŚCIKIEM zamiast drugiej szczotki, z miękkiego, odpornego nylonu, do czyszczenia kanałów endoskopów, średnica cewnika 1,7mm, długość robocza 230 cm. Szczotka- średnica włosia 5mm, dł.20mm, z plastikową kulką zabezpieczającą przed uszkodzeniem kanału endoskopu, czyścik- średnica 5mm, dł.300mm. Pakowane indywidualnie. . Nazwa producenta, data produkcji i nr serii na opakowaniu jednostkowym i zbiorczym w celu 100% identyfikacji produktu. Opakowanie typu dyspenser | C6: szt. | D6: 600
A7: 3 | B7: Jednorazowa szczoteczka dwustronna czyszczenia endoskopu z miękkiego, odpornego nylonu, do czyszczenia kanałów endoskopów, średnica cewnika 1,7mm, długość robocza 230 cm. Szczotki- średnica włosia 6mm, dł.20mm, z plastikową kulką zabezpieczającą przed uszkodzeniem kanału endoskopu. Pakowane indywidualnie. . Nazwa producenta, data produkcji i nr serii na opakowaniu jednostkowym i zbiorczym w celu 100% identyfikacji produktu. Opakowanie typu dyspenser | C7: szt. | D7: 600
