Workbook
Name Print_Area_0: Zad.11!$A$1:$J$48
Name Print_Area_0: Zad.21!$A$1:$I$21
Name Print_Area_0: Zad.79!$A$1:$J$10

Sheet Zad.1
B1: ZOZ/DZP/PN/33/19
B2: Załącznik Nr: 9
A4: Zadanie nr: 1 - Cewniki, dreny, kanki, zgłębniki
A5: Lp. | B5: Nazwa produktu | C5: Jednostka miary | D5: Ilość | E5: Cena jednostkowa netto | F5: Wartość netto | G5: VAT | H5: Cena jednostkowa brutto | I5: Wartość brutto | J5: Producent /Nazwa handlowa/Nr katalogowy
A6: 1 | B6: Cewnik do odsysania Redon 12 F/70, z paskiem rtg silikonowane | C6: szt. | D6: 20
A7: 2 | B7: Cewnik do odsysania Redon 14 F/70, z paskiem rtg silikonowane | C7: szt. | D7: 580
A8: 3 | B8: Cewnik do odsysania Redon 16 F / 70, z paskiem rtg silikonowane | C8: szt. | D8: 470
A9: 4 | B9: Cewnik do odsysania Redon 18 F / 70, z paskiem rtg silikonowane | C9: szt. | D9: 240
A10: 5 | B10: Cewnik do odsysania Redon 20 F / 70, z paskiem rtg silikonowane | C10: szt. | D10: 50
A11: 6 | B11: Pojemnik typ Redon, sterylny o pojemności 200-250ml, końcówka schodkowa do załączenia drenów Redon, kształt płaski, pakowane w opakowanie papier folia. | C11: szt. | D11: 100
A12: 7 | B12: Cewnik do odsysania g. dróg oddech. C 4, dł. 40 cm | C12: szt. | D12: 100
A13: 8 | B13: Cewnik do odsysania g. dróg oddech. C 6, dł. 40 cm | C13: szt. | D13: 720
A14: 9 | B14: Cewnik do odsysania g. dróg oddech. C 8, dł. 40 cm | C14: szt. | D14: 2000
A15: 10 | B15: Cewnik do odsysania g. dróg oddech. C 10, dł. 40 cm | C15: szt. | D15: 3500
A16: 11 | B16: Cewnik do odsysania g. dróg oddech. C 12, dł. 40-60 cm | C16: szt. | D16: 1500
A17: 12 | B17: Cewnik do odsysania g. dróg oddech. C 14, dł. 50-60 cm | C17: szt. | D17: 18800
... A65: 60 | B65: Zgłębnik Sengstakena G-16 | C65: szt. | D65: 10
B66: RAZEM | F66: =SUM(F6:F65) -> 0 | I66: =SUM(I6:I65) -> 0
B68: Oświadczam, że oferowany przedmiot zamówienia spełnia wyżej wymienione wymagania.
B69: Data | H69: Podpis osoby/osób upoważnionej
B70: ……………………………………………. | I70: ……………………………….

Sheet Zad.2
B1: ZOZ/DZP/PN/33/19
B2: Załącznik Nr: 9
A4: Zadanie nr: 2 - Embolektomia, cewniki do żył centralnych, igły do znieczuleń
A5: Lp. | B5: Nazwa produktu | C5: Jednostka miary | D5: Ilość | E5: Cena jednostkowa netto | F5: Wartość netto | G5: VAT | H5: Cena jednostkowa brutto | I5: Wartość brutto | J5: Producent /Nazwa handlowa/Nr katalogowy
A6: 1 | B6: Cewnik do embolektomii F3/800 bal. 0,2 ml | C6: szt. | D6: 20
A7: 2 | B7: Cewnik do embolektomii F 4 / 800 bal. 0,7 ml | C7: szt. | D7: 40
A8: 3 | B8: Cewnik do embolektomii F 5/ 800 bal. 1,5 ml | C8: szt. | D8: 30
A9: 4 | B9: Cewnik do embolektomii F 6 / 800 bal. 2,0 ml | C9: szt. | D9: 20
A10: 5 | B10: Cewnik do żył centralnych met Seldingera 1- światł. 20 cm x 70 mm | C10: szt. | D10: 20
A11: 6 | B11: Cewnik do żył centralnych met Seldingera 2- światł. 20 cm x 70 mm | C11: szt. | D11: 260
A12: 7 | B12: Cewnik do żył centralnych met Seldingera 3- światł. 20 cm x 70 mm | C12: szt. | D12: 150
A13: 8 | B13: Cewnik pęcherzowo-miedniczkowy / szynowanie moczowodów / Dubble J 7 F 26 cm śr pętli 4 cm | C13: szt. | D13: 6
A14: 9 | B14: Dren do drenażu kl. piersiowej z trokarem 24 F | C14: szt. | D14: 50
A15: 10 | B15: Dren do drenażu kl. piersiowej z trokarem 28 F | C15: szt. | D15: 50
A16: 11 | B16: Igła do znieczuleń z ostrzem typu Pencil-Point o długości 88-90mm, w komplecie z igłą prowadzącą 20-22G, igła wykonana z wysokiej jakości stali nierdzewnej, przeźroczysta nasadka, ułatwiająca wizualizację płynu, karbowany uchwyt. 25-27G | C16: szt. | D16: 300
A17: 12 | B17: Elektroda endokawitarna do czasowej stymulacji serca(bipolarna) skład:Kateter 6F, odlekłośc między odprowadzeniami 10mm, zakończenie Tip Z długośc katetera 110cm, geometria wtyku 15x2,0mm | C17: szt. | D17: 10
A18: 13 | B18: Zestaw z zastawką do wprowadzania i wymiany kateterów oraz elektrod endokawitarnych, skład: Koszulka z zastawką 6Fx11cm z kranikiem trójdrożnym, rozszerzacz 6Fx 18cm, Prowadnik J.035”x4cm, Igła prosta 18Gx7cm | C18: szt. | D18: 10
B19: Kateter do odsysania ran typu redon, rozmiar 12-18CH. Dł. 50 lub 70cm Do wyboru przy zamówieniu. | C19: szt. | D19: 300
B20: RAZEM | F20: =SUM(F6:F19) -> 0 | I20: =SUM(I6:I19) -> 0
B21: Oświadczam, że oferowany przedmiot zamówienia spełnia wyżej wymienione wymagania.
B22: Data | H22: Podpis osoby/osób upoważnionej
B23: ……………………………………………. | I23: ……………………………….

Sheet Zad.3
B1: ZOZ/DZP/PN/33/19
B2: Załącznik Nr: 9
A3: Zadanie nr: 3 – Osłony na ramię C
A4: Lp. | B4: Nazwa produktu | C4: Jednostka miary | D4: Ilość | E4: Cena jednostkowa netto | F4: Wartość netto | G4: VAT | H4: Cena jednostkowa brutto | I4: Wartość brutto | J4: Producent /Nazwa handlowa/Nr katalogowy
A5: 1 | B5: Osłona sterylna na przewody tubus złożona teleskopowo 16 x 200 cm z taśmą do mocowania na końcach | C5: szt. | D5: 1200
A6: 2 | B6: Sterylny pokrowiec na ramię C aparatu rtg o wymiarach 100x220cm, wykonany z mocnej przezroczystej folii PE z dodatkową elastyczną gumką na głowice i taśmami lepnymi | C6: szt. | D6: 200
A7: Razem | F7: =SUM(F5:F6) -> 0 | I7: =SUM(I5:I6) -> 0
B9: Oświadczam, że oferowany przedmiot zamówienia spełnia wyżej wymienione wymagania.
B10: Data | H10: Podpis osoby/osób upoważnionej
B11: ……………………………………………. | I11: ……………………………….

Sheet Zad.4
B2: ZOZ/DZP/PN/33/19
B3: Załącznik Nr: 9
A4: Zadanie nr: 4 - Elektromedycyna
A5: Lp. | B5: Nazwa produktu | C5: Jednostka miary | D5: Ilość | E5: Cena jednostkowa netto | F5: Wartość netto | G5: VAT | H5: Cena jednostkowa brutto | I5: Wartość brutto | J5: Producent /Nazwa handlowa/Nr katalogowy
A6: 1 | B6: Elektrody do EKG z żelem dla noworodków | C6: Op=50 szt. | D6: 8
A7: 2 | B7: Elektrody do EKG z żelem dla dzieci | C7: Op=50 szt. | D7: 120
A8: 3 | B8: Elektrody do EKG do badań spoczynkowych 44-30mm w kształcie prostokąta | C8: Op=50 szt. | D8: 1800
A9: 4 | B9: Elektrody do EKG do badań holterowskich i wysiłkowych, prostokątna z podłuznym otworem do mocowania przewodu o wyminarach 55x40mm | C9: Op=50 szt. | D9: 1000
A10: 5 | B10: Elektrody do EKG Holter do próby wysiłkowej prostokątna z zaokraglonymi rogami i wypustką o wymiarach 50x40mm | C10: Op=50 szt. | D10: 200
A11: 6 | B11: Elektroda do EKG z możliwością użycia w promieniach RTG dla dorosłych, okrągła o wymiarach 45x42mm z wypustką do badań spoczynkowych | C11: Op=50 szt. | D11: 500
A12: 7 | B12: Elektrody przedsercowe, przyssawkowe komplet 6 szt. dla dorosłych | C12: 1 komplet | D12: 35
A13: 8 | B13: Elektrody przedsercowe, przyssawkowe komplet 6 szt. dziecięce | C13: 1 komplet | D13: 35
A14: 9 | B14: Elektrody kończynowe, klamrowe komplet 4 szt. dla dorosłych | C14: 1 komplet | D14: 16
A15: 10 | B15: Elektrody kończynowe, klamrowe komplet 4 szt. dla dzieci | C15: 1 komplet | D15: 3
A16: 11 | B16: Elektroda do stymulacji serca typu Quick – Combo RTS | C16: op. 2 szt. | D16: 60
A17: 12 | B17: Elektroda silikonowo węglowa do elektroterapii pasująca do urządzenia BTL, rozmiar 6x6cm | C17: szt. | D17: 35
... A37: 36 | B37: Papier termiczny na rolce 57mm x 25 bez nadruku | C37: szt. | D37: 180
B38: RAZEM | F38: =SUM(F6:F37) -> 0 | I38: =SUM(I6:I37) -> 0
B40: Oświadczam, że oferowany przedmiot zamówienia spełnia wyżej wymienione wymagania.
B41: Data | H41: Podpis osoby/osób upoważnionej
B42: ……………………………………………. | I42: ……………………………….

Sheet Zad.5
B2: ZOZ/DZP/PN/33/19
B3: Załącznik Nr: 9
A4: Zadanie nr: 5 - Sterylizacja
A5: Lp. | B5: Nazwa produktu | C5: Jednostka miary | D5: Ilość | E5: Cena jednostkowa netto | F5: Wartość netto | G5: VAT | H5: Cena jednostkowa brutto | I5: Wartość brutto | J5: Producent /Nazwa handlowa/Nr katalogowy
A6: 1 | B6: Rękaw fol.- pap. bez fałdy, płaski 50 mm x 200m | C6: szt. | D6: 4
A7: 2 | B7: Rękaw fol.- pap. bez fałdy, płaski 75mm x 200m | C7: szt. | D7: 25
A8: 3 | B8: Rękaw fol.- pap. bez fałdy, płaski 100 mm x 200m | C8: szt. | D8: 25
A9: 4 | B9: Rękaw fol.- pap. bez fałdy, płaski 120mm x 200m | C9: szt. | D9: 25
A10: 5 | B10: Rękaw fol.- pap. bez fałdy, płaski 150 mm x 200m | C10: szt. | D10: 34
A11: 6 | B11: Rękaw fol.- pap. bez fałdy, płaski 200-210 mm x 200m | C11: szt. | D11: 20
A12: 7 | B12: Rękaw fol.- pap. bez fałdy, płaski 300mm x 200m | C12: szt. | D12: 20
A13: 8 | B13: Rękaw fol.-pap z fałdą 150 mm x 100m | C13: szt. | D13: 47
A14: 9 | B14: Rękaw fol.-pap z fałdą 200 mm x 100m | C14: szt. | D14: 28
A15: 10 | B15: Rękaw fol.-pap z fałdą 300 mm x 100m | C15: szt. | D15: 20
A16: 11 | B16: Rękaw fol.-pap z fałdą 420 mm x 66m | C16: szt. | D16: 30
A17: 12 | B17: Taśma neutralna 19 mm | C17: szt. | D17: 80
... A32: 27 | B32: Torebki papierowo-foliowe samoklejące 300 mm x 450 mm op. a 200 szt. | C32: op.=200szt | D32: 20
B33: RAZEM | F33: =SUM(F6:F32) -> 0 | I33: =SUM(I6:I32) -> 0
B35: Poz 1-11
B36: Parametry techniczne:
A37: - | B37: gramatura min 60g/m2
A38: - | B38: wskaźniki sterylizacji umieszczone poza obszarem pakowania na linii zgrzewu
A39: - | B39: 2 wskaźniki sterylizacji: para wodna/tlenek etylenu
A40: - | B40: folia 6-warstwowa wraz z warstwą kleju
A41: - | B41: na każdym rękawie papierowo-foliowym umieszczony wymiar nominalny rękawa (długość i szerokość numer serii)
A42: - | B42: zgrzew fabryczny 3-kanałowy
B43: Poz 18
A44: - | B44: Polyolefin i folia połączone są 3-kanałowym zgrzewem fabrycznym, którego wytrzymałość wynosi 6 Nm.
A45: - | B45: Laminat foliowy wykonany z 6-warstwowego kompozytu poliestru i polipropylenu o grubości 50μm, oraz polyolefin o gramaturze 93g/m2
B47: Oświadczam, że oferowany przedmiot zamówienia spełnia wyżej wymienione wymagania.
B48: Data | H48: Podpis osoby/osób upoważnionej
B49: ……………………………………………. | I49: ……………………………….

Sheet Zad.6
B2: ZOZ/DZP/PN/33/19
B3: Załącznik Nr: 9
A4: Zadanie nr: 6 - Rękawice
A5: Lp. | B5: Nazwa produktu | C5: Jednostka miary | D5: Ilość | E5: Cena jednostkowa netto | F5: Wartość netto | G5: VAT | H5: Cena jednostkowa brutto | I5: Wartość brutto | J5: Producent /Nazwa handlowa/Nr katalogowy
A6: 1 | B6: Rękawice lateksowe, z warstwą polimerową, diagnostyczne, bezpudrowe, z rolowanym mankietem, długość minimum: 240 mm, Grubość na palcu min. 0,14 mm, na dłoni min. 0,11 mm, na mankiecie min. 0,08 mm. Siła zrywu w okresie przechowywania min. 9 N, po starzeniu min. 7 N, teksturowane. AQL: 1,0, zawartość protein <30 ug/g ; Zarejestrowane w klasie I zgodnie z Rozporządzeniem (UE) 2017/745 oraz Rozporządzeniem (UE) 2016/425 o środkach ochrony indywidualnej w kategorii III Typ B, rękawice przebadane na przenikanie mikroorganizmów zgodnie z ASTM F1671 lub EN 374-5 . Rozmiar od XS do XL. | C6: op.100szt | D6: 2500
A7: 2 | B7: Rękawice diagnostyczne, bezpudrowe, mikroteksturowane z dodatkową teksturową na końcach palców, niejałowe, nitrylowe, rolowany brzeg, AQL 1,0, zarejestrowane jako wyrób medyczny i środek ochrony indywidualnej kat. III ; długość min.240 mm, grubość na palcu min 0,12 mm, na części dłoniowej min 0,08mm, na mankiecie min 0,06mm. Siła zrywu przed starzeniem min.9N po starzeniu min.8N. Zgodność z wymaganiami normy EN 455-1-2-3-4. Rękawice zgodne z Rozporządzeniem (UE) 2017/745 w klasie I oraz Rozporządzenie (UE) 2016/425 o środkach ochrony indywidualnej w kategorii III typ B. EN 374-1, EN 374-2, EN 16523-1, EN 374-4, EN 374-5. Przebadane na substancje chemiczne zgodnie z normą EN 374-4 oraz EN 16523-1. Rękawice przebadane na przenikanie mikroorganizmów zgodnie z ASTM F1671 lub EN 374-5. Rozmiar od XS do XL ,200 sztuk w opakowaniu, | C7: op.200szt | D7: 18000
A8: 3 | B8: Rękawice chirurgiczne, sterylne, ortopedyczne, bezpudrowe, o wysokie odporności na przekłucia i rozdarcia oraz wytrzymałe i rozciągliwe spełniające wymogi zabiegów podwyższonego ryzyka, chirurgii urazowej, ortopedycznej oraz rekonstrukcyjnej. Parametry techniczne : lateksowe kolor brązowy, kształt anatomiczny, rolowany mankiet, teksturowane, chlorowane i silikonowane na zewnątrz, pokryte warstwą poliuretanową i silikonowane od wewnątrz. Średnie grubości pojedynczej ścianki na palcu min. 0,33mm, na części dłoniowej min. 0,30mm, na mankiecie min. 0,26mm, minimalna długość rękawicy 295mm, rozmiary 6,0-9,0, AQL 1,0, poziom protein <30μg/g, jałowe, pakowane w opakowanie foliowe - wyjątkowo odporne na wilgoć. | C8: Para | D8: 2200
A9: 4 | B9: Rękawice chirurgiczne sterylne bezpudrowe mikrochirurgiczne, wykonane z lateks kauczuku naturalnego koloru brązowego mankiet z rolowanym brzegiem. Powierzchnia zewnętrzna: gładka, chlorowana i silikonowana, powierzchnia wewnętrzna: pokryta warstwą poliuretanową i silikonowana. Średnia grubość pojedynczej ścianki na palcu min. 0,18mm, na części dłoniowej min. 0,15mm, na mankiecie min. 0,12mm. Długość minimalna rękawicy 295mm, AQL: 1,0 zawartość protein <30μg/g, pakowane w opakowania foliowe -wyjątkowo odporne na wilgoć | C9: Para | D9: 2500
A10: 5 | B10: Rękawice chirurgiczne jałowe, z lateksu kauczuku naturalnego, pudrowane. Powierzchnia zew. teksturowana, z rolowanym mankietem, o anatomicznym kształcie. Długość rękawicy min.280mm. Grubość ścianki o obszarze środkowego palca min. 0.21mm, dł. min. 0.20mm, mankietu min. 0.15mm., AQL1.0, poziom protein <70ug. | C10: Para | D10: 26000
A11: 6 | B11: Rękawice chirurgiczne sterylne, bezpudrowe, lateks kauczuku naturalnego, kształt anatomiczny, mankiet prosty bez rolowanego zakończenia, powierzchnia zewnętrzna – mikroteksturowana, chlorowana, powierzchnia wewnętrzna – chlorowana. Średnia grubości pojedynczych ścianek: min. palec 0,220mm, dłoń min. 0,205mm, mankiet min. 0,240mm. Długość minimalna rękawicy 285mm, zawartość protein <30μg/g AQL-1,0, rozmiar 6,0-9,0 | C11: para | D11: 17200
A12: 7 | B12: Rękawice chirurgiczne neoprenowe kolor kremowy, jałowe,. Długość rękawicy min.300 mm, mankiet rolowany. Powierzchnia zewnętrzna teksturowana, chlorowana i silikonowana. Powierzchnia wewnętrzna pokryta warstwą poliuretanową i silikonowana. Średnia grubość pojedynczej ścianki na palcu 0,16 mm, na części dłoniowej 0,15 mm, na mankiecie 0,15 mm. AQL 1,0. Rękawice zgodne z Dyrektywa o Wyrobie Medycznym MDD 93/42/EEC & 2007/47/EC w klasie II a, zgodne z wymaganiami normy EN 455 część 1-4). Rozmiar 6-9,0 | C12: para | D12: 1500
A13: 8 | B13: Rękawice diagnostyczne nitrylowe, bezpudrowedo procedur wysokiego ryzyka, kolor pomarańczowy, mankiet rolowany, AQL 1,0, powierzchnia zewnętrzna mikroteksturowana z dodatkową teksturową na końcach palców, powierzchnia wewnętrzna chlorowana, długość rękawicy minimum 280 mm , grubość na palcu min 0.20, na dłoni min 0.13 mm oraz na mankiecie 0.09 mm. Siła zrywu przed starzeniem min.13N po starzeniu min.12N. Rękawice przebadane na przenikanie mikroorganizmów zgodnie z ASTM F1671 lub EN 374-5. Rękawice zgodne z Rozporządzeniem (UE) 2017/745 w klasie I oraz Rozporządzenie (UE) 2016/425 o środkach ochrony indywidualnej w kategorii III typ B. opakowanie a 100 szt, rozm S-XL | C13: op.100szt | D13: 1050
A14: 9 | B14: Chirurgiczne rękawice lateksowe, jałowe, z wewnętrzną warstwą polimerową, bezpudrowe, powierzchnia zewnętrzna teksturowana, z rolowanym mankietem, anatomiczny kształt, długość minimalna rękawicy 285mm, grubość ścianki na palcu min.0,21mm, dłoni min. 0,20mm, mankiet min.0,15mm, siła zrywu przed starzeniem min.14N, siła po starzeniu min. 12 N, AQL 1,0, poziom protein lateksu <30ug/g, zaklasyfikowane jako środek ochrony indywidualnej w kat III. Zgodne z Dyrektywą Medyczną 93/42/EEC w klasie IIa i normą EN 455 część 1-4, posiadające Deklarację CE, Rozmiar 6,0 -9,0 | C14: Para | D14: 8000
A15: 10 | B15: Rękawice chirurgiczne do systemu podwójnego zakładania jako rękawice spodnie, jałowe, lateksowe bezpudrowe, kształt anatomiczny, kolor zielony, mankiet rolowany, powierzchnia zewnętrzna gładka, chlorowana i silikonowana, powierzchnia wewnętrzna pokryta poliuretanem, pokrywana warstwą nawilżającą, długość rękawicy minimum 295 mm.Grubość pojedynczej ścianki na palcu min. 0,19; na dłoni min. 0,18 mm; na mankiecie min. 0,13mm. Zawartość protein <30 ug/g, AQL 1,0. Zgodne z normą EN 455 część 1,2,3. Przebadane na przenikanie mikroorganizmów zgodnie z normą ASTM F1671 chemicznych zgodnie z normą EN 374-3. Rozmiar od 6,0-9,0 | C15: Para | D15: 2000
A16: 11 | B16: Rękawice foliowe PE , rozmiar M-L | C16: op=100szt. | D16: 1100
A17: 12 | B17: Rękawice chirurgiczne, ginekologiczne, o przedłużonym mankiecie, jałowe, lateksowe bezpudrowe, kształt anatomiczny, mankiet rolowany, powierzchnia zewnętrzna teksturowana, chlorowana, powierzchnia wewnętrzna chlorowana, długość rękawicy minimum 500mm, grubość na palcu min. 0,33mm, na dłoni min 0,30mm, mankiet min. 0,18mm, poziom protein lateksu poniżej 20µg/g, AQL max.0,65;. Rękawice zgodne z Dyrektywą o Wyrobie Medycznym MDD 93/42/EEC & 2007/47/EC w klasie II a, rękawice zgodne z EN 455(1-4), rękawice przebadane na przenikanie mikroorganizmów zgodnie z ASTM F1671, rozmiar S-L | C17: op.=25szt | D17: 5
A18: 13 | B18: Rękawice diagnostyczne syntetyczne, nitrylowe bezpudrowe, kształt uniwersalny, kolor niebieski, pobierane pojedynczo za mankiet od spodu w celu uniknięcia kontaktu z pozostałą częścią rękawicy, powierzchnia zewnętrzna pokrywana polimerem (potwierdzone oświadczeniem wytwórcy),teksturowana na końcach palców, długość rękawicy min. 240 mm, grubość na palcu min. 0.12 mm, na dłoni min. 0.08 mm oraz na mankiecie min. 0.06 mm (potwierdzone badaniami producenta), siła zrywu przed starzeniem min. 9 N po starzeniu min. 8N, rękawice bez protein lateksu, AQL max.1.0, rękawice zgodne z Rozporządzeniem UE 2017/745 w klasie I oraz Dyrektywa o Środkach Ochrony Indywidualnej - PPE 89/686/EEC oraz typ wyrobu ochronnego zgodny z Rozporządzeniem (UE) 2016/425 w kategorii III, rękawice zgodne z EN 455(1-4), EN 420posiadające Certyfikat Badania Typu UE w kategorii III Środków Ochrony Indywidualnej, rękawice przebadane na przenikanie mikroorganizmów zgodnie z ASTM F1671(potwierdzone badaniem z niezależnego laboratorium). Rozmiar od XS do XL ,200 sztuk w opakowaniu, | C18: op.200szt | D18: 200
B19: RAZEM | F19: =SUM(F6:F18) -> 0 | I19: =SUM(I6:I18) -> 0
B26: Oświadczam, że oferowany przedmiot zamówienia spełnia wyżej wymienione wymagania.
B27: Data | H27: Podpis osoby/osób upoważnionej
B28: ……………………………………………. | I28: ……………………………….

Sheet Zad.7
B2: ZOZ/DZP/PN/33/19
B3: Załącznik Nr: 9
B4: Zadanie nr: 7 – Kaniule, aparaty do przygotowywania i pobierania leków z butelek
A5: Lp. | B5: Nazwa produktu | C5: Jednostka miary | D5: Ilość | E5: Cena jednostkowa netto | F5: Wartość netto | G5: VAT | H5: Cena jednostkowa brutto | I5: Wartość brutto | J5: Producent /Nazwa handlowa/Nr katalogowy
A6: 1 | B6: Aparat do przygot. i pobierania leków z butelek z filtrem bakteryjnym 0,45 mikrometra z odpowietrznikiem z zamknięciem zatrzaskowym z mikrokolcem | C6: szt. | D6: 17000
A7: 2 | B7: Przyrząd do aspiracji leku z butelek, z wbudowanym filtrem bakteryjnym 0,45µm i filtrem cząsteczkowym 5µm, nieruchoma osłona otaczająca nasadkę łączącą ze strzykawką, zintegrowana zastawka zabezpieczająca lek przed wyciekaniem po odłączeniu od strzykawki. | C7: szt. | D7: 8000
A8: 3 | B8: Kaniula dożylna typu bezpiecznego z portem bocznym od G-24 do G-17 zaopatrzona w specjalny metalowy automatyczny zatrzask zabezpieczający koniec igły przed przypadkowym zakłuciem personelu z minimum 4 paskami kontroli pod promieniowaniem RTG membrana hydrofobowa, chroniąca przed wypływem krwi po założeniu kaniuli | C8: szt. | D8: 54000
A9: 4 | B9: Kaniula dożylna typu bezpiecznego bez portu bocznego z zaworem eliminujacym całkowicie wypływ krwi podczas kaniulacji, od G-24 do G-17 zaopatrzona w specjalny metalowy automatyczny zatrzask zabezpieczający koniec igły przed przypadkowym zakłuciem personelu z minimum 4 paskami kontroli pod promieniowaniem RTG membrana hydrofobowa, chroniąca przed wypływem krwi po założeniu kaniuli | C9: szt. | D9: 5000
A10: 5 | B10: Koreczki dwufunkcyjne do kaniul i strzykawek | C10: szt. | D10: 30000
A11: 6 | B11: Korek do wenflonu Luer Lock | C11: szt. | D11: 84000
A12: 7 | B12: Korek dezynfekcyjny zawierający 70% alkohol izopropylowy, sterylny, z aplikatorem umożliwiający sterylne podłączenie, bez możliwości kontaminacji obudowy koreczka przed podłączeniem. | C12: op=200szt. | D12: 25
A13: 8 | B13: Skala pomiarowa do inf. systemu OCŻ od +35 do -15cm wielokrotnego użytku, plastik. Z 2 uchwytami, z efektem powiększenia wyniku | C13: szt. | D13: 10
A14: 9 | B14: Zestaw bezpieczny do przetoczeń płynów inf. z zastawkami : zatrzymującymi wypływ płynu przy odpowietrzaniu i zabezpieczającymi przed dostaniem się pow. do drenu po infuzji, z odpowietrznikiem z filtrem p/bakteryjnym z wskaźnikiem BFE minimum 99,99999% zamykanym klapką, dwuczęściowa komora kroplowa z 15μm filtrem, zaciskiem rolkowym z zabezpieczeniem na kolec komory kroplowej dla zapewnienia bezpieczeństwa po użyciu (ostry kolec umożliwiający całkowite opróżnienie butelki), wolny od ftalanów | C14: szt. | D14: 131000
A15: 10 | B15: Igła do bezpiecznego pobierania leków ze zintegrowanym filtrem 5µm, zapobiegająca zanieczyszczeniom mechanicznym pobieranych leków - opakowanie typu folia/papier. | C15: szt. | D15: 1600
A16: 11 | B16: Rurka do bezpiecznego pobierania leków z filtrem 5µm, do pobierania leków z dużych ampułek i otwartych fiolek, długość robocza rurki min. 10cm - opakowanie typu folia/papier. | C16: szt. | D16: 800
A17: 12 | B17: Łącznik międzystrzykawkowy luer-lock umożliwiający swobodny transfer zawartości jednej strzykawki do drugiej - pakowane indywidualnie opak. folia/papier | C17: szt. | D17: 400
... A21: 16 | B21: Zestaw do przetoczeń płynów infuzyjnych światłoczułych z dwuczęściową komorą kroplową, odpowietrznikiem z filtrem p/bakteryjnym oraz miejscem na kolec komory kroplowej dla zapewnienia bezpieczeństwa po użyciu. Długość drenu 180 cm. Opakowanie pojedyncze, sterylne. | C21: szt. | D21: 2000
B22: RAZEM | F22: =SUM(F6:F21) -> 0 | I22: =SUM(I6:I21) -> 0
B24: Oświadczam, że oferowany przedmiot zamówienia spełnia wyżej wymienione wymagania.
B25: Data | H25: Podpis osoby/osób upoważnionej
B26: ……………………………………………. | I26: ……………………………….

Sheet Zad.8
B2: ZOZ/DZP/PN/33/19
B3: Załącznik Nr: 9
A4: Zadanie nr: 8 – Testy do sterylizacji.
A5: Lp. | B5: Nazwa produktu | C5: Jednostka miary | D5: Ilość | E5: Cena jednostkowa netto | F5: Wartość netto | G5: VAT | H5: Cena jednostkowa brutto | I5: Wartość brutto | J5: Producent /Nazwa handlowa/Nr katalogowy
A6: 1 | B6: Pakiet jednokrotnego użytku typu Bowie-Dick,symulujący pakiet porowaty pakowany w papier krepowy, Testzapewniają łatwą i jednoznaczną interpretację wyniku - zmiana koloru. | C6: 1 szt. | D6: 1600
A7: 2 | B7: Test wieloparametrowy MVI-S S-4 test parowy liniowe ułożenie wskaźnika | C7: op=250 | D7: 250
A8: 3 | B8: Zintegrowany test chemiczny Kl. 5 z ruchomą substancją wskaźnikową do pary wodnej. Zgodny z normą PN EN 867-1 i ISO 11140 lub równoważną, Test wyraźnie oznaczonym polem bezpieczeństwa odczytu poprawności testu. Kompatybilny z cieplarką 3M | C8: op.100szt | D8: 48
A9: 4 | B9: Szybki test do wykrywania protein i hemoglobiny. Parametry techniczne: wynik w czasie nie krótszym niż 10 minut, test składający się z tuby i nasączonego tamponu. Wynik w postaci zmiany barwy odczynnika na fioletową. Test zapewniający weryfikację HACCP/SSOP | C9: op.=25szt | D9: 15
A10: 5 | B10: Test jednorazowy kontroli mycia w myjniach dezynfektorach. Wskaźnik umieszczony na blaszce aluminiowej | C10: op.=100szt | D10: 40
A11: 6 | B11: Test jednorazowy rutynowej kontroli w myjniach ultradźwiękowych. Wskaźnik umieszczony na blaszce aluminiowej. | C11: op=50szt | D11: 24
A12: 7 | B12: Uchwyt do mocowania testów z pozycji 5,6 | C12: 1szt | D12: 8
A13: 8 | B13: Fiolkowy wskaźnik biologiczny do pary wodnej. Ostateczny odczyt po 48 godzinach inkubacji. Zmiana koloru pożywki w przypadku nieprawidłowego wyniku łatwa w interpretacji z fioletowego na żółty. Nakrętka wskaźnika w kolorze brązowym. Na fiolce repozycjonowalna nierwąca się naklejka ze wskaźnikiem chemicznym i miejscem do opisu. | C13: op. 100szt | D13: 2
A14: 9 | B14: Test kontroli zgrzewu | C14: Op=250 szt | D14: 2
B15: RAZEM | F15: =SUM(F6:F14) -> 0 | I15: =SUM(I6:I14) -> 0
B18: Oświadczam, że oferowany przedmiot zamówienia spełnia wyżej wymienione wymagania.
B19: Data | H19: Podpis osoby/osób upoważnionej
B20: ……………………………………………. | I20: ……………………………….

Sheet Zad.9
A1: Załącznik nr 9 | I1: ZOZ/DZP/PN/21/21
A3: Zadanie nr 9 – Pościel jednorazowa
A4: Lp. | B4: Nazwa produktu | C4: Jednostka miary | D4: Ilość | E4: Cena jednostkowa netto | F4: Wartość netto | G4: VAT | H4: Cena jednostkowa brutto | I4: Wartość brutto | J4: Producent /Nazwa handlowa/Nr katalogowy
A5: 1 | B5: Komplet pościeli, jednorazowy, niejałowy, wykonany z włókniny polipropylenowej w kolorze niebieskim lub zielonym (włóknina min. 25g/m2): Wyrób medyczny pakowany pojedynczo w torebkę z foli PE, posiadającą , na stałe przymocowaną etykietę samoprzylepną, zawierającą następujące informacje: numer REF, nazwa produktu, rozmiar, LOT, znak CE,, data ważności, nazwa producenta Wymiary: poszwy na kołdrę – 210x140 cm, poszwy na poduszkę 70x80 cm, prześcieradła – 210x140cm | C5: komplet | D5: 500
A6: 2 | B6: Jednorazowa miękka kołdra wykonana w zewnętrznej warstwie z włókniny typu Spunlance (materiał oddychający, miękki, delikatny dla skóry) oraz wypełnienia wykonanego w 100% z Poliestru. Kołdra zawiera przeszycia zabezpieczające przed przesuwaniem się poszczególnych warstw materiału. Kolor biały. Szyty ultradźwiękowo. Dla zachowania higieny każda sztuka pakowana osobno w woreczki zawierające etykietę z nazwą oraz parametrami produktu. Waga 300g. Rozmiar 110 x 190cm | C6: szt. | D6: 1200
A7: 3 | B7: Poduszka jednorazowa o wymiarach 40xm x 40cm, wewnątrz 100% Polyester + zewnętrzna warstwa włókniny PP, gramatura - 200g | C7: szt. | D7: 3000
A8: 4 | B8: Jednorazowe, niejałowy prześcieradło medyczne, czyste mikrobiologicznie wykonane z włókniny polipropylenowej w kolorze białym gramatura 25 g/m2, 150 x 240 cm, białe, pakowane pojedynczo | C8: szt. | D8: 1200
A9: 5 | B9: Jednorazowa poszewka na poduszkę, niejałowa, wykonany z włókniny polipropylenowej w kolorze zielonym (włóknina min. 20g/m2): Wyrób medyczny pakowany po 20 szt. Rozmiar 70cm x 80cm | C9: szt. | D9: 800
A10: 6 | B10: Jednorazowy niesterylny podkład wysokochłonny pod pacjenta przeznaczony na blok operacyjny. - warstwa podkładu od strony stołu operacyjnego wykonana z paroprzepuszczalnego, nieprzemakalnego białego laminatu - rdzeń chłonny po zaabsorbowaniu płynów, suchy na powierzchni po maksymalnie 5 minutach. - nośność > 190 kg - warstwa podkładu „od pacjenta” trwale spojona z rdzeniem chłonnym, wykonana z miękkiej, pikowanej i przyjemnej dla skóry włókniny. - wyrób medyczny, pakowany pojedynczo w torebkę z foli PE, posiadającą , na stałe przymocowaną etykietę samoprzylepną, zgodnie z wymaganiami normy PN-EN 1041 A1:2013-12 , zawierającą następujące informacje: numer REF, nazwa produktu, rozmiar, LOT, znak CE,, data ważności, nazwa producenta; podkad o wymiarach całkowitych 100x200 cm, strefa absorbcyjna wym. 90 x180cm (+/- 5cm). absorpcja >3000 ml. | C10: szt. | D10: 1500
A11: 7 | B11: Kołdra/koc do okrycia pacjenta jednorazowego użytku 3 warstwowy wewnątrz 100% Polyester + zewnętrzne warstwy włókniny PP, materiał miękki i oddychający, pikowany z przeszyciami w kształcie rombów na całej powierzchni zapobiegającymi przemieszczaniu się elementów poszczególnych warstw, szyty ultradźwiękowo, Kolor granatowy. Waga 300g. Rozmiar 110x190cm | C11: szt. | D11: 3500
A12: 8 | B12: Antypoślizgowa, podłogowa mata chłonna, może być stosowana zarówno na suchych jak i mokrych podłogach, bez super chłonnych proszków, dzięki czemu mata nie pęcznieje i jest równa na powierzchni, odpowiednia kapilarność utrzymuje matę na mokrej podłodze. Rozmiar 84cm x 30m na roli, pomarańczowa/biała, absorbcja -5L /m2 | C12: rolka | D12: 12
B13: suma | F13: =SUM(F5:F12) -> 0 | I13: =SUM(I6:I12) -> 0
B14: Oferowany asortyment w poz.2, 3,7,8 nie jest wyrobem medycznym.
B15: Oświadczam, że oferowany przedmiot zamówienia jest zgodny z opisem i spełnia wymagane parametry techniczne
B18: data ………………………………. | G18: podpis ……………………………………….

Sheet Zad.10
B1: ZOZ/DZP/PN/33/19
B2: Załącznik Nr: 9
A4: Zadanie nr: 10 - Strzykawki, igły
A5: Lp. | B5: Nazwa produktu | C5: Jednostka miary | D5: Ilość | E5: Cena jednostkowa netto | F5: Wartość netto | G5: VAT | H5: Cena jednostkowa brutto | I5: Wartość brutto | J5: Producent /Nazwa handlowa/Nr katalogowy
A6: Strzykawka dwuczęściowa luer, wykonana z wysokiej jakości PP i/lub PE, w pełni przeźroczysty cylinder z wyraźną czarną, trwałą skalą pomiarową o przedłużonej skali o min. 20% w stosunku do skali nominalnej, wyraźna kryza zabezpieczająca przed wypadaniem tłoka, idealne dopasowanie cylindra i tłoka zapewniające pełną szczelność i bezskokowy przesów tłoka, tłok w wyraźnym, kontrastującym kolorze ułatwiającym odczyt ze sferycznym zakończeniem umożliwiającym maksymalne zmniejszenie przestrzeni martwej, logo producetna i nazwa własna na cylindrze i opakowaniu jednostkowym - Strzykawki jednego producenta, pakowane indywidualnie w opakowanie typu folia/papier - opakowania a 100 szt. Parametry dla pozycji 1-4
A7: 1 | B7: 2 ml skala co 0,1ml x 100 szt. | C7: op.=100szt | D7: 1200
A8: 2 | B8: 5 ml skala co 0,2ml x 100 szt. | C8: op.=100szt | D8: 1400
A9: 3 | B9: 10 ml skala co 0,5ml x 100 szt. | C9: op.=100szt | D9: 1200
A10: 4 | B10: 20 ml skala co 1ml x 100 szt. | C10: op.=100szt | D10: 1300
A11: 5 | B11: Strzykawka do tuberkuliny 1 ml 3 częściowe z igłą 0,45 x 12 mm x 100 szt. z osobną igłą | C11: op.=100szt | D11: 150
A12: 6 | B12: 100 ml Janeta z łącznikiem Luer,trzyczęściowa,wykonana z polipropylenu, skala w kolorze niebieskim, zaopatrzona w dodatkowy stożek do łączenia z cewnikiem | C12: szt. | D12: 5000
A13: Strzykawki - szczelne, łatwy przesuw tłoka, wyraźna skala. Wykazane na liście producenta pomp infuzyjnych MEDIMA S2 i Medima P2. Opis dla pozycji 7-10 | F13: =E13*D13 -> 0
A14: 7 | B14: 10ml x 100 szt., 3 częściowe | C14: op.=100szt | D14: 300
A15: 8 | B15: 20ml x 100 szt., 3 częściowe | C15: op.=100szt | D15: 1000
A16: 9 | B16: 50 ml do pomp 3 cz .do pomp Luer-Lock ze skalą dwustronną | C16: szt. | D16: 36000
A17: 10 | B17: 50 ml do pomp 3 cz .do pomp Luer-Lock do leków światłoczułych | C17: szt. | D17: 15000
A18: 11 | B18: Strzykawka 3-częściowa Luer-Lock model wymagany zgodnie z intrukcją producenta dializatora Primaflex 50ml | C18: szt. | D18: 5000
A19: Igły iniekcyjne o ostrzach zapewniających minimalny opór skóry, rurki pokryte silikonem, cienkościenne nasadki barwione zgodnie z kodem kolorów | F19: =E19*D19 -> 0
A20: 12 | B20: 0,45 x 13 mm x 100 szt. | C20: op=100szt | D20: 65
A21: 13 | B21: 0,5 x 25 mm x 100 szt. | C21: op=100szt | D21: 360
A22: 14 | B22: 0,6 x 25 mm x 100 szt. | C22: op=100szt | D22: 50
A23: 15 | B23: 0,7 x 30 mm x 100 szt. | C23: op=100szt | D23: 180
A24: 16 | B24: 0,8 x 40 mm x 100 szt. | C24: op=100szt | D24: 700
A25: 17 | B25: 0,9 x 40 mm x 100 szt. | C25: op=100szt | D25: 160
A26: 18 | B26: 1,1 x 40 mm x 100 szt. | C26: op=100szt | D26: 500
A27: 19 | B27: 1,2 x 40 mm x 100 szt. | C27: op=100szt | D27: 1700
A28: 21 | B28: 1,6 x 40 mm x 100 szt. | C28: op=100szt | D28: 30
A29: 22 | B29: Igła 0,8 x 120 mm x 100 szt. do blokad nerwowych | C29: op=50szt | D29: 36
A30: 23 | B30: Igła do bezpiecznego pobierania i rozpuszczania leków 18G x 30mm, szlif ołówkowy z otworem bocznym, końcówka pasująca do luer i luer-lock. | C30: op=100szt | D30: 1400
A31: 24 | B31: Igła do bezpiecznego pobierania i rozpuszczania leków z filtrem 18G x 30-50mm, szlif ścięty z otworem bocznym, końcówka pasująca do luer i luer-lock. | C31: op=100szt | D31: 500
... A37: 30 | B37: Kaniula do płukania kanalików łzowych, zagięta 27G x7/8in, ,40x22mm | C37: Op=100 szt | D37: 2
B38: RAZEM | F38: =SUM(F20:F37,F14:F18,F7:F12) -> 0 | I38: =SUM(I7:I37) -> 0
B41: Oświadczam, że oferowany przedmiot zamówienia spełnia wyżej wymienione wymagania.
B42: Data | H42: Podpis osoby/osób upoważnionej
B43: ……………………………………………. | I43: ……………………………….

Sheet Zad.11
B1: ZOZ/DZP/PN/33/19
B2: Załącznik Nr: 9
A4: Zadanie nr: 11 - Rurki
A5: Lp. | B5: Nazwa produktu | C5: Jednostka miary | D5: Ilość | E5: Cena jednostkowa netto | F5: Wartość netto | G5: VAT | H5: Cena jednostkowa brutto | I5: Wartość brutto | J5: Producent /Nazwa handlowa/Nr katalogowy
A6: 1 | B6: Rurki intubacyjne bez mankietu 2,0 – 4,5silikonowane, jałowe | C6: szt. | D6: 120
A7: Rurki intubacyjne z mankietem, ustno-nosowa, z termoplastycznego PCV, przeźroczysta, typ Murphy, linia RTG na całej dł., z czytelnym oznaczeniem znacznika głębokości i rozmiaru rurki na baloniku jałowe silikonowane | F7: =E7*D7 -> 0
A8: 2 | B8: Nr 2,5-9,5 co 0,5 do wyboru przy zakupie | C8: szt. | D8: 1500
A9: Rurki intubacyjne zbrojone z mankietem, typ Murphy, odporne na zginanie, znakowany balonik,rozmiar, jałowe, silikonowane | F9: =E9*D9 -> 0
A10: 17 | B10: Nr. 4,0-8,5 co 0,5 do wyboru przy zakupie | C10: szt. | D10: 800
A11: Rurki intubacyjne zbrojone z mankietem, typ Murphy, odporne na zginanie, znakowany balonik rozmiar, jałowe, silikonowane z prowadnicą | F11: =E11*D11 -> 0
A12: 21 | B12: nr. 6-9 co 0,5 do wyboru przy zakupie | C12: szt. | D12: 70
A13: 28 | B13: Rurka tracheostomijna z dwoma niskociśnieniowymi mankietami uszczelniającymi, wykonana z medycznej odmiany termoplastycznego PCV, atraumatycznie wykończone wszystkie elementy rurki, linia kontrastowa RTG, baloniki kontrolne z samouszczelniejącymi się zaworami. Rozmiary do wyboru przy zakupie 7,0-9,0 co 1,0 | C13: szt. | D13: 70
A14: 29 | B14: Rurka tracheostomijna zbrojona z ruchomym szyldem, wydłużona część dystalna i proksymalna, z niskociśnieniowym mankietam uszczelniającym, wykonana z medycznej odmiany termoplastycznego PCV, atraumatycznie wykończone wszystkie elementy rurki, linia kontrastowa RTG, balonik kontrolne z samouszczelniejącym się zaworem. Rozmiary do wyboru przy zakupie 7,0-10, co 1,0 | C14: szt. | D14: 10
A15: 30 | B15: Rurka tracheostomijna z ruchomym szyldem, wydłużona część dystalna i proksymalna, z niskociśnieniowym mankietam uszczelniającym, wykonana z medycznej odmiany termoplastycznego PCV, atraumatycznie wykończone wszystkie elementy rurki, linia kontrastowa RTG, balonik kontrolne z samouszczelniejącym się zaworem. Rozmiary do wyboru przy zakupie 7,0-10, co 1,0 | C15: szt. | D15: 10
A16: 31 | B16: Rurki ustno - gardłowe Guedel z medycznego PCV, barwne wkładki, zaokrąglone krawędzie, blokada przeciw zagryzieniu, jałowe,rozmiary od 000 do 6 do wyboru przy zamówieniu | C16: szt. | D16: 630
A17: 32 | B17: Rurka nosowo-gardłowa 6-8mm | C17: szt. | D17: 10
A18: Rurki tracheostomijne z mankietem silikonowane, jałowe | F18: =E18*D18 -> 0
A19: 33 | B19: nr. 5,0-10 co 0,5 do wyboru przy zakupie | C19: szt. | D19: 80
A20: 43 | B20: Zestaw o min. składzie: rurka tracheostomijna KAN bez mankietu 1 szt., prowadnica 1 szt., kaniula wewnętrzna z łącznikiem 15mm 1 szt., kaniula wewnętrzna z kołnierzem 2 szt., miękka opaska mocująca, łącznik 15mm nasadka łącząca, korek dekaniulacyjny, nasadka kosmetyczna rozmiary rurek do wyboru przy zakupie : 5,0-10,0 mm | C20: 1 zestaw | D20: 20
A21: 44 | B21: Zestaw o min. składzie: rurka tracheostomijna KAN z mankietem 1 szt., prowadnica 1 szt., kaniula wewnętrzna z łącznikiem 15mm 1 szt., kaniula wewnętrzna z kołnierzem 2 szt., miękka opaska mocująca, łącznik 15mm nasadka łącząca, korek dekaniulacyjny, nasadka kosmetyczna rozmiary rurek do wyboru przy zakupie : 5,0-10,0 mm | C21: 1 zestaw | D21: 10
A22: 45 | B22: Zestaw o min. składzie: rurka tracheostomijna KAN bez mankietu,fenestracyjna 1 szt., prowadnica 1 szt., kaniula wewnętrzna z łącznikiem 15mm, z otworami 1 szt., kaniula wewnętrzna z łącznikiem 15mm, bez otworów fenestracyjnych 1 szt, kaniula wewnętrzna z kołnierzem, z otworami fenestracyjnymi 1 szt., miękka opaska mocująca, łącznik 15mm nasadka łącząca, korek dekaniulacyjny, nasadka kosmetyczna rozmiary rurek do wyboru przy zakupie : 5,0-10,0 mm | C22: 1 zestaw | D22: 20
A23: 46 | B23: Zestaw o min. składzie: rurka tracheostomijna KAN z mankietem,fenestracyjna 1 szt., prowadnica 1 szt., kaniula wewnętrzna z łącznikiem 15mm, z otworami 1 szt., kaniula wewnętrzna z łącznikiem 15mm, bez otworów fenestracyjnych 1 szt, kaniula wewnętrzna z kołnierzem, z otworami fenestracyjnymi 1 szt., miękka opaska mocująca, łącznik 15mm nasadka łącząca, korek dekaniulacyjny, nasadka kosmetyczna rozmiary rurek do wyboru przy zakupie : 5,0-10,0 mm | C23: 1 zestaw | D23: 10
A24: 47 | B24: Łącznik do drenów symetryczny, sterylny, O.D. 15mm I.D. 6mm | C24: szt | D24: 3600
A25: Prowadnice do rurek intubacyjnych -metal, pokryty tworzywem, miękki koniec, jałowe | F25: =E25*D25 -> 0
A26: 48 | B26: Rozmiar 2-2,2 mm / 230 mm | C26: szt. | D26: 160
A27: 49 | B27: Rozmiar 3 mm / 340 mm | C27: szt. | D27: 160
A28: 50 | B28: Rozmiar 4 mm / 360 mm | C28: szt. | D28: 300
A29: 51 | B29: Rozmiar 5 mm / 370 mm | C29: szt. | D29: 300
A30: Prowadnice do trudnych intubacji bez futerału. Elastyczna, wzmocniona na całej długości, skalowana podziałka, zagięty koniec ułatwiający wprowadzanie, materiał o właściwościach poślizgowych, jałowe | F30: =E30*D30 -> 0
A31: 52 | B31: Rozmiar 1,6 x 600 mm | C31: szt. | D31: 10
A32: 53 | B32: Rozmiar 2,0 x 600 mm | C32: szt. | D32: 10
A33: 54 | B33: Rozmiar 5,0 długość 800mm | C33: szt. | D33: 70
A34: Prowadnice do wymiany rurek intubacyjnych z kanałem do wentylacji: w komplecie z łącznikiem 15mm i Luer Lock z zagiętym końcem, jałowa, elastyczna, wzmocniona na całej długości. | F34: =E34*D34 -> 0
A35: 55 | B35: Rozmiar 5,0 długość 800 mm | C35: szt. | D35: 40
A36: 56 | B36: Prowadnica do trudnej intubacji, z wygiętym zakończeniem, elastyczna, wzmocniona na całej długości, skalowana - wielorazowego użytku, śr. zewn. 3.3 i 5.0mm - długość 60-80cm | C36: szt. | D36: 60
A37: 57 | B37: Prowadnica do rurek intubacyjnych z możliwością podawania tlenu, z prostym lub wygiętym końcem dystalnym, elastyczna, wzmocniona na całej długości, skalowana, z wewnętrznym kanałem oraz łącznikiem 15mm i łącznikiem luer-lock, śr. zewn. 2.6, 3.3, 5.0 i 6.0mm - długość 60-83cm | C37: szt. | D37: 20
A38: 58 | B38: Opaska do rurek tracheostomijnych, jałowa. | C38: szt | D38: 180
A39: Rurka tracheostomijna metalowa z okienkiem | F39: =E39*D39 -> 0
A40: 59 | B40: nr.7 | C40: szt. | D40: 15
A41: 60 | B41: nr.8 | C41: szt. | D41: 10
...

Sheet Zad.12
B1: ZOZ/DZP/PN/33/19
B2: Załącznik Nr: 9
A4: Zadanie nr: 12 - Okulary ochronne
A5: Lp. | B5: Nazwa produktu | C5: Jednostka miary | D5: Ilość | E5: Cena jednostkowa netto | F5: Wartość netto | G5: VAT | H5: Cena jednostkowa brutto | I5: Wartość brutto | J5: Producent /Nazwa handlowa/Nr katalogowy
A6: 1 | B6: Okulary ochronne | C6: szt. | D6: 120
B7: RAZEM | F7: =SUM(F6) -> 0 | I7: =SUM(I6) -> 0
B10: Wymogi produktu:
B11: Poz. 1.wykonane z przeźroczystego poliwęglanu. Wyposażone w zauszniki i wielostopniową regulacją kąta pochylenia szybki oraz regulacją długości. Szkła posiadają powłokę chroniącą przed zaparowaniem. Zgodny z normą EN 166 lub równoważna
B14: Oświadczam, że oferowany przedmiot zamówienia spełnia wyżej wymienione wymagania.
B15: Data | H15: Podpis osoby/osób upoważnionej
B16: ……………………………………………. | I16: ……………………………….

Sheet Zad. 13
A1: Załącznik nr 9 | H1: ZOZ/DZP/PN/28/21
A3: Zadanie nr: 13 Pojemniki z formaliną.
A4: Lp. | B4: Nazwa produktu | C4: Jednostka miary | D4: Ilość | E4: Cena jednostkowa netto | F4: Wartość netto | G4: VAT | H4: Cena jednostkowa brutto | I4: Wartość brutto | J4: Producent /Nazwa handlowa/Nr katalogowy
A5: 1 | B5: Pojemnik BiopSafe 60ml. Bezpieczny pojemnik tworzący system zamknięty do materiału biopsyjnego/histopatologicznego składający się z pokrywy zawierającej środek utrwalający i zbiornika. Pokrywa zbudowana z elementów : 1.Tłok zakończony nakłuwaczem 2.Folia aluminiowa zgrzana z nakrętką 3.Filtr zabezpieczający 4.Przycisk uwalniający substancję utrwalającą 5.Substancja utrwalająca - Formaldechyd 4% w roztworze wodnym (10% roztwór formaliny) i <2.5% metanol o łącznej objętości 60ml 5. Pokrywa wyposażona w gwint zewnętrzny. Zbiornik wyposażony w gwint wewnętrzny służący do zamknięcia i szczelnego połączenia z pokrywą. Substancja utrwalająca uwalniana po połączeniu pokrywy ze zbiornikiem i przez wciśnięcie przycisku wbudowanego w górną część pokrywy. | C5: op.=18 szt | D5: 20
A6: 2 | B6: Pojemnik BiopSafe 20ml. Bezpieczny pojemnik tworzący system zamknięty do materiału biopsyjnego/histopatologicznego składający się z pokrywy zawierającej środek utrwalający i zbiornika. Pokrywa zbudowana z elementów : 1.Tłok zakończony nakłuwaczem 2.Folia aluminiowa zgrzana z nakrętką 3.Filtr zabezpieczający 4.Przycisk uwalniający substancję utrwalającą 5.Substancja utrwalająca - Formaldechyd 4% w roztworze wodnym (10% roztwór formaliny) i <2.5% metanol o łącznej objętości 20ml 5. Pokrywa wyposażona w gwint zewnętrzny. Zbiornik wyposażony w gwint wewnętrzny służący do zamknięcia i szczelnego połączenia z pokrywą. Substancja utrwalająca uwalniana po połączeniu pokrywy ze zbiornikiem i przez wciśnięcie przycisku wbudowanego w górną część pokrywy. | C6: op=24szt. | D6: 50
B7: Razem | F7: =SUM(F5:F6) -> 0 | I7: =SUM(I5:I6) -> 0
B10: Oświadczam, że oferowany przedmiot zamówienia spełnia wyżej wymienione wymagania.
B11: Data | H11: Podpis osoby/osób upoważnionej
B12: ……………………………………………. | I12: ……………………………….

Sheet zad.14
B1: ZOZ/DZP/PN/33/19
B2: Załącznik Nr: 9
A4: Zadanie nr: 14 – Opatrunek hemostatyczny
A5: Lp. | B5: Nazwa produktu | C5: Jednostka miary | D5: Ilość | E5: Cena jednostkowa netto | F5: Wartość netto | G5: VAT | H5: Cena jednostkowa brutto | I5: Wartość brutto | J5: Producent /Nazwa handlowa/Nr katalogowy
A6: 1 | B6: Gaza hemostatyczna 5x5cm | C6: 1 szt. | D6: 5
A7: 2 | B7: Gaza hemostatyczna 7,5x5cm | C7: 1 szt. | D7: 5
A8: 3 | B8: Gaza hemostatyczna 10x10cm | C8: 1 szt. | D8: 5
B9: RAZEM | F9: =SUM(F6:F8) -> 0 | I9: =SUM(I6:I8) -> 0
B11: Opis produktu:
B12: Tkana, bawełniana gaza hemostatyczna, z nieutlenionej celulozy, z funkcjonalnymi grupami cząsteczkowymi (FMGs) zapewniającymi specjalne właściwości fizyczne i zwiększające wydajnośc produktu. Po kontakcie z płynem przekształcająca się w elastyczną membranę o strukturze żelu, który przylega do rany pozwalając kontrolować krwawienie. Opatrunek mogący wchłonąć do 3500% własnego ciężaru podczas kontraktu z krwią. Nie wymagający wcześniejszego namaczania, nie wymagający kompresji. Możliwość stosowania przez porty 6 mm. Do stosowania w procedurach naczyniowych i sercowo- naczyniowych, obszarach szczególnie wrażliwych(nerwy, drogi nerwowe). Nie wymagający oczyszczania rany z krwi. W pełni biokompatybilny i sterylny (sterylizacja przez napromieniowanie), Całkowita biodegradacja w ciągu 7 dni .pH 5,5, Klasa III. Rozpuszczalny w wodzie. Stabilność materiału pozwalająca na usunięcie gazy z pola operacyjnego w całości. Nie przyklejający się do narzędzi, do rękawiczek.
B16: Oświadczam, że oferowany przedmiot zamówienia spełnia wyżej wymienione wymagania.
B17: Data | H17: Podpis osoby/osób upoważnionej
B18: ……………………………………………. | I18: ……………………………….

Sheet zad.15
B1: ZOZ/DZP/PN/33/19
B2: Załącznik Nr: 9
A3: Zadanie nr: 15 – Akcesoria do systemu ssącego i oddechowego
A4: Lp. | B4: Nazwa produktu | C4: Jednostka miary | D4: Ilość | E4: Cena jednostkowa netto | F4: Wartość netto | G4: VAT | H4: Cena jednostkowa brutto | I4: Wartość brutto | J4: Producent /Nazwa handlowa/Nr katalogowy
A5: 1 | B5: Wkład workowy jednorazowy z integralną zastawką zabezpieczającą, z maksymalnie 2 otworami w pokrywie worka. Kompatybilny z systemem RECEPTAL poj. 2 litry, z data ważności na każdym wkładzie. | C5: szt. | D5: 600
A6: 2 | B6: Trwały pojemnik/ kanister/ wielokrotnego użytku o śr. nie większej niż 11 cm z nietł. się tworzywa z podziałką co 25 ml, ze złączem do próżni, poj. 2 litry | C6: szt. | D6: 5
A7: 3 | B7: Linia monitorująca do próbkowania gazów, złącze typu męskie / żeńskie, dł. 3 m | C7: szt. | D7: 10
A8: 4 | B8: Pułapka wodna czarna typu D-fend do monitora f-my Datex - Ohmeda i Sirius | C8: szt. | D8: 110
A9: 5 | B9: Jednorazowy, układ oddechowy do respiratora dla dorosłych w składzie: 2 rury karbowane śr.2 2 mm z pamięcią kształtu, o dł. min 1,5 m, złączka Y, łącznik prosty 22m/22m | C9: szt. | D9: 200
A10: 6 | B10: Filtr p/bakteryjny z portem do kapnografii dla dorosłych o objętości oddechowej 180-250 ml bez wymiennika ciepła i wilgoci | C10: szt. | D10: 3500
A11: 7 | B11: Filtr p/bakteryjny z wymiennikiem ciepła i wilgoci, z portem do kapnografii dla dorosłych o objętości oddechowej 180-250 ml | C11: szt. | D11: 4000
A12: 8 | B12: Filtr p/bakteryjny z wymiennikiem ciepła i wilgoci, z portem do kapnografii, pediatryczny o objętości oddechowej 50-90 ml. | C12: szt. | D12: 500
A13: 9 | B13: Filtr p/bakteryjny z wymiennikiem ciepła i wilgoci z portem do kapnografii, noworodkowy o objętości oddechowej 25-40 ml. | C13: szt. | D13: 60
A14: 10 | B14: Wymiennik ciepła i wilgoci „sztuczny nos” do rurek tracheostomijny dla dorosłych bez drenu. | C14: szt. | D14: 800
A15: 11 | B15: Wapno sodowane do aparatu do zniecz. 4,5 kg | C15: szt. | D15: 24
A16: 12 | B16: Maska tlenowa, hypoalergiczna, bezzapachowa, przeźroczysta, wykonana z medycznej odmiany miękkiego PCV, do wysokich stężeń tlenu z przewodem tlenowym, z kulką do monitorowania oddechów i gumką naciągającą oraz rezerwuarem tlenowym | C16: szt. | D16: 375
... A31: 27 | B31: Przewód o gładkim świetle dla dorosłych z PCV długość 200cm, złącza 22 Typ Flex , przewód sterylny | C31: Op=10 szt | D31: 3
B32: RAZEM | F32: =SUM(F5:F31) -> 0 | I32: =SUM(I5:I31) -> 0
B34: Oświadczam, że oferowany przedmiot zamówienia spełnia wyżej wymienione wymagania.
B35: Data | H35: Podpis osoby/osób upoważnionej
B36: ……………………………………………. | I36: ……………………………….

Sheet Zad.16
B2: ZOZ/DZP/PN/33/19
B3: Załącznik Nr: 9
A4: Zadanie nr: 16 - Akcesoria do aparatów elektrochirurgicznych
A5: Lp. | B5: Nazwa produktu | C5: Jednostka miary | D5: Ilość | E5: Cena jednostkowa netto | F5: Wartość netto | G5: VAT | H5: Cena jednostkowa brutto | I5: Wartość brutto | J5: Producent /Nazwa handlowa/Nr katalogowy
A6: 1 | B6: Jednorazowy uchwyt z elektrodą szpatułkową, 2 przyciski opak 10 szt. | C6: op. | D6: 80
A7: 2 | B7: Kabel elektrody neutralnej jednorazowej, 4m | C7: szt. | D7: 10
A8: 3 | B8: Uchwyt typu ErgoPen do elektrody 4mm, wąski, 2 przyc., z kablem 4m, wtyk 3-bolc. | C8: szt. | D8: 8
A9: 4 | B9: Uchwyt typu ErgoPen do elektrody 4mm, wąski, 2 przyc., z kablem 4m, wtyk 1-bolc. | C9: szt. | D9: 4
A10: 5 | B10: Nóż prosty, 3,4x24 mm dł 45 mm do uchwytu Ergo Pen 4mm z dwoma przyciskami i kablem | C10: szt. | D10: 6
A11: 6 | B11: Elektroda bierna jednorazowa, owalna z odseparowanym pierścieniem ekwipotencjalnym. Powierzchnia 85 cm2, powierzchnia pierścienia 23 cm2 , nie wymagająca orientacji dla dorosłych i dzieci, zapewniające maksymalne bezpieczeństwo dla pacjenta, wykonana na włókninie op. 50 szt. | C11: op=50 | D11: 70
A12: 7 | B12: Czyścik narzędzi elektrochirurgicznych op. 100 szt. | C12: op. | D12: 1
A13: 8 | B13: Kabel szczypiec bipolar. 5M, wtyk 2-bolc. 29 mm | C13: szt. | D13: 4
A14: 9 | B14: Kulka prosta 6 mm, dł. 100 mm | C14: szt. | D14: 2
A15: 10 | B15: Kabel monopolarny do laparoskopu, dł. 4m | C15: szt. | D15: 4
A16: 11 | B16: Wielorazowe kleszcze do zamykania naczyń zagięte z końcówką ceramiczną, dł. 210 mm z kablem dł. 4m, kompatybilne z diatermią typu VIO | C16: szt. | D16: 4
A17: 12 | B17: Wielorazowe kleszcze do zamykania naczyń zagięte z końcówką ceramiczną, dł. 270 mm z kablem dł. 4m, kompatybilne z diatermią typu VIO | C17: szt. | D17: 4
... A39: 34 | B39: Pinceta bipolarna PREMIUM, bagnetowa, końcówki 1,2 mm, tępe, długość 230 mm | C39: szt | D39: 1
B40: RAZEM | F40: =SUM(F6:F39) -> 0 | I40: =SUM(I6:I39) -> 0
B43: Oświadczam, że oferowany przedmiot zamówienia spełnia wyżej wymienione wymagania.
B44: Data | H44: Podpis osoby/osób upoważnionej
B45: ……………………………………………. | I45: ……………………………….

Sheet Zad.17
B2: ZOZ/DZP/PN/33/19
B3: Załącznik Nr: 9
A4: Zadanie nr: 17– Pojemniki na próbki
A5: Lp. | B5: Nazwa produktu | C5: Jednostka miary | D5: Ilość | E5: Cena jednostkowa netto | F5: Wartość netto | G5: VAT | H5: Cena jednostkowa brutto | I5: Wartość brutto | J5: Producent /Nazwa handlowa/Nr katalogowy
A6: 1 | B6: Pojemnik na mocz 100-125 ml niesterylny z zakrętką zakręcaną | C6: szt. | D6: 32000
A7: 2 | B7: Pojemnik na mocz lub materiał biologiczny 50-60 ml sterylny z zakrętką zakręcaną | C7: szt. | D7: 12000
A8: 3 | B8: Pojemnik na kał z łopatką 20-25 ml | C8: szt. | D8: 3600
A9: 4 | B9: Pojemnik na kał z łopatką 20-25 ml sterylny | C9: szt. | D9: 1000
A10: 5 | B10: Zestaw do pobierania próbek z drzewa oskrzelowego z łącznikami pasującymi do wszystkich typów cewników do odsysania, przeźroczysta probówka o poj. 10ml, dodatkowa zakrętka oraz nalepka identyfikacyjna - sterylny | C10: szt. | D10: 500
B11: RAZEM | F11: =SUM(F6:F10) -> 0 | I11: =SUM(I6:I10) -> 0
B14: Oświadczam, że oferowany przedmiot zamówienia spełnia wyżej wymienione wymagania.
B15: Data | H15: Podpis osoby/osób upoważnionej
B16: ……………………………………………. | I16: ……………………………….

Sheet Zad.18
B2: ZOZ/DZP/PN/33/19
B3: Załącznik Nr: 9
A4: Zadanie nr: 18 – Nebulizacja i akcesoria do urządzeń.
A5: Lp. | B5: Nazwa produktu | C5: Jednostka miary | D5: Ilość | E5: Cena jednostkowa netto | F5: Wartość netto | G5: VAT | H5: Cena jednostkowa brutto | I5: Wartość brutto | J5: Producent /Nazwa handlowa/Nr katalogowy
A6: 1 | B6: Jednorazowy ustnik do spirometru o wymiarach: średnica wewnętrzna 20mm, średnica zewnętrzna 22mm, długość: 65mm +-1mm pakowane pojedynczo. | C6: Op=200 | D6: 50
A7: 2 | B7: Jednorazowy ustnik do spirometru Microlab ML3500 z zaworkiem. | C7: Op=200 | D7: 15
A8: 3 | B8: Inhalator tłokowy do nebulizacji do stosowania w szpitalu do pracy ciągłej z wbudowanym manometrem z regulacją cisnienia 1,3-2,5 bar. Przepływ max. 16l/min., wielokość cząsteczek (MMAD) max 3,5µm, waga urzadzenia max 2,2 kg, | C8: szt | D8: 10
A9: 4 | B9: Nebulizator do kompresora Pari: wydajność 600mg/min, średnia masa cząsteczki MMD:3,5 µm, ilość czątek poniżej 5µm:67%, nadaje się do sterylizacji w autoklawie (ok. 300 razy w temp. 134oC), pojemnik na lek 2-8 ml | C9: szt | D9: 8
A10: 5 | B10: Maska miękka bez stabilizatora dla dorosłych | C10: szt | D10: 8
A11: 6 | B11: Turbinka do spirometru Microlab 8 ML 3500 | C11: szt. | D11: 4
A12: 7 | B12: Uchwyt do lampy ML501/701 | C12: szt. | D12: 10
A13: 8 | B13: Maska dla dzieci współpracująca z nebulizatorami Pari- do sterylizacji w autoklawie (po założeniu stabilizatorów) | C13: szt | D13: 10
A14: 9 | B14: Maska w rozmiarach 0- dla wcześniaków,1 – dla noworodków i niemowląt od 0-1 roku życia, 2 – dla dzici 1-3 roku życia,3- dla dzieci powyżej 3 roku życia, w komplecie kolanko umożliwiające inhalację dziecka w pozycji leżącej - do sterylizacji w autoklawie | C14: szt | D14: 30
A15: 10 | B15: Nebulizator: - do inhalacji dzieci powyżej powyżej 4 roku życia oraz osób dorosłych- możliwość sterylizacji w autoklawie ok. 300 razy, temperatura sterylizacji 134st. C. Charakterystyka aerozolu (w połączeniu z kompresorem Pari Turbo Boy SX) Wydajność: 600mg/min średnia masa cząsteczki MMD 3,5um ilość cząstek poniżej 5um 67% | C15: szt | D15: 30
A16: 11 | B16: Nebulizator: - w połączeniu z maską do inhalacji noworodków - możliwość sterylizacji w autoklawie ok. 300 razy, temperatura sterylizacji 134st. C. Charakterystyka aerozolu (w połączeniu z kompresorem Pari Boy SX) Wydajność: 450mg/min Średnia masa cząsteczki MMD 2,2um ilość cząstek poniżej 5um 89% | C16: szt | D16: 30
A17: 12 | B17: Inhalator tłokowy do nebulizacji do stosowania w szpitalu do pracy ciągłej, ciśnienie 1,6bar max waga 1,7kg, wyposażony w nebulizator z ustnikiem o wydajności 600mg/min, śr. wielkość cząsteczek 3,5 µm z wężykiem min 2m. | C17: szt. | D17: 4
... A20: 15 | B20: Filtr do przeciwbakteryjny do ustnika od spirometru Microlab | C20: Op=50 szt | D20: 40
B21: RAZEM | F21: =SUM(F6:F20) -> 0 | I21: =SUM(I6:I20) -> 0
B24: Oświadczam, że oferowany przedmiot zamówienia spełnia wyżej wymienione wymagania.
B25: Data | H25: Podpis osoby/osób upoważnionej
B26: ……………………………………………. | I26: ……………………………….

Sheet Zad.19
B1: ZOZ/DZP/PN/33/19
B2: Załącznik Nr: 9
A3: Zadanie nr: 19- Test wód płodowych
A4: Lp. | B4: Nazwa produktu | C4: Jednostka miary | D4: Ilość | E4: Cena jednostkowa netto | F4: Wartość netto | G4: VAT | H4: Cena jednostkowa brutto | I4: Wartość brutto | J4: Producent /Nazwa handlowa/Nr katalogowy
A5: 1 | B5: Szybki test paskowy do wykrywania przedwczesnego pęknięcia błon płodowych u kobiet ciężarnych. Detekcja IGFBP-1. | C5: op=10 szt. | D5: 30
B6: RAZEM | F6: =SUM(F5) -> 0 | I6: =SUM(I5) -> 0
B10: Oświadczam, że oferowany przedmiot zamówienia spełnia wyżej wymienione wymagania.
B11: Data | H11: Podpis osoby/osób upoważnionej
B12: ……………………………………………. | I12: ……………………………….

Sheet Zad.20
B2: ZOZ/DZP/PN/33/19
B3: Załącznik Nr: 9
A4: Zadanie nr: 20 - Różne
A5: Lp. | B5: Nazwa produktu | C5: Jednostka miary | D5: Ilość | E5: Cena jednostkowa netto | F5: Wartość netto | G5: VAT | H5: Cena jednostkowa brutto | I5: Wartość brutto | J5: Producent /Nazwa handlowa/Nr katalogowy
A6: 1 | B6: Igła przeznaczona dla dorosłych oraz dla dzieci powyżej 12 r.ż. Igła jest automatycznym wkłuciem doszpikowym, przeznaczonym do użycia u pacjentów, u których założenie obwodowego dostępu dożylnego jest bardzo trudne bądź niemożliwe. Szczególnie podczas działań ratunkowych. Opis: stały dostęp do naczynia; odpowiedni do przetaczania krwi; mało bolesna penetracja igły do kości gąbczastej; sprzęt jednorazowego użycia podnosi bezpieczeństwo; szybka infuzja płynów i leków; brak bezpośredniego kontaktu z krwią; szczególnie odpowiedni w sytuacjach zagrożenia życia (wypadki lotnicze i drogowe, trzęsienia ziemi, konflikty zbrojne, w medycynie katastrof, resuscytacji, planowe znieczulenia kostne) | C6: szt. | D6: 6
A7: 2 | B7: Igła przeznaczona dla dzieci poniżej 12 r.ż. Igła jest automatycznym wkłuciem doszpikowym, przeznaczonym do użycia u pacjentów, u których założenie obwodowego dostępu dożylnego jest bardzo trudne bądź niemożliwe. Szczególnie podczas działań ratunkowych. Opis: stały dostęp do naczynia; odpowiedni do przetaczania krwi; mało bolesna penetracja igły do kości gąbczastej; sprzęt jednorazowego użycia podnosi bezpieczeństwo; szybka infuzja płynów i leków; brak bezpośredniego kontaktu z krwią; szczególnie odpowiedni w sytuacjach zagrożenia życia (wypadki lotnicze i drogowe, trzęsienia ziemi, konflikty zbrojne, w medycynie katastrof, resuscytacji, planowe znieczulenia kostne) | C7: szt. | D7: 6
A8: 3 | B8: Kieliszek szklany | C8: szt. | D8: 80
A9: 4 | B9: Kieliszek plast. do leków 30ml skala co 1ml w pięciu kolorach. | C9: Op=90 szt. | D9: 2500
A10: 5 | B10: Nakładka do kieliczków jednorazowych | C10: Op=600 szt. | D10: 6
A11: 6 | B11: Kruszarka do leków, wielorazowa do miażdżenia tabletek bezpośrednio w kieliszku jednorazowym. | C11: szt. | D11: 12
A12: 7 | B12: Kompres żelowy (okład) chłodząco / rozgrzewający wielorazowy, nadający się do dezynfekcji, 18-20 x 28-30cm | C12: szt | D12: 100
A13: 8 | B13: Kompres żelowy (okład) chłodząco/rozgrzewający wielorazowy, nadający się do dezynfekcji, 9-11 x 26-28cm | C13: szt. | D13: 40
A14: 9 | B14: Marker skórny 2 końcówki, jałowy | C14: op. 25 szt | D14: 4
A15: 10 | B15: Miska nerkowata plastikowa 20 cm | C15: szt. | D15: 20
A16: 11 | B16: Miska nerkowata plastikowa 28 cm | C16: szt. | D16: 20
A17: 12 | B17: Nożyczki / bocianki / do otwierania klemów | C17: szt. | D17: 50
... A53: 46 | B53: Stetoskop kardiologiczny: Technologia głowicy: dwustronna Duża membrana średnicy 4,5cm Mała membrana / lejek: 33cm Przewód (lira) dwukanałowy, wykonany jest z niekruszejącego i nie sklejającego się tworzywa PVC niezawierającego lateksu, o dużej gęstości. Oliwki miękkie Dostępny do zakupu w 6 różnych kolorach Gwarancja dożywotnia | C53: szt. | D53: 12
B54: RAZEM | F54: =SUM(F6:F53) -> 0 | I54: =SUM(I6:I53) -> 0
B56: Oświadczam, że oferowany przedmiot zamówienia spełnia wyżej wymienione wymagania.
B57: Data | H57: Podpis osoby/osób upoważnionej
B58: ……………………………………………. | I58: ……………………………….

Sheet Zad.21
B2: ZOZ/DZP/PN/33/19
B3: Załącznik Nr: 9
A4: Zadanie nr: 21 – Akcesoria do kardiomonitorów
A5: Lp. | B5: Nazwa produktu | C5: Jednostka miary | D5: Ilość | E5: Cena jednostkowa netto | F5: Wartość netto | G5: VAT | H5: Cena jednostkowa brutto | I5: Wartość brutto | J5: Producent /Nazwa handlowa/Nr katalogowy
A6: 1 | B6: Czujnik SpO2 (typ klips lub silikonowy na palec dla dorosłych do wyboru przez zamawiającego) wielorazowego użytku, nierozłączny o długości 3 m, kompatybilny z kardiomonitorem Philips/HP | C6: szt. | D6: 5
A7: 2 | B7: Przewód EKG z 3 odprowadzeniami (typ klamra lub zatrzask do wyboru przez zamawiającego) wielorazowego użytku, nierozłączny kompatybilny z kardiomonitorem Philips/HP | C7: szt. | D7: 5
A8: 3 | B8: Przewód EKG z 5 odprowadzeniami (typ klamra lub zatrzask do wyboru przez zamawiającego) wielorazowego użytku, kompatybilny ze złączem Mulitimed Draeger Delta | C8: szt. | D8: 2
A9: 4 | B9: Czujnik SpO2 (typ Y z opaską silikonową lub silikonowy na palec dla dzieci do wyboru przez zamawiającego) wielorazowego użytku, nierozłączny o długości 3 m, kompatybilny z kardiomonitorem Nihon Kohden | C9: szt. | D9: 2
A10: 5 | B10: Przewód EKG (3 odprowadzenia - typ klamra lub zatrzask, do wyboru przez zamawiającego) nierozłączny, wielorazowego użytku, kompatybilny z kardiomonitorem Nihon Kohden | C10: szt. | D10: 2
A11: 6 | B11: Czujnik SpO2 w technologi Masimo, typ Y, nierozłączny, wielorazowego użytku, kompatybilny z kardiomonitorem Dash, długość 3m. | C11: szt. | D11: 3
A12: 7 | B12: Czujnik SpO2 w technologi Masimo LNOP, typ Y, wielorazowego użytku, długość 0,9m | C12: szt. | D12: 5
A13: 8 | B13: Czujnik SpO2 wielokrotnego użytku- silikonowy, dla dzieci, typu Masimo LNCS, długość 0,9m. | D13: 4
A14: 9 | B14: Czujnik SpO2 wielokrotnego użytku- klips na palec, dla dzieci, typu Nellcor-Oximax, długość 0,9m. | D14: 4
A15: 10 | B15: Mankiet NIBP wielorazowego użytku z konektorem łączącym przewód kardiomonitora, jedno żyłowy (długość drenu 20 cm ), z wyjmowanym balonem, dwuwarstowy, wykonany z materiału niezawierającego lateks, kolor brązowy. Rozmiar mankietu 27-35 cm | C15: szt. | D15: 50
A16: 11 | B16: Konaktor męski typu MLDA szybkozłącze do mankietów | C16: szt. | D16: 40
A17: 12 | B17: Konaktor żeński typu MLDA szybkozłącze do mankietów | C17: szt. | D17: 40
A18: 13 | B18: Mankiet NIBP wielorazowego użytku z konektorem łączącym przewód kardiomonitora, dwu żyłowy (długość drenu 20 cm ), z wyjmowanym balonem, dwuwarstowy, wykonany z materiału niezawierającego lateks, kolor brązowy. Rozmiar mankietu 27-35 cm | C18: szt. | D18: 8
A19: 14 | B19: Mankiet NIBP wielorazowego użytku, dwu żyłowy (długość drenu 20 cm ), z wyjmowanym balonem, dwuwarstowy, wykonany z materiału niezawierającego lateks. Rozmiar mankietu 27/35-35/44 cm | C19: szt. | D19: 20
A20: 15 | B20: Czujnik SPO2 na ucho gumowy z kablem 3 m, kompletny do kardiomonitora Nihon Kohden | C20: szt. | D20: 16
F21: =SUM(F6:F20) -> 0 | I21: =SUM(I6:I20) -> 0
B23: Oświadczam, że oferowany przedmiot zamówienia spełnia wyżej wymienione wymagania.
B24: Data | H24: Podpis osoby/osób upoważnionej
B25: ……………………………………………. | I25: ……………………………….

Sheet Zad. 22
B2: ZOZ/DZP/PN/33/19
B3: Załącznik Nr: 9
B4: Zadanie nr 22 Kaniule bezpieczne.
A5: Lp. | B5: Nazwa produktu | C5: Jednostka miary | D5: Ilość | E5: Cena jednostkowa netto | F5: Wartość netto | G5: VAT | H5: Cena jednostkowa brutto | I5: Wartość brutto | J5: Producent /Nazwa handlowa/Nr katalogowy
A6: 1 | B6: Kaniula dotętnicza 20 G 1,1 x 45 mm, przepływ 49 ml/min., cewnik z PTFE, z zaworem odcinającym - suwakowo-kulkowym typu Flowswitch w kolorze czerwonym, ze skrzydełkami z otworami do przyszycia do skóry pacjenta, sterylne, jednorazowego użytku. Produkt nie zawierający DEHP, PVC oraz naturalnego lateksu. Sterylizowane tlenkiem etylenu | C6: szt. | D6: 1200
