Workbook
Name Print_Area_0: Zad.21!$A$1:$I$21

Sheet Zad. 10
B1: ZOZ/DZP/PN/5/22
B2: Załącznik Nr: 9
A4: Zadanie nr: 10 - Strzykawki, igły
A5: Lp. | B5: Nazwa produktu | C5: Jednostka miary | D5: Ilość | E5: Cena jednostkowa netto | F5: Wartość netto | G5: VAT | H5: Cena jednostkowa brutto | I5: Wartość brutto | J5: Producent/Model/Nazwa Handlowa/Nr katalogowy
A6: Strzykawka dwuczęściowa luer, wykonana z wysokiej jakości PP i/lub PE, w pełni przeźroczysty cylinder z wyraźną czarną, trwałą skalą pomiarową o przedłużonej skali o min. 20% w stosunku do skali nominalnej, wyraźna kryza zabezpieczająca przed wypadaniem tłoka, idealne dopasowanie cylindra i tłoka zapewniające pełną szczelność i bezskokowy przesów tłoka, tłok w wyraźnym, kontrastującym kolorze ułatwiającym odczyt ze sferycznym zakończeniem umożliwiającym maksymalne zmniejszenie przestrzeni martwej, logo producetna i nazwa własna na cylindrze i opakowaniu jednostkowym - Strzykawki jednego producenta, pakowane indywidualnie w opakowanie typu folia/papier - opakowania a 100 szt. Parametry dla pozycji 1-4
A7: 1 | B7: 2 ml skala co 0,1ml x 100 szt. | C7: op.=100szt | D7: 1200
A8: 2 | B8: 5 ml skala co 0,2ml x 100 szt. | C8: op.=100szt | D8: 1400
A9: 3 | B9: 10 ml skala co 0,5ml x 100 szt. | C9: op.=100szt | D9: 1200
A10: 4 | B10: 20 ml skala co 1ml x 100 szt. | C10: op.=100szt | D10: 1300
A11: 5 | B11: Strzykawka do tuberkuliny 1 ml 3 częściowe z igłą 0,45 x 12 mm x 100 szt. z osobną igłą | C11: op.=100szt | D11: 150
A12: 6 | B12: 100 ml Janeta z łącznikiem Luer,trzyczęściowa,wykonana z polipropylenu, skala w kolorze niebieskim, zaopatrzona w dodatkowy stożek do łączenia z cewnikiem | C12: szt. | D12: 5000
A13: Strzykawki - szczelne, łatwy przesuw tłoka, wyraźna skala. Wykazane na liście producenta pomp infuzyjnych MEDIMA S2 i Medima P2. Opis dla pozycji 7-10 | F13: =E13*D13 -> 0
A14: 7 | B14: 10ml x 100 szt., 3 częściowe | C14: op.=100szt | D14: 300
A15: 8 | B15: 20ml x 100 szt., 3 częściowe | C15: op.=100szt | D15: 1000
A16: 9 | B16: 50 ml do pomp 3 cz .do pomp Luer-Lock ze skalą dwustronną | C16: szt. | D16: 36000
A17: 10 | B17: 50 ml do pomp 3 cz .do pomp Luer-Lock do leków światłoczułych | C17: szt. | D17: 15000
A18: 11 | B18: Strzykawka 3-częściowa Luer-Lock model wymagany zgodnie z intrukcją producenta dializatora Prismaflex 50ml | C18: szt. | D18: 5000
A19: Igły iniekcyjne o ostrzach zapewniających minimalny opór skóry, rurki pokryte silikonem, cienkościenne nasadki barwione zgodnie zkodem kolorów | F19: =E19*D19 -> 0
A20: 12 | B20: 0,45 x 13 mm x 100 szt. | C20: op=100szt
A21: 13 | B21: 0,5 x 25 mm x 100 szt. | C21: op=100szt
A22: 14 | B22: 0,6 x 25 mm x 100 szt. | C22: op=100szt
A23: 15 | B23: 0,7 x 30 mm x 100 szt. | C23: op=100szt
A24: 16 | B24: 0,8 x 40 mm x 100 szt. | C24: op=100szt
A25: 17 | B25: 0,9 x 40 mm x 100 szt. | C25: op=100szt
A26: 18 | B26: 1,1 x 40 mm x 100 szt. | C26: op=100szt
A27: 19 | B27: 1,2 x 40 mm x 100 szt. | C27: op=100szt
A28: 20 | B28: 1,6 x 40 mm x 100 szt. | C28: op=100szt
A29: 21 | B29: Igła 0,8 x 120 mm x 100 szt. do blokad nerwowych | C29: op=50szt
A30: 22 | B30: Igła do bezpiecznego pobierania i rozpuszczania leków 18G x 30mm, szlif ołówkowy z otworem bocznym, końcówka pasująca do luer i luer-lock. | C30: op=100szt
A31: 23 | B31: Igła do bezpiecznego pobierania i rozpuszczania leków z filtrem 18G x 30-50mm, szlif ścięty z otworem bocznym, końcówka pasująca do luer i luer-lock. | C31: op=100szt
... A37: 29 | B37: Kaniula do płukania kanalików łzowych, zagięta 27G x7/8in, ,40x22mm | C37: Op=100 szt
B38: RAZEM | F38: =SUM(F7:F37) -> 0 | I38: =SUM(I7:I37) -> 0
B41: Data | H41: Podpis osoby/osób upoważnionej
B42: ……………………………………………. | I42: ……………………………….

Sheet zad.14
B1: ZOZ/DZP/PN/5/22
B2: Załącznik Nr: 9
A4: Zadanie nr: 14 – Opatrunek hemostatyczny
A5: Lp. | B5: Nazwa produktu | C5: Jednostka miary | D5: Ilość | E5: Cena jednostkowa netto | F5: Wartość netto | G5: VAT | H5: Cena jednostkowa brutto | I5: Wartość brutto | J5: Producent/Model/Nazwa Handlowa/Nr katalogowy
A6: 1 | B6: Gaza hemostatyczna 5x5cm | C6: 1 szt. | D6: 5
A7: 2 | B7: Gaza hemostatyczna 7,5x5cm | C7: 1 szt. | D7: 5
A8: 3 | B8: Gaza hemostatyczna 10x10cm | C8: 1 szt. | D8: 5
B9: RAZEM | F9: =SUM(F6:F8) -> 0 | I9: =SUM(I6:I8) -> 0
B11: Opis produktu:
B12: Tkana, bawełniana gaza hemostatyczna, z nieutlenionej celulozy, z funkcjonalnymi grupami cząsteczkowymi (FMGs) zapewniającymi specjalne właściwości fizyczne i zwiększające wydajnośc produktu. Po kontakcie z płynem przekształcająca się w elastyczną membranę o strukturze żelu, który przylega do rany pozwalając kontrolować krwawienie. Opatrunek mogący wchłonąć do 3500% własnego ciężaru podczas kontraktu z krwią. Nie wymagający wcześniejszego namaczania, nie wymagający kompresji. Możliwość stosowania przez porty 6 mm. Do stosowania w procedurach naczyniowych i sercowo- naczyniowych, obszarach szczególnie wrażliwych(nerwy, drogi nerwowe). Nie wymagający oczyszczania rany z krwi. W pełni biokompatybilny i sterylny (sterylizacja przez napromieniowanie), Całkowita biodegradacja w ciągu 7 dni .pH 5,5, Klasa III. Rozpuszczalny w wodzie. Stabilność materiału pozwalająca na usunięcie gazy z pola operacyjnego w całości. Nie przyklejający się do narzędzi, do rękawiczek.
B16: Data | H16: Podpis osoby/osób upoważnionej
B17: ……………………………………………. | H17: ……………………………….

Sheet Zad.16
B2: ZOZ/DZP/PN/5/22
B3: Załącznik Nr: 9
A4: Zadanie nr: 16 - Akcesoria do aparatów elektrochirurgicznych
A5: Lp. | B5: Nazwa produktu | C5: Jednostka miary | D5: Ilość | E5: Cena jednostkowa netto | F5: Wartość netto | G5: VAT | H5: Cena jednostkowa brutto | I5: Wartość brutto | J5: Producent/Model/Nazwa Handlowa/Nr katalogowy
A6: 1 | B6: Jednorazowy uchwyt z elektrodą szpatułkową, 2 przyciski opak 10 szt. | C6: op. | D6: 80
A7: 2 | B7: Kabel elektrody neutralnej jednorazowej, 4m | C7: szt. | D7: 10
A8: 3 | B8: Uchwyt typu ErgoPen do elektrody 4mm, wąski, 2 przyc., z kablem 4m, wtyk 3-bolc. | C8: szt. | D8: 8
A9: 4 | B9: Uchwyt typu ErgoPen do elektrody 4mm, wąski, 2 przyc., z kablem 4m, wtyk 1-bolc. | C9: szt. | D9: 4
A10: 5 | B10: Nóż prosty, 3,4x24 mm dł 45 mm do uchwytu Ergo Pen 4mm z dwoma przyciskami i kablem op. 5 szt | C10: op = 5 szt | D10: 6
A11: 6 | B11: Elektroda bierna jednorazowa, owalna z odseparowanym pierścieniem ekwipotencjalnym. Powierzchnia 85 cm2, powierzchnia pierścienia 23 cm2 , nie wymagająca orientacji dla dorosłych i dzieci, zapewniające maksymalne bezpieczeństwo dla pacjenta, wykonana na włókninie op. 50 szt. | C11: op=50 | D11: 70
A12: 7 | B12: Czyścik narzędzi elektrochirurgicznych op. 100 szt. | C12: op.=100 szt. | D12: 1
A13: 8 | B13: Kabel szczypiec bipolar. 5M, wtyk 2-bolc. 29 mm | C13: szt. | D13: 4
A14: 9 | B14: Kulka prosta 6 mm, dł. 100 mm | C14: szt. | D14: 2
A15: 10 | B15: Kabel monopolarny do laparoskopu, dł. 4m | C15: szt. | D15: 4
A16: 11 | B16: Wielorazowe kleszcze do zamykania naczyń zagięte z końcówką ceramiczną, dł. 210 mm z kablem dł. 4m, kompatybilne z diatermią typu VIO | C16: szt. | D16: 4
A17: 12 | B17: Wielorazowe kleszcze do zamykania naczyń zagięte z końcówką ceramiczną, dł. 270 mm z kablem dł. 4m, kompatybilne z diatermią typu VIO | C17: szt. | D17: 4
... A34: 29 | B34: Pinceta bipolarna PREMIUM, bagnetowa, końcówki 1,2 mm, tępe, długość 230 mm | C34: szt | D34: 1
B35: RAZEM | F35: =SUM(F6:F34) -> 0 | I35: =SUM(I6:I34) -> 0
B38: Data | H38: Podpis osoby/osób upoważnionej
B39: ……………………………………………. | H39: ……………………………….

Sheet Zad.21
B2: ZOZ/DZP/PN/5/22
B3: Załącznik Nr: 9
A4: Zadanie nr: 21 – Akcesoria do kardiomonitorów
A5: Lp. | B5: Nazwa produktu | C5: Jednostka miary | D5: Ilość | E5: Cena jednostkowa netto | F5: Wartość netto | G5: VAT | H5: Cena jednostkowa brutto | I5: Wartość brutto | J5: Producent/Model/Nazwa Handlowa/Nr katalogowy
A6: 1 | B6: Czujnik SpO2 (typ klips lub silikonowy na palec dla dorosłych do wyboru przez zamawiającego) wielorazowego użytku, nierozłączny o długości 3 m, kompatybilny z kardiomonitorem Philips/HP | C6: szt. | D6: 5
A7: 2 | B7: Przewód EKG z 3 odprowadzeniami (typ klamra lub zatrzask do wyboru przez zamawiającego) wielorazowego użytku, nierozłączny kompatybilny z kardiomonitorem Philips/HP | C7: szt. | D7: 5
A8: 3 | B8: Przewód EKG z 5 odprowadzeniami (typ klamra lub zatrzask do wyboru przez zamawiającego) wielorazowego użytku, kompatybilny ze złączem Mulitimed Draeger Delta | C8: szt. | D8: 2
A9: 4 | B9: Czujnik SpO2 (typ Y z opaską silikonową lub silikonowy na palec dla dzieci do wyboru przez zamawiającego) wielorazowego użytku, nierozłączny o długości 3 m, kompatybilny z kardiomonitorem Nihon Kohden | C9: szt. | D9: 2
A10: 5 | B10: Przewód EKG (3 odprowadzenia - typ klamra lub zatrzask, do wyboru przez zamawiającego) nierozłączny, wielorazowego użytku, kompatybilny z kardiomonitorem Nihon Kohden | C10: szt. | D10: 2
A11: 6 | B11: Czujnik SpO2 w technologi Masimo, typ Y, nierozłączny, wielorazowego użytku, kompatybilny z kardiomonitorem Dash, długość 3m. | C11: szt. | D11: 3
A12: 7 | B12: Czujnik SpO2 w technologi Masimo LNOP, typ Y, wielorazowego użytku, długość 0,9m | C12: szt. | D12: 5
A13: 8 | B13: Czujnik SpO2 wielokrotnego użytku- silikonowy, dla dzieci, typu Masimo LNCS, długość 0,9m. | C13: szt. | D13: 4
A14: 9 | B14: Czujnik SpO2 wielokrotnego użytku- klips na palec, dla dzieci, typu Nellcor-Oximax, długość 0,9m. | C14: szt. | D14: 4
A15: 10 | B15: Mankiet NIBP wielorazowego użytku z konektorem łączącym przewód kardiomonitora, jedno żyłowy (długość drenu 20 cm ), z wyjmowanym balonem, dwuwarstowy, wykonany z materiału niezawierającego lateks, kolor brązowy. Rozmiar mankietu 27-35 cm | C15: szt. | D15: 50
A16: 11 | B16: Konaktor męski typu MLDA szybkozłącze plastokowe do mankietów do nihon Kohden | C16: szt. | D16: 40
A17: 12 | B17: Konaktor żeński typu MLDA szybkozłącze plastikowe do mankietów Nihon Kohden | C17: szt. | D17: 40
... A20: 15 | B20: Czujnik SPO2 na ucho gumowy z kablem 3 m, kompletny do kardiomonitora Nihon Kohden | C20: szt. | D20: 16
F21: =SUM(F6:F20) -> 0 | I21: =SUM(I6:I20) -> 0
B23: Data | H23: Podpis osoby/osób upoważnionej
B24: ……………………………………………. | I24: ……………………………….

Sheet Zad.25
B1: ZOZ/DZP/PN/5/22
B2: Załącznik Nr: 9
A3: Zadanie nr: 25- System ochraniaczy do sterylizacji narzędzi
A4: Lp. | B4: Nazwa produktu | C4: Jednostka miary | D4: Ilość | E4: Cena jednostkowa netto | F4: Wartość netto | G4: VAT | H4: Cena jednostkowa brutto | I4: Wartość brutto | J4: Producent/Model/Nazwa Handlowa/Nr katalogowy
A5: 1. | B5: Ochraniacz końcówek ( kieszeni z przelotkami) rozmiar 27x41cm | C5: op=50szt. | D5: 2
B6: Razem | F6: =SUM(F5) -> 0 | I6: =SUM(I5) -> 0
B9: Data | H9: Podpis osoby/osób upoważnionej
B10: ……………………………………………. | H10: ……………………………….

Sheet Zad.27
B1: ZOZ/DZP/PN/5/22
B2: Załącznik Nr: 9
A3: Zadanie nr: 27 – Zestaw do toalety jamy ustnej.
A4: Lp. | B4: Nazwa produktu | C4: Jednostka miary | D4: Ilość | E4: Cena jednostkowa netto | F4: Wartość netto | G4: VAT | H4: Cena jednostkowa brutto | I4: Wartość brutto | J4: Producent/Model/Nazwa Handlowa/Nr katalogowy
A5: 1 | B5: Zestaw do toalety jamy ustnej zawierający w jednym fabrycznym opakowaniu: 1 szczoteczkę do zębów z odsysaniem z ukośną manualną zastawką do regulacji siły odsysania, z 2 otworami ssącymi oraz z impregnowaną gąbką na górnej powierzchni, 15 ml bezalkoholowego płynu do płukania jamy ustnej w saszetce,1 gąbka-aplikator z poprzecznym pofałdowaniem,1 saszetkę z 3 g preparatu nawilżającego do ust na bazie wodnej. Każde pojedyncze opakowanie zestawu typu blister pełni jednocześnie funkcję pojemnika na płyn. | C5: szt | D5: 4000
A6: 2 | B6: Cewnik typu yankauer z osłonką i z silikonową końcówką o długości roboczej po zsunięciu osłonki minimum 14 cm, uniwersalny uchwyt ssący z suwakową regulacją siły ssania, łącznik ‘’Y’’ do układu ssącego o konstrukcji: dwa końce męskie zagięte pod kątem prostym w stosunku do jednego końca żeńskiego (lejka). | C6: szt | D6: 100
B7: RAZEM | F7: =SUM(F5:F6) -> 0 | I7: =SUM(I5:I6) -> 0
B10: Data | H10: Podpis osoby/osób upoważnionej
B11: ……………………………………………. | H11: ……………………………….

Sheet Zad.30
B2: ZOZ/DZP/PN/5/22
B3: Załącznik Nr: 9
A4: Zadanie nr: 30 - Oznaczniki chirurgiczne
A5: Lp. | B5: Nazwa produktu | C5: Jednostka miary | D5: Ilość | E5: Cena jednostkowa netto | F5: Wartość netto | G5: VAT | H5: Cena jednostkowa brutto | I5: Wartość brutto | J5: Producent/Model/Nazwa Handlowa/Nr katalogowy
A6: 1 | B6: Oznaczniki chir. poliestrowe, taśmy dziane, posiadające trwałe wymiary poprzeczne i podłużne x 10 szt., jałowe, nie strzępiące się. (różne kolory do wyboru: biały, czerwony, żółty, niebieski) (rozmiar 2 lub równoważny) | C6: 1op.=10szt | D6: 28
B7: RAZEM | F7: =SUM(F6) -> 0 | I7: =SUM(I6) -> 0
B10: Data | H10: Podpis osoby/osób upoważnionej
B11: ……………………………………………. | H11: ……………………………….

Sheet Zad.36
B1: ZOZ/DZP/PN/5/22
B2: Załącznik Nr: 9
A3: Zadanie nr: 36 – Stojaki na kroplówki
A4: Lp. | B4: Nazwa produktu | C4: Jednostka miary | D4: Ilość | E4: Cena jednostkowa netto | F4: Wartość netto | G4: VAT | H4: Cena jednostkowa brutto | I4: Wartość brutto | J4: Producent/Model/Nazwa Handlowa/Nr katalogowy
A5: 1 | B5: Stojak do kroplówek z uchwytem na worek i butelkę,z nożliwością zawieszenia pompy infuzyjnej, na kółkach,obudowa podstawy zalana tworzywem sztucznym, na 5 kółkach min 2 z blokadą listwą zasilającą min 3 gniazda i przewodem minimum 5 metrów | C5: szt. | D5: 20
B6: RAZEM | F6: =F5 -> 0 | I6: =SUM(I5) -> 0
B9: Data | H9: Podpis osoby/osób upoważnionej
B10: ……………………………………………. | H10: ……………………………….

Sheet Zad.40
B1: ZOZ/DZP/PN/5/22
B2: Załącznik Nr: 9
A3: Zadanie nr: 40 - Akcesoria do histeroskopii i laparoskopii
A4: Lp. | B4: Nazwa produktu | C4: Jednostka miary | D4: Ilość | E4: Cena jednostkowa netto | F4: Wartość netto | G4: VAT | H4: Cena jednostkowa brutto | I4: Wartość brutto | J4: Producent/Model/Nazwa Handlowa/Nr katalogowy
A5: 1 | B5: Uszczelka do laparoskopu 50x5 | C5: szt. | D5: 20
A6: 2 | B6: Uszczelka do laparoskopu 60x12 | C6: szt. | D6: 20
A7: 3 | B7: Uszczelka do laparoskopu 60x10 | C7: szt. | D7: 20
A8: 4 | B8: Uszczelka do laparoskopu 50x4 | C8: szt. | D8: 20
A9: 5 | B9: Uszczelka walcowata do płaszcza histeroskopu 0,8 mm | C9: szt. | D9: 20
A10: 6 | B10: Zatyczka gumowa do przyłącza luer-lock op=10szt | C10: op. 10szt | D10: 4
A11: 7 | B11: Dren insuflacyjny, sterylizowalny do pokryw słoja. | C11: szt. | D11: 14
A12: 8 | B12: Filtr gazu CO2, do insuflatorów Karl Storz, Electronic Endoflator i thermoflator, sterylny. | C12: op. 25szt. | D12: 2
A13: 9 | B13: Przyłącze typu Luer-Lock, męskie nasuwane na dren | C13: szt. | D13: 6
A14: 10 | B14: Filtr gazu do pomp ssąco-płuczących f-my Karl Storz, niesterylny. | C14: op.10szt. | D14: 6
A15: 11 | B15: Igła Verresa wielorazowa z przyłączem luer 15cm | C15: szt. | D15: 3
A16: 12 | B16: Kaniula zatokowa typu v.EICKEN-CASTELNUOVO, z LUER-Lock, giętka, kształt S, śr. zew. 2,5 mm, dł. 12,5 cm | C16: szt. | D16: 2
... A49: 45 | B49: Trokar laparoskopowy kompletny wielorazowy,rozbieralny o składzie: gładka kaniula trokara o śr. 13,5mm i dł roboczej 11,5cm ze skośnym końcem dystalnym, ze żłączem luer-lock z rozbieralnym kranikiem do podłączenia isuflacji, zaworu trokara Z uszczelką zewnętrzną typu kapturek oraz klapą otwieraną pod naporem instrumentu i ręcznie przy pomocy dedykowanej bocznej dźwigni, gwóźdź ostry , piramidalny, | C49: Kpl. | D49: 2
B50: RAZEM | F50: =SUM(F5:F49) -> 0 | I50: =SUM(I5:I49) -> 0
B53: Data | H53: Podpis osoby/osób upoważnionej
B54: ……………………………………………. | H54: ……………………………….

Sheet Zad.43
B2: ZOZ/DZP/PN/5/22
B3: Załącznik Nr: 9
A4: Zadanie nr: 43 – Pieluchy dla dorosłych
A5: L.p. | B5: Przedmiot zamówienia | C5: Jm | D5: Ilość opakowań | E5: Cena jednostkowa netto za opak. | F5: Wartość netto | G5: VAT | H5: Cena jednostkowa brutto za opak. | I5: Wartość brutto | J5: Producent/Model/Nazwa Handlowa/Nr katalogowy
A6: 1 | B6: Pieluchomajtki oddychające na całej powierzchni, nie zawierające lateksu, posiadające dwa elastyczne ściągacze taliowe, podwójny wkład chłonny z superabsorbentem, podwójne przylepcorzepy umożliwiające wielokrotne zapinanie i odpinanie, hydrofobowe falbanki boczne, "dzienne", rozmiar XL (obwód 130-170 cm), chłonność nie mniej niż 2600g | C6: op. a30 szt. | D6: 500
A7: 2 | B7: Pieluchomajtki oddychające na całej powierzchni, nie zawierające lateksu, posiadające dwa elastyczne ściągacze taliowe, podwójny wkład chłonny z superabsorbentem, podwójne przylepcorzepy umożliwiające wielokrotne zapinanie i odpinanie, hydrofobowe falbanki boczne, "dzienne", rozmiar L (obwód 100-150 lub 110-150 cm), chłonność nie mniej niż 2200g | C7: op. a30 szt. | D7: 3500
A8: 3 | B8: Pieluchomajtki oddychające na całej powierzchni, nie zawierające lateksu, posiadające dwa elastyczne ściągacze taliowe, podwójny wkład chłonny z superabsorbentem, podwójne przylepcorzepy umożliwiające wielokrotne zapinanie i odpinanie, hydrofobowe falbanki boczne, "dzienne" rozmiar M (obwód 75-110 cm), chłonność nie mniej niż 2000g | C8: op. a30 szt. | D8: 1200
A9: 4 | B9: Pieluchomajtki oddychające na całej powierzchni, nie zawierające lateksu, posiadające dwa elastyczne ściągacze taliowe, podwójny wkład chłonny z superabsorbentem, podwójne przylepcorzepy umożliwiające wielokrotne zapinanie i odpinanie, hydrofobowe falbanki boczne o zwiększonej chłonności "nocne" rozmiar L (obwód 100-150 lub 110-150 cm), chłonność nie mniej niż 2800g | C9: op. a30 szt. | D9: 600
A10: 5 | B10: Pieluchomajtki oddychające na całej powierzchni, nie zawierające lateksu, posiadające dwa elastyczne ściągacze taliowe, podwójny wkład chłonny z superabsorbentem, podwójne przylepcorzepy umożliwiające wielokrotne zapinanie i odpinanie, hydrofobowe falbanki boczne o zwiększonej chłonności "nocne" rozmiar M (obwód 75-110 cm), chłonność nie mniej niż 2600g | C10: op. a30 szt. | D10: 600
A11: 6 | B11: Pielucha anatomiczna w rozmiarze 28-35x50-64cm chłonności 1100-1200 gram lub mililitrów | C11: op. a30 szt. | D11: 3500
A12: 7 | B12: Podkład chłonny 90x60 cm | C12: op= 30szt. | D12: 1800
A13: 8 | B13: Serweta z nitką radiacyjną 4 warstwy 8x17 nitek sterylna | C13: szt. | D13: 2000
B14: RAZEM | F14: =SUM(F6:F13) -> 0 | I14: =SUM(I6:I13) -> 0
B17: Data | H17: Podpis osoby/osób upoważnionej
B18: ……………………………………………. | H18: ……………………………….

Sheet Zad.45
B1: ZOZ/DZP/PN/5/22
B2: Załącznik Nr: 9
A3: Zadanie nr: 45 - Pojemniki HDPE.
A4: Lp. | B4: Nazwa produktu | C4: Jednostka miary | D4: Ilość | E4: Cena jednostkowa netto | F4: Wartość netto | G4: VAT | H4: Cena jednostkowa brutto | I4: Wartość brutto | J4: Producent/Model/Nazwa Handlowa/Nr katalogowy
A5: 1 | B5: Pojemnik HDPE pojemność 100ml średnica wlotu 35mm śr pojemnika 52x62mm | C5: szt | D5: 500
A6: 2 | B6: Pojemnik HDPE pojemność 250ml średnica wlotu 58mm śr pojemnika 73x90mm | C6: szt | D6: 800
A7: 3 | B7: Pojemnik HDPE pojemność 500ml średnica wlotu 74mm śr pojemnika 85x110mm | C7: szt | D7: 400
A8: 4 | B8: Pojemnik HDPE pojemność 1000ml średnica wlotu 88mm śr pojemnika 110x132mm | C8: szt | D8: 300
A9: 5 | B9: Pojemnik HDPE pojemność 2000ml średnica wlotu 88mm śr pojemnika 137x165mm | C9: szt | D9: 200
A10: 6 | B10: Pojemnik z polipropylenu do transportu i przechowywania materiałów tkankowych w 10% zbuforowanej formalinie. Pojemność 3000ml wymiar minimalny: 182x172x137mm | C10: szt. | D10: 100
A11: 7 | B11: Pojemnik z polipropylenu do transportu i przechowywania materiałów tkankowych w 10% zbuforowanej formalinie. Pojemność 5000ml wymiar minimalny: 208x192x192mm | C11: szt. | D11: 80
A12: 8 | B12: Pojemnik z polipropylenu do transportu i przechowywania materiałów tkankowych w 10% zbuforowanej formalinie. Pojemność 10000ml wymiar minimalny: 251x251x264mm | C12: szt. | D12: 50
B13: RAZEM | F13: =SUM(F5:F12) -> 0 | I13: =SUM(I5:I12) -> 0
B19: Data | H19: Podpis osoby/osób upoważnionej
B20: ……………………………………………. | H20: ……………………………….

Sheet Zad. 47
B1: ZOZ/DZP/PN/5/22
B2: Załącznik Nr: 9
A3: Zadanie nr: 47- Pojemniki na odpady
A4: Lp. | B4: Nazwa produktu | C4: Jednostka miary | D4: Ilość | E4: Cena jednostkowa netto | F4: Wartość netto | G4: VAT | H4: Cena jednostkowa brutto | I4: Wartość brutto | J4: Producent/Model/Nazwa Handlowa/Nr katalogowy
A5: 1 | B5: Pojemnik na igły pojemność 0,5 litra | C5: szt. | D5: 200
A6: 2 | B6: Pojemnik na igły pojemność 0,7 litra | C6: szt. | D6: 600
A7: 3 | B7: Pojemnik na igły pojemność 2,0 litry, wysokość min. 220mm, | C7: szt. | D7: 8500
A8: 4 | B8: Pojemnik na igły pojemność 1,0-1,4 litra 120mm | C8: szt. | D8: 5000
A9: 5 | B9: Pojemnik na igły pojemność 5 litrów | C9: szt. | D9: 3000
A10: 6 | B10: Pojemnik na odpady medyczne pojemność 10 litrów | C10: szt. | D10: 200
A11: 7 | B11: Pojemnik na odpady medyczne pojemność 20-25 litrów | C11: szt. | D11: 200
B12: RAZEM | F12: =SUM(F5:F11) -> 0 | I12: =SUM(I5:I11) -> 0
B16: Data | H16: Podpis osoby/osób upoważnionej
B17: ……………………………………………. | H17: ……………………………….

Sheet Zad. 48
B1: ZOZ/DZP/PN/5/22
B2: Załącznik Nr: 9
A3: Zadanie nr: 48 - Kaniule teflonowe i przyrządy
A4: Lp. | B4: Nazwa produktu | C4: Jednostka miary | D4: Ilość | E4: Cena jednostkowa netto | F4: Wartość netto | G4: VAT | H4: Cena jednostkowa brutto | I4: Wartość brutto | J4: Producent/Model/Nazwa Handlowa/Nr katalogowy
A5: 1 | B5: Kaniula dożylna 0,7 24G dł. 19mm przepływ 23ml/min. Ze skrzydełkami. Wykonana z teflonu. | C5: szt. | D5: 4500
A6: 2 | B6: Kaniula dożylna 22 G (0,8-0,9) dł. 25 mm z portem, z teflonu, ze skrzydełkami. Do wkłuć dożylnych. | C6: szt. | D6: 2000
A7: 3 | B7: Kaniula dożylna 20 G (0,8-1,1) dł. 32 mm z portem, z teflonu, ze skrzydełkami. Do wkłuć dożylnych. | C7: szt. | D7: 400
A8: 4 | B8: Kaniula dożylna 18 G (0,9-1,3) dł. 32 mm z portem, z teflonu, ze skrzydełkami. Do wkłuć dożylnych. | C8: szt. | D8: 400
A9: 5 | B9: Przyrząd do pomiaru ośrodkowego ciśnienia żylnego | C9: szt. | D9: 100
A10: 6 | B10: Przyrząd do szybkiego przetaczana krwi | C10: szt. | D10: 500
A11: 7 | B11: Przyrząd do transfuzji komora kropl. o poj. 18 ml wolna od PCV,dren wolny od ftalanów z filtrem o śr. oczek 200 m/mikr.Długość przyrządu 150 cm | C11: szt. | D11: 6500
A12: 8 | B12: Przedłużacz do pomp inf. 150 cm | C12: szt. | D12: 14000
A13: 9 | B13: Przedłużacz do pomp inf. 120 cm | C13: szt. | D13: 5000
A14: 10 | B14: Przedłużacz do pomp inf. 150 cm, bursztynowy, | C14: szt. | D14: 3900
B15: RAZEM | F15: =SUM(F5:F14) -> 0 | I15: =SUM(I5:I14) -> 0
B18: Data | H18: Podpis osoby/osób upoważnionej
B19: ……………………………………………. | H19: ……………………………….

Sheet Zad.50
B1: ZOZ/DZP/PN/5/22
B2: Załącznik Nr: 9
B3: Zadanie nr:50 - Akcesoria do respiratora Bennet
A4: Lp. | B4: Nazwa produktu | C4: Jednostka miary | D4: Ilość | E4: Cena jednostkowa[zł] netto | F4: Wartość [zł] netto | G4: VAT | H4: Cena jednostkowa [zł] brutto | I4: Wartość [zł] brutto | J4: Producent/Model/Nazwa Handlowa/Nr katalogowy
A5: 1 | B5: Wydechowy filtr jednorazowego użytku zintegrowany z pojemnikiem na skropliny, jednopacjentowy, kompatybilny z respiratorem Puritan Bennet 980 | C5: op=12szt. | D5: 35
A6: 2 | B6: Wdechowy filtr jednorazowego użytku kompatybilny z respiratorem Puritan Bennet 980 | C6: op=12szt. | D6: 35
A7: 3 | B7: Filtr p/bakteryjny wdechowy kompatybilny z respiratorem Bennet 980 | C7: 1szt. | D7: 120
A8: 4 | B8: Filtr p/bakteryjny wydechowy kompatybilny z respiratorem Bennet | C8: 1szt. | D8: 4
A9: 5 | B9: Wdechowy filtr bakteryjny Puritan Bennett™980 , wielorazowego użytku (Re/Flex™ 22 mm) | C9: szt. | D9: 26
A10: 6 | B10: Filtr wydechowy Puritan Bennett™980 dla dzieci i dorosłych, wielorazowego użytku | C10: szt. | D10: 30
A11: 7 | B11: Zbiornik na skropliny Puritan Bennett™980 | C11: szt. | D11: 16
A12: 8 | B12: Jednorazowe czujniki CO2 do respiratora Bennett 980 | C12: szt. | D12: 450
A13: 9 | B13: Mankiet duży do urządzenia Bennet 980 | C13: szt. | D13: 18
A14: 10 | B14: Zatyczka zbiornika na skropliny do respiratora Puritan Bennet 980 | C14: szt. | D14: 10
A15: 11 | B15: Uszczelka do pojemnika na skropliny do filtra wydechowego wielorazowego wydechowego do respiratora Puritan Bennet 980 | C15: szt. | D15: 10
B16: Razem | F16: =SUM(F5:F15) -> 0 | I16: =SUM(I5:I15) -> 0
B19: Data | G19: Podpis osoby/osób upoważnionej
B20: ……………………………………………. | G20: ……………………………….

Sheet Zad.56
B1: ZOZ/DZP/PN/5/22
B2: Załącznik Nr: 9
A3: Zadanie nr: 56 - Intubacja.
A4: Lp. | B4: Nazwa produktu | C4: Jednostka miary | D4: Ilość | E4: Cena jednostkowa netto | F4: Wartość netto | G4: VAT | H4: Cena jednostkowa brutto | I4: Wartość brutto | J4: Producent/Model/Nazwa Handlowa/Nr katalogowy
A5: 1 | B5: Rurka intubacyjna z niskociśnieniowym mankietem uszczelniającym o dużej objętości, wykonana z termoczułego materiału z oczkiem Murphy'ego i nitką RTG wzdłuż całej rurki, z wyraźnym i dokładnym oznaczeniem rozmiaru w min. 2 miejscach na rurce, czytelna skala głębokości co 2 cm, wyraźny podwójny oring do okola rurki; rozmiar 3,0-10,0. Sterylna. Długość rurki uzależniona od rozmiaru i zawierająca się w przedziale 160 mm do 320 mm. Półtransparentny zdejmowany łącznik 15 mm. | C5: szt. | D5: 2500
A6: 2 | B6: Rurka nosowo-gardłowa służąca do odsysania oraz do zabezpieczenia drożności dróg oddechowych, wnętrze rurki, dostosowane specjalnie do łatwego wprowadzania cewników do odsysania rozmiary do wyboru przy zakupie 6,5- 8,5 co 0,5 | C6: szt. | D6: 62
A7: 3 | B7: Rurka tracheostomijna z przedłużoną częścią dystalną, posiadająca kaniulę wewnętrzną, miękki obrotowy kołnierz rurki, mankiet typu "duża objętość-niskie ciśnienie", dwuelementowy regulowany ogranicznik do stabilizacji kaniuli, atraumatycznie wykończone wszystkie elementy, rozmiary do wyboru przy zakupie 5,0-8,0 co 1,0 | C7: szt. | D7: 20
A8: 4 | B8: Rurka tracheostomijna z przedłużoną częścią proksymalną, posiadająca kaniulę wewnętrzną, miękki obrotowy kołnierz rurki, mankiet typu "duża objętość-niskie ciśnienie", dwuelementowy regulowany ogranicznik do stabilizacji kaniuli, atraumatycznie wykończone wszystkie elementy,rozmiary do wyboru przy zakupie 5,0-8,0 co 1,0 | C8: szt. | D8: 10
A9: 5 | B9: Rurka dooskrzelowa typu Robert Show z mankietem tchawiczym z poliuretanu i makietem dooskrzelowym z PCV, znaczniki RTG na zakończeniu dystalnym rurki, ponad mankietem dooskrzelowym oraz przy wejściu do tchawicy W zestawie min. dwa cewniki do odsysania oraz złączka Y wraz z zestawem złączy. Baloniki kontrolne oraz dreny łączące z rurką oraz zestaw złączy zgodne z kolorem danego mankietu. Położenie mankietu zapisane na baloniku kontrolnym. Prawa, rozmiar 35-41 i lewa 28-41 do wyboru przy zakupie. | C9: szt. | D9: 10
A10: 6 | B10: Rurka intubacyjna dwudrożna tchawiczo-przełykowa typu Combitube do szybkiej intubacji, zapewniająca drożność dróg oddechowych po założeniu zarówno do tchawicy jak i przełyku w sytuacjach nagłych, podwójne światło, dwa mankiety uszczelniające: krtaniowy i przełykowy, linia kontrastująca w RTG, dodatkowe oznaczenie głębokości w postaci dwóch pełnych ringów nad mankietem krtaniowym, dodatkowo w zestawie min. strzykawki: 20ml i 140ml oraz cewnik do odsysania - sterylna. rozmiaty do wyboru przy zakupie 37Fr i 41 Fr. | C10: szt. | D10: 5
A11: 7 | B11: Filtr oddechowy antybakteryjny/antywirusowy dla dorosłych z celulozowym, wyraźnie oddzielonym wymiennikiem ciepła i wilgoci - mechaniczny (bez warstwy elektrostatycznej), membrana filtrująca hydrofobowa, harmonijkowa, mała waga własna i przestrzeń martwa, port kapno, skuteczność filtracji dla bakterii i wirusów z powietrza min. 99,99% - sterylny - czas użytkowania do 24 godz. | C11: szt. | D11: 3000
A12: 8 | B12: Filtr antybakteryjny, antywirusowy, dla dorosłych, z elektrostatyczną warstwą filtrującą, z portem kapno, sterylny, o skuteczności filtracji dla bakterii i wirusów 99,999% o przestrzeni martwej 36ml, waga max. 19g, Skuteczność filtracyjna względem NaCl ≥ 97,100 % | C12: szt. | D12: 2000
A13: 9 | B13: Rurka tracheostomijna z niskoobjętościowym, niskociśnieniowym mankietem w kształcie stożka, stopniowo zwężającym się ku dołowi, wykonane z miękkiego materiału na bazie plastyfikatora wolnego od DEHP (bez ftalanów) z wyraźnie miękkim, nieprzylegającym na całej powierzchni dla mniejszej traumatyzacji stomii przezroczystym ruchomym szyldem (w płaszczyźnie góra-dół), (obrót szyldu umożliwia dopasowanie do warunków anatomicznych pacjenta) jednorazową kaniulą wewnętrzną mocowaną na rurce za pomocą specjalnego zatrzasku. W komplecie obturator oraz taśma do mocowania. Rurki posiadają bezpieczny zawór balonika pilotowego. Rozmiary do wyboru przy zakupie: 6,5 (śr. wewn. 6,5 mm, śr. zewn., 9,4 mm, dł. 30 mm); 7.0 (śr. wewn 7,0 mm, śr zewn. 10,1 mm); 7,5 (śr. wewn. 7,5 mm, śr. zewn. 10,8 mm); 8,0 (śr. wewn. 8.0 mm, śr. zewn. 11,4 mm); 8,5 (śr wewn. 8,5 mm, śr. zewn. 12,2 mm) 9,0 (śr. wewn. 9,0, śr. zewn. 12,7 mm), 10,0 (śr. wew. 10,0 mm, śr. zewn. 13,8 mm). Rurka do przedłużonego zastosowania. Rozmiar rurki, średnice wewn. i zewn. oraz rozmiar serii oznaczone na szyldzie rurki wraz z kodowaniem kolorystycznym uzależnionym od rozmiaru rurki. Sterylne. | C13: szt. | D13: 100
B14: RAZEM | F14: =SUM(F5:F13) -> 0 | I14: =SUM(I5:I13) -> 0
B17: Data | H17: Podpis osoby/osób upoważnionej
B18: ……………………………………………. | H18: ……………………………….

Sheet Zad. 57
B1: ZOZ/DZP/PN/5/22
B2: Załącznik Nr: 9
A3: Zadanie nr:57 Statyw do pomp infuzyjnych
A4: Lp. | B4: Nazwa produktu | C4: Jednostka miary | D4: Ilość | E4: Cena jednostkowa netto | F4: Wartość netto | G4: VAT | H4: Cena jednostkowa brutto | I4: Wartość brutto | J4: Producent/Model/Nazwa Handlowa/Nr katalogowy
A5: 1 | B5: Statyw do pomp infuzyjnych: Podstawa jezdna pięcioramienna o średnicy 60cm z blokada na dwa koła wykonane z szarego tworzywa, z listwą elektryczną pięciogniazdową z centralnym wyłącznikiem, rura statywu o śr. 2,5 cm i dł. 195cm ze stali kwasoodpornej, czteroramienny uchwyt do butelek i worków. Stabilność konstrukcji do 17 kg. | C5: kpl | D5: 7
B6: razem | F6: =F5 -> 0 | I6: =SUM(I5) -> 0
B9: Data | G9: Podpis osoby/osób upoważnionej
B10: ……………………………………………. | G10: ……………………………….

Sheet Zad.59
B1: ZOZ/DZP/PN/5/22
B2: Załącznik Nr: 9
A3: Zadanie nr: 59 - Strzykawki do gazometrii.
A4: Lp. | B4: Nazwa produktu | C4: Jednostka miary | D4: Ilość | E4: Cena jednostkowa[zł] netto | F4: Wartość [zł] netto | G4: VAT | H4: Cena jednostkowa [zł] brutto | I4: Wartość [zł] brutto | J4: Producent/Model/Nazwa Handlowa/Nr katalogowy
A5: 1 | B5: Strzykawka sterylna, do pobierania krwi tętniczej, żylnej i innych mateiałów, metodą aspiracji w ilości do 1,7ml, heparynizowana suchą, wysokoskoncentrowaną heparyną litową, elektrolitowo zbilansowaną jonami wapnia, sodu, oraz potasu, z systemem bezkontaktowego usuwania pęcherzyk powietrza ze strzykawki i bezkontaktowego podawania materiału do analizatora , z wewnętrznym urządzeniem wspomagającym mieszanie próbki, zakończenie luer, | C5: szt. | D5: 10000
A6: 2 | B6: Strzykawka do gazometrii napylona heparyną zbalansowana (zredukowaną) wapniem 2-3 ml | C6: szt. | D6: 6500
B7: Razem | F7: =SUM(F5:F6) -> 0 | I7: =SUM(I5:I6) -> 0
B10: Data | G10: Podpis osoby/osób upoważnionej
B11: ……………………………………………. | G11: ……………………………….

Sheet Zad.75
B2: ZOZ/DZP/PN/5/22
B3: Załącznik Nr: 9
A4: Zadanie nr: 75 - Pieluchy dla dzieci
A5: Lp. | B5: Nazwa produktu | C5: Jednostka miary | D5: Ilość | E5: Cena jednostkowa [zł] netto | F5: Wartość [zł] netto | G5: VAT | H5: Cena jednostkowa [zł] brutto | I5: Wartość [zł] brutto | J5: Producent/Model/Nazwa Handlowa/Nr katalogowy
A6: 1 | B6: Pieluszki dla dzieci oddychająca warstwie zewnętrzna zapewniająca stały dostęp powietrza do delikatnej skóry dziecka. Superchłonny wkład pokryty miękką włókniną o strukturze mikrooczek - która dzięki swej budowie umożliwia wchłanianie nie tylko moczu, ale i wolnych stolców. Pieluszki z wycięciem na kikut pępowinowy. Elastyczne falbanki znajdujące się wewnątrz po bokach pieluszki. Mocne rzepy - zapięcia wielokrotnego użytku zapewniające właściwe mocowanie pieluszki. Superaabosrbent z wyciągiem z zielonej herbaty. Brak elementów lateksowych i chlorowanych, dla dzieci o wadze od 2 do 5 kilogramów, | C6: szt | D6: 3000
A7: 2 | B7: Pieluszki dla dzieci oddychająca warstwie zewnętrzna zapewniająca stały dostęp powietrza do delikatnej skóry dziecka. Superchłonny wkład pokryty miękką włókniną o strukturze mikrooczek - która dzięki swej budowie umożliwia wchłanianie nie tylko moczu, ale i wolnych stolców. Elastyczne falbanki znajdujące się wewnątrz po bokach pieluszki. Mocne rzepy - zapięcia wielokrotnego użytku zapewniające właściwe mocowanie pieluszki. Superaabosrbent z wyciągiem z zielonej herbaty. Brak elementów lateksowych i chlorowanych dla dzieci o wadze od 3 do 6 kilogramów, o wadze od 8 do 18 kilogramów, o wadze od 9 do 20 kilogramów. Do wyboru przy zakupie. | C7: szt | D7: 5000
B8: Razem | F8: =SUM(F6:F7) -> 0 | I8: =SUM(I6:I7) -> 0
B11: Data | G11: Podpis osoby/osób upoważnionej
B12: ……………………………………………. | G12: ……………………………….

Sheet Zad.81
B2: ZOZ/DZP/PN/5/22
B3: Załącznik Nr: 9
A4: Zadanie nr: 81 – System oznakowania.
A5: Lp. | B5: Nazwa produktu | C5: Jednostka miary | D5: Ilość | E5: Cena jednostkowa[zł] netto | F5: Wartość [zł] netto | G5: VAT | H5: Cena jednostkowa [zł] brutto | I5: Wartość [zł] brutto | J5: Producent/Model/Nazwa Handlowa/Nr katalogowy
A6: SYSTEM ZNAKOWANIA STRZYKAWEK
A7: System składający się z pojedynczych, plastikowych kartridżów z samoprzylepnymi etykietami kodowanymi kolorami. Pojedyncze kartridże można ze sobą łączyć i rozdzielać według potrzeb za pomocą zaczepów. Etykiety zgodne z międzynarodowym kodem koloru, który odpowiada konspektowi międzynarodowych standardów proponowanych przez Amerykańskie Stowarzyszenie Analiz i Materiałów D4777-94. Samoprzylepne dozowanie pozwala na obsługę jednoręczną. Etykiety oznaczone substancją czynną.
A8: 1 | B8: Jeden kartridż zawiera 600 etykiet | C8: szt. | D8: 90
A9: 2 | B9: Uchwyt metalowy lakierowany proszkowo, odporny na działanie środków dezynfekcyjnych, łatwy do utrzymania czystości, mieszczący 7 kartridży | C9: szt. | D9: 3
A10: 3 | B10: Uchwyt metalowy lakierowany proszkowo, odporny na działanie środków dezynfekcyjnych, łatwy do utrzymania czystości, mieszczący 11 kartridży | C10: szt. | D10: 3
A11: 4 | B11: Rampa metalowa lakierowana proszkowo, odporna na działanie środków dezynfekcyjnych, mieszcząca 7 strzykawek. | C11: szt. | D11: 3
A12: SYSTEM ZNAKOWANIA LINII DO KROPLÓWEK | F12: =E12*D12 -> 0
A13: System składający się z pojedynczych, plastikowych kartridżów z samoprzylepnymi etykietami kodowanymi kolorami. Pojedyncze kartridże można ze sobą łączyć i rozdzielać według potrzeb za pomocą zaczepów. Etykiety zgodne z międzynarodowym kodem koloru, który odpowiada konspektowi międzynarodowych standardów proponowanych przez Amerykańskie Stowarzyszenie Analiz i Materiałów D4777-94. Samoprzylepne dozowanie pozwala na obsługę jednoręczną. Etykiety oznaczone substancją czynną. | F13: =E13*D13 -> 0
A14: 5 | B14: Jeden kartridż zawiera 200 etykiet | C14: szt. | D14: 120
B15: Razem | F15: =F14+F11+F10+F9+F8 -> 0 | I15: =SUM(I8:I14) -> 0
A19: Data | F19: Podpis osoby/osób upoważnionej
A20: ……………………………………………. | F20: ……………………………….

Sheet Zad.82
B1: ZOZ/DZP/PN/5/22
B2: Załącznik Nr: 9
A3: Zadanie nr: 82 – System zamknięty do odsysania pacjenta
A4: Lp. | B4: Nazwa produktu | C4: Jednostka | D4: Ilość | E4: Cena jednostkowa netto | F4: Wartość Netto | G4: VAT | H4: Cena jednostkowa brutto | I4: Wartość brutto | J4: Producent/Model/Nazwa Handlowa/Nr katalogowy
A5: 1 | B5: System zamknięty do odsysania pacjenta o czasie użytkowania do min. 72 godz., do rurek intubacyjnych o dł. 54cm i tracheostomijnych o dł. 30,5cm, podwójnie obrotowy łącznik, samodomykająca się zastawka komory płuczącej oddzielająca samoistnie cewnik od pacjenta, możliwość rozdwojenia drenów poprzez pełną kompatybilność z łącznikiem Y poniżej, port typu MDI do wziewnej podaży ciśnieniowej aerozoli, w jednym zestawie osobno zapakowane min.12 fiolek soli fizjologicznej a 15ml. Rozmiary do wyboru przy zakupie Ch 14 i Ch16. | C5: szt. | D5: 1100
A6: 2 | B6: Zestaw dwóch łączników do zamkniętego systemu do odsysania pacjenta: jednopłaszczyznowy łącznik Y umożliwiający rozdwojenie drenów oraz łącznik z bezkontaktową zastawka do kontroli odsysania (jeden koniec gładki, drugi schodkowy), pakowany w komplecie w worek foliowy lub opakowanie folia/papier, produkt sterylny lub mikrobiologicznie czysty. Kompatybilny z poz 1 | C6: szt. | D6: 1100
A7: 3 | B7: Fiolka soli fizjologicznej o poj 15ml do płukania zamknietego systemu do odsysania pacjenta z zakończeniem kompatybilnym z portem do płukania zaoferowanego systemu z poz 1 | C7: szt. | D7: 400
B8: Razem | F8: =SUM(F5:F7) -> 0 | I8: =SUM(I5:I7) -> 0
B12: Data | G12: Podpis osoby/osób upoważnionej
B13: ……………………………………………. | G13: ……………………………….

Sheet Zad.85
B1: ZOZ/DZP/PN/5/22
B2: Załącznik Nr: 9
A3: Zadanie nr: 85 - Opaska 2
A4: Lp. | B4: Nazwa produktu | C4: Jednostka miary | D4: Ilość | E4: Cena jednostkowa netto | F4: Wartość netto | G4: VAT | H4: Cena jednostkowa brutto | I4: Wartość brutto | J4: Producent/Model/Nazwa Handlowa/Nr katalogowy
A5: 1 | B5: Opaska uciskowa jednorazowego użytku kolor jasnozielony ( seledynowy ) szerokość 10 cm dł.10m | C5: szt. | D5: 20
B6: RAZEM | F6: =SUM(F5) -> 0 | I6: =SUM(I5) -> 0
B9: Data | H9: Podpis osoby/osób upoważnionej
B10: ……………………………………………. | H10: ……………………………….

Sheet Zad.88
B2: ZOZ/DZP/PN/5/22
B3: Załącznik Nr: 9
A4: Zadanie nr: 88 – Gąbka do FESS-u
A5: Lp. | B5: Nazwa produktu | C5: Jednostka miary | D5: Ilość | E5: Cena jednostkowa netto | F5: Wartość netto | G5: VAT | H5: Cena jednostkowa brutto | I5: Wartość brutto | J5: Producent/Model/Nazwa Handlowa/Nr katalogowy
A6: 1 | B6: Biodegradowalny syntetyczny opatrunek 4cm x 8cm, do zabiegów chirurgii endoskopowej zatok przynosowych(FESS), czas wchłaniania 7-10 dni | C6: op=8szt | D6: 28
F7: =SUM(F6) -> 0 | I7: =SUM(I6) -> 0
B9: Data | H9: Podpis osoby/osób upoważnionej
B10: ……………………………………………. | I10: ……………………………….

Sheet Zad.90
B2: ZOZ/DZP/PN/5/22
B3: Załącznik Nr: 9
A4: Zadanie nr: 90 – Żel hydrożelowy do FESS-u.
A5: Lp. | B5: Nazwa produktu | C5: Jednostka miary | D5: Ilość | E5: Cena jednostkowa netto | F5: Wartość netto | G5: VAT | H5: Cena jednostkowa brutto | I5: Wartość brutto | J5: Producent/Model/Nazwa Handlowa/Nr katalogowy
A6: 1 | B6: Żel stanowiący barierę przeciwzrostową stosowana po zabiegach operacyjnych ( zabiegi typu FESS,wycinanie migdałków czy polipów, korekta przegrody nosowej ). Preparat wykonany w pełni na bazie hydrożelu, jest on sterylny i charakteryzuje się bardzo dużą lepkością. Żel wykazuje pełną absorpcję w dwa do trzech tygodni po jego aplikacji tym samym nie wymaga bolesnego usuwania. Preparat w sterylnych ampułko strzykawkach , gotowych do użycia z dołączoną do opakowania elastyczną kaniulą ułatwiającą aplikację żelu po zabiegach endoskopowych. Hamuje nawet minimalne krwawienie i poprawia szybkość gojenia się ran co powoduje wzrost komfortu pacjenta po zabieg ,nie wymaga chłodzenia. | C6: szt. | D6: 10
B7: Razem | F7: =SUM(F6) -> 0 | I7: =SUM(I6) -> 0
B10: Data | H10: Podpis osoby/osób upoważnionej
B11: ……………………………………………. | I11: ……………………………….

Sheet Zad.95
B1: ZOZ/DZP/PN/5/22
B2: Załącznik Nr: 9
A3: Zadanie nr 95- Żele i gaziki
A4: Lp | B4: Nazwa produktu | C4: Jednostka | D4: Ilość | E4: Cena jednostkowa netto | F4: Wartość netto | G4: VAT | H4: Cena jednostkowa brutto | I4: Wartość brutto | J4: Producent/Model/Nazwa Handlowa/Nr katalogowy
A5: 1 | B5: Sterylny (sterylizowany radiacyjnie) lubrykant poślizgowy ,pakowany podwójnie , saszetka z wyprofilowaną końcówką do dokładnej aplikacji, końcówka z nacięciem, lubrykant na bazie wody, odtłuszczony, bezzapachowy i bezbarwny, nie powoduje podrażnień, saszetki po 5g | C5: op=150szt. | D5: 6
A6: 2 | B6: Sterylny żel do miejscowego znieczulenia z lignokainą oraz zapewniający optymalne smarowanie przy wstawianiu instrumentów do jam ciała. Skład chemiczny żelu podany na sterylnej ampułkostrzykawce oraz opakowaniu zbiorczym. Ampułkostrzykawka pakowana pojed po 6ml | C6: op=10szt | D6: 50
A7: 3 | B7: Gaziki nasączane chlorheksydyną 2% i 70% alkoholem izopropylowy.Do dezynfekcji cewników centralnych i obwodowych.Pakowane pojedynczo. | C7: op=200szt. | D7: 10
A8: 4 | B8: Pałeczki do nawilżania jamy ustnej. Niezawierające cukru,nasączone gliceryną . | C8: op=75szt. | D8: 30
B9: RAZEM | F9: =SUM(F5:F8) -> 0 | I9: =SUM(I5:I8) -> 0
B12: Data | H12: Podpis osoby/osób upoważnionej
B13: ……………………………………………. | H13: ……………………………….

Sheet Zad.96
B1: ZOZ/DZP/PN/5/22
B2: Załącznik Nr: 9
B4: Zadanie nr: 96 - Karty chipowe do monitora hemodynamicznego Lidco Rapid
A5: Lp. | B5: Nazwa produktu | C5: Jednostka miary | D5: ilość | E5: Cena jednostkowa[zł] netto | F5: Wartość [zł] netto | G5: VAT | H5: Cena jednostkowa [zł] brutto | I5: Wartość [zł] brutto | J5: Producent/Model/Nazwa Handlowa/Nr katalogowy
A6: 1 | B6: Karty chipowe mikroprocesorowe (zgodne z ISO 7816-1) identyfikacji pacjenta do zapisu danych demograficznych- do monitora hemodynamicznego Lidco Rapid | C6: szt. | D6: 75
B7: Razem | F7: =SUM(F6) -> 0 | I7: =SUM(I6) -> 0
B10: Data | G10: Podpis osoby/osób upoważnionej
B11: ……………………………………………. | G11: ……………………………….

Sheet Zad.97
B1: ZOZ/DZP/PN/5/22
B2: Załącznik Nr: 9
A3: Zadanie nr 97: Akcesoria do kardiomonitora BleaseSirius firmy Spacelabs Medical USA
A4: Lp. | B4: Nazwa produktu | C4: Jednostka | D4: Ilość | E4: Cena jednostkowa netto | F4: Wartość Netto | G4: VAT | H4: Cena jednostkowa brutto | I4: Wartość brutto | J4: Producent/Model/Nazwa Handlowa/Nr katalogowy
A5: 1 | B5: Przewód EKG 3- odprowadzeniowy | C5: szt. | D5: 5
A6: 2 | B6: Odprowadzenia do kabla 3-odprowadzeniowego | C6: szt. | D6: 5
A7: 3 | B7: Mankiet do pomiaru Ciśnienia 23-33 cm | C7: szt. | D7: 5
A8: 4 | B8: Mankiet do pomiaru ciśnienia 31-40 cm | C8: szt. | D8: 5
A9: 5 | B9: Rurka łącząca mankiet z kardiomonitorem | C9: szt. | D9: 5
A10: 6 | B10: Czujnik saturacji dla dorosłych | C10: szt. | D10: 5
A11: 7 | B11: Przedłużacz do czujnika saturacji | C11: szt. | D11: 5
A12: 8 | B12: Sonda temperatury naskórnej | C12: szt. | D12: 5
A13: 9 | B13: Pułapka wodna do analizatora gazowego | C13: Op=10 szt. | D13: 5
A14: 10 | B14: Linia próbkowania do analizatora gazowego | C14: Op=50 szt | D14: 5
A15: 11 | B15: Czujnik przepływu | C15: szt. | D15: 5
A16: 12 | B16: Rurka łącząca czujnik przpływu z aparatem 1,5 m | C16: szt. | D16: 5
A17: 13 | B17: Rurka łącząca przepływu z aparatem 2 m | C17: szt. | D17: 5
B18: RAZEM | F18: =SUM(F5:F17) -> 0 | I18: =SUM(I5:I17) -> 0
B19: Wszystkie pozycje kompatybilne z kardiomonitorem kardiomonitora BleaseSirius firmy Spacelabs Medical USA
B21: Data | H21: Podpis osoby/osób upoważnionej
B22: ……………………………………………. | H22: ……………………………….

Sheet Zad.102
B2: ZOZ/DZP/PN/5/22
B3: Załącznik Nr: 9
A5: Zadanie nr:102 - Reduktory
A6: Lp. | B6: Nazwa produktu | C6: Jednostka miary | D6: Ilość | E6: Cena jednostkowa[zł] netto | F6: Wartość [zł] netto | G6: VAT | H6: Cena jednostkowa [zł] brutto | I6: Wartość [zł] brutto | J6: Producent/Model/Nazwa Handlowa/Nr katalogowy
A7: 1 | B7: Reduktor z dozownikiem 0-15 l/min.+ szybkozłącze / DIN/lub AGA do wyboru przy zakupie | C7: szt. | D7: 20
A8: 2 | B8: Dozownik z zaworem umożliwiającym płynną regulację dozowania tlenu, wielorazową butelką nawilżacza,ze złączem typu AGA lub DIN do wyboru przy zakupie. | C8: szt | D8: 30
A9: 3 | B9: Reduktor ssania z butlą zabezpieczającą mocowany bezpośrednio do gniazda próżni (technologia DIN. Regulacja w zakresie od 0 do podciśnienia istniejącego w instalacji. Wysokość całkowita nie większa niż 20cm. | C9: szt | D9: 4
A10: 4 | B10: Pojemnik zabezpieczający ok 250 ml z poliwęglanu z zaworem odcinającym | C10: szt | D10: 6
A11: 5 | B11: Wąż silikonowy do ssaka 12x,5 do ssaka medycznego typ PR – 12/7 | C11: szt | D11: 6
B12: Razem | F12: =SUM(F7:F11) -> 0 | I12: =SUM(I7:I11) -> 0
B15: Data | G15: Podpis osoby/osób upoważnionej
B16: ……………………………………………. | G16: ……………………………….

Sheet Zad.103
B1: ZOZ/DZP/PN/5/22
B2: Załącznik Nr: 9
A4: Zadanie nr: 103 - Preparat znieczulający
A5: Lp | B5: Nazwa produktu | C5: Jednostka | D5: Ilość | E5: Cena jednostkowa netto | F5: Wartość netto | G5: VAT | H5: Cena jednostkowa brutto | I5: Wartość brutto | J5: Producent/Model/Nazwa Handlowa/Nr katalogowy
A6: 1 | B6: Preparat przeciwbólowy zawierający mieszaninę gazów o składzi : 50%podtlenku azotu i 50% tlenu zarejestrowany jako lek wraz z dostawami | C6: butla po 10 l = 2,8 m3 gazu | D6: 100
A7: 2 | B7: Ustniki jednorazowe do zaworu dozującego | C7: op.=100szt | D7: 15
A8: 3 | B8: Dzierżawa 4 butli | C8: miesiąc | D8: 24
A9: 4 | B9: Dzierżawa 3 stojaków na kółkach | C9: miesiąc | D9: 24
A10: 5 | B10: Dzierżawa 3 zaworów dozujących | C10: miesiąc | D10: 24
B11: RAZEM | F11: =SUM(F6:F10) -> 0 | I11: =SUM(I6:I10) -> 0
B13: Uwaga:
B14: Wykonawca dostarczy Zamawiającemu w ramach umowy dzierżawy butle, stojaki i zawory ( zawory dozujące nie mogą zawierać części wymagających sterylizacji)
B16: Data | H16: Podpis osoby/osób upoważnionej
B17: ……………………………………………. | I17: ……………………………….

Sheet Zad.114
B1: ZOZ/DZP/PN/5/22
B2: Załącznik Nr: 9
A3: Zadanie nr: 114 - Retraktor
A4: Lp. | B4: Nazwa produktu | C4: Jednostka miary | D4: Ilość | E4: Cena jednostkowa[zł] netto | F4: Wartość [zł] netto | G4: VAT | H4: Cena jednostkowa [zł] brutto | I4: Wartość [zł] brutto | J4: Producent/Model/Nazwa Handlowa/Nr katalogowy
A5: 1 | B5: Retraktor narządów miękkich do utrzymywania tkanek miękkich z dala od pola operacyjnego oraz wchłaniania krwi i/lub płynów podczas zabiegu. Przed użyciem wymagane jest nasączenie roztworem soli fizjologicznej. Rozmiar:250x50x50mm | C5: op=25szt. | D5: 10
A6: 2 | B6: Retraktor narządów miękkich do utrzymywania tkanek miękkich z dala od pola operacyjnego oraz wchłaniania krwi i/lub płynów podczas zabiegu. Przed użyciem wymagane jest nasączenie roztworem soli fizjologicznej. Rozmiar:300x50x50mm | C6: op=25szt. | D6: 4
B7: Razem | F7: =SUM(F5:F6) -> 0 | I7: =SUM(I5:I6) -> 0
B10: Data | G10: Podpis osoby/osób upoważnionej
B11: ……………………………………………. | G11: ……………………………….

Sheet Zad.115
B1: ZOZ/DZP/PN/5/22
B2: Załącznik Nr: 9
A3: Zadanie nr: 115 – Tracheotomia metodą Ciaglia dodatkowe
A4: Lp. | B4: Nazwa produktu | C4: Jednostka miary | D4: Ilość | E4: Cena jednostkowa[zł] netto | F4: Wartość [zł] netto | G4: VAT | H4: Cena jednostkowa [zł] brutto | I4: Wartość [zł] brutto | J4: Producent/Model/Nazwa Handlowa/Nr katalogowy
A5: 1 | B5: Zestaw do przezskórnej tracheostomii metodą Ciaglia (do wprowadzenia metoda Seldingera) w skład którego wchodzą:• Jednostopniowe rozszerzadło o kształcie rogu nosorożca z powłoką hydrofilną i wstępnie założonym cewnikiem prowadzącym• Prowadnik ze znacznikami pozycjonującymi o średnicy 0,052 inch (1,32 mm).• Rozszerzacze ładujące do rurki Tracheostomijnej: 7,5mm,8,5mm,9mm lub 6,5mm, 7,0mm,7,5mm, 8mm lub 8,5mm, 9mm, 10mm Do wyboru przy zakupie. • 2x Igła wprowadzajaca (z koszulka i bez) 7 cm, rozmiar 15 G• Krótkie Rozszerzadlo o rozmiarze 14,0 Fr; 6,5 cm• Skalpel jednorazowego użytku nr 15• Strzykawka Monoject 6ml• Czerwony pojemnik na zużyte igły• Żel poślizgowy, 4 gąbki z gazy, zakrzywione kleszczyki hemostatyczne | C5: 1kpl | D5: 50
B6: RAZEM | F6: =SUM(F5) -> 0 | I6: =SUM(I5) -> 0
B9: Data | G9: Podpis osoby/osób upoważnionej
B10: ……………………………………………. | G10: ……………………………….

Sheet Zad. 120
B2: ZOZ/DZP/PN/5/22
B3: Załącznik Nr: 9
A4: Zadanie nr: 120 – Majtki chłonne
A5: Lp. | B5: Nazwa produktu | C5: Jednostka miary | D5: Ilość | E5: Cena jednostkowa[zł] netto | F5: Wartość [zł] netto | G5: VAT | H5: Cena jednostkowa [zł] brutto | I5: Wartość [zł] brutto | J5: Producent/Model/Nazwa Handlowa/Nr katalogowy
A6: 1 | B6: Majtki chłonne przeznaczone dla osób ze średnim i ciężkim nietrzymaniem moczu. Warstwy wierzchnia i spodnia wykonane z miękkich włóknin. Wkład chłonny z pulpy celulozowej z superabsorbentem. Warstwa rozprowadzająca (EDS). Ochronę przed wyciekami zapewniają osłonki boczne wzdłuż wkładu chłonnego oraz falbanki z przędzą elastyczną w obszarze pachwinowym. Indykator wilgotności – nadruk tuszem rozmywający się pod wpływem kontaktu z cieczą. Warstwa zewnętrzna paroprzepuszczalna na całej powierzchni. Tasiemka do zawijania zużytego wyrobu umieszczona w tylnej części. Chłonność min.1400g, obwód 80-110cm, | C6: op=10szt | D6: 70
A7: 2 | B7: Majtki chłonne przeznaczone dla osób ze średnim i ciężkim nietrzymaniem moczu. Warstwy wierzchnia i spodnia wykonane z miękkich włóknin. Wkład chłonny z pulpy celulozowej z superabsorbentem. Warstwa rozprowadzająca (EDS). Ochronę przed wyciekami zapewniają osłonki boczne wzdłuż wkładu chłonnego oraz falbanki z przędzą elastyczną w obszarze pachwinowym. Indykator wilgotności – nadruk tuszem rozmywający się pod wpływem kontaktu z cieczą. Warstwa zewnętrzna paroprzepuszczalna na całej powierzchni. Tasiemka do zawijania zużytego wyrobu umieszczona w tylnej części. Chłonność min.1600g, obwód 100-135cm, | C7: op=10szt | D7: 70
F8: =SUM(F6:F7) -> 0 | H8: =SUM(H6:H7) -> 0 | I8: =SUM(I6:I7) -> 0
B11: Data | G11: Podpis osoby/osób upoważnionej
B12: ……………………………………………. | G12: ……………………………….

Sheet Zad.126
B2: ZOZ/DZP/PN/5/22
B3: Załącznik Nr: 9
A4: Zadanie nr: 126 Cewniki do dializ 2
A5: Lp. | B5: Nazwa produktu | C5: Jednostka miary | D5: Ilość | E5: Cena jednostkowa netto | F5: Wartość netto | G5: VAT | H5: Cena jednostkowa brutto | I5: Wartość brutto | J5: Producent/Model/Nazwa Handlowa/Nr katalogowy
A6: 1 | B6: Cewniki wysokoprzepływowe (HighFlow), o nerkowatym kształcie przekroju, schodkowa końcówka cewnika pozbawiona otworów bocznych. Tworzywo poliuretanowe bez DEHP, Zbudowane dodatkowo z kopolimeru nałożonego na całej długości cewnika, Pokryte powłoką bizmutową o właściwościach przeciwbakteryjnych. 13F o długości 150mm i 200mm. Do wyboru przy zakupie. | C6: szt. | D6: 250
A7: 2 | B7: kolec do pobierania leków z butelek z drugiej strony system bezigłowy luer-lock. | C7: szt. | D7: 400
B8: suma | F8: =SUM(F6:F7) -> 0 | I8: =SUM(I6:I7) -> 0
B11: Data | G11: Podpis osoby/osób upoważnionej
B12: ……………………………………………. | G12: ……………………………….

Sheet Zad. 129
B1: ZOZ/DZP/PN/5/22
B2: Załącznik Nr: 9
A3: Zadanie nr 129 - Odczynniki i testy, probówki
A4: Lp. | B4: Nazwa produktu | C4: Jednostka miary | D4: Ilość | E4: Cena jednostkowa netto | F4: Wartość netto | G4: VAT | H4: Cena jednostkowa brutto | I4: Wartość brutto | J4: Producent/Model/Nazwa Handlowa/Nr katalogowy
A5: 1 | B5: Cytofix - utrwalacz cytologiczny | C5: szt. | D5: 24
A6: 2 | B6: Test Shimera ( paski ) x 100 szt. | C6: op=100 szt. | D6: 10
A7: 3 | B7: Szkiełka podstawowe z miejscem na opis typu super forst | C7: op=50szt. | D7: 50
A8: 4 | B8: Paski fluoresceinowe | C8: op. 100szt | D8: 15
B9: RAZEM | F9: =SUM(F5:F8) -> 0 | I9: =SUM(I5:I8) -> 0
B11: Data | H11: Podpis osoby/osób upoważnionej
B12: ……………………………………………. | H12: ………………….. | I12: ……………………………….

Sheet Zad.130
B1: ZOZ/DZP/PN/5/22
B2: Załącznik Nr: 9
A4: Zadanie nr 130 Elektrody do stymulacji serca
A5: Lp. | B5: Nazwa produktu | C5: Jednostka miary | D5: Ilość | E5: Cena jednostkowa netto | F5: Wartość netto | G5: VAT | H5: Cena jednostkowa brutto | I5: Wartość brutto | J5: Producent/Model/Nazwa Handlowa/Nr katalogowy
A6: 1 | B6: Elektroda endokawitarna do czasowej stymulacji serca(bipolarna) skład:Kateter 6F, odległość między odprowadzeniami 10mm, zakończenie Tip Z długość katetera 110cm, geometria wtyku 15x2,0mm | C6: szt. | D6: 10
A7: 2 | B7: Zestaw z zastawką do wprowadzania i wymiany kateterów oraz elektrod endokawitarnych, skład: Koszulka z zastawką 6Fx11cm z kranikiem trójdrożnym, rozszerzacz 6Fx 18cm, Prowadnik J.035”x4cm, Igła prosta 18Gx7cm | C7: szt. | D7: 12
B8: RAZEM | F8: =SUM(F6:F7) -> 0 | I8: =SUM(I6:I7) -> 0
B10: Data | H10: Podpis osoby/osób upoważnionej
B11: ……………………………………………. | H11: ………………….. | I11: ……………………………….

Sheet Zad.132
B1: ZOZ/DZP/PN/5/22
B2: Załącznik Nr: 9
A3: Zadanie nr 132 - Parawany na kółkach
A4: Lp. | B4: Nazwa produktu | C4: Jednostka miary | D4: Ilość | E4: Cena jednostkowa [zł] netto | F4: Wartość [zł] netto | G4: VAT | H4: Cena jednostkowa [zł] brutto | I4: Wartość [zł] brutto | J4: Producent/Model/Nazwa Handlowa/Nr katalogowy
A5: 1 | B5: Parawan ścienny teleskopowy: długość ramienia min.1200mm max2000mm, zasłona: 1800x2000mm w kolorze: biały niebieski zielony do wyboru przy zakupie. | C5: szt | D5: 2
A6: 2 | B6: Parawan stojący 1-skrzydłowy 1900mm x 1900mm, stelaż malowany proszkowo w kolorze białym, podstawa 2 kółka i nóżka, kolor zasłony: niebieski. | C6: szt | D6: 3
B7: RAZEM | F7: =SUM(F5:F6) -> 0 | I7: =SUM(I5:I6) -> 0
B11: Data | G11: Podpis osoby/osób upoważnionej
B12: ……………………………………………. | G12: ……………………………….

Sheet Zad.133
B1: ZOZ/DZP/PN/5/22
B2: Załącznik Nr: 9
A3: Zadanie nr 133 - Akcesoria rehabilitacyjne
A4: Lp. | B4: Nazwa produktu | C4: Jednostka miary | D4: Ilość | E4: Cena jednostkowa [zł] netto | F4: Wartość [zł] netto | G4: VAT | H4: Cena jednostkowa [zł] brutto | I4: Wartość [zł] brutto | J4: Producent/Model/Nazwa Handlowa/Nr katalogowy
A5: 1 | B5: Gumy do ćwiczeń oporowych, wymienne, do urządzenia Pragma, z końcówkami do zamontowania, długość 85cm (+/-5cm) kolory: szara 8szt., czarna 8szt., zielona 8szt., | C5: szt | D5: 24
A6: 2 | B6: Podwieszka dwustawowa z pokryciem skórzanym | C6: szt | D6: 16
B7: RAZEM | F7: =SUM(F5:F6) -> 0 | I7: =SUM(I5:I6) -> 0
B11: Data | G11: Podpis osoby/osób upoważnionej
B12: ……………………………………………. | G12: ……………………………….

Sheet Zad.134
B1: ZOZ/DZP/PN/5/22
B2: Załącznik Nr: 9
B3: Zadanie nr 134 – Osłonki na zęby
A4: Lp. | B4: Nazwa produktu | C4: Jednostka miary | D4: Ilość | E4: Cena jednostkowa[zł] netto | F4: Wartość [zł] netto | G4: VAT | H4: Cena jednostkowa [zł] brutto | I4: Wartość [zł] brutto | J4: Producent/Model/Nazwa Handlowa/Nr katalogowy
A5: 1 | B5: Silikonowe lub innego miękkiego tworzywa nakładki na zęby dla dorosłych, sterylne lub mikrobiologicznie czyste | C5: szt | D5: 300
B6: RAZEM | F6: =F5 -> 0 | I6: =SUM(I5) -> 0
B11: Data | G11: Podpis osoby/osób upoważnionej
B12: ……………………………………………. | G12: ……………………………….

Sheet Zad.142
B1: ZOZ/DZP/PN/5/22
B2: Załącznik Nr: 9
A3: Zadanie nr:142 Laktator elektryczny z akcesoriami.
A4: Lp. | B4: Nazwa produktu | C4: Jednostka miary | D4: Ilość | E4: Cena jednostkowa netto | F4: Wartość netto | G4: VAT | H4: Cena jednostkowa brutto | I4: Wartość brutto | J4: Producent/Model/Nazwa Handlowa/Nr katalogowy
A5: 1 | B5: Laktator elektryczny: wyrób medyczny z 4 poziomem bezpieczeństwa higienicznego (mechaniczna separacja mediów pomiędzy akcesoriami wchodzącymi w kontakt z pokarmem, drenem), 8 stopni regulacji rytmu pracy i siły ssania, waga max 0,5kg, możliwość zastosowania laktatora w trybie 72 godzinnym, możliwość demontażu, mysia i dezynfekcji termicznej wszystkich akcesoriów wchodzących pośrednio lub bezpośrednio w kontakt z odciąganym pokarmem, wyświetlacz, długość kabla zasilającego min 2 m lub zasilanie bateryjne. | C5: szt. | D5: 3
A6: 2 | B6: Zestaw osobisty do laktatora, sterylny, do użytku do 72 godzin, z pełną separacją mediów z 4 stopniem bezpieczeństwa higienicznego dostępny z 3 średnicami lejków 26,31,36mm do wyboru przy zakupie | C6: szt. | D6: 360
A7: 3 | B7: Butelka do przechowywania pokarmu 80ml kompatybilna z zestawem z poz. 2, RTU , gotowa do użycia | C7: szt. | D7: 350
A8: 4 | B8: Butelka do przechowywania pokarmu 80ml kompatybilna z zestawem z poz. 2, sterylna. | C8: szt. | D8: 100
B9: Razem | F9: =SUM(F5:F8) -> 0 | I9: =SUM(I5:I8) -> 0
B11: Data | G11: Podpis osoby/osób upoważnionej
B12: ……………………………………………. | G12: ……………………………….

Sheet Zad.144
B1: ZOZ/DZP/PN/5/22
B2: Załącznik Nr: 9
A3: Zadanie nr: 144 - Testy alergologiczne płatkowe
A4: Lp. | B4: Nazwa produktu | C4: Jednostka miary | D4: Ilość | E4: Cena jednostkowa netto | F4: Wartość netto | G4: VAT | H4: Cena jednostkowa brutto | I4: Wartość brutto | J4: Producent/Model/Nazwa Handlowa/Nr katalogowy
A5: 1 | B5: Testy skórne do testów płatkowych, różne alergeny do wyboru przy zakupie | C5: szt. | D5: 30
A6: 2 | B6: Komory do testów płatkowych po 10 komór | C6: op. =100szt. | D6: 2
A7: 3 | B7: Marker do skóry cienki | C7: szt. | D7: 2
B8: RAZEM | F8: =SUM(F5:F7) -> 0 | I8: =SUM(I5:I7) -> 0
B10: Testy do wyboru:
B11: Dwuchromian potasu 0,5% waz.2P-Parafenylenodiamina 1,0% waz.,Mieszanka tiuramów 1,0% waz.,Siarczan neomycyny 20% waz.,Chlorek kobaltu (II) sześciowodny 1,0% waz.,Benzokaina 5,0% waz.,Siarczan niklu sześciouwodniony 5,0% waz., Kalafonia 20% waz., Mieszanka parabenów 16% waz., N-fenylo-N-izopropylo-4-fenylenodiamina 0,1% waz., Alkohol lanoliny (alkohol wełny) 30% waz., Mieszanka merkaptanów 2,0% waz., Żywica epoksydowa, bisfenol A 1,0% waz.,Żywica Myroxylon Pereirae (balsam peruwiański) 25% waz.,Żywica 4-tert-butyloformaldehydowa 1,0% waz.,Merkaptobenzotiazol 2,0% waz.,Mieszanka zapachowa I 8% waz. , Mieszanka seskwiterpenów laktonowych 0,1% waz.,Quaternium 15 1,0% waz.,Primina (2-metoksy-6-n-pentylo-4-benzochinon) 0,01% waz., Budezonid 0,01% waz., Piwalan tiksokortolu 0,1% waz., Metylodibromoglutaronitryl 0,5% waz., Mieszanka zapachowa II 14% waz., Hydroksyizoheksylo 3-cyklohekseno-2,4-dimetylo-1-karboksyaldehyd (Lyral) 5,0% waz., Chlorek palladu 2,0% waz., Propolis 10% waz., Metyloizotiazolinon 0,2% wod., Formaldehyd 2,0% wod., Metyloizotiazolinon + Metylochloroizotiazolinon 0,01% wod., Kliochinol 5%, Formaldehyd+ald. Mrówkowy, Dwuchromian potasu, Pivalan tiksokortolu,
B14: Data | H14: Podpis osoby/osób upoważnionej
B15: ……………………………………………. | I15: ……………………………….

Sheet Zad.145
B1: ZOZ/DZP/PN/5/22
B2: Załącznik Nr: 9
A3: Zadanie nr:145 - Testy alergologiczne
A4: Lp. | B4: Nazwa produktu | C4: Jednostka miary | D4: Ilość | E4: Cena jednostkowa netto | F4: Wartość netto | G4: VAT | H4: Cena jednostkowa brutto | I4: Wartość brutto | J4: Producent/Model/Nazwa Handlowa/Nr katalogowy
A5: 1 | B5: Testy punktowe różne alergeny | C5: szt. | D5: 30
B6: RAZEM | F6: =F5 -> 0 | I6: =SUM(I5) -> 0
B8: Testy do wyboru:
A9: 1 | B9: Alternaria tenus
A10: 2 | B10: Apergillus fumigatum
A11: 3 | B11: Babka lancetowata
A12: 4 | B12: Brzoza
A13: 5 | B13: Bylica pospolita
A14: 6 | B14: Chladoponium herbasum
A15: 7 | B15: Dermatophaides pteronyssinus
A16: 8 | B16: Dermatophaides farine
A17: 9 | B17: Dorsz
A18: 10 | B18: Histamina
A19: 11 | B19: Jabłko
A20: 12 | B20: Żółtko jajka kurzego
... A40: 32 | B40: Żyto
B42: Data | H42: Podpis osoby/osób upoważnionej
B43: ……………………………………………. | I43: ……………………………….

Sheet Zad.148
B1: ZOZ/DZP/PN/5/22
B2: Załącznik Nr: 9
A3: Zadanie nr 148: Komora inhalacyjna
A4: Lp. | B4: Nazwa produktu | C4: Jednostka miary | D4: Ilość | E4: Cena jednostkowa[zł] netto | F4: Wartość [zł] netto | G4: VAT | H4: Cena jednostkowa [zł] brutto | I4: Wartość [zł] brutto | J4: Producent/Model/Nazwa Handlowa/Nr katalogowy
A5: 1 | B5: Komora inhalacyjna do podawania leków w aerozolu do układu oddechowego typu aerochamber z zakończeniem 22/15F z jednej i 22/15M z drugiej strony. | C5: op. 10 szt. | D5: 10
B6: RAZEM | F6: =F5 -> 0 | I6: =SUM(I5) -> 0
B9: ………………………………………………….. | F9: ……………………………………………
B10: Data | F10: Podpis osoby/osób uprawnionej

Sheet Zad.150
B1: ZOZ/DZP/PN/5/22
B2: Załącznik Nr: 9
A5: Zadanie nr 150 Immunoglobuliny.
A6: Lp. | B6: Nazwa produktu | C6: Jednostka miary | D6: Ilość | E6: Cena jednostkowa[zł] netto | F6: Wartość [zł] netto | G6: VAT | H6: Cena jednostkowa [zł] brutto | I6: Wartość [zł] brutto | J6: Producent/Model/Nazwa Handlowa/Nr katalogowy
A7: 1 | B7: Immunoglobulina ludzka do podania dożylnego 1 ml roztworu zawiera 50 mg białka osocza ludzkiego, w tym co najmniej 95% immunoglobuliny: immunoglobulina M (IgM) 6 mg, immunoglobulina A (IgA) 6 mg oraz immunoglobulina G (IgG) 38 mg. Rozkład podklas IgG: ok. 63% (IgG1), ok. 26% (IgG2), ok. 4% (IgG3), ok. 7% (IgG4) | C7: 2,5g/50ml | D7: 24
A8: 2 | B8: Immunoglobulina ludzka do podania dożylnego 1 ml roztworu zawiera 50 mg białka osocza ludzkiego, w tym co najmniej 95% immunoglobuliny: immunoglobulina M (IgM) 6 mg, immunoglobulina A (IgA) 6 mg oraz immunoglobulina G (IgG) 38 mg. Rozkład podklas IgG: ok. 63% (IgG1), ok. 26% (IgG2), ok. 4% (IgG3), ok. 7% (IgG4) | C8: 2,5g/100 | D8: 24
