Workbook
Name Excel_BuiltIn_Print_Area: 'Zadanie nr 7'!$A$1:$J$1
Name Excel_BuiltIn_Print_Area_14_1: #REF!
Name Excel_BuiltIn_Print_Area_16_1: #REF!
Name Excel_BuiltIn_Print_Area_17_1: #REF!
Name Excel_BuiltIn_Print_Area_18_1: #REF!
Name Excel_BuiltIn_Print_Area_19_1: 'Zadanie nr 19'!$A$4:$J$7
Name Excel_BuiltIn_Print_Area_2_1: 'Zadanie nr 2'!$A$4:$I$14
Name Excel_BuiltIn_Print_Area_22_1: #REF!
Name Excel_BuiltIn_Print_Area_22_1_1: #REF!
Name Excel_BuiltIn_Print_Area_24_1: #REF!
Name Excel_BuiltIn_Print_Area_3_1: #REF!
Name Excel_BuiltIn_Print_Area_3_1_1: 'Zadanie nr 3'!$A$4:$J$39
Name Excel_BuiltIn_Print_Area_3_1_1_1: 'Zadanie nr 3'!$A$4:$J$38
Name Excel_BuiltIn_Print_Area_4_1: 'Zadanie nr 4'!$A$4:$J$14
Name Excel_BuiltIn_Print_Area_5_1: 'Zadanie nr 5'!$A$4:$J$9
Name Excel_BuiltIn_Print_Area_6_1: 'Zadanie nr 6'!$A$4:$J$16
Name Excel_BuiltIn_Print_Area_7_1: 'Zadanie nr 7'!$A$4:$J$8
Name Excel_BuiltIn_Print_Titles_17: #REF!

Sheet Zadanie nr 1
A1: Załącznik nr 9 | G1: ZOZ/DZP/PN/11/22
A3: Zadanie nr 1- Leki różne
A4: Lp. | B4: Nazwa produktu | C4: Jednostka miary | D4: Ilość | E4: Cena jednostkowa[zł] netto | F4: Wartość [zł] netto | G4: VAT | H4: Cena jednostkowa [zł] brutto | I4: Wartość [zł] brutto | J4: Producent/Nazwa handlowa
A5: 1 | B5: Acenocoumarolum tabl. 4 mg | C5: porcja po 60 tabl. | D5: 10
A6: 2 | B6: Acebutolol 200mg | C6: porcja po 30 tabl. powl. | D6: 10
A7: 3 | B7: Acarbosum 50 mg | C7: op. 30 tabl | D7: 5
A8: 4 | B8: Acetylcysteinum inj. iv. lub dooskrzelowo (roztwór) 300 mg/3 ml | C8: porcja po 5 amp. 3 ml | D8: 150
A9: 5 | B9: Acetylcysteinum tabl musujące. 200 mg | C9: porcja po 20 szt. | D9: 20
A10: 6 | B10: Acetylcysteinum tabl. musujące 600 mg | C10: porcja po 10 tabl. | D10: 220
A11: 7 | B11: Aciclovirum 200mg | C11: porcja po 30 szt | D11: 3
A12: 8 | B12: Aciclovirum 400mg | C12: porcja po 30 szt | D12: 45
A13: 9 | B13: Aciclovirum 800mg | C13: porcja po 30 szt | D13: 60
A14: 10 | B14: Aciclovir 250mg inj | C14: porcja po 5 fiol. | D14: 50
A15: 11 | B15: Aciclovirum maśc do oczu 3% | C15: porcja po 4,5g | D15: 3
A16: 12 | B16: Aciclovirum 5% krem | C16: porcja po 5 g | D16: 5
... A599: 595 | B599: Zuclopenthixol 50 mg / 1 ml inj roztw.d/wstrz | C599: op. 5 amp | D599: 5
B600: RAZEM
B602: ………………………………………………….. | E602: ……………………………………………
B603: Data | E603: Podpis osoby/osób uprawnionej

Sheet Zadanie nr 2
A1: Załącznik nr 9 | G1: ZOZ/DZP/PN/11/22
A4: Zadanie nr 2 - Płyny infuzyjne w pojemnikach stojących
A5: Lp. | B5: Nazwa produktu | C5: Jednostka miary | D5: Ilość | E5: Cena jednostkowa[zł] netto | F5: Wartość [zł] netto | G5: VAT | H5: Cena jednostkowa [zł] brutto | I5: Wartość [zł] brutto | J5: Producent/Nazwa handlowa
A6: 1 | B6: Aqua rozpuszczalnik do iniekcji | C6: porcja po 100 poj. 5 ml | D6: 5
A7: 2 | B7: Aqua rozpuszczalnik do iniekcji | C7: porcja po 100 poj. 10 ml | D7: 280
A8: 3 | B8: Glucosum + Natrii chloridum inj. iv. (roztwór) 1:1 | C8: porcja po 1 op. 500 ml | D8: 200
A9: 4 | B9: Glucosum + Natrii chloridum inj. iv. (roztwór) 1:1 | C9: porcja po 1 op. 250 ml | D9: 200
A10: 5 | B10: Glucosum + Natrii chloridum inj. iv. (roztwór) 2 : 1 | C10: porcja po 1 op. 250 ml | D10: 200
A11: 6 | B11: Glucosum + Natrii chloridum inj. iv. (roztwór) 2 : 1 | C11: porcja po 1 op. 500 ml | D11: 1500
A12: 7 | B12: Glucosum inj. iv. (roztwór) 100 mg/ml | C12: porcja po 1 op. 100 ml | D12: 1000
A13: 8 | B13: Glucosum inj. iv. (roztwór) 50 mg/ml | C13: porcja po 1 op. 100 ml | D13: 600
A14: 9 | B14: Glucosum inj. iv. (roztwór) 200 mg/ml | C14: porcja po 1 fl. 500 ml | D14: 300
A15: 10 | B15: Płyn wieloelektrolitowy o zawartości:5,75 g/1000ml chlorku sodu,4,62g/1000ml sodu ostran trójwodny,0,9g/1000ml sodu cytrynian dwuwodny,0,26g/1000ml wapnia chlorek dwuwodny,0,38g/1000ml chlorku potasu, 0,2g/1000ml magnezu chlorek sześciowodny.Osmolarność roztworu 295mOsmol/l | C15: op=250ml | D15: 1000
A16: 11 | B16: Płyn wieloelektrolitowy o zawartości:5,75 g/1000ml chlorku sodu,4,62g/1000ml sodu ostran trójwodny,0,9g/1000ml sodu cytrynian dwuwodny,0,26g/1000ml wapnia chlorek dwuwodny,0,38g/1000ml chlorku potasu, 0,2g/1000ml magnezu chlorek sześciowodny.Osmolarność roztworu 295mOsmol/l | C16: op= 500ml | D16: 1000
A17: 12 | B17: Natrii chloridum płyn 0,9 %- worek | C17: porcja po 1 szt.3000ml | D17: 250
... A22: 17 | B22: Aqua rozpuszczalnik do iniekcji | C22: worek porcja po 100ml | D22: 1276
B23: RAZEM
B26: ………………………………………………….. | F26: ……………………………………………
B27: Data | F27: Podpis osoby/osób uprawnionej

Sheet Zadanie nr 3
A2: Załącznik nr 9 | G2: ZOZ/DZP/PN/11/22
A4: Zadanie nr 3 - Płyny infuzyjne
A5: Lp. | B5: Nazwa produktu | C5: Jednostka miary | D5: Ilość | E5: Cena jednostkowa[zł] netto | F5: Wartość [zł] netto | G5: VAT | H5: Cena jednostkowa [zł] brutto | I5: Wartość [zł] brutto | J5: Producent/Nazwa handlowa
A6: 1 | B6: Hydroxyethyloskrobia (130/0,42) zawieszona w pełni zrównoważonym roztworze elektrolitów Na, Cl, Ca,K, Mg i jabłczanów. Osmomolarność pow 290 mOsml/l. 6% | C6: porcja po 500ml, 6% | D6: 40
A7: 2 | B7: Aqua pro inj. | C7: szt. płyn 100 ml | D7: 1900
A8: 3 | B8: Aqua pro inj. | C8: szt. płyn 500 ml | D8: 3500
A9: 4 | B9: Woda jałowa do przepłukiwań | C9: butelka zakręcana 1000ml | D9: 290
A10: 5 | B10: Natrium chloratum płyn do infuzji | C10: szt. płyn 0,9% 100 ml | D10: 34000
A11: 6 | B11: Natrium chloratum płyn do infuzji | C11: szt. płyn 0,9% 250 ml | D11: 14000
A12: 7 | B12: Natrium chloratum płyn do infuzji | C12: szt. płyn 0,9% 500 ml | D12: 14000
A13: 8 | B13: Natrium chloratum płyn do infuzji | C13: szt. płyn 0,9% 1000 ml | D13: 2200
A14: 9 | B14: PWE (Na,K,Ca,Mg,Cl +octan) | C14: szt. płyn 250ml | D14: 2400
A15: 10 | B15: PWE (Na,K,Ca,Mg,Cl +octan) | C15: szt. płyn 500 ml | D15: 24000
A16: 11 | B16: PWE (Na,K,Ca,Mg,Cl + octan) | C16: szt. płyn 1000 ml | D16: 2600
A17: 12 | B17: Glucosum | C17: szt. płyn 5% 250 ml | D17: 1220
... A35: 30 | B35: Lekko hipotoniczny płyn ze specjalnym wskazaniem do stosowania w przypadku mocno zwapnionych cewników. Skład: Na 100 ml: kwas cytrynowy jednowodny 6,0 g, glukonolakton 0,6 g, łagodny tlenek magnezu 2,8 g, bikarbonat sodowy 0,7 g, wersenian disodowy 2H2O 0,01 g rozpuszczone w wodzie do wstrzykiwań. PH = 4 | C35: op=10flakonów x 100ml | D35: 10
B36: RAZEM
B39: Warunki wymagane:
B40: Poz 18-24 roztwór konfekcjonowany we flakonie stojącym typu „ampułka”
B41: Poz 2,3,5-17,25-27 flakon posiadający dwa jednakowe samouszczelniające się porty chronione aluminiowymi kapslami, nie wymagający dezynfekcji przy pierwszym użyciu, czytelna etykieta ze skalą w granicach 3-7 umożliwiającą monitoring podaży płynów z opakowania od 250 do 1000ml, dodatkowa przestrzeń do dodania leków minimum 70ml dla płynów infuzyjnych o pojemności 100ml, minimum 110ml dla płynów infuzyjnych o pojemności 250ml, minimum 150ml dla płynów infuzyjnych o pojemności 500ml i minimum 200ml dla pojemników o pojemności 1000ml
B43: ………………………………………………….. | F43: ……………………………………………
B44: Data | F44: Podpis osoby/osób uprawnionej

Sheet Zadanie nr 4
A1: Załącznik nr 9 | G1: ZOZ/DZP/PN/11/22
A4: Zadanie nr 4 - Enoxaparinum
A5: Lp. | B5: Nazwa produktu | C5: Jednostka miary | D5: Ilość | E5: Cena jednostkowa[zł] netto | F5: Wartość [zł] netto | G5: VAT | H5: Cena jednostkowa [zł] brutto | I5: Wartość [zł] brutto | J5: Producent/Nazwa handlowa
A6: 1 | B6: HDCz 2000 j.m. Anty Xa /20 mg | C6: szt. amp.strz | D6: 400
A7: 2 | B7: HDCz 4000 j.m. anty Xa/ 40mg | C7: szt. amp.strz | D7: 12000
A8: 3 | B8: HDCz 6000 j.m. anty Xa/ 60mg | C8: szt. amp.strz | D8: 9000
A9: 4 | B9: HDCz 8000 j.m. anty Xa /80 mg | C9: szt. amp.strz | D9: 2000
A10: 5 | B10: HDCz 10000 j.m. anty Xa 100 mg | C10: szt. amp.strz | D10: 300
A11: 6 | B11: HDCz 30000 j.m. anty Xa 300 mg/3ml | C11: fiol. | D11: 50
A12: 7 | B12: HDCz 15000 j.m.anty Xa 150mg/ml | C12: szt. amp.strz | D12: 100
A13: 8 | B13: HDCz 12000 j.m.anty Xa 120mg/ml | C13: szt. amp.strz | D13: 100
B14: RAZEM
B17: ………………………………………………….. | F17: ……………………………………………
B18: Data | F18: Podpis osoby/osób uprawnionej

Sheet Zadanie nr 5
A1: Załącznik nr 9 | G1: ZOZ/DZP/PN/11/22
A4: Zadanie nr 5 - Nadroparinum
A5: Lp. | B5: Nazwa produktu | C5: Jednostka miary | D5: Ilość | E5: Cena jednostkowa[zł] netto | F5: Wartość [zł] netto | G5: VAT | H5: Cena jednostkowa [zł] brutto | I5: Wartość [zł] brutto | J5: Producent/Nazwa handlowa
A6: 1 | B6: HDCz 2850 j.m antyXa | C6: szt. amp.strz 0,3 ml | D6: 3500
A7: 2 | B7: HDCz 3800 j.m antyXa | C7: szt. amp.strz 0,4 ml | D7: 11300
A8: 3 | B8: HDCz 5700 j.m antyXa | C8: szt. amp.strz 0,6 ml | D8: 4500
A9: 4 | B9: HDCz 7600 j.m antyXa | C9: szt. amp.strz 0,8 ml | D9: 1000
B10: RAZEM
B18: ………………………………………………….. | F18: ……………………………………………
B19: Data | F19: Podpis osoby/osób uprawnionej

Sheet Zadanie nr 6
A1: Załącznik nr 9 | G1: ZOZ/DZP/PN/11/22
A4: Zadanie nr 6 - Leki różne 2
A5: Lp. | B5: Nazwa produktu | C5: Jednostka miary | D5: Ilość | E5: Cena jednostkowa[zł] netto | F5: Wartość [zł] netto | G5: VAT | H5: Cena jednostkowa [zł] brutto | I5: Wartość [zł] brutto | J5: Producent/Nazwa handlowa
A6: 1 | B6: Gliclazidum tabl. retard 60 mg | C6: op. 90tabl | D6: 50
A7: 2 | B7: Indapamidum tabl. powl. retard 1,5 mg | C7: op. 108 tabl. | D7: 40
A8: 3 | B8: Iwabradyna 5 mg | C8: op. 112 tabl. | D8: 10
A9: 4 | B9: Iwabradyna 7,5 mg | C9: op. 112 tabl. | D9: 10
A10: 5 | B10: Perindoprilum tabl. 5 mg | C10: porcja po 1 op. 90 szt. | D10: 40
A11: 6 | B11: Perindoprilum tabl. 10 mg | C11: op. 90 tabl. | D11: 15
A12: 7 | B12: Tianeptinum tabl. powl. 12,5 mg | C12: porcja po 90 tabl. | D12: 15
A13: 8 | B13: Preparat złożony: peridoprilum z argininą 5 mg, Indapamidum 1,25mg | C13: porcja po 90 tabl. | D13: 15
A14: 9 | B14: Preparat złożony: peridoprilum z argininą 2,5 mg, Indapamidum 0,625mg | C14: porcja po 90 tabl. | D14: 15
A15: 10 | B15: Preparat złożony: peridoprilum z argininą 10 mg, Indapamidum 2,5mg | C15: porcja po 90 tabl. | D15: 15
A16: 11 | B16: Trimetazidinum tabl. powl. retard 35 mg | C16: op. 90 tabl. | D16: 20
A17: 12 | B17: Preparat złożony Perindopril 10mg + Amlodypinum 5mg | C17: op. 90 tabl. | D17: 15
... A24: 19 | B24: Bisoprololum 5mg +Perindoprilum z algininą 5mg. | C24: op.90 tabl. | D24: 15
B25: RAZEM
B28: ………………………………………………….. | F28: ……………………………………………
B29: Data | F29: Podpis osoby/osób uprawnionej

Sheet Zadanie nr 7
A1: Załącznik nr 9 | G1: ZOZ/DZP/PN/11/22
A4: Zadanie nr 7 - Albuminy
A5: Lp. | B5: Nazwa produktu | C5: Jednostka miary | D5: Ilość | E5: Cena jednostkowa[zł] netto | F5: Wartość [zł] netto | G5: VAT | H5: Cena jednostkowa [zł] brutto | I5: Wartość [zł] brutto | J5: Producent/Nazwa handlowa
A6: 1 | B6: Albumina ludzka 20 % 50 ml | C6: flak 50 ml | D6: 50 | E6: 99.36
A7: 2 | B7: Albumina ludzka 20 % 100 ml | C7: flak 100 ml | D7: 400 | E7: 198.72
B8: RAZEM
B13: ………………………………………………….. | F13: ……………………………………………
B14: Data | F14: Podpis osoby/osób uprawnionej

Sheet Zadanie nr 8
A1: Załącznik nr 9 | G1: ZOZ/DZP/PN/11/22
A4: Zadanie nr 8 – Leki różne 14
A5: Lp. | B5: Nazwa produktu | C5: Jednostka miary | D5: Ilość | E5: Cena jednostkowa[zł] netto | F5: Wartość [zł] netto | G5: VAT | H5: Cena jednostkowa [zł] brutto | I5: Wartość [zł] brutto | J5: Producent/Nazwa handlowa
A6: 1 | B6: Aluminii acetas tabl. 1000 mg | C6: porcja po 6 tabl. | D6: 4
A7: 2 | B7: Aluminii acetas żel do użytku zewnętrznego 75g | C7: porcja po 1 op. | D7: 120
A8: 3 | B8: Bisoprololum tabl. powl. 5 mg | C8: porcja po 30 tabl. | D8: 200
A9: 4 | B9: Bisoprololum tabl. powl. 2,5 mg | C9: porcja po 30 tabl. vel 28 | D9: 200
A10: 5 | B10: Bisoprololum tabl. powl. 1,25 mg | C10: porcja po 30 tabl. vel 28 | D10: 30
A11: 6 | B11: Ketoprofenum inj. (roztwór) 100 mg/2 ml i.v./i.m | C11: porcja po 10 amp. 2 ml | D11: 200
A12: 7 | B12: Ketoprofenum tabl. powl. 100 mg | C12: porcja po 30 tabl. | D12: 200
A13: 8 | B13: Ferrosi oxidum dextranum complexum inj. im. (roztwór) 50 mg Fe+++/ml | C13: porcja po 50 amp. 2 ml | D13: 1
A14: 9 | B14: Ferrum hydroxide 50 mg/5ml syrop | C14: Porcja po 100 ml | D14: 2
A15: 10 | B15: Ferrum oxydatum saccharatum inj. iv. (roztwór) 20 mg Fe+++/ml | C15: porcja po 5 amp. 5 ml | D15: 20
A16: 11 | B16: Metoprololi sucinate 23,75 mg o spowolnionym uwalnianiu | C16: porcja po 30 tabl. o przed. uw. | D16: 66
A17: 12 | B17: Metoprololi sucinate 47,5 mg o przedłużonym uwalnianiu | C17: porcja po 30 tabl. o przed. uw. | D17: 45
... A21: 16 | B21: pantoprazol 40 mg | C21: porcja po 56 tabl. dojel. | D21: 76
B22: RAZEM
B26: ………………………………………………….. | F26: ……………………………………………
B27: Data | F27: Podpis osoby/osób uprawnionej

Sheet Zadanie nr 9
A1: Załącznik nr 9 | G1: ZOZ/DZP/PN/11/22
A4: Zadanie nr 9 - Leki anestezjologiczne
A5: Lp. | B5: Nazwa produktu | C5: Jednostka miary | D5: Ilość | E5: Cena jednostkowa[zł] netto | F5: Wartość [zł] netto | G5: VAT | H5: Cena jednostkowa [zł] brutto | I5: Wartość [zł] brutto | J5: Producent/Nazwa handlowa
A6: 1 | B6: Atracurium inj. iv. (roztwór) 10 mg/ml | C6: porcja po 5 amp. 2,5 ml | D6: 10
A7: 2 | B7: Atracurium inj. iv. (roztwór) 10 mg/ml | C7: porcja po 5 amp. 5 ml | D7: 30
A8: 3 | B8: Bupivacainum inj. dotkankowe (roztwór) 5 mg/ml spinalna jałowa pojedyńczo pakowana | C8: porcja po 5 amp. 4 ml | D8: 220
A9: 4 | B9: Lidocainum inj. iv. lub dotkankowe (roztwór) 20 mg/ml /50 ml / | C9: porcja po 5 fiol. 50 ml | D9: 5
A10: 5 | B10: Lidocainum + Prilocainum krem znieczulający | C10: porcja po 1 tuba 30 g | D10: 10
A11: 6 | B11: Mivacurii chloridum inj. iv. (roztwór) 2 mg/ml | C11: porcja po 5 amp. 5 ml | D11: 50
A12: 7 | B12: Mivacurii chloridum inj. iv. (roztwór) 20 mg/10 ml | C12: porcja po 5 amp. 10 ml | D12: 30
A13: 8 | B13: Propofolum 0,5g/50ml inj | C13: 1 amp-strzyk. | D13: 150
A14: 9 | B14: Remifentanil 1mg proszek do sporządenia konc. Roz. /do wstrzykiwań inf. | C14: op=5fiol | D14: 10
A15: 10 | B15: Remifentanil 2mg proszek do sporządenia konc. Roz. /do wstrzykiwań inf. | C15: op=5fiol | D15: 10
A16: 11 | B16: Remifentanil 5mg proszek do sporządenia konc. Roz. /do wstrzykiwań inf. | C16: op=5fiol | D16: 30
B17: RAZEM
B20: ………………………………………………….. | F20: ……………………………………………
B21: Data | F21: Podpis osoby/osób uprawnionej

Sheet Zadanie nr 10
A1: Załącznik nr 9 | G1: ZOZ/DZP/PN/11/22
A4: Zadanie nr 10 - Sevofluran
A5: Lp. | B5: Nazwa produktu | C5: Jednostka miary | D5: Ilość | E5: Cena jednostkowa[zł] netto | F5: Wartość [zł] netto | G5: VAT | H5: Cena jednostkowa [zł] brutto | I5: Wartość [zł] brutto | J5: Producent/Nazwa handlowa
A6: 1 | B6: Sevofluranum płyn do anestezji wziewnej kompatybilny z aparatem do znieczulenia firmy Draeger | C6: porcja po 1 op. 250 ml | D6: 100
B7: RAZEM
B9: Na czas trwania umowy wymagane jest użyczenie 3 szt. parowników do aparatu Drager . Koszt użyczenia należy wliczyć w cenę oferty.
B12: Data | G12: Podpis osoby/osób upoważnionej
B13: ……………………………………………. | G13: ……………………………….

Sheet Zadanie nr 11
A1: Załącznik nr 9 | G1: ZOZ/DZP/PN/11/22
A4: Zadanie nr 11 - Mleko + preparaty dietetyczne
A5: Lp. | B5: Nazwa produktu | C5: Jednostka miary | D5: Ilość | E5: Cena jednostkowa[zł] netto | F5: Wartość [zł] netto | G5: VAT | H5: Cena jednostkowa [zł] brutto | I5: Wartość [zł] brutto | J5: Producent/Nazwa handlowa
A6: 1 | B6: Mieszanka początkowa w płynie dla niemowląt z dodatkiem frukto i galaktooligosacharydów. Minimalny poziom białka 1,3g/100ml, maksymalny poziom żelaza0,6mg/100ml | C6: porcja po 1 op, x 24szt 90 ml | D6: 100
A7: 2 | B7: Mieszanka początkowa w płynie dla niemowląt z dodatkiem frukto i galaktooligosacharydów, LCPUFA i nukleotydów oraz postbiotyków. Minimalny poziom białka 1,3g/100ml, maksymalny poziom żelaza0,6mg/100ml | C7: porcja po 1 op.x 24szt 90 ml | D7: 100
A8: 3 | B8: Mieszanka początkowa w płynie dla niemowląt z dodatkiem frukto i galaktooligosacharydów, LCPUFA i nukleotydów oraz postbiotyków. Minimalny poziom białka 1,3g/100ml, maksymalny poziom żelaza0,6mg/100ml | C8: Porcja po 350 g | D8: 50
A9: 4 | B9: Mleko zastępcze początkowe od urodzenia zawierające galakto- i fukto- oligosacharydy (9:1) proszek do p. roztworu doustnego. | C9: porcja po 1 op. 350 g | D9: 50
A10: 5 | B10: Mleko zastępcze od 6 miesiąca zawierające galakto- i fukto- oligosacharydy (9:1) proszek do p. roztworu doustnego. | C10: porcja po 1 op. 350 g | D10: 50
A11: 6 | B11: Mleko zastępcze od 6 miesiąca zawierające galakto- i fukto- oligosacharydy (9:1), z dodatkiem kleiku ryżowego, proszek do p. roztworu doustnego. | C11: porcja po 1 op. 350 g | D11: 40
A12: 7 | B12: Mleko zastępcze powyżej 1 roku zawierające galakto- i fukto- oligosacharydy (9:1), proszek do p. roztworu doustnego ( bez dodatku smaku np, bananowego) | C12: porcja po 1 op. 350 g | D12: 60
A13: 8 | B13: Mleko zastępcze powyżej 1 roku zawierające galakto- i fukto- oligosacharydy (9:1), z dodatkiem kleiku ryżowego, proszek do p. roztworu doustnego. | C13: porcja po 1 op. 350 g | D13: 45
A14: 9 | B14: Mleko modyfikowane początkowe dla niemowląt od urodzenia z zawartością białka nie więcej niż 9,6g w 100g, zawierające w składzie białko OPTI PRO, proszek | C14: Porcja po 350 g | D14: 50
A15: 10 | B15: Mleko modyfikowane początkowe dla niemowląt po 6 miesiącu, z zawartością białka nie więcej niż 9,6 w 100g, zawierające w składzie białko OPTI PRO, | C15: Porcja po 350 g | D15: 50
A16: 11 | B16: Mleko modyfikowane początkowe dla niemowląt po 9 miesiącu, z zawartością białka nie więcej niż 9,6 w 100g, zawierające w składzie białko OPTI PRO, proszek | C16: Porcja po 800 g | D16: 35
A17: 12 | B17: Mleko modyfikowane początkowe dla zdrowych niemowląt od urodzenia, u których istnieje podwyższone ryzyko wystąpienia reakcji alergicznych na białka mleka krowiego zawierające w składzie hydrolizowane białka serwatkowe OPTI PRO | C17: Porcja po 400g | D17: 30
... A42: 37 | B42: Dieta eliminacyjna dla dzieci w wieku po 6 miesiącu stosowana w leczeniu alergii pokarmowych zawierająca: laktozę, zhydrolizowane białko serwatkowe z dodatkiem galakto- i frukto- oligosacharydów GOS:FOS 9:1, DHA i bakterie Bifidobacterium Breve M-16V, | C42: Porcja po 400g | D42: 30
B43: RAZEM
B45: Zmawiający dopuszcza dietetyczne środki spożywcze
B46: Data | G46: Podpis osoby/osób upoważnionej
B47: ……………………………………………. | G47: ……………………………….

Sheet Zadanie nr 12
A1: Załącznik nr 9 | G1: ZOZ/DZP/PN/11/22
A4: Zadanie nr 12 – Leki ZOL
A5: Lp. | B5: Nazwa produktu | C5: Jednostka miary | D5: Ilość | E5: Cena jednostkowa[zł] netto | F5: Wartość [zł] netto | G5: VAT | H5: Cena jednostkowa [zł] brutto | I5: Wartość [zł] brutto | J5: Producent/Nazwa handlowa
A6: 1 | B6: Dexamethasonum tabl. 1 mg | C6: porcja po 20 tabl. | D6: 160
A7: 2 | B7: Dexamethasonum tabl. 4 mg | C7: porcja po 20 tabl. | D7: 50
A8: 3 | B8: Dexamethasonum tabl. 20 mg | C8: porcja po 20 tabl. | D8: 5
A9: 4 | B9: Donepezilum 5mg | C9: porcja po 28szt | D9: 52
A10: 5 | B10: Donepezilum 10mg | C10: porcja po 28 tabl. | D10: 100
A11: 6 | B11: Dorzolamid 20mg/ml krople do oczu | C11: porcja po 5ml | D11: 3
A12: 7 | B12: Duloksetyna 30mg | C12: porcja po 28 kaps | D12: 20
A13: 8 | B13: Eplerenonum 50mg | C13: porcja po 30 szt. | D13: 30
A14: 9 | B14: Eplerenonum 25mg | C14: porcja po 30 szt. | D14: 30
A15: 10 | B15: Escitalopram 10mg | C15: porcja po 28tabl. | D15: 70
A16: 11 | B16: Escitalopram 20mg | C16: porcja po 28tabl. | D16: 70
A17: 12 | B17: Fludrocortison 0,1 mg tabl | C17: op po 20 tabl. | D17: 10
... A53: 48 | B53: Zolpidem tabl.10 mg | C53: op.20 tabl. powl. | D53: 150
B54: RAZEM
B56: Data | G56: Podpis osoby/osób upoważnionej
B57: ……………………………………………. | G57: ……………………………….

Sheet Zadanie nr 13
A1: Załącznik nr 9 | G1: ZOZ/DZP/PN/11/22
A4: Zadanie nr 13 – Amoxycylina z inhibitorem
A5: Lp. | B5: Nazwa produktu | C5: Jednostka miary | D5: Ilość | E5: Cena jednostkowa[zł] netto | F5: Wartość [zł] netto | G5: VAT | H5: Cena jednostkowa [zł] brutto | I5: Wartość [zł] brutto | J5: Producent/Nazwa handlowa
A6: 1 | B6: Amoxicillinum z inhibitorem beta-laktamazy inj. im./iv. (proszek do p. roztworu) 1200 mg | C6: 1 fiol | D6: 7000
A7: 2 | B7: Amoxicillinum z inhibitorem beta-laktamazy tabl. 500mg +125mg | C7: op.21 tabl. | D7: 20
A8: 3 | B8: Amoxicillinum z inhibitorem beta-laktamazy inj. im./iv. (proszek do p. Roztworu) 600 mg | C8: 1 fiol | D8: 600
A9: 4 | B9: Amoxicillinum z inhibitorem beta-laktamazy tabl. 875mg +125mg | C9: op. 14 szt. | D9: 400
A10: 5 | B10: Amoxicillinum z inhibitorem beta-laktamazy inj. im./iv. (proszek do p. roztworu) 2200 mg | C10: 1 fiol | D10: 3000
B11: RAZEM
B14: Data | G14: Podpis osoby/osób upoważnionej
B15: ……………………………………………. | G15: ……………………………….

Sheet Zadanie nr 14
A1: Załącznik nr 9 | G1: ZOZ/DZP/PN/11/22
A4: Zadanie nr 14 - Heparinum
A5: Lp. | B5: Nazwa produktu | C5: Jednostka miary | D5: Ilość | E5: Cena jednostkowa[zł] netto | F5: Wartość [zł] netto | G5: VAT | H5: Cena jednostkowa [zł] brutto | I5: Wartość [zł] brutto | J5: Producent/Nazwa handlowa
A6: 1 | B6: Heparinum inj. sc./iv. (roztwór) 25000 j.m./5 ml | C6: porcja po 10 amp. 5 ml | D6: 120
A7: 2 | B7: Heparinum żel 1000 j.m./g | C7: porcja po 1 tuba 30 g | D7: 40
B8: RAZEM
B13: Data | G13: Podpis osoby/osób upoważnionej
B14: ……………………………………………. | G14: ……………………………….

Sheet Zadanie nr 15
A1: Załącznik nr 9 | G1: ZOZ/DZP/PN/11/22
A4: Zadanie nr 15 - Omeprazol
A5: Lp. | B5: Nazwa produktu | C5: Jednostka miary | D5: Ilość | E5: Cena jednostkowa[zł] netto | F5: Wartość [zł] netto | G5: VAT | H5: Cena jednostkowa [zł] brutto | I5: Wartość [zł] brutto | J5: Producent/Nazwa handlowa
A6: 1 | B6: Omeprazolum inj. (liofilizat) 40mg | C6: porcja po 1 fiol. | D6: 9000
B7: RAZEM
B9: Data …………………………………………. ………………………………………………...
H10: Podpis osoby/osób uprawnionej

Sheet Zadanie nr 16
A1: Załącznik nr 9 | G1: ZOZ/DZP/PN/11/22
A4: Zadanie nr 16 – Antybiotyki różne
A5: Lp. | B5: Nazwa produktu | C5: Jednostka miary | D5: Ilość | E5: Cena jednostkowa[zł] netto | F5: Wartość [zł] netto | G5: VAT | H5: Cena jednostkowa [zł] brutto | I5: Wartość [zł] brutto | J5: Producent/Nazwa handlowa
A6: 1 | B6: Amoxicillinum tabl. 500 mg | C6: porcja po 16 tabl. rozpuszczalne | D6: 240
A7: 2 | B7: Amoxicillinum tabl. 1000 mg | C7: porcja po 20 tabl. rozpuszczalne | D7: 40
A8: 3 | B8: Ampicillinum inj. im./iv. (proszek do p. roztworu) 1000 mg | C8: porcja po 1 fiol. s.subst. | D8: 2000
A9: 4 | B9: Ampicillinum inj. im./iv. (proszek do p. roztworu) 500 mg | C9: porcja po 1 fiol. s.subst. | D9: 2400
A10: 5 | B10: Ampicillinum+Sulbactam, 2 g + 1g, proszek do sporządzania roztworu do wstrzykiwań i infuzji | C10: 1 fiol | D10: 600
A11: 6 | B11: Azithromycinum syrop 100 mg/5 ml | C11: porcja po 1 butelka 20 ml | D11: 5
A12: 7 | B12: Azitromycinum 500mg | C12: op.12 tabl. | D12: 32
A13: 8 | B13: Betamethasonum+Clotrimazolum+Gentamycinum maść na skórę | C13: porcja po 15g | D13: 8
A14: 9 | B14: Benzylpenicillinum procainum inj. im. (proszek do p. zawiesiny) 1,2 mln. j.m. | C14: porcja po 1 fiol. s.subst. | D14: 10
A15: 10 | B15: Benzylpenicillinum procainum inj. im. (proszek do p. zawiesiny) 2,4 mln. j.m. | C15: porcja po 1 fiol. s.subst. | D15: 10
A16: 11 | B16: Ceclorum 250mg/5ml granulat do p. zawiesiny | C16: porcja po 100ml | D16: 20
A17: 12 | B17: Cefaclorum 125mg/5ml granulat do spoż zawiesiny | C17: porcja po 75ml | D17: 10
... A90: 85 | B90: Tigecycline 50mg inj. | C90: porcja po 10 fiol. | D90: 25
B91: RAZEM
B95: Data | G95: Podpis osoby/osób upoważnionej
B96: ……………………………………………. | G96: ……………………………….

Sheet Zadanie nr 17
A1: Załącznik nr 9 | G1: ZOZ/DZP/PN/11/22
A4: Zadanie nr 17 – Antybiotyki 5
A5: Lp. | B5: Nazwa produktu | C5: Jednostka miary | D5: Ilość | E5: Cena jednostkowa[zł] netto | F5: Wartość [zł] netto | G5: VAT | H5: Cena jednostkowa [zł] brutto | I5: Wartość [zł] brutto | J5: Producent/Nazwa handlowa
A6: 1 | B6: Amikacinum inj.1000 mg / 4 ml | C6: porcja po 4ml | D6: 1200
A7: 2 | B7: Amikacinum inj. im./iv. (roztwór) 250 mg/2 ml | C7: porcja po 2 ml | D7: 1000
A8: 3 | B8: Amikacinum ophtalm.0,3% krople | C8: op.5 ml | D8: 20
A9: 4 | B9: Amikacinum inj. im./iv. (roztwór) 500 mg/2 ml | C9: porcja po 2 ml | D9: 1200
A10: 5 | B10: Cefazolinum inj. im./iv. (proszek do p. roztworu) 1000 mg | C10: porcja po 1 fiol. | D10: 5000
A11: 6 | B11: Cefuroxym inj. I.m./i.v 500 mg | C11: 1 fiolka | D11: 1000
A12: 7 | B12: Cefuroxym inj. I.m./i.v 750 mg | C12: 1 fiolka | D12: 1000
A13: 8 | B13: Cefuroxym inj. I.m./i.v 1500 mg | C13: 1 fiolka | D13: 12000
A14: 9 | B14: Ciprofloxacinum tabl. powl. 500 mg | C14: porcja po 10 tabl. | D14: 250
A15: 10 | B15: Ciprofloxacinum roztwór do infuzji 2mg/ml | C15: porcja po 100ml | D15: 1000
A16: 11 | B16: Ciprofloxacinum roztwór do infuzji 2mg/ml | C16: porcja po 200ml | D16: 2500
A17: 12 | B17: Metronidazolum inj. iv. (roztwór) 5 mg/ml | C17: porcja po 1 fl. 100 ml x 40 poj | D17: 180
B18: RAZEM
B23: Data | G23: Podpis osoby/osób upoważnionej
B24: ……………………………………………. | G24: ……………………………….

Sheet Zadanie nr 18
A1: Załącznik nr 9 | G1: ZOZ/DZP/PN/11/22
A4: Zadanie nr 18 - Żel do cewnikowania
A5: Lp. | B5: Nazwa produktu | C5: Jednostka miary | D5: Ilość | E5: Cena jednostkowa[zł] netto | F5: Wartość [zł] netto | G5: VAT | H5: Cena jednostkowa [zł] brutto | I5: Wartość [zł] brutto | J5: Producent/Nazwa handlowa
A6: 1 | B6: Lidocainum żel znieczulający do cewnikowania 5 ml lub 6ml sterylny do stosowania przy intubacji z chlorheksydyną | C6: porcja po1 szt. | D6: 3500
A7: 2 | B7: Lidocainum żel znieczulający do cewnikowania 5 ml lub 6ml sterylny do stosowania przy intubacji bez zawartości chlorheksydyny | C7: porcja po 1 szt. | D7: 1200
B8: RAZEM
B12: Data | G12: Podpis osoby/osób upoważnionej
B13: ……………………………………………. | G13: ……………………………….

Sheet Zadanie nr 19
A1: Załącznik nr 9 | G1: ZOZ/DZP/PN/11/22
A4: Zadanie nr 19 - Dalteparinum
A5: Lp. | B5: Nazwa produktu | C5: Jednostka miary | D5: Ilość | E5: Cena jednostkowa[zł] netto | F5: Wartość [zł] netto | G5: VAT | H5: Cena jednostkowa [zł] brutto | I5: Wartość [zł] brutto | J5: Producent/Nazwa handlowa
A6: 1 | B6: Hdcz 7 500 j.m anty -Xa / 0,3 ml | C6: op.10 amp.strz. | D6: 10
A7: 2 | B7: Hdcz 5 000 j.m anty Xa / 0,2 ml | C7: op.10 amp.strz. | D7: 100
B8: RAZEM
B11: Data …………………………………………. ………………………………………………...
H12: Podpis osoby/osób uprawnionej

Sheet Zadanie nr 20
A1: Załącznik nr 9 | G1: ZOZ/DZP/PN/11/22
A4: Zadanie nr 20 - Preparaty do żywienia pozajelitowego
A5: Lp. | B5: Nazwa produktu | C5: Jednostka miary | D5: Ilość | E5: Cena jednostkowa[zł] netto | F5: Wartość [zł] netto | G5: VAT | H5: Cena jednostkowa [zł] brutto | I5: Wartość [zł] brutto | J5: Producent/Nazwa handlowa
A6: 1 | B6: Worek dwukomorowy zawierający aminokwasy (40g/l) węglowodany (80g/l) i elektrolity do stosowania drogą żył obwodowych | C6: porcja po 1000ml, 1 worek | D6: 20
A7: 2 | B7: Worek dwukomorowy zawierający aminokwasy (40g/l) węglowodany (80g/l) i elektrolity do stosowania drogą żył obwodowych | C7: porcja po 2000ml, 1 worek | D7: 20
A8: 3 | B8: Worek dwukomorowy zawierający aminokwasy (48,1/l) węglowodany (150g/l) i elektrolity do stosowania drogą żył centralnych | C8: porcja po 1000ml | D8: 20
A9: 4 | B9: Worek dwukomorowy zawierający aminokwasy (48,1/l) węglowodany (150g/l) i elektrolity do stosowania drogą żył centralnych | C9: porcja po 2000ml | D9: 20
A10: 5 | B10: Worek trzykomorowy zawierający aminokwasy 40g, emulsje tłuszczowe MCT/LCT oraz glukozę ( nie więcej niż 80 g) do stosowania drogą żył obwodowych | C10: porcja po 1250ml | D10: 150
A11: 6 | B11: Worek trzykomorowy zawierający aminokwasy 60g, emulsje tłuszczowe MCT/LCT oraz glukozę ( nie więcej niż 120 g) do stosowania drogą żył obwodowych | C11: porcja po 1875ml | D11: 300
A12: 7 | B12: Worek trzykomorowy zawierający aminokwasy 48-50g azot (min. 6,8g), tłuszcze MCT/LCT, elektrolity i węglowodany do 150g). Droga podania – żyły centralne | C12: porcja po 1250ml, 1 worek | D12: 50
A13: 8 | B13: Worek trzykomorowy zawierający aminokwasy 68-72g azot (min. 10,2 g), tłuszcze MCT/LCT, elektrolity i węglowodany do 225 g). Droga podania – żyły centralne | C13: porcja po 1875ml, 1worek | D13: 150
A14: 9 | B14: Worek trzykomorowy aminokwasy: min. 35g, węglowodany: min 90g, elektrolity oraz trriglicerydy kwasów omega-3 Droga podania – żyły centralne. | C14: porcja po 625ml, 1worek | D14: 20
A15: 10 | B15: Worek trzykomorowy aminokwasy: min. 70g, węglowodany: min 180g, elektrolity oraz trriglicerydy kwasów omega-3 Droga podania – żyły centralne. | C15: porcja po 1250ml, 1 worek | D15: 50
A16: 11 | B16: Worek trzykomorowy aminokwasy: min. 105g, węglowodany: min 270g, elektrolity oraz triglicerydy kwasów omega-3 Droga podania – żyły centralne. | C16: porcja po 1875ml, 1worek | D16: 150
A17: 12 | B17: Worek trzykomorowy aminokwasy: min. 70g, węglowodany: min 180g, bez elektrolitów oraz triglicerydy kwasów omega-3 Droga podania – żyły centralne. | C17: porcja po 1250ml, 1worek | D17: 150
... A21: 16 | B21: Preparat złożnony z 13 witamin 932 mg | C21: porcja po 10 fiol. | D21: 50
B22: RAZEM
B25: Data …………………………………………. ………………………………………………...
H26: Podpis osoby/osób uprawnionej

Sheet Zadanie nr 21
A1: Załącznik nr 9 | G1: ZOZ/DZP/PN/11/22
A4: Zadanie nr 21 - Preparaty do żywienia dojelitowego
A5: Lp. | B5: Nazwa produktu | C5: Jednostka miary | D5: Ilość | E5: Cena jednostkowa[zł] netto | F5: Wartość [zł] netto | G5: VAT | H5: Cena jednostkowa [zł] brutto | I5: Wartość [zł] brutto | J5: Producent/Nazwa handlowa
A6: 1 | B6: Dieta kompletna pod względem odżywczym, hiperkaloryczna (2,4 kcal/ml) oparty na białku kazeinowym i serwatkowym, w minimalnym składzie: Zawartość białka nie mniejsza niż 9,6g/100 ml.% energii z: białka-16%, węglowodanów-49%, tłuszczów-35%. Dieta bezglutenowa, bezresztkowa. Smak: neutralny. Opakowanie typu butelka 125 ml. | C6: Op =4x125ml | D6: 50
A7: 2 | B7: Dieta kompletna pod względem odżywczym, hiperkaloryczna (2,4 kcal/ml) oparty na białku kazeinowym i serwatkowym, w minimalnym składzie Zawartość białka nie mniejsza niż 9,6g/100 ml.% energii z: białka-16%, węglowodanów-49%, tłuszczów-35%. Dieta bezglutenowa, bezresztkowa. Opakowanie typu butelka 125 ml. Smaki: truskawkowy, waniliowy, owoce leśne. | C7: Op =4x125ml | D7: 100
A8: 3 | B8: Dieta kompletna,hiperkaloryczna ( 1,5 kcal/ml) z dodatkiem jogurtu, zródłem białka jest serwatka i kazeina, zawiera wyłacznie tłuszcze LCT,źródłem węglowodanów są wolno wchłaniane maltodekstryny, sacharoza i laktoza , ubogoresztkowa, bezglutenowa, w minimalnym składzie zawartośc białka 6g/100ml,węglowodany 18,7 g/100ml, 16% energii z białka, o osmolarności 740 mOsmol/l , opakowanie 4 x 200 ml, w dwóch smakach : waniliowo-cytrynowy, malinowy; | C8: Op =4x200ml | D8: 50
A9: 4 | B9: Dieta kompletna,hiperkaloryczna ( 2,4 kcal/ml) w minimalnym składzie o zawartości białka 9,5g/100ml, dieta do podaży doustnej o smaku waniliowym, dieta bogatoresztkowa - zawartość błonnika 3,6 g/100 ml, bezglutenowa w opakowaniu 4x125 ml, o osmolarności 790 mOsmol/l. | C9: Op =4x125ml | D9: 50
A10: 5 | B10: Dieta wspomagająca proces gojenia odleżyn i ran przewlekłych, kompletna, bezresztkowa, hiperkaloryczna (1,24 kcal/ml), bezglutenowa. Dieta zawiera argininę oraz inne składniki odżywcze, w odpowiednich proporcjach, które wspomagają i przyspieszają gojenie ran - zwiększona zawartość przeciwutleniaczy (wit C i E, karotenoidów, cynku). W minimalnym składzie: Dieta wysokobiałkowa - zawartość białka 8,8 g /100ml, o niskiej zawartości tłuszczu - 3,5g / 100ml, węglowodany 14,5 g/100ml, 28 % energii z białka, 46 % energii z węglowodanów, 26 % energii z tłuszczy, o osmolarności min. 500 mOsmol/l opakowanie 4 x 200 ml, w trzech smakach: truskawkowy, czekoladowy, waniliowy. | C10: Op =4x200ml | D10: 50
A11: 6 | B11: Dieta beztłuszczowa,hiperkaloryczna ( 1,5 kcal/ml) bogatobiałkowa, oparta na białku serwatkowym, źródłem węglowodanów są wolno wchłaniane maltodekstryny i sacharoza, niska zawartość sodu i fosforanów,bezresztkowa, bezglutenowa,klinicznie wolna od laktozy, w minimalnym składzie zawartośc białka 4g/100ml,węglowodany 33,5 g/100ml, 11% energii z białka, o osmolarności 750 mOsmol/l, opakowanie 4x200 ml, w dwóch smakach: truskawkowy, jabłkowy; | C11: Op =4x200ml | D11: 50
A12: 7 | B12: Dieta bezresztkowa normokaloryczna (1 kcal/ml), w minimalnym składzie zawierająca mieszankę białek w proporcji: 35% serwatkowych, 25% kazeiny, 20% białek soi, 20% białek grochu, zawartość białka nie mniej niż 4g/100; zawartość wielonienasyconych tłuszczów omega-6/omega-3 w proporcji 2,87; zawartość DHA+EPA nie mniej niż 33,5 mg/100 ml, dieta zawierająca 6 naturalnych karotenoidów, klinicznie wolna do laktozy, % energii z: białka-16%, węglowodanów-49%, tłuszczów-35%, o osmolarności 255 mOsmol/l, opakowanie typu butelka 500ml. | C12: 500ml | D12: 100
A13: 8 | B13: Dieta bezresztkowa normokaloryczna (1 kcal/ml), w minimalnym składzie zawierająca mieszankę białek w proporcji: 35% serwatkowych, 25% kazeiny, 20% białek soi, 20% białek grochu, zawartość białka nie mniej niż 4g/100; zawartość wielonienasyconych tłuszczów omega-6/omega-3 w proporcji 2,87; zawartość DHA+EPA nie mniej niż 33,5 mg/100 ml, dieta zawierająca 6 naturalnych karotenoidów,klinicznie wolna do laktozy, % energii z: białka-16%, węglowodanów-49%, tłuszczów-35%,o osmolarności 255 mOsmol/l,w opakowaniu miękkim typu pack o pojemności 1000 ml. | C13: 1000ml | D13: 200
A14: 9 | B14: Dieta bezresztkowa hiperkaloryczna (1,5 kcal/ml), w minimalnym składzie zawierająca mieszankę białek w proporcji: 35% serwatkowych, 25% kazeiny, 20% białek soi, 20% białek grochu, zawartość białka nie mniej niż 6g/100 ml; zawartość wielonienasyconych tłuszczów omega-6/omega-3 w proporcji 3,12; zawartość DHA+EPA nie mniej niż 34mg/100 ml, dieta zawierająca 6 naturalnych karotenoidów, klinicznie wolna do laktozy,% energii z: białka-16%, węglowodanów-49%, tłuszczów-35%, o osmolarności 360 mOsmol/l , w opakowaniu miękkim typu pack o pojemności 1000 ml. | C14: 1000ml | D14: 800
A15: 10 | B15: Dieta bogatoresztkowa w minimalnym składzie z zawartością 6 rodzajów błonnika MF6, normokaloryczna (1 kcal/ml) zawierająca mieszankę białek w proporcji: 35% serwatkowych, 25% kazeiny, 20% białek soi, 20% białek grochu, zawartość białka nie mniej niż 4g/100; zawartość wielonienasyconych tłuszczów omega-6/omega-3 w proporcji 2,87; zawartość DHA+EPA nie mniej niż 33,5 mg/100 ml, dieta zawierająca 6 naturalnych karotenoidów, klinicznie wolna do laktozy, % energii z: białka-16%, węglowodanów-47%, tłuszczów-34%, błonnika 3% , o osmolarności 250 mOsmol/l ,w opakowaniu miękkim typu pack o pojemności 1000 ml. | C15: 1000ml | D15: 350
A16: 11 | B16: Dieta kompletna w minimalnym składzie pod względem odżywczym , wysokobiałkowa, 6,3 g białka/100ml , w oparciu wyłącznie o białko kazeinowe, z glutaminą 1,28 g/100ml, hiperkaloryczna ( 1,25 kcal/ml), bezresztkowa, klinicznie wolna od laktozy, % energii z : białka - 20%, węglowodanów- 45%, tłuszczu- 35%, o osmolarności 275 mOsmol/l, w opakowaniu miękkim typu pack o pojemności 1000ml | C16: 1000ml | D16: 700
A17: 12 | B17: Dieta kompletna w minimalnym składzie pod względem odżywczym normalizująca glikemię, normokaloryczna (1,03 kcal/ml) zawierająca 6 rodzajów błonnika, klinicznie wolna do laktozy, oparta na białku sojowym, zawierająca 4,3g/ml białka, o osmolarności 300 mOsm/l, % energii z: białka- 17 %, węglowodanów- 43 %, tłuszczów- 37 %, w opakowaniu miękkim typu pack o pojemności 1000 ml. | C17: 1000ml | D17: 100
... A51: 46 | B51: Zgłębnik nosowo-żołądkowy do żywienia dojelitowego wyposażony w dodatkowy port do odbarczania rozmiar, 14 CH na 110 cm. | C51: op=10szt | D51: 20
B52: RAZEM
B54: Zamawiający dopuszcza dietetyczne środki spożywcze
B56: Data …………………………………………. ………………………………………………...
H57: Podpis osoby/osób uprawnionej

Sheet Zadanie nr 22
A1: Załącznik nr 9 | G1: ZOZ/DZP/PN/11/22
A3: Zadanie nr 22 - Immunoglobuliny anty D
A4: Lp. | B4: Nazwa produktu | C4: Jednostka miary | D4: Ilość | E4: Cena jednostkowa[zł] netto | F4: Wartość [zł] netto | G4: VAT | H4: Cena jednostkowa [zł] brutto | I4: Wartość [zł] brutto | J4: Producent/Nazwa handlowa
A5: 1 | B5: Immunoglobulina anty D 50j.m. inj. | C5: 1 szt. | D5: 50
A6: 2 | B6: Immunoglobulina anty D 150j.m. inj. | C6: 1 szt. | D6: 120
B7: Razem
B10: Data | G10: Podpis osoby/osób upoważnionej
B11: ……………………………………………. | G11: ……………………………….

Sheet Zadanie nr 23
A1: Załącznik nr 9 | G1: ZOZ/DZP/PN/11/22
A4: Zadanie nr 23 Fidaxomycinum
A5: Lp. | B5: Nazwa produktu | C5: Jednostka miary | D5: Ilość | E5: Cena jednostkowa[zł] netto | F5: Wartość [zł] netto | G5: VAT | H5: Cena jednostkowa [zł] brutto | I5: Wartość [zł] brutto | J5: Producent/Nazwa handlowa
A6: 1 | B6: Fidaxomycinum 200mg | C6: porcja po 20 tabl. | D6: 5
B10: Data …………………………………………. ………………………………………………...
H11: Podpis osoby/osób uprawnionej

Sheet Zadanie nr 24
A1: Załącznik nr 9 | G1: ZOZ/DZP/PN/11/22
A4: Zadanie nr 24 - Żywienie pozajelitowe 2
A5: Lp. | B5: Nazwa produktu | C5: Jednostka miary | D5: Ilość | E5: Cena jednostkowa[zł] netto | F5: Wartość [zł] netto | G5: VAT | H5: Cena jednostkowa [zł] brutto | I5: Wartość [zł] brutto | J5: Producent/Nazwa handlowa
A6: 1 | B6: Worek trzykomorowy do żywienia pozajelitowego drogą żył centralnych zawierający roztwór aminokwasów, 20% emulsję tłuszczową LTC, 80% oliwy z oliwek, węglowodany i elektrolity. Zawartość azotu 9 g ,energia 1070, osmolarność 1310 mOsm/l w pojemności 1000ml typu Olimel N9 E | C6: szt. | D6: 200
A7: 2 | B7: Worek trzykomorowy do żywienia pozajelitowego drogą żył centralnych zawierający roztwór aminokwasów, 20% emulsję tłuszczową LTC, 80% oliwy z oliwek, węglowodany bez zawartości elektrolitów Zawartość azotu 13,5g ,energia 1600, osmolarność 1170 mOsm/l w pojemności 1500ml typu Olimel N9 | C7: szt. | D7: 150
A8: 3 | B8: Worek trzykomorowy do żywienia pozajelitowego drogą żył centralnych zawierający roztwór aminokwasów, 20% emulsję tłuszczową LTC, 80% oliwy z oliwek, węglowodany i elektrolity. Zawartość azotu 13.5 g ,energia 1600, osmolarność 1310 mOsm/l w pojemności 1500ml typu Olimel N9 E | C8: szt. | D8: 150
A9: 4 | B9: Worek trzykomorowy do żywienia pozajelitowego drogą żył centralnych zawierający roztwór aminokwasów, 20% emulsję tłuszczową LTC, 80% oliwy z oliwek, węglowodany i elektrolity. Zawartość azotu 7 g ,energia 1140, osmolarność 1360 mOsm/l w pojemności 1000ml typu Olimel N7 E | C9: szt. | D9: 30
A10: 5 | B10: Worek trzykomorowy do żywienia pozajelitowego drogą żył centralnych zawierający roztwór aminokwasów, 20% emulsję tłuszczową LTC, 80% oliwy z oliwek, węglowodany i elektrolity. Zawartość azotu 10,5 g ,energia 1710, osmolarność 1360 mOsm/l w pojemności 1500ml typu Olimel N7 E | C10: szt. | D10: 30
A11: 6 | B11: Worek trzykomorowy do żywienia pozajelitowego drogą żył centralnych zawierający roztwór aminokwasów, 20% emulsję tłuszczową LTC, 80% oliwy z oliwek, węglowodany i elektrolity. Zawartość azotu 14 g ,energia 2270, osmolarność 1360 mOsm/l w pojemności 2000ml typu Olimel N7 E | C11: szt. | D11: 30
A12: 7 | B12: Roztwór aminokwasów z dodatkiem glukozy oraz emulsji tłuszczowej zawierającej 20% LCT i 80% oliwy z oliwek, węglowodany i elektrolity w systemie worków trzykomorowych do pełnego żywienia pozajelitowego droga żył obwodowych i centralnych, o zawartości azotu 4, energii całkowitej 700 kcali, osmolarności 760 mOsm/l poj. 1000 ml, typu Olimel Peri N4E | C12: szt. | D12: 30
A13: 8 | B13: Roztwór aminokwasów z dodatkiem glukozy oraz emulsji tłuszczowej zawierającej 20% LCT i 80% oliwy z oliwek, węglowodany i elektrolity w systemie worków trzykomorowych do pełnego żywienia pozajelitowego droga żył obwodowych i centralnych, o zawartości azotu 6, energii całkowitej 1050 kcali, osmolarności 760 mOsm/l poj. 1500 ml typu Olimel Peri N4E | C13: szt. | D13: 30
A14: 9 | B14: Worek trzykomorowy do żywienia pozajelitowego drogą żył centralnych zawierający roztwór aminokwasów: 14,2%, emulsję tłuszczową 17,5%, oczyszczony olej z oliwek+oczyszczony olej sojowy 22,75 g, węglowodany 27,5% i elektrolity. 650ml typu Olimel N12 E | C14: szt. | D14: 30
A15: 10 | B15: Worek trzykomorowy do żywienia pozajelitowego drogą żył centralnych zawierający roztwór aminokwasów: 14,2%, emulsję tłuszczową 17,5%, oczyszczony olej z oliwek+ oczyszczony olej sojowy 35,00 g, węglowodany 27,5% i elektrolity. 1000 ml typu Olimel N12 E | C15: szt. | D15: 30
A16: 11 | B16: Worek trzykomorowy do żywienia pozajelitowego drogą żył centralnych zawierający roztwór aminokwasów: 14,2%, emulsję tłuszczową 17,5%, oczyszczony olej z oliwek+oczyszczony olej sojowy 52,50 g, węglowodany 27,5% i elektrolity. 1500 ml typu Olimel N12 E | C16: szt. | D16: 120
A17: 12 | B17: 20% emulsja tłuszczowa zawierająca oliwę z oliwek i olej sojowy o objętości 250 ml typu Clinoleic 20 % | C17: szt. | D17: 100
... A21: 16 | B21: Preparat złożony: glukoza, sodu chlorek, sodu octan trójwodny, potasu chlorek, magnezu chlorek sześciowodny | C21: op.=10 worków po 1000 ml | D21: 120
B22: Razem
B24: Data | G24: Podpis osoby/osób upoważnionej
B25: ……………………………………………. | G25: ……………………………….

Sheet Zadanie nr 25
A1: Załącznik nr 9 | G1: ZOZ/DZP/PN/11/22
A3: Zadanie nr 25 – Leki OAIiT
A4: Lp. | B4: Nazwa produktu | C4: Jednostka miary | D4: Ilość | E4: Cena jednostkowa[zł] netto | F4: Wartość [zł] netto | G4: VAT | H4: Cena jednostkowa [zł] brutto | I4: Wartość [zł] brutto | J4: Producent/Nazwa handlowa
A5: 1 | B5: Anidulafungina proszek do sporządzania koncentratu roztworu do infuzji; 100 mg; 1 fiol. | C5: 1 fiol | D5: 3
A6: 2 | B6: Alteplaza, proszek i rozpuszczalnik do sporządzania roztworu do wlewu; 50 mg; 1 flak. + rozp. 50 ml | C6: Op=1 szt. | D6: 3
A7: 3 | B7: Aprepitant 125+80+80mg | C7: Op= 3 kaps | D7: 10
A8: 4 | B8: Argipressinum 40j.m. inj. | C8: op=5amp | D8: 60
A9: 5 | B9: Koncentrat do sporządzania roztworu do infuzji; 1 ml zawiera: 170,1 mg diwodorofosforanu potasowego, 133,5 mg diwodnego wodorofosforanu sodowego, 14 mg wodorotlenku potasu, co odpowiada 1,5 mmol (59 mg) jonów potasu, 1,5 mmol (34 mg) jonów sodu i 2 mmol (62 mg) fosforanów; 10 fiol. 20 ml | C9: op=10fiol. | D9: 50
A10: 6 | B10: Calcium chloratum inj 10 ml 95-100mg/ml zamiennie z Calcium gluconatum 95-100mg/ml | C10: op=10amp | D10: 1400
A11: 7 | B11: Caspofunginum 50mg inj. Poz 7-8 muszą pochodzć od hjednego producenta | C11: 1 szt. | D11: 150
A12: 8 | B12: Caspofunginum 70mg inj. Poz 7-8 muszą pochodzć od hjednego producenta | C12: 1 szt. | D12: 12
A13: 9 | B13: Clatribine 10mg/10ml fiol | C13: porcja po 1 fiol. | D13: 5
A14: 10 | B14: Cyclosporinum 50mg kaps | C14: porcja po 50kaps | D14: 6
A15: 11 | B15: Cytarabina 1g/20ml fiol | C15: porcja po 1 fiol | D15: 5
A16: 12 | B16: deksmedetomidyna 0,2mg/2ml | C16: porcja po 25 amp. | D16: 60
... A66: 62 | B66: Woryconazolum 200mg tabl | C66: porcja po 20 tabl | D66: 4
B67: Razem
B70: Data | G70: Podpis osoby/osób upoważnionej
B71: ……………………………………………. | G71: ……………………………….

Sheet Zadanie nr 26.
A1: Załącznik nr 9 | G1: ZOZ/DZP/PN/11/22
B4: Zadanie nr 26 – Terapia nerkozastępcza do aparatu OMNI
A5: Lp. | B5: Nazwa produktu | C5: Jednostka miary | D5: Ilość | E5: Cena jednostkowa[zł] netto | F5: Wartość [zł] netto | G5: VAT | H5: Cena jednostkowa [zł] brutto | I5: Wartość [zł] brutto | J5: Producent/Nazwa handlowa
A6: 1 | B6: Płyn dializacyjny do terapii nerkozastępczej bez zawartości wapnia i zawartością fosforanów 1,25 mmol/l oraz z zawartością potasu 2 lub 4 mmol/l (zamiennie według potrzeb zamawiającego). Worek 5 l. Kompatybilne z aparatem OMNI | C6: szt. | D6: 400
A7: 2 | B7: Płyn do antykoagulacji z zawartością cytrynianu 4%. Worek 2000 ml. | C7: szt. | D7: 150
A8: 3 | B8: Zestaw drenów z filtrem o punkcie odcięcia 37 kDa i rejestracji na 96 godzin do cytrynianowej i heparynowej terapii CVVHD lub/i CVVHDF | C8: szt. | D8: 15
A9: 4 | B9: Płyn substytucyjny do terapii nerkozastępczej z zawartością wapnia 1,5 mmol/l , bez zawartości potasu lub z zawartością potasu 4 mmol/l ,bez zawartości mleczanów . Worek 5 L ( bez zawartości Potasu) (z zawartością Potasu 2mmol/l) lub (z zawartością Potasu 4mmol/l) do wyboru zamawiajacego przy zakupie | C9: szt. | D9: 150
A10: 5 | B10: Worki na filtrat z zaworem spustowym umożliwiającym drenaż bez zdejmowania worka z urządzenia. Pojemność 7 litrów. | C10: szt. | D10: 20
B11: RAZEM
B14: Data | H14: Podpis osoby/osób upoważnionej
B15: ……………………………………………. | H15: …………………… | I15: ……………………………….

Sheet Zadanie nr 27
A1: Załącznik nr 9 | G1: ZOZ/DZP/PN/11/22
A4: Zadanie nr 27 - Propofolum
A5: Lp. | B5: Nazwa produktu | C5: Jednostka miary | D5: Ilość | E5: Cena jednostkowa[zł] netto | F5: Wartość [zł] netto | G5: VAT | H5: Cena jednostkowa [zł] brutto | I5: Wartość [zł] brutto | J5: Producent/Nazwa handlowa
A6: 1 | B6: Propofolum inj. 10mg/1ml – 20ml fiolki | C6: porcja po 5 fiol. 20 ml | D6: 2500
A7: 2 | B7: Propofolum inj. 10 mg/1ml – 20ml amp | C7: porcja po 5 amp. 20 ml | D7: 600
A8: 3 | B8: Propofolum inj. 2% 50ml fiol emulsja | C8: porcja po 1 fiol. | D8: 700
A9: 4 | B9: Propofol 2% fiol 20ml | C9: porcja po 5amp./fiol | D9: 1000
B10: RAZEM
B13: Data …………………………………………. ………………………………………………...
H14: Podpis osoby/osób uprawnionej

Sheet Zadanie nr 28
A1: Załącznik nr 9 | G1: ZOZ/DZP/PN/11/22
A4: Zadanie nr 28 – Leki Hospicjum
A5: Lp. | B5: Nazwa produktu | C5: Jednostka miary | D5: Ilość | E5: Cena jednostkowa[zł] netto | F5: Wartość [zł] netto | G5: VAT | H5: Cena jednostkowa [zł] brutto | I5: Wartość [zł] brutto | J5: Producent/Nazwa handlowa
A6: 1 | B6: Ac. ascorbicum, Hesperidinum, Ruscus aculeatus (Cyclo 3 fort) lub równoważne | C6: porcja po 30 kaps. | D6: 150
A7: 2 | B7: Acidum Valproicum 150mg | C7: Porcja po 100 szt. | D7: 3
A8: 3 | B8: Natrii Valproas+Acidum Valpronicum 300 mg | C8: porcja po 30 tabl. | D8: 150
A9: 4 | B9: Natrii Valproas 288,2mg/5ml | C9: porcja po 150ml | D9: 100
A10: 5 | B10: Natrii Valproas+Acidum Valproicum 500mg | C10: porcja po 30 tabl. | D10: 60
A11: 6 | B11: Natrii Valproas inj 400mg/4ml | C11: op=4fiol. | D11: 50
A12: 7 | B12: Natrii Valproas 750mg saszetki 30 szt. | C12: op=30sasz. | D12: 150
A13: 8 | B13: Alfuzosinum 10mg | C13: porcja po 30 szt. | D13: 22
A14: 9 | B14: Amantadinum 100mg | C14: porcja po 100tabl | D14: 9
A15: 10 | B15: Aminophylinum 200mg o przedł uwalnianiu | C15: porcja po 30kaps. | D15: 6
A16: 11 | B16: Amitryptilina 25mg | C16: 60 draż | D16: 10
A17: 12 | B17: Amitriptilina 10mg | C17: 60 draż | D17: 10
... A82: 77 | B82: Ziprazidonum 80mg | C82: porcja po 56 kaps. | D82: 12
B83: RAZEM
B86: Data | H86: Podpis osoby/osób upoważnionej
B87: ……………………………………………. | H87: ………………………………… | I87: ………………………………. | J87: ………………

Sheet zadanie nr 29
A1: Załącznik nr 9 | G1: ZOZ/DZP/PN/11/22
A4: Zadanie nr 29 - Leki przeciwbólowe
A5: Lp. | B5: Nazwa produktu | C5: Jednostka miary | D5: Ilość | E5: Cena jednostkowa[zł] netto | F5: Wartość [zł] netto | G5: VAT | H5: Cena jednostkowa [zł] brutto | I5: Wartość [zł] brutto | J5: Producent/Nazwa handlowa
A6: 1 | B6: Bupremorfina 35 mcg/h plastry | C6: Porcja po 5 plastrów | D6: 120
A7: 2 | B7: Bupremorfina plastry 52,5mcg/h | C7: Op=5 plastrów | D7: 100
A8: 3 | B8: Bupremorfina plastry 70mcg/h | C8: Op=5 plastrów | D8: 45
A9: 4 | B9: Diclofenacum + Misoprostolum tabl. powl. | C9: porcja po 20 tabl. | D9: 25
A10: 5 | B10: Diclofenacum czopki 100 mg | C10: porcja po 1 op. 10 szt. | D10: 300
A11: 6 | B11: Diclofenacum czopki 50 mg | C11: porcja po 1 op. 10 szt. | D11: 140
A12: 7 | B12: Diclofenacum 75 mg. doustny | C12: op=20szt | D12: 15
A13: 8 | B13: Diclofenacum inj. (roztwór) 75 mg/3 ml | C13: porcja po 5 amp. 3 ml | D13: 20
A14: 9 | B14: Diclofenacum tabl. dojelitowe 25 mg | C14: porcja po 30 tabl. | D14: 3
A15: 10 | B15: Diclofenacum tabl. dojelitowe 50 mg | C15: porcja po 30 tabl. | D15: 75
A16: 11 | B16: Diclofenacum 100mg | C16: porcja po 20tabl. | D16: 100
A17: 12 | B17: Diclofenacum maść vel żel | C17: Porcja po 50 do 60g | D17: 40
... A69: 64 | B69: Naloxoni hydrochloricum + oxycodoni hydrochloricum 10+5 mg | C69: porcja po 30tabl. | D69: 50
A70: 64A | B70: Naloxoni hydrochloricum + oxycodoni hydrochloricum 5+2,5 mg | C70: porcja po 60tabl. | D70: 50
A71: 65 | B71: Nimesulid 100mg granulat 2 g | C71: Porcja po 30 torebek | D71: 4
A72: 66 | B72: Paracetamolum tabl. 500 mg | C72: porcja po 50 tabl. | D72: 620
A73: 67 | B73: Paracetamolum czopki 250 mg | C73: porcja po 10 szt. | D73: 25
A74: 68 | B74: Paracetamol czopki 125 mg | C74: porcja po 10szt | D74: 30
A75: 69 | B75: Paracetamolum czopki 50 mg | C75: porcja po 10 szt. | D75: 10
A76: 70 | B76: Paracetamolum czopki 500 mg | C76: porcja po 10 szt. | D76: 32
A77: 71 | B77: Paracetamolum czopki 80 mg | C77: porcja po 10 szt. | D77: 15
A78: 72 | B78: Paracetamolum inj. iv. (roztwór) 0,5g/50 ml | C78: porcja po 1 op. 10 szt. | D78: 105
A79: 73 | B79: Paracetamolum inj. iv. (roztwór) 1g/100 ml | C79: porcja po 1 op. 10 szt. | D79: 1640
A80: 74 | B80: Paracetamolum syrop 120 mg/5 ml smak truskawkowy | C80: porcja po 1 op. 150 ml lub gramów | D80: 100
A81: 75 | B81: Pethidinum inj. im./iv./sc. (roztwór) 100 mg/2 ml | C81: porcja po 10 amp. 2 ml | D81: 80
A82: 76 | B82: Pethidinum inj. im./iv./sc. (roztwór) 50 mg/ml | C82: porcja po 10 amp. 1 ml | D82: 50
... A95: 89 | B95: Zofenopryl 30mg | C95: porcja po 28tabl | D95: 40
B96: RAZEM
B99: Data | H99: Podpis osoby/osób upoważnionej
B100: ……………………………………………. | H100: …………………… | I100: ……………………………….

Sheet Zadanie nr 30
A2: Załącznik nr 9 | G2: ZOZ/DZP/PN/11/22
A4: Zadanie nr 30 -Leki okulistyczne 2
A5: Lp. | B5: Nazwa produktu | C5: Jednostka miary | D5: Ilość | E5: Cena jednostkowa[zł] netto | F5: Wartość [zł] netto | G5: VAT | H5: Cena jednostkowa [zł] brutto | I5: Wartość [zł] brutto | J5: Producent/Nazwa handlowa
A6: 1 | B6: Barwnik memranowy do witreoktomii typu Memran Blue Dual 0,5ml | C6: Op=5 szt. | D6: 5
A7: 2 | B7: Perfluorodekalina 7ml fiolka | C7: porcja po 1 fiol. | D7: 10
A8: 3 | B8: Zrównoważony roztwór soli fizjologicznej 500m l w but z tworzywa sztucznego. | C8: porcja po 500ml | D8: 50
B9: RAZEM
B10: Data | G10: Podpis osoby/osób upoważnionej
B11: ……………………………………………. | G11: ……………………………….

Sheet Zadanie nr 31
A1: Załącznik nr 9 | G1: ZOZ/DZP/PN/11/22
B4: Zadanie nr 31 - Kontrasty jodowe
A5: Lp. | B5: Nazwa produktu | C5: Jednostka miary | D5: Ilość | E5: Cena jednostkowa[zł] netto | F5: Wartość [zł] netto | G5: VAT | H5: Cena jednostkowa [zł] brutto | I5: Wartość [zł] brutto | J5: Producent/Nazwa handlowa
A6: 1 | B6: Iodiksanol 320mg/ml i.v. | C6: porcja po 10 x 50ml | D6: 2
A7: 2 | B7: Iodiksanol 320mg/ml i.v. | C7: porcja po 10 x 200ml | D7: 2
A8: 3 | B8: Iomeprolum 300 mg jodu/ml i.v. | C8: Porcja po 20ml | D8: 10
A9: 4 | B9: Iomeprolum 300 mg jodu/ml i.v. | C9: Porcja po 50ml | D9: 10
A10: 5 | B10: Iomeprolum 350mg/ml i.v. | C10: porcja po 50ml | D10: 10
A11: 6 | B11: Iomeprolum 350mg/ml i.v. | C11: porcja po 200ml | D11: 10
A12: 7 | B12: Iopromidum 300mg/ml i.v. | C12: Porcja po 10 x 20ml | D12: 10
A13: 8 | B13: Iopromidum 300mg/ml i.v. | C13: porcja po 10 x 50ml | D13: 10
A14: 9 | B14: Iopromidum 370 mgI/ml i.v. | C14: porcja po 50ml | D14: 20
A15: 10 | B15: Iopromidum 370 mgI/ml i.v | C15: porcja po 200ml | D15: 10
A16: 11 | B16: Iohexolum 300 mg I / ml i.v. | C16: Porcja po 6 x 20ml | D16: 15
A17: 12 | B17: Iohexolum 300 mg I / ml i.v. | C17: porcja po 10 x 50 ml | D17: 30
... A19: 14 | B19: Iohexolum 350 mg I / ml i.v. | C19: porcja po 10 x 200ml | D19: 70
B20: RAZEM
B23: Data | H23: Podpis osoby/osób upoważnionej
B24: ……………………………………………. | H24: …………………… | I24: ……………………………….

Sheet Zadanie nr 32
A1: Załącznik nr 9 | G1: ZOZ/DZP/PN/11/22
B4: Zadanie nr 32 - Acidum ibandronicum
A5: Lp. | B5: Nazwa produktu | C5: Jednostka miary | D5: Ilość | E5: Cena jednostkowa[zł] netto | F5: Wartość [zł] netto | G5: VAT | H5: Cena jednostkowa [zł] brutto | I5: Wartość [zł] brutto | J5: Producent/Nazwa handlowa
A6: 1 | B6: Acidum ibandronicum 3mg/3ml ampułkostrzykawka + igła | C6: 1 ampułko-strzykawka | D6: 50
B7: RAZEM
B10: Data | H10: Podpis osoby/osób upoważnionej
B11: ……………………………………………. | H11: …………………… | I11: ……………………………….

Sheet Zadanie nr 33
A1: Załącznik nr 9 | G1: ZOZ/DZP/PN/11/22
A4: Zadanie nr 33 - Imigluceraza i eliglustat
A5: Lp. | B5: Nazwa produktu | C5: Jednostka miary | D5: Ilość | E5: Cena jednostkowa[zł] netto | F5: Wartość [zł] netto | G5: VAT | H5: Cena jednostkowa [zł] brutto | I5: Wartość [zł] brutto | J5: Producent/Nazwa handlowa
A6: 1 | B6: Cerezyme (Imigluceraza) 400j./10ml | C6: 1fiolka | D6: 336
A7: 2 | B7: Eliglustat 84mg | C7: Op=56 kaps. | D7: 45
B8: RAZEM
B11: Data | G11: Podpis osoby/osób upoważnionej
B12: ……………………………………………. | G12: …………………… | H12: ……………………………….

Sheet Zadanie nr 34
A1: Załącznik nr 9 | G1: ZOZ/DZP/PN/11/22
A4: Zadanie nr: 34- Ferrum
A5: Lp. | B5: Nazwa produktu | C5: Jednostka miary | D5: Ilość | E5: Cena jednostkowa[zł] netto | F5: Wartość [zł] netto | G5: VAT | H5: Cena jednostkowa [zł] brutto | I5: Wartość [zł] brutto | J5: Producent/Nazwa handlowa
A6: 1 | B6: Ferrum isomaltozidum 500mg/5ml | C6: pocja po 5fiolek | D6: 125
B7: RAZEM
B10: Data | G10: Podpis osoby/osób upoważnionej
B11: ……………………………………………. | G11: ………………………….. | H11: ……………………………….

Sheet Zadanie nr 35
A1: Załącznik nr 9 | G1: ZOZ/DZP/PN/11/22
B4: Zadanie nr 35 - Glikokotykosteroidy
A5: Lp. | B5: Nazwa produktu | C5: Jednostka miary | D5: Ilość | E5: Cena jednostkowa[zł] netto | F5: Wartość [zł] netto | G5: VAT | H5: Cena jednostkowa [zł] brutto | I5: Wartość [zł] brutto | J5: Producent/Nazwa handlowa
A6: 1 | B6: Dexamethasonum inj. (roztwór) 4 mg/ml | C6: porcja po 10 amp. 2 ml | D6: 420
A7: 2 | B7: Dexamethasonum inj. (roztwór) 4 mg/ml | C7: porcja po 10 amp. 1 ml | D7: 400
A8: 3 | B8: Dexamethasonum 0,1% zawiesina do oczu | C8: porcja po 5ml | D8: 5
A9: 4 | B9: Hydrocortisonum fiol. 100Mg+2ml rozp. | C9: porcja po 5 fiol.+ rozp | D9: 1000
A10: 5 | B10: Hydrocortisonum 25 mg + 2 ml rozp | C10: porcja po 5 fiol.+ rozp | D10: 10
A11: 6 | B11: Hydrocortisonum 20 mg | C11: porcja po 20 tabl. | D11: 20
B12: RAZEM
B15: Data | H15: Podpis osoby/osób upoważnionej
B16: ……………………………………………. | H16: …………………… | I16: ……………………………….

Sheet Zadanie nr 36
A1: Załącznik nr 9 | G1: ZOZ/DZP/PN/11/22
A4: Zadanie nr: 36 - Desfluran
A5: Lp. | B5: Nazwa produktu | C5: Jednostka miary | D5: Ilość | E5: Cena jednostkowa[zł] netto | F5: Wartość [zł] netto | G5: VAT | H5: Cena jednostkowa [zł] brutto | I5: Wartość [zł] brutto | J5: Producent/Nazwa handlowa
A6: 1 | B6: Desfluranum 240ml | C6: op=240ml | D6: 126
B7: Razem
B9: Na czas trwania umowy wymagane jest użyczenie 3 szt. parowników do aparatu Drager . Koszt użyczenia należy wliczyć w cenę oferty.
B11: Data | G11: Podpis osoby/osób upoważnionej
B12: ……………………………………………. | G12: ……………………………….

Sheet Zadanie nr 37
A1: Załącznik nr 9 | G1: ZOZ/DZP/PN/11/22
A4: a | B4: Zadanie nr: 37 – Metamizolum
A5: Lp. | B5: Nazwa produktu | C5: Jednostka miary | D5: Ilość | E5: Cena jednostkowa[zł] netto | F5: Wartość [zł] netto | G5: VAT | H5: Cena jednostkowa [zł] brutto | I5: Wartość [zł] brutto | J5: Producent/Nazwa handlowa
A6: 9 | B6: Metamizolum inj. (roztwór) 500 mg/ml | C6: porcja po 5 amp. 5 ml | D6: 1400
A7: 10 | B7: Metamizolum inj. (roztwór) 500 mg/ml | C7: porcja po 5 amp po 2 ml | D7: 900
A8: 11 | B8: Metamizolum tabl. 500 mg | C8: porcja po 10 tabl. | D8: 200
A9: 12 | B9: Metamizolum 500mg/ml krople doustne | C9: poecja po 20ml | D9: 15
A10: 13 | B10: Metamizolum 500mg/ml krople doustne | C10: porcja po 100ml | D10: 15
B11: RAZEM
B14: Data | H14: Podpis osoby/osób upoważnionej
B15: ……………………………………………. | H15: …………………… | I15: ……………………………….

Sheet Zadanie nr 39
A1: Załącznik nr 9 | G1: ZOZ/DZP/PN/11/22
A3: Zadanie nr 39 - Długo i krótko działające analogi insuliny i barbituran
A4: Lp. | B4: Nazwa produktu | C4: Jednostka miary | D4: Ilość | E4: Cena jednostkowa[zł] netto | F4: Wartość [zł] netto | G4: VAT | H4: Cena jednostkowa [zł] brutto | I4: Wartość [zł] brutto | J4: Producent/Nazwa handlowa
A5: 1 | B5: Insulinum glargine 300j. /ml | C5: 10 wstrzykiwaczy | D5: 20
A6: 2 | B6: Insulinum glargine 100j. /ml | C6: 5 wstrzykiwaczy | D6: 20
A7: 3 | B7: Insulinum glulisine 100j./ml | C7: 5 wstrzykiwaczy | D7: 20
A8: 4 | B8: Insulina Lizpro 100 j./ml, roztwór do wstrzykiwań, 10 wkładów po 3 ml | C8: 10 wstrzykiwaczy | D8: 20
A9: 5 | B9: Phenobarbitalum 40mg inj +2ml | C9: 1 szt. | D9: 12
B10: Razem
B14: …………….., dnia ………………… ……………………………………
B15: Podpis
B16: osoby upoważnionej

Sheet Zadanie nr 40
A1: Załącznik nr 9 | G1: ZOZ/DZP/PN/11/22
A4: Zadanie nr 40 – Preparaty RTU
A5: Lp. | B5: Nazwa produktu | C5: Jednostka miary | D5: Ilość | E5: Cena jednostkowa[zł] netto | F5: Wartość [zł] netto | G5: VAT | H5: Cena jednostkowa [zł] brutto | I5: Wartość [zł] brutto | J5: Producent/Nazwa handlowa
A6: 1 | B6: Amikacinum 2,5mg/ml | C6: butelka do infuzji 100ml | D6: 30
A7: 2 | B7: Amikacinum 5mg/ml | C7: butelka do infuzji 100ml | D7: 30
A8: 3 | B8: Amikacinum 10mg/ml | C8: butelka do infuzji 100ml | D8: 30
A9: 4 | B9: Gentamicinum (roztwór) 80 mg/80 ml | C9: porcja fiolka 80 ml | D9: 30
A10: 5 | B10: Gentamicinum (roztwór) 240 mg/80 ml | C10: porcja fiolka 80 ml | D10: 30
A11: 6 | B11: Tobramycinum 240mg/80 ml | C11: Op=10 fl. | D11: 3
A12: 7 | B12: Ibuprofen 200mg/50ml inj | C12: Porcja po 20 szt | D12: 30
A13: 8 | B13: Ibuprofen 400mg/100ml inj. | C13: Porcja po 20 szt | D13: 50
A14: 9 | B14: Ibuprofen 600mg/100ml inj. | C14: Porcja po 20 szt | D14: 20
A15: 10 | B15: Paracetamol 1000mg /100ml inj. | C15: Porcja po 10 szt. | D15: 100
B16: RAZEM
B20: Data | H20: Podpis osoby/osób upoważnionej
B21: ……………………………………………. | I21: ……………………………….

Sheet Zadanie nr 41
A1: Załącznik nr 9 | G1: ZOZ/DZP/PN/11/22
A4: Zadanie nr 41 - Antybiotyki
A5: Lp. | B5: Nazwa produktu | C5: Jednostka miary | D5: Ilość | E5: Cena jednostkowa[zł] netto | F5: Wartość [zł] netto | G5: VAT | H5: Cena jednostkowa [zł] brutto | I5: Wartość [zł] brutto | J5: Producent/Nazwa handlowa
A6: 1 | B6: Vancomycinym 1000 mg/5ml inj. i.v., p.o. | C6: porcja po 5 szt. | D6: 370
A7: 2 | B7: Clindamycin 150 mg/ml | C7: Porcja po 4ml w 5 amp | D7: 160
A8: 3 | B8: Clindamycin 600 mg | C8: porcja po 12 kaps. | D8: 10
A9: 4 | B9: Clindamycin 300mg | C9: porcja po 16 kaps. | D9: 30
B10: RAZEM
B13: Data | H13: Podpis osoby/osób upoważnionej
B14: ……………………………………………. | I14: ……………………………….

Sheet Zadanie nr 43
A1: Załącznik nr 9 | G1: ZOZ/DZP/PN/11/22
A4: Zadanie nr 43 - Witamina K1
A5: Lp. | B5: Nazwa produktu | C5: Jednostka miary | D5: Ilość | E5: Cena jednostkowa[zł] netto | F5: Wartość [zł] netto | G5: VAT | H5: Cena jednostkowa [zł] brutto | I5: Wartość [zł] brutto | J5: Producent/Nazwa handlowa
A6: 1 | B6: Phytomenadionum (vit. K1) 2mg/0,2ml | C6: porcja po 5 amp. | D6: 260
B7: RAZEM
B10: Data | G10: Podpis osoby/osób upoważnionej
B11: ……………………………………………. | G11: ………………………….. | I11: ……………………………….

Sheet Zadanie nr 44
A1: Załącznik nr 9 | G1: ZOZ/DZP/PN/11/22
B4: Zadania nr 44 - Imipenem, piperacillinum
A5: Lp. | B5: Nazwa produktu | C5: Jednostka miary | D5: Ilość | E5: Cena jednostkowa[zł] netto | F5: Wartość [zł] netto | G5: VAT | H5: Cena jednostkowa [zł] brutto | I5: Wartość [zł] brutto | J5: Producent/Nazwa handlowa
A6: 1 | B6: Imipenem/cilastatinum 500+500mg | C6: porcja po 10 fiol | D6: 50
A7: 2 | B7: Meropenem 500mg | C7: porcja po 10 fiol | D7: 50
A8: 3 | B8: Meropenem 1000mg | C8: porcja po 10 fiol | D8: 250
A9: 4 | B9: Piperacillinum + Tazobactamum 4g+0,5g | C9: porcja po 10fiol | D9: 840
B10: RAZEM
B14: Data | H14: Podpis osoby/osób upoważnionej
B15: ……………………………………………. | H15: ………………….. | I15: ……………………………….

Sheet Zadanie nr 45
A2: Załącznik nr 9 | G2: ZOZ/DZP/PN/11/22
A4: Zadanie nr 45 - Insuliny i analogi
A5: Lp. | B5: Nazwa produktu | C5: Jednostka miary | D5: Ilość | E5: Cena jednostkowa[zł] netto | F5: Wartość [zł] netto | G5: VAT | H5: Cena jednostkowa [zł] brutto | I5: Wartość [zł] brutto | J5: Producent/Nazwa handlowa
A6: 1 | B6: Insulina aspart, szybkodziałający analog insuliny ludzkiej, którtkodziałające, doposiłkowe, analogowe,r-r do wstrzykiwań 100j.m./ml | C6: 10x3ml | D6: 30
A7: 2 | B7: Insulina detemir, długodziałający analog insuliny ludzkiej,analogowe, bazowe, długodziałające, r-r do wstrzykiwań 100j.m./ml | C7: 10x3ml | D7: 30
A8: 3 | B8: Insulina aspart/insulina aspart krystalizowana z protaminą w stosunku 30/70, analogowa mieszanka insulinowa, dwufazowa, zawiesina do wstrzykiwań 100j.m./ml | C8: 10x3ml | D8: 35
A9: 4 | B9: Insulina aspart/insulina aspart krystalizowana z protaminą w stosunku 50/50, analogowa mieszanka insulinowa, dwufazowa, zawiesina do wstrzykiwań 100j.m./ml | C9: 10x3ml | D9: 30
A10: 5 | B10: Insulina ludzka, szybkodziałająca, r-r do wstrzykiwań,100j.m./ml | C10: 5x3ml | D10: 60
A11: 6 | B11: Insulina ludzka izofanowa o posrednim czasie działania,zawiesina do wstrzykiwań, 100j.m./ml | C11: 5x3ml | D11: 45
A12: 7 | B12: Insulina ludzka i insulina ludzka izofanowa w stosunku 30/70, dwufazowa, ludzka mieszanina insuliny szybkodziałającej i długodziałającej,zawisina wstrzykiwań,100j.m./ml | C12: 5x3ml | D12: 25
A13: 8 | B13: Insulina ludzka i insulina ludzka izofanowa w stosunku 40/60, dwufazowa, ludzka mieszanina insuliny szybkodziałającej i długodziałającej,zawisina wstrzykiwań,100j.m./ml | C13: 5x3ml | D13: 20
A14: 9 | B14: Insulina ludzka i insulina ludzka izofanowa w stosunku 50/50, dwufazowa, ludzka mieszanina insuliny szybkodziałającej i długodziałającej,zawisina wstrzykiwań,100j.m./ml | C14: 5x3ml | D14: 20
A15: 10 | B15: roztwór do wstrzykiwań; 100 j./ml (zawiera: 70% insuliny degludec, 30% insuliny aspart); | C15: 5x3ml | D15: 10
A16: 11 | B16: Insulina deglutec roztwór do wstrzykiwań; 100 j./ml;3 ml | C16: 5x3ml | D16: 20
A17: 12 | B17: Insulina Humalog 300j.m lub równoważna | C17: porcja po 5 wkładów | D17: 30
... A22: 17 | B22: Insulina Humulin M30 lub równoważna | C22: porcja po 5 wkładów | D22: 20
B23: Razem
B26: Data | G26: Podpis osoby/osób upoważnionej
B27: ……………………………………………. | G27: ……………………………….

Sheet Zadanie nr 46
A1: Załącznik nr 9 | G1: ZOZ/DZP/PN/11/22
A4: Zadanie nr 46 - Budesonidum
A5: Lp. | B5: Nazwa produktu | C5: Jednostka miary | D5: Ilość | E5: Cena jednostkowa[zł] netto | F5: Wartość [zł] netto | G5: VAT | H5: Cena jednostkowa [zł] brutto | I5: Wartość [zł] brutto | J5: Producent/Nazwa handlowa
A6: 1 | B6: Budesonidum zawiesina do inhalacji 0,125 mg/ml (wskazania wirusowe zapalenie krtani u dzieci)wg wskazań z listy regundacyjnej Ministra Zdrowia | C6: porcja po 20 poj. 2 ml | D6: 65
A7: 2 | B7: Budesonidum zawiesina do inhalacji 0,5 mg/ml (wskazania wirusowe zapalenie krtani u dzieci) wg wskazań z listy regundacyjnej Ministra Zdrowia | C7: porcja po 20 poj. 2 ml | D7: 300
A8: 3 | B8: Budesonidum zawiesina do inhalacji 0,25 mg/ml (wskazania wirusowe zapalenie krtani u dzieci)wg wskazań z listy regundacyjnej Ministra Zdrowia | C8: porcja po 20 poj. 2 ml | D8: 200
B9: RAZEM
B12: Data | G12: Podpis osoby/osób upoważnionej
B13: ……………………………………………. | G13: ………………………….. | H13: ……………………………….

Sheet Zadanie nr 48
A1: Załącznik nr 9 | G1: ZOZ/DZP/PN/11/22
A4: Zadanie nr 48 - Preparaty przeczyszczające
A5: Lp. | B5: Nazwa produktu | C5: Jednostka miary | D5: Ilość | E5: Cena jednostkowa[zł] netto | F5: Wartość [zł] netto | G5: VAT | H5: Cena jednostkowa [zł] brutto | I5: Wartość [zł] brutto | J5: Producent/Nazwa handlowa
A6: 1 | B6: Sodu pikosiarczan + magnezu tlenek lekki + kwas cytrynowy bezwodny(0,01 g + 3,50 g + 10,97 g)/saszetkę, | C6: op po 50 saszetek | D6: 5
A7: 2 | B7: Makrogol 4000 64 g + subst. Pomocnicze | C7: Saszetki po 74 g x 48szt | D7: 70
A8: 3 | B8: Makrogol koncentrat do sporządzania zawiesiny doustnej 52,5g/100ml | C8: porcja w butelce 200ml | D8: 30
A9: 4 | B9: Saszetka A: makrogol 3350-100g, +siarczan sodu bezwodny-7,5g + chlorek sodu-2,691g+chlorek potasu-10,15g. Saszetka B: Kwas askorbowy 4,7g + askorbinias sodu-5,9g | C9: porcja op.= Aszetka A+B | D9: 100
A10: 5 | B10: Makrogol 3350, 5g. | C10: Po = 14 sasz, | D10: 4
B11: RAZEM
B14: Data | G14: Podpis osoby/osób upoważnionej
B15: ……………………………………………. | G15: ………………………….. | H15: ……………………………….

Sheet Zadanie nr 49
A1: Załącznik nr 9 | G1: ZOZ/DZP/PN/11/22
A5: Zadanie nr 49 Immunoglobuliny.
A6: Lp. | B6: Nazwa produktu | C6: Jednostka miary | D6: Ilość | E6: Cena jednostkowa[zł] netto | F6: Wartość [zł] netto | G6: VAT | H6: Cena jednostkowa [zł] brutto | I6: Wartość [zł] brutto | J6: Producent/Nazwa handlowa
A7: 1 | B7: Immunoglobulina ludzka do podania dożylnego 1 ml roztworu zawiera 50 mg białka osocza ludzkiego, w tym co najmniej 95% immunoglobuliny: immunoglobulina M (IgM) 6 mg, immunoglobulina A (IgA) 6 mg oraz immunoglobulina G (IgG) 38 mg. Rozkład podklas IgG: ok. 63% (IgG1), ok. 26% (IgG2), ok. 4% (IgG3), ok. 7% (IgG4) | C7: 2,5g/50ml | D7: 24
A8: 2 | B8: Immunoglobulina ludzka do podania dożylnego 1 ml roztworu zawiera 50 mg białka osocza ludzkiego, w tym co najmniej 95% immunoglobuliny: immunoglobulina M (IgM) 6 mg, immunoglobulina A (IgA) 6 mg oraz immunoglobulina G (IgG) 38 mg. Rozkład podklas IgG: ok. 63% (IgG1), ok. 26% (IgG2), ok. 4% (IgG3), ok. 7% (IgG4) | C8: 2,5g/100 | D8: 24
B9: RAZEM
B12: Data | G12: Podpis osoby/osób upoważnionej
B13: ……………………………………………. | G13: ………………………….. | H13: ……………………………….

Sheet Zadanie nr 50.
A2: Załącznik nr 9 | G2: ZOZ/DZP/PN/11/22
A4: Zadanie nr 50 - Dostawa płynów i akcesoriów wraz z dzierżawą aparatu do ciągłych zabiegów nerkozastępczych i plazmaforezy
A5: Lp. | B5: Nazwa produktu | C5: Jednostka miary | D5: Ilość | E5: Cena jednostkowa[zł] netto | F5: Wartość [zł] netto | G5: VAT | H5: Cena jednostkowa [zł] brutto | I5: Wartość [zł] brutto | J5: Producent/Nazwa handlowa/Model
A6: 1 | B6: CRRT i ciągła płynoterapia prowadzone u pacjentów z ostrą niewydolnością nerek, nadmiernym obciążeniem płynami lub w obu wymienionych stanach. Zestaw- wielkość filtra 1,5m² | C6: zestaw | D6: 400
A7: 2 | B7: Roztwór do hemofiltracji/hemodializy stosowanay jako płyn substytucyjny i dializacyjny, w skład którego wchodzą: Na+ 140 mmol/l; K+ 4 mmol/l; Ca2+ 0 mmol/l; Mg2+ 0,75 mmol/l; Cl- 122 mmol/l; HCO3- 22 mmol/l; HP042- 1 mmol/l; osmolarność 290 mOsm/l; opakowanie: worek 5l, dwukomorowy, wyposażony w port luer oraz port iniekcyjny - oznakowany kolorowym kapslem | C7: szt | D7: 5500
A8: 3 | B8: Roztwór do hemofiltracji skład: cytrynian 18 mmol/l, Na+ 140 mmol/l, Cl- 86 mmol/l; teoretyczna osmolarność: 244 mOsm/l; opakowanie: worek 5l wyposażony w port luer oraz port iniekcyjny - oznakowany kolorowym kapslem | C8: szt | D8: 5500
A9: 4 | B9: Linia wapnia do przeprowadzania zabiegów cytrynianowo-wapniowych metodą antykoagulacji | C9: szt | D9: 500
A10: 5 | B10: Pozaustrojowy obwód jednorazowego użytku przeznaczony do stosowania w CRRT. Zestaw składający się z filtra kapilarnego do hemodializy/dializatora, z powierzchnią wewnętrzną trwale powleczoną wysoce oczyszczoną heparyną wieprzową oraz drenów. Zestaw umożliwiający usuwanie różnych mediatorów zapalnych, w tym: cytokin i endotoksyn, metodą dyfuzji, konwekcji i adsorpcji. | C10: zestaw | D10: 50
A11: 6 | B11: Worek ściekowy do prismaflex 5 i 9 litrów do wyboru przy zakupie | D11: 90
A12: 7 | B12: Zestaw do plazmaferezy z filtrem z błoną posiadającą właściwości „celowania” cząstek biorących udział w kaskadzie septycznej np. cytokiny, endotoksyny. | C12: 1 zestaw | D12: 48
A13: 8 | B13: Zestaw składa się z następujących komponentów: 1. Wysokoprzepływowego dializatora specjalnie przystosowanego do eliminacji toksyn zwiazanych z białkami krwi pacjenta do dializatu zawierajacego albuminy surowicy ludzkiej (HSA). 2. Niskoprzepływowego dializatora stosowanego do usuwania toksyn rozpuszczalnych w wodzie z dializatu albuminy surowicy ludzkiej (HSA) obwodu MARS. 3. Kolumny adsorpcyjnej wypełnionej weglem aktywowanym parą, słuzacej do oczyszczania roztworu ludzkich albumin (HSA) wypełniajacego obwód zestawu MARS. Czasteczki wegla sa odsłoniete i wykazuja szczególną zdolność do adsorpcji niskoczasteczkowych, niepolarnych substancji, jak np. aromatyczne policykliczne weglowodory i kwasy. 4. Kolumny adsorpcyjnej wypełnionej zywicą jonowymienna, słuzacej do oczyszczania dializatu z HSA w obwodzie zestawuMARS. Kolumna jest przeznaczona szczególnie do usuwania czasteczek jonowych, jak bilirubina. | C13: 1 zestaw | D13: 20
A14: 9 | B14: Wymiennik krew-gaz, zestaw do usuwania dwutlenku węgla | C14: 1 zestaw | D14: 9
A15: 10 | B15: Dzierżawa 2 aparatów do zabiegów nerkozastępczych zgodnych z opisem w załączniku nr 2-50 poz 1 | C15: 1 miesiąc | D15: 24
A16: 11 | B16: Dzierżawa 1 aparatu do zabiegów nerkozastępczych zgodnych z opisem w załączniku nr 2-50 poz 2 | C16: 1 miesiąc | D16: 24
A17: 12 | B17: Dzierżawa aparatu do dializy albuminowej | C17: 1 miesiąc | D17: 24
B18: Razem
A21: 1. Wykonawca powinien podać wszystkie akcesoria, płyny, odczynniki i inne niewymienione materiały niezbędne do wykonania podanej ilości zabiegów oraz dokonać ich wyceny.
A22: 2. Oferowane płyny powinny posiadać aktualne karty charakterystyk, które winny być dostarczone wraz z pierwszą dostawą.
A23: 3. Termin przydatności do użycia powinien być nie krótszy niż 6 miesięcy od daty dostawy.
A24: 4. Wielkość opakowania zbiorczego zamawianego jednorazowo nie może być większa niż zestaw dla ilości zabiegów w przeliczeniu wykonanych w ciągu trzech miesięcy.
A25: 5. Płyny i akcesoria powinny pochodzić od jednego producenta.
A26: 6. Zamawiający wymaga aby zaoferowane płyny, akcesoria i inne materiały zużywalne do zabiegu były wskazane w instrukcji producenta aparatu.
B30: …………….., dnia ………………… ……………………………………
B31: Podpis
B32: osoby upoważnionej

Sheet Zadanie nr 51
A3: Załącznik nr 9 | G3: ZOZ/DZP/PN/11/22
A5: Zadanie nr 51 -Leki okulistyczne
A6: Lp. | B6: Nazwa produktu | C6: Jednostka miary | D6: Ilość | E6: Cena jednostkowa[zł] netto | F6: Wartość [zł] netto | G6: VAT | H6: Cena jednostkowa [zł] brutto | I6: Wartość [zł] brutto | J6: Producent/Nazwa handlowa
A7: 1 | B7: Karbachol r-r do stosowania wewnątrzgałkowego 0,1mg/ml fiol | C7: Op=12 fiol | D7: 8
A8: 2 | B8: Tropicamidum 1% krople oczne | C8: op. =2x5ml | D8: 80
A9: 3 | B9: Phenylephrini hydrochloridum 10% krople do oczu | C9: op-=10ml | D9: 30
A10: 4 | B10: Proxymetacaini hydrochloridum 0,5% krople do oczu | C10: op=15ml | D10: 30
A11: 5 | B11: Atropinum 1% krople do oczu | C11: op= 5ml | D11: 20
A12: 6 | B12: Tymololi 0,5% krople do oczu | C12: op= 5ml | D12: 25
A13: 7 | B13: Ofloxacinum 3mg/ml x 5ml krople do oczu | C13: op= 5ml | D13: 150
A14: 8 | B14: Ofloxacinum 3mg/g maść oczna | C14: porcja po 3g | D14: 50
A15: 9 | B15: Dexamethazonum + gentamycinum 5+0,3mg/g maść do oczu | C15: op= 3g | D15: 130
A16: 10 | B16: Dexamethazonum + gentamycinum krople do oczu | C16: op=5ml | D16: 30
A17: 11 | B17: Acetazolamidum 250mg | C17: Op= 30 tabl | D17: 27
A18: 12 | B18: Natrium chloratum 5% krople do oczu 0,5ml | C18: op=20x 0,5ml | D18: 20
... A20: 14 | B20: Brimonidini tartras krople do oczu | C20: op=5ml | D20: 18
B21: Suma
B25: …………….., dnia ………………… ……………………………………
B26: Podpis
B27: osoby upoważnionej

Sheet Zadanie nr 52
A1: Załącznik nr 9 | G1: ZOZ/DZP/PN/11/22
A4: Zadanie nr 52 - Butelki do receptury
A5: Lp. | B5: Nazwa produktu | C5: Jednostka miary | D5: Ilość | E5: Cena jednostkowa[zł] netto | F5: Wartość [zł] netto | G5: VAT | H5: Cena jednostkowa [zł] brutto | I5: Wartość [zł] brutto | J5: Producent/Model
A6: 1 | B6: Butelka 10 ml z kroplomierzem sterylna | C6: szt. | D6: 200
A7: 2 | B7: Butelka 20 ml z korkiem sterylna | C7: szt. | D7: 200
A8: 3 | B8: Butelka 125 ml z korkiem sterylna | C8: szt. | D8: 150
A9: 4 | B9: Butelka szklana 200-250 ml z korkiem sterylna | C9: szt. | D9: 50
A10: 5 | B10: Etykiety „Trucizna” 100szt | C10: szt. | D10: 5
A11: 6 | B11: Etykieta „zmieszać przed użyciem” 100szt. | C11: szt. | D11: 5
A12: 7 | B12: Etykiety na krople oczne pomarańczowe samoprzylepne 100szt | C12: szt. | D12: 10
A13: 8 | B13: Etykiety pomarańczowe samoprzylepne 100szt. | C13: szt. | D13: 20
A14: 9 | B14: Podkładki pergaminowe śr. 100 mm x 500 szt. | C14: szt. | D14: 4
A15: 10 | B15: Pudełko na maść zakręcane | C15: porcja po 1szt z gwintem o poj 100ml lub 85g | D15: 1100
B16: Razem
B19: Data | H19: Podpis osoby/osób upoważnionej
B20: ……………………………………………. | H20: …………………… | I20: ……………………………….

Sheet Zadanie nr 53
A1: Załącznik nr 9 | G1: ZOZ/DZP/PN/11/22
A4: Zadanie nr – 53 Smoczki i butelki
A5: Lp. | B5: Nazwa produktu | C5: Jednostka miary | D5: Ilość | E5: Cena jednostkowa[zł] netto | F5: Wartość [zł] netto | G5: VAT | H5: Cena jednostkowa [zł] brutto | I5: Wartość [zł] brutto | J5: Producent/Model
A6: 1 | B6: Smoczek z elastomeru dla niemowląt 0-3 miesiące do butelek typu bebiko RTF 1 płyn, sterylne, pakowane pojedyńczo. | C6: op=48szt | D6: 188
A7: 2 | B7: Smoczek z elastomeru dla wcześniaków do butelek typu bebiko RTF 1 płyn, sterylne, pakowane pojedyńczo. | C7: op=48szt | D7: 10
A8: 3 | B8: Smoczek stosowany przy rozszczepie podniebienia. | C8: 1 szt. | D8: 50
A9: 4 | B9: Butelka jednorazowa gotowa do użytku dla niemowląt z nakrętką. | C9: 1 szt. po 50ml lub 80ml | D9: 650
A10: 5 | B10: Butelka jednorazowa gotowa do użytku dla niemowląt z nakrętką. | C10: Op=78 szt. po 230-250ml | D10: 12
A11: 6 | B11: Gruszka z miękkim końcem nr 2 | C11: 1szt. | D11: 30
B12: Razem
B15: Data | H15: Podpis osoby/osób upoważnionej
B16: ……………………………………………. | H16: ………………….. | I16: ……………………………….

Sheet Zadanie nr 54
A1: Załącznik nr 9 | G1: ZOZ/DZP/PN/11/22
A3: Zadanie 54 Układ oddechowy SOR
A4: Lp. | B4: Nazwa produktu | C4: Jednostka miary | D4: Ilość | E4: Cena jednostkowa[zł] netto | F4: Wartość [zł] netto | G4: VAT | H4: Cena jednostkowa [zł] brutto | I4: Wartość [zł] brutto | J4: Producent/Model
A5: 1 | B5: Obwód oddechowy jednorazowy z wewnętrzną linią monitorowania ciśnienia i zastawką pacjenta do modelu P310NPL. | C5: Op=10 szt | D5: 6
B9: Data | G9: Podpis osoby/osób upoważnionej
B10: ……………………………………………. | G10: ……………………………….

Sheet zadanie nr 59
A1: Załącznik nr 9 | G1: ZOZ/DZP/PN/11/22
B2: Załącznik Nr: 9
A3: Zadanie nr: 59 - Strzykawki do gazometrii.
A4: Lp. | B4: Nazwa produktu | C4: Jednostka miary | D4: Ilość | E4: Cena jednostkowa[zł] netto | F4: Wartość [zł] netto | G4: VAT | H4: Cena jednostkowa [zł] brutto | I4: Wartość [zł] brutto | J4: Producent/Model/Nr katalogowy
A5: 1 | B5: Strzykawka sterylna, do pobierania krwi tętniczej, żylnej i innych mateiałów, metodą aspiracji w ilości do 1,7ml, heparynizowana suchą, wysokoskoncentrowaną heparyną litową, elektrolitowo zbilansowaną jonami wapnia, sodu, oraz potasu, z systemem bezkontaktowego usuwania pęcherzyk powietrza ze strzykawki i bezkontaktowego podawania materiału do analizatora , z wewnętrznym urządzeniem wspomagającym mieszanie próbki, zakończenie luer, | C5: szt. | D5: 10000
A6: 2 | B6: Strzykawka do gazometrii napylona heparyną zbalansowana (zredukowaną) wapniem 2-3 ml | C6: szt. | D6: 6500
B7: Razem
B10: Data | G10: Podpis osoby/osób upoważnionej
B11: ……………………………………………. | G11: ……………………………….

Sheet zadanie 85
A1: Załącznik nr 9 | G1: ZOZ/DZP/PN/11/22
B2: Załącznik Nr: 9
A3: Zadanie nr: 85 - Opaska 2
A4: Lp. | B4: Nazwa produktu | C4: Jednostka miary | D4: Ilość | E4: Cena jednostkowa netto | F4: Wartość netto | G4: VAT | H4: Cena jednostkowa brutto | I4: Wartość brutto | J4: Producent/Model/Nr katalogowy
A5: 1 | B5: Opaska uciskowa jednorazowego użytku kolor jasnozielony ( seledynowy ) szerokość 10 cm dł.10m | C5: szt. | D5: 20
B6: RAZEM
B9: Data | H9: Podpis osoby/osób upoważnionej
B10: ……………………………………………. | H10: ……………………………….

Sheet zadanie 88
A2: Załącznik nr 9 | G2: ZOZ/DZP/PN/11/22
B3: Załącznik Nr: 9
A4: Zadanie nr: 88 – Gąbka do FESS-u
A5: Lp. | B5: Nazwa produktu | C5: Jednostka miary | D5: Ilość | E5: Cena jednostkowa netto | F5: Wartość netto | G5: VAT | H5: Cena jednostkowa brutto | I5: Wartość brutto | J5: Producent/Model/Nr katalogowy
A6: 1 | B6: Biodegradowalny syntetyczny opatrunek 4cm x 8cm, do zabiegów chirurgii endoskopowej zatok przynosowych(FESS), czas wchłaniania 7-10 dni | C6: op=8szt | D6: 28
B9: Data | H9: Podpis osoby/osób upoważnionej
B10: ……………………………………………. | I10: ……………………………….

Sheet zadanie 96
A1: Załącznik nr 9 | G1: ZOZ/DZP/PN/11/22
B2: Załącznik Nr: 9
B4: Zadanie nr: 96 - Karty chipowe do monitora hemodynamicznego Lidco Rapid
A5: Lp. | B5: Nazwa produktu | C5: Jednostka miary | D5: ilość | E5: Cena jednostkowa[zł] netto | F5: Wartość [zł] netto | G5: VAT | H5: Cena jednostkowa [zł] brutto | I5: Wartość [zł] brutto | J5: Producent/Model/Nr katalogowy
A6: 1 | B6: Karty chipowe mikroprocesorowe (zgodne z ISO 7816-1) identyfikacji pacjenta do zapisu danych demograficznych- do monitora hemodynamicznego Lidco Rapid | C6: szt. | D6: 75
B7: Razem
B10: Data | G10: Podpis osoby/osób upoważnionej
B11: ……………………………………………. | G11: ……………………………….

Sheet zadanie 97
A2: Załącznik nr 9 | G2: ZOZ/DZP/PN/11/22
A3: Zadanie nr 97: Akcesoria do kardiomonitora BleaseSirius firmy Spacelabs Medical USA
A4: Lp. | B4: Nazwa produktu | C4: Jednostka | D4: Ilość | E4: Cena jednostkowa netto | F4: Wartość Netto | G4: VAT | H4: Cena jednostkowa brutto | I4: Wartość brutto | J4: Producent/Model/Nr katalogowy
A5: 1 | B5: Przewód EKG 3- odprowadzeniowy | C5: szt. | D5: 5
A6: 2 | B6: Odprowadzenia do kabla 3-odprowadzeniowego | C6: szt. | D6: 5
A7: 3 | B7: Mankiet do pomiaru Ciśnienia 23-33 cm | C7: szt. | D7: 5
A8: 4 | B8: Mankiet do pomiaru ciśnienia 31-40 cm | C8: szt. | D8: 5
A9: 5 | B9: Rurka łącząca mankiet z kardiomonitorem | C9: szt. | D9: 5
A10: 6 | B10: Czujnik saturacji dla dorosłych | C10: szt. | D10: 5
A11: 7 | B11: Przedłużacz do czujnika saturacji | C11: szt. | D11: 5
A12: 8 | B12: Sonda temperatury naskórnej | C12: szt. | D12: 5
A13: 9 | B13: Pułapka wodna do analizatora gazowego | C13: Op=10 szt. | D13: 5
A14: 10 | B14: Linia próbkowania do analizatora gazowego | C14: Op=50 szt | D14: 5
A15: 11 | B15: Czujnik przepływu | C15: szt. | D15: 5
A16: 12 | B16: Rurka łącząca czujnik przpływu z aparatem 1,5 m | C16: szt. | D16: 5
A17: 13 | B17: Rurka łącząca przepływu z aparatem 2 m | C17: szt. | D17: 5
B18: RAZEM
B19: Wszystkie pozycje kompatybilne z kardiomonitorem kardiomonitora BleaseSirius firmy Spacelabs Medical USA
B21: Data | H21: Podpis osoby/osób upoważnionej
B22: ……………………………………………. | H22: ……………………………….

Sheet zadanie 115
A1: Załącznik nr 9 | G1: ZOZ/DZP/PN/11/22
B2: Załącznik Nr: 9
A3: Zadanie nr: 115 – Tracheotomia metodą Ciaglia dodatkowe
A4: Lp. | B4: Nazwa produktu | C4: Jednostka miary | D4: Ilość | E4: Cena jednostkowa[zł] netto | F4: Wartość [zł] netto | G4: VAT | H4: Cena jednostkowa [zł] brutto | I4: Wartość [zł] brutto | J4: Producent/Model/Nr katalogowy
A5: 1 | B5: Zestaw do przezskórnej tracheostomii metodą Ciaglia (do wprowadzenia metoda Seldingera) w skład którego wchodzą:• Jednostopniowe rozszerzadło o kształcie rogu nosorożca z powłoką hydrofilną i wstępnie założonym cewnikiem prowadzącym• Prowadnik ze znacznikami pozycjonującymi o średnicy 0,052 inch (1,32 mm).• Rozszerzacze ładujące do rurki Tracheostomijnej: 7,5mm,8,5mm,9mm lub 6,5mm, 7,0mm,7,5mm, 8mm lub 8,5mm, 9mm, 10mm Do wyboru przy zakupie. • 2x Igła wprowadzajaca (z koszulka i bez) 7 cm, rozmiar 15 G• Krótkie Rozszerzadlo o rozmiarze 14,0 Fr; 6,5 cm• Skalpel jednorazowego użytku nr 15• Strzykawka Monoject 6ml• Czerwony pojemnik na zużyte igły• Żel poślizgowy, 4 gąbki z gazy, zakrzywione kleszczyki hemostatyczne | C5: 1kpl | D5: 50
B6: RAZEM
B9: Data | G9: Podpis osoby/osób upoważnionej
B10: ……………………………………………. | G10: ……………………………….

Sheet zadanie 129
A2: Załącznik nr 9 | G2: ZOZ/DZP/PN/11/22
A3: Zadanie nr 129 - Odczynniki i testy, probówki
A4: Lp. | B4: Nazwa produktu | C4: Jednostka miary | D4: Ilość | E4: Cena jednostkowa netto | F4: Wartość netto | G4: VAT | H4: Cena jednostkowa brutto | I4: Wartość brutto | J4: Producent/Nazwa handlowa/Numer katalogowy
A5: 1 | B5: Cytofix - utrwalacz cytologiczny | C5: szt. | D5: 24
A6: 2 | B6: Test Shimera ( paski ) x 100 szt. | C6: op=100 szt. | D6: 10
A7: 3 | B7: Szkiełka podstawowe z miejscem na opis typu super forst | C7: op=50szt. | D7: 50
A8: 4 | B8: Paski fluoresceinowe | C8: op. 100szt | D8: 15
B9: RAZEM
B11: Data | H11: Podpis osoby/osób upoważnionej
B12: ……………………………………………. | H12: ………………….. | I12: ……………………………….

Sheet zadanie 132
B1: Załacznik nr 9
A2: Załącznik nr 9 | G2: ZOZ/DZP/PN/11/22
A3: Zadanie nr 132 - Parawany na kółkach
A4: Lp. | B4: Nazwa produktu | C4: Jednostka miary | D4: Ilość | E4: Cena jednostkowa [zł] netto | F4: Wartość [zł] netto | G4: VAT | H4: Cena jednostkowa [zł] brutto | I4: Wartość [zł] brutto | J4: Producent/Nazwa handlowa/Numer katalogowy
A5: 1 | B5: Parawan ścienny teleskopowy: długość ramienia min.1200mm max2000mm, zasłona: 1800x2000mm w kolorze: biały niebieski zielony do wyboru przy zakupie. | C5: szt | D5: 2
A6: 2 | B6: Parawan stojący 1-skrzydłowy 1900mm x 1900mm, stelaż malowany proszkowo w kolorze białym, podstawa 2 kółka i nóżka, kolor zasłony: niebieski. | C6: szt | D6: 3
B7: RAZEM
B11: Data | G11: Podpis osoby/osób upoważnionej
B12: ……………………………………………. | G12: ……………………………….

Sheet zadanie 133
B1: Załacznik nr 9
A2: Załącznik nr 9 | G2: ZOZ/DZP/PN/11/22
A3: Zadanie nr 133 - Akcesoria rehabilitacyjne
A4: Lp. | B4: Nazwa produktu | C4: Jednostka miary | D4: Ilość | E4: Cena jednostkowa [zł] netto | F4: Wartość [zł] netto | G4: VAT | H4: Cena jednostkowa [zł] brutto | I4: Wartość [zł] brutto | J4: Producent/Nazwa handlowa/Numer katalogowy
A5: 1 | B5: Gumy do ćwiczeń oporowych, wymienne, do urządzenia Pragma, z końcówkami do zamontowania, długość 85cm (+/-5cm) kolory: szara 8szt., czarna 8szt., zielona 8szt., | C5: szt | D5: 24
A6: 2 | B6: Podwieszka dwustawowa z pokryciem skórzanym | C6: szt | D6: 16
B7: RAZEM
B11: Data | G11: Podpis osoby/osób upoważnionej
B12: ……………………………………………. | G12: ……………………………….

Sheet zadanie 134
B1: Załacznik nr 9
A2: Załącznik nr 9 | G2: ZOZ/DZP/PN/11/22
B3: Zadanie nr 134 – Osłonki na zęby
A4: Lp. | B4: Nazwa produktu | C4: Jednostka miary | D4: Ilość | E4: Cena jednostkowa[zł] netto | F4: Wartość [zł] netto | G4: VAT | H4: Cena jednostkowa [zł] brutto | I4: Wartość [zł] brutto | J4: Producent/Nazwa handlowa/Numer katalogowy
A5: 1 | B5: Silikonowe lub innego miękkiego tworzywa nakładki na zęby dla dorosłych, sterylne lub mikrobiologicznie czyste | C5: szt | D5: 300
B6: RAZEM
B11: Data | G11: Podpis osoby/osób upoważnionej
B12: ……………………………………………. | G12: ……………………………….

Sheet zadanie 142
A1: Załącznik nr 9 | G1: ZOZ/DZP/PN/11/22
A2: Zadanie nr:142 Laktator elektryczny z akcesoriami.
A3: Lp. | B3: Nazwa produktu | C3: Jednostka miary | D3: Ilość | E3: Cena jednostkowa netto | F3: Wartość netto | G3: VAT | H3: Cena jednostkowa brutto | I3: Wartość brutto | J3: Producent/Nazwa handlowa
A4: 1 | B4: Laktator elektryczny: wyrób medyczny z 4 poziomem bezpieczeństwa higienicznego (mechaniczna separacja mediów pomiędzy akcesoriami wchodzącymi w kontakt z pokarmem, drenem), 8 stopni regulacji rytmu pracy i siły ssania, waga max 0,5kg, możliwość zastosowania laktatora w trybie 72 godzinnym, możliwość demontażu, mysia i dezynfekcji termicznej wszystkich akcesoriów wchodzących pośrednio lub bezpośrednio w kontakt z odciąganym pokarmem, wyświetlacz, długość kabla zasilającego min 2 m lub zasilanie bateryjne. | C4: szt. | D4: 3
A5: 2 | B5: Zestaw osobisty do laktatora, sterylny, do użytku do 72 godzin, z pełną separacją mediów z 4 stopniem bezpieczeństwa higienicznego dostępny z 3 średnicami lejków 26,31,36mm do wyboru przy zakupie | C5: szt. | D5: 360
A6: 3 | B6: Butelka do przechowywania pokarmu 80ml kompatybilna z zestawem z poz. 2, RTU , gotowa do użycia | C6: szt. | D6: 350
A7: 4 | B7: Butelka do przechowywania pokarmu 80ml kompatybilna z zestawem z poz. 2, sterylna. | C7: szt. | D7: 100
B8: Razem
B10: Data | G10: Podpis osoby/osób upoważnionej
B11: ……………………………………………. | G11: ……………………………….

Sheet zadanie 154
A1: Załącznik nr 9 | G1: ZOZ/DZP/PN/11/22
A2: Zadanie nr 154 Kable do elektrod BTL 5000
A3: Lp. | B3: Nazwa produktu | C3: Jednostka miary | D3: Ilość | E3: Cena jednostkowa[zł] netto | F3: Wartość [zł] netto | G3: VAT | H3: Cena jednostkowa [zł] brutto | I3: Wartość [zł] brutto | J3: Producent/Model/Nr katalogowy
A4: 1 | B4: Kable do eletrod do urządzenia BTL5000 | C4: kpl | D4: 8
B5: RAZEM
B8: ………………………………………………….. | F8: ……………………………………………
B9: Data | F9: Podpis osoby/osób uprawnionej

Sheet podsumowanie
C7: L.p. | D7: Przedmiot zamówienia | E7: wartość netto | F7: wartość brutto | G7: netto euro | H7: euro brutto
C8: 1 | D8: Zadanie nr 1 - Leki różne | E8: ='Zadanie nr 1'!F600 -> 0 | F8: ='Zadanie nr 1'!I600 -> 0 | G8: =E8/$J$8 -> 0 | H8: =F8/$J$8 -> 0 | J8: 4.4536
C9: 2 | D9: Zadanie nr 2 - Płyny infuzyjne pojemnikach stojących | E9: ='Zadanie nr 2'!F23 -> 0 | F9: ='Zadanie nr 2'!I23 -> 0 | G9: =E9/$J$8 -> 0 | H9: =F9/$J$8 -> 0
C10: 3 | D10: Zadanie nr 3 - Płyny infuzyjne | E10: ='Zadanie nr 3'!F36 -> 0 | F10: ='Zadanie nr 3'!I36 -> 0 | G10: =E10/$J$8 -> 0 | H10: =F10/$J$8 -> 0
C11: 4 | D11: Zadanie nr 4 - Enoxaparinum | E11: ='Zadanie nr 4'!F14 -> 0 | F11: ='Zadanie nr 4'!I14 -> 0 | G11: =E11/$J$8 -> 0 | H11: =F11/$J$8 -> 0
C12: 5 | D12: Zadanie nr 5 - Nadroparinum | E12: ='Zadanie nr 5'!F10 -> 0 | F12: ='Zadanie nr 5'!I10 -> 0 | G12: =E12/$J$8 -> 0 | H12: =F12/$J$8 -> 0
C13: 6 | D13: Zadanie nr 6 - Leki różne 2 | E13: ='Zadanie nr 6'!F25 -> 0 | F13: ='Zadanie nr 6'!I25 -> 0 | G13: =E13/$J$8 -> 0 | H13: =F13/$J$8 -> 0
C14: 7 | D14: Zadanie nr 7 - Albuminy | E14: ='Zadanie nr 7'!F8 -> 0 | F14: ='Zadanie nr 7'!I8 -> 0 | G14: =E14/$J$8 -> 0 | H14: =F14/$J$8 -> 0
C15: 8 | D15: Zadanie nr 8 - Leki różne 14 | E15: ='Zadanie nr 8'!F22 -> 0 | F15: ='Zadanie nr 8'!I22 -> 0 | G15: =E15/$J$8 -> 0 | H15: =F15/$J$8 -> 0
C16: 9 | D16: Zadanie nr 9 - Leki anestezjologiczne | E16: ='Zadanie nr 9'!F17 -> 0 | F16: ='Zadanie nr 9'!I17 -> 0 | G16: =E16/$J$8 -> 0 | H16: =F16/$J$8 -> 0
C17: 10 | D17: Zadanie nr 10 - Sevofluran | E17: ='Zadanie nr 10'!F7 -> 0 | F17: ='Zadanie nr 10'!I7 -> 0 | G17: =E17/$J$8 -> 0 | H17: =F17/$J$8 -> 0
C18: 11 | D18: Zadanie nr 11 - Mleko + preparaty dietetyczne | E18: ='Zadanie nr 11'!F43 -> 0 | F18: ='Zadanie nr 11'!I43 -> 0 | G18: =E18/$J$8 -> 0 | H18: =F18/$J$8 -> 0
C19: 12 | D19: Zadanie nr 12 – Leki ZOL | E19: ='Zadanie nr 12'!F54 -> 0 | F19: ='Zadanie nr 12'!I54 -> 0 | G19: =E19/$J$8 -> 0 | H19: =F19/$J$8 -> 0
C20: 13 | D20: Zadanie nr 13 – Amoxycylina z inhibitorem | E20: ='Zadanie nr 13'!F11 -> 0 | F20: ='Zadanie nr 13'!I11 -> 0 | G20: =E20/$J$8 -> 0 | H20: =F20/$J$8 -> 0
C21: 14 | D21: Zadanie Nr 14 - Heparinum | E21: ='Zadanie nr 14'!F8 -> 0 | F21: ='Zadanie nr 14'!I8 -> 0 | G21: =E21/$J$8 -> 0 | H21: =F21/$J$8 -> 0
C22: 15 | D22: Zadanie Nr 15 - Omeprazol | E22: ='Zadanie nr 15'!F7 -> 0 | F22: ='Zadanie nr 15'!I7 -> 0 | G22: =E22/$J$8 -> 0 | H22: =F22/$J$8 -> 0
C23: 16 | D23: Zadanie nr 16 - Antybiotyki różne | E23: ='Zadanie nr 16'!F91 -> 0 | F23: ='Zadanie nr 16'!I91 -> 0 | G23: =E23/$J$8 -> 0 | H23: =F23/$J$8 -> 0
C24: 17 | D24: Zadanie nr 17 – Antybiotyki 5 | E24: ='Zadanie nr 17'!F18 -> 0 | F24: ='Zadanie nr 17'!I18 -> 0 | G24: =E24/$J$8 -> 0 | H24: =F24/$J$8 -> 0
C25: 18 | D25: Zadanie nr 18 - Żel do cewnikowania | E25: ='Zadanie nr 18'!F8 -> 0 | F25: ='Zadanie nr 18'!I8 -> 0 | G25: =E25/$J$8 -> 0 | H25: =F25/$J$8 -> 0
C26: 19 | D26: Zadanie nr 19 - Dalteparinum | E26: ='Zadanie nr 19'!F8 -> 0 | F26: ='Zadanie nr 19'!I8 -> 0 | G26: =E26/$J$8 -> 0 | H26: =F26/$J$8 -> 0
C27: 20 | D27: Zadanie nr 20 - Preparaty do żywienia pozajelitowego | E27: ='Zadanie nr 20'!F22 -> 0 | F27: ='Zadanie nr 20'!I22 -> 0 | G27: =E27/$J$8 -> 0 | H27: =F27/$J$8 -> 0
C28: 21 | D28: Zadanie nr 21 - Preparaty do żywienia dojelitowego | E28: ='Zadanie nr 21'!F52 -> 0 | F28: ='Zadanie nr 21'!I52 -> 0 | G28: =E28/$J$8 -> 0 | H28: =F28/$J$8 -> 0
C29: 22 | D29: Zadanie nr 22 - Immunoglobuliny anty D | E29: ='Zadanie nr 22'!F7 -> 0 | F29: ='Zadanie nr 22'!I7 -> 0 | G29: =E29/$J$8 -> 0 | H29: =F29/$J$8 -> 0
C30: 23 | D30: Zadanie nr 23 Fidaxomycinum | E30: ='Zadanie nr 23'!F7 -> 0 | F30: ='Zadanie nr 23'!I7 -> 0 | G30: =E30/$J$8 -> 0 | H30: =F30/$J$8 -> 0
C31: 24 | D31: Zadanie nr 24 - Żywienie pozajelitowe 2 | E31: ='Zadanie nr 24'!F22 -> 0 | F31: ='Zadanie nr 24'!I22 -> 0 | G31: =E31/$J$8 -> 0 | H31: =F31/$J$8 -> 0
C32: 25 | D32: Zadanie nr 25 - Leki OAIiT | E32: ='Zadanie nr 25'!F67 -> 0 | F32: ='Zadanie nr 25'!I67 -> 0 | G32: =E32/$J$8 -> 0 | H32: =F32/$J$8 -> 0
C33: 26 | D33: Zadanie nr 26 – Terapia nerkozastępcza do aparatu OMNI | E33: ='Zadanie nr 26.'!F11 -> 0 | F33: ='Zadanie nr 26.'!I11 -> 0 | G33: =E33/$J$8 -> 0 | H33: =F33/$J$8 -> 0
C34: 27 | D34: Zadanie nr 27 - Propofolum | E34: ='Zadanie nr 27'!F10 -> 0 | F34: ='Zadanie nr 27'!I10 -> 0 | G34: =E34/$J$8 -> 0 | H34: =F34/$J$8 -> 0
C35: 28 | D35: Zadanie nr 28 - Leki Hospicjum | E35: ='Zadanie nr 28'!F83 -> 0 | F35: ='Zadanie nr 28'!I83 -> 0 | G35: =E35/$J$8 -> 0 | H35: =F35/$J$8 -> 0
C36: 29 | D36: Zadanie nr 29 - Leki przeciwbólowe | E36: ='zadanie nr 29'!F96 -> 0 | F36: ='zadanie nr 29'!I96 -> 0 | G36: =E36/$J$8 -> 0 | H36: =F36/$J$8 -> 0
C37: 30 | D37: Zadanie nr 30 -Leki okulistyczne 2 | E37: ='Zadanie nr 30'!F9 -> 0 | F37: ='Zadanie nr 30'!I9 -> 0 | G37: =E37/$J$8 -> 0 | H37: =F37/$J$8 -> 0
C38: 31 | D38: Zadanie nr 31 - Kontrasty jodowe | E38: ='Zadanie nr 31'!F20 -> 0 | F38: ='Zadanie nr 31'!I20 -> 0 | G38: =E38/$J$8 -> 0 | H38: =F38/$J$8 -> 0
C39: 32 | D39: Zadanie nr 32 - Acidum ibandronicum | E39: ='Zadanie nr 32'!F7 -> 0 | F39: ='Zadanie nr 32'!I7 -> 0 | G39: =E39/$J$8 -> 0 | H39: =F39/$J$8 -> 0
C40: 33 | D40: Zadanie nr 33 - Imigluceraza i eliglustat | E40: ='Zadanie nr 33'!F8 -> 0 | F40: ='Zadanie nr 33'!I8 -> 0 | G40: =E40/$J$8 -> 0 | H40: =F40/$J$8 -> 0
C41: 34 | D41: Zadanie nr: 34- Ferrum | E41: ='Zadanie nr 34'!F7 -> 0 | F41: ='Zadanie nr 34'!I7 -> 0 | G41: =E41/$J$8 -> 0 | H41: =F41/$J$8 -> 0
C42: 35 | D42: Zadanie nr 35 - Glikokotykosteroidy | E42: ='Zadanie nr 35'!F12 -> 0 | F42: ='Zadanie nr 35'!I12 -> 0 | G42: =E42/$J$8 -> 0 | H42: =F42/$J$8 -> 0
C43: 36 | D43: Zadanie nr: 36 - Desfluran | E43: ='Zadanie nr 36'!F7 -> 0 | F43: ='Zadanie nr 36'!I7 -> 0 | G43: =E43/$J$8 -> 0 | H43: =F43/$J$8 -> 0
C44: 37 | D44: Zadanie nr: 37 – Metamizolum | E44: ='Zadanie nr 37'!F11 -> 0 | F44: ='Zadanie nr 37'!I11 -> 0 | G44: =E44/$J$8 -> 0 | H44: =F44/$J$8 -> 0
C45: 38 | D45: Zadanie nr 39 - Długo i krótko działające analogi insuliny i barbituran | E45: ='Zadanie nr 39'!F10 -> 0 | F45: ='Zadanie nr 39'!I10 -> 0 | G45: =E45/$J$8 -> 0 | H45: =F45/$J$8 -> 0
C46: 39 | D46: Zadanie nr 40 – Preaparat RTU | E46: ='Zadanie nr 40'!F16 -> 0 | F46: ='Zadanie nr 40'!I16 -> 0 | G46: =E46/$J$8 -> 0 | H46: =F46/$J$8 -> 0
C47: 40 | D47: Zadanie nr 41 - Antybiotyki | E47: ='Zadanie nr 41'!F10 -> 0 | F47: ='Zadanie nr 41'!I10 -> 0 | G47: =E47/$J$8 -> 0 | H47: =F47/$J$8 -> 0
C48: 41 | D48: Zadanie nr 43 - Witamina K1 | E48: ='Zadanie nr 43'!F7 -> 0 | F48: ='Zadanie nr 43'!I7 -> 0 | G48: =E48/$J$8 -> 0 | H48: =F48/$J$8 -> 0
C49: 42 | D49: Zadania nr 44 - Imipenem, piperacillinum | E49: ='Zadanie nr 44'!F10 -> 0 | F49: ='Zadanie nr 44'!I10 -> 0 | G49: =E49/$J$8 -> 0 | H49: =F49/$J$8 -> 0
C50: 43 | D50: Zadanie nr 45 - Insuliny i analogi | E50: ='Zadanie nr 45'!F23 -> 0 | F50: ='Zadanie nr 45'!I23 -> 0 | G50: =E50/$J$8 -> 0 | H50: =F50/$J$8 -> 0
C51: 44 | D51: Zadanie nr 46 - Budesonidum | E51: ='Zadanie nr 46'!F9 -> 0 | F51: ='Zadanie nr 46'!I9 -> 0 | G51: =E51/$J$8 -> 0 | H51: =F51/$J$8 -> 0
C52: 45 | D52: Zadanie nr 48 - Preparaty przeczyszczające | E52: ='Zadanie nr 48'!F11 -> 0 | F52: ='Zadanie nr 48'!I11 -> 0 | G52: =E52/$J$8 -> 0 | H52: =F52/$J$8 -> 0
C53: 46 | D53: Zadanie nr 49 Immunoglobuliny. | E53: ='Zadanie nr 49'!F9 -> 0 | F53: ='Zadanie nr 49'!I9 -> 0 | G53: =E53/$J$8 -> 0 | H53: =F53/$J$8 -> 0
C54: 47 | D54: Zadanie nr 50 - Dostawa płynów i akcesoriów wraz z dzierżawą aparatu do ciągłych zabiegów nerkozastępczych i plazmaforezy | E54: ='Zadanie nr 50.'!F18 -> 0 | F54: ='Zadanie nr 50.'!I18 -> 0 | G54: =E54/$J$8 -> 0 | H54: =F54/$J$8 -> 0
C55: 48 | D55: Zadanie nr 51 -Leki okulistyczne | E55: ='Zadanie nr 51'!F21 -> 0 | F55: ='Zadanie nr 51'!I21 -> 0 | G55: =E55/$J$8 -> 0 | H55: =F55/$J$8 -> 0
C56: 49 | D56: Zadanie nr 52 - Butelki do receptury | E56: ='Zadanie nr 52'!F16 -> 0 | F56: ='Zadanie nr 52'!I16 -> 0 | G56: =E56/$J$8 -> 0 | H56: =F56/$J$8 -> 0
C57: 50 | D57: Zadanie nr – 53 Smoczki i butelki | E57: ='Zadanie nr 53'!F12 -> 0 | F57: ='Zadanie nr 53'!I12 -> 0 | G57: =E57/$J$8 -> 0 | H57: =F57/$J$8 -> 0
C58: 51 | D58: Zadanie 54 Układ oddechowy SOR | E58: ='Zadanie nr 54'!F6 -> 0 | F58: ='Zadanie nr 54'!I6 -> 0 | G58: =E58/$J$8 -> 0 | H58: =F58/$J$8 -> 0
C59: 52 | D59: Zadanie nr: 59 - Strzykawki do gazometrii. | E59: ='zadanie nr 59'!F7 -> 0 | F59: ='zadanie nr 59'!I7 -> 0 | G59: =E59/$J$8 -> 0 | H59: =F59/$J$8 -> 0
C60: 53 | D60: Zadanie nr: 85 - Opaska 2 | E60: ='zadanie 85'!F6 -> 0 | F60: ='zadanie 85'!I6 -> 0 | G60: =E60/$J$8 -> 0 | H60: =F60/$J$8 -> 0
C61: 54 | D61: Zadanie nr: 88 – Gąbka do FESS-u | E61: ='zadanie 88'!F7 -> 0 | F61: ='zadanie 88'!I7 -> 0 | G61: =E61/$J$8 -> 0 | H61: =F61/$J$8 -> 0
C62: 55 | D62: Zadanie nr: 96 - Karty chipowe do monitora hemodynamicznego Lidco Rapid | E62: ='zadanie 96'!F7 -> 0 | F62: ='zadanie 96'!I7 -> 0 | G62: =E62/$J$8 -> 0 | H62: =F62/$J$8 -> 0
C63: 56 | D63: Zadanie nr 97: Akcesoria do kardiomonitora BleaseSirius firmy Spacelabs Medical USA | E63: ='zadanie 97'!F18 -> 0 | F63: ='zadanie 97'!I18 -> 0 | G63: =E63/$J$8 -> 0 | H63: =F63/$J$8 -> 0
C64: 57 | D64: Zadanie nr: 115 – Tracheotomia metodą Ciaglia dodatkowe | E64: ='zadanie 115'!F6 -> 0 | F64: ='zadanie 115'!I6 -> 0 | G64: =E64/$J$8 -> 0 | H64: =F64/$J$8 -> 0
C65: 58 | D65: Zadanie nr 129 - Odczynniki i testy, probówki | E65: ='zadanie 129'!F9 -> 0 | F65: ='zadanie 129'!I9 -> 0 | G65: =E65/$J$8 -> 0 | H65: =F65/$J$8 -> 0
C66: 59 | D66: Zadanie nr 132 - Parawany na kółkach | E66: ='zadanie 132'!F7 -> 0 | F66: ='zadanie 132'!I7 -> 0 | G66: =E66/$J$8 -> 0 | H66: =F66/$J$8 -> 0
C67: 60 | D67: Zadanie nr 133 - Akcesoria rehabilitacyjne | E67: ='zadanie 133'!F7 -> 0 | F67: ='zadanie 133'!I7 -> 0 | G67: =E67/$J$8 -> 0 | H67: =F67/$J$8 -> 0
C68: 61 | D68: Zadanie nr 134 osłonki na zęby | E68: ='zadanie 134'!F6 -> 0 | F68: ='zadanie 134'!I6 -> 0 | G68: =E68/$J$8 -> 0 | H68: =F68/$J$8 -> 0
C69: 62 | D69: Zadanie nr:142 Laktator elektryczny z akcesoriami. | E69: ='zadanie 142'!F8 -> 0 | F69: ='zadanie 142'!I8 -> 0 | G69: =E69/$J$8 -> 0 | H69: =F69/$J$8 -> 0
C70: 63 | D70: Zadanie nr 154 Kable do elektrod BTL 5000 | E70: ='zadanie 154'!F5 -> 0 | F70: ='zadanie 154'!I5 -> 0 | G70: =E70/$J$8 -> 0 | H70: =F70/$J$8 -> 0
E71: =SUM(E8:E70) -> 0 | F71: =SUM(F8:F70) -> 0 | G71: =E71/$J$8 -> 0 | H71: =F71/$J$8 -> 0
