Workbook
Name Excel_BuiltIn_Print_Area_14_1: #REF!
Name Excel_BuiltIn_Print_Area_16_1: #REF!
Name Excel_BuiltIn_Print_Area_17_1: #REF!
Name Excel_BuiltIn_Print_Area_18_1: #REF!
Name Excel_BuiltIn_Print_Area_19_1: #REF!
Name Excel_BuiltIn_Print_Area_2_1: #REF!
Name Excel_BuiltIn_Print_Area_22_1: #REF!
Name Excel_BuiltIn_Print_Area_22_1_1: #REF!
Name Excel_BuiltIn_Print_Area_24_1: #REF!
Name Excel_BuiltIn_Print_Area_3_1: #REF!
Name Excel_BuiltIn_Print_Area_3_1_1: #REF!
Name Excel_BuiltIn_Print_Area_3_1_1_1: #REF!
Name Excel_BuiltIn_Print_Area_4_1: #REF!
Name Excel_BuiltIn_Print_Area_5_1: 'Zadanie nr 5'!$A$4:$J$9
Name Excel_BuiltIn_Print_Area_6_1: #REF!
Name Excel_BuiltIn_Print_Area_7_1: #REF!
Name Excel_BuiltIn_Print_Titles_17: #REF!

Sheet Zadanie nr 5
A1: Załącznik nr 9 | G1: ZOZ/DZP/PN/21/22
A4: Zadanie nr 5 - Nadroparinum
A5: Lp. | B5: Nazwa produktu | C5: Jednostka miary | D5: Ilość | E5: Cena jednostkowa[zł] netto | F5: Wartość [zł] netto | G5: VAT | H5: Cena jednostkowa [zł] brutto | I5: Wartość [zł] brutto | J5: Producent/Nazwa handlowa
A6: 1 | B6: HDCz 2850 j.m antyXa | C6: szt. amp.strz 0,3 ml | D6: 3500
A7: 2 | B7: HDCz 3800 j.m antyXa | C7: szt. amp.strz 0,4 ml | D7: 11300
A8: 3 | B8: HDCz 5700 j.m antyXa | C8: szt. amp.strz 0,6 ml | D8: 4500
A9: 4 | B9: HDCz 7600 j.m antyXa | C9: szt. amp.strz 0,8 ml | D9: 1000
B10: RAZEM | F10: =SUM(F6:F9) -> 0 | I10: =SUM(I6:I9) -> 0
B18: ………………………………………………….. | F18: ……………………………………………
B19: Data | F19: Podpis osoby/osób uprawnionej

Sheet Zadanie nr 25
A1: Załącznik nr 9 | G1: ZOZ/DZP/PN/21/22
A3: Zadanie nr 25 – Leki OAIiT
A4: Lp. | B4: Nazwa produktu | C4: Jednostka miary | D4: Ilość | E4: Cena jednostkowa[zł] netto | F4: Wartość [zł] netto | G4: VAT | H4: Cena jednostkowa [zł] brutto | I4: Wartość [zł] brutto | J4: Producent/Nazwa handlowa
A5: 1 | B5: Anidulafungina proszek do sporządzania koncentratu roztworu do infuzji; 100 mg; 1 fiol. | C5: 1 fiol | D5: 3
A6: 2 | B6: Alteplaza, proszek i rozpuszczalnik do sporządzania roztworu do wlewu; 50 mg; 1 flak. + rozp. 50 ml | C6: Op=1 szt. | D6: 3
A7: 3 | B7: Aprepitant 125+80+80mg | C7: Op= 3 kaps | D7: 10
A8: 4 | B8: Argipressinum 40j.m. inj. | C8: op=5amp | D8: 60
A9: 5 | B9: Koncentrat do sporządzania roztworu do infuzji; 1 ml zawiera: 170,1 mg diwodorofosforanu potasowego, 133,5 mg diwodnego wodorofosforanu sodowego, 14 mg wodorotlenku potasu, co odpowiada 1,5 mmol (59 mg) jonów potasu, 1,5 mmol (34 mg) jonów sodu i 2 mmol (62 mg) fosforanów; 10 fiol. 20 ml | C9: op=10fiol. | D9: 50
A10: 6 | B10: Calcium chloratum inj 10 ml 95-100mg/ml zamiennie z Calcium gluconatum 95-100mg/ml | C10: op=10amp | D10: 1400
A11: 7 | B11: Caspofunginum 50mg inj. Poz 7-8 muszą pochodzć od hjednego producenta | C11: 1 szt. | D11: 150
A12: 8 | B12: Caspofunginum 70mg inj. Poz 7-8 muszą pochodzć od hjednego producenta | C12: 1 szt. | D12: 12
A13: 9 | B13: Clatribine 10mg/10ml fiol | C13: porcja po 1 fiol. | D13: 5
A14: 10 | B14: Cyclosporinum 50mg kaps | C14: porcja po 50kaps | D14: 6
A15: 11 | B15: Cytarabina 1g/20ml fiol | C15: porcja po 1 fiol | D15: 5
A16: 12 | B16: deksmedetomidyna 0,2mg/2ml | C16: porcja po 25 amp. | D16: 60
... A67: 63 | B67: Cyclopentolate 1% | C67: porcja po 5 ml | D67: 50
B68: RAZEM | F68: =SUM(F5:F67) -> 0 | I68: =SUM(I5:I67) -> 0
B69: Data | G69: Podpis osoby/osób upoważnionej
B70: ……………………………………………. | G70: ……………………………….

Sheet Zadanie nr 52
A1: Załącznik nr 9 | G1: ZOZ/DZP/PN/21/22
A4: Zadanie nr 52 - Butelki do receptury
A5: Lp. | B5: Nazwa produktu | C5: Jednostka miary | D5: Ilość | E5: Cena jednostkowa[zł] netto | F5: Wartość [zł] netto | G5: VAT | H5: Cena jednostkowa [zł] brutto | I5: Wartość [zł] brutto | J5: Producent/Model
A6: 1 | B6: Butelka 10 ml z kroplomierzem sterylna | C6: szt. | D6: 200
A7: 2 | B7: Butelka 20 ml z korkiem sterylna | C7: szt. | D7: 200
A8: 3 | B8: Butelka 125 ml z korkiem sterylna | C8: szt. | D8: 150
A9: 4 | B9: Butelka szklana 200-250 ml z korkiem sterylna | C9: szt. | D9: 50
A10: 5 | B10: Etykiety „Trucizna” 100szt | C10: szt. | D10: 5
A11: 6 | B11: Etykieta „zmieszać przed użyciem” 100szt. | C11: szt. | D11: 5
A12: 7 | B12: Etykiety na krople oczne pomarańczowe samoprzylepne 100szt | C12: szt. | D12: 10
A13: 8 | B13: Etykiety pomarańczowe samoprzylepne 100szt. | C13: szt. | D13: 20
A14: 9 | B14: Podkładki pergaminowe śr. 100 mm x 500 szt. | C14: szt. | D14: 4
A15: 10 | B15: Pudełko na maść zakręcane | C15: porcja po 1szt z gwintem o poj 100ml lub 85g | D15: 1100
B16: Razem | F16: =SUM(F6:F15) -> 0 | I16: =SUM(I6:I15) -> 0
B19: Data | H19: Podpis osoby/osób upoważnionej
B20: ……………………………………………. | H20: …………………… | I20: ……………………………….

Sheet zadanie nr 59
A1: Załącznik nr 9 | G1: ZOZ/DZP/PN/21/22
B2: Załącznik Nr: 9
A3: Zadanie nr: 59 - Strzykawki do gazometrii.
A4: Lp. | B4: Nazwa produktu | C4: Jednostka miary | D4: Ilość | E4: Cena jednostkowa[zł] netto | F4: Wartość [zł] netto | G4: VAT | H4: Cena jednostkowa [zł] brutto | I4: Wartość [zł] brutto | J4: Producent/Model/Nr katalogowy
A5: 1 | B5: Strzykawka sterylna, do pobierania krwi tętniczej, żylnej i innych mateiałów, metodą aspiracji w ilości do 1,7ml, heparynizowana suchą, wysokoskoncentrowaną heparyną litową, elektrolitowo zbilansowaną jonami wapnia, sodu, oraz potasu, z systemem bezkontaktowego usuwania pęcherzyk powietrza ze strzykawki i bezkontaktowego podawania materiału do analizatora , z wewnętrznym urządzeniem wspomagającym mieszanie próbki, zakończenie luer, | C5: szt. | D5: 10000
A6: 2 | B6: Strzykawka do gazometrii napylona heparyną zbalansowana (zredukowaną) wapniem 2-3 ml | C6: szt. | D6: 6500
B7: Razem | F7: =SUM(F5:F6) -> 0 | I7: =SUM(I5:I6) -> 0
B10: Data | G10: Podpis osoby/osób upoważnionej
B11: ……………………………………………. | G11: ……………………………….

Sheet zadanie 85
A1: Załącznik nr 9 | G1: ZOZ/DZP/PN/21/22
B2: Załącznik Nr: 9
A3: Zadanie nr: 85 - Opaska 2
A4: Lp. | B4: Nazwa produktu | C4: Jednostka miary | D4: Ilość | E4: Cena jednostkowa netto | F4: Wartość netto | G4: VAT | H4: Cena jednostkowa brutto | I4: Wartość brutto | J4: Producent/Model/Nr katalogowy
A5: 1 | B5: Opaska uciskowa jednorazowego użytku kolor jasnozielony ( seledynowy ) szerokość 10 cm dł.10m | C5: szt. | D5: 20
B6: RAZEM | F6: =SUM(F5) -> 0 | I6: =SUM(I5) -> 0
B9: Data | H9: Podpis osoby/osób upoważnionej
B10: ……………………………………………. | H10: ……………………………….

Sheet zadanie 88
A2: Załącznik nr 9 | G2: ZOZ/DZP/PN/21/22
B3: Załącznik Nr: 9
A4: Zadanie nr: 88 – Gąbka do FESS-u
A5: Lp. | B5: Nazwa produktu | C5: Jednostka miary | D5: Ilość | E5: Cena jednostkowa netto | F5: Wartość netto | G5: VAT | H5: Cena jednostkowa brutto | I5: Wartość brutto | J5: Producent/Model/Nr katalogowy
A6: 1 | B6: Biodegradowalny syntetyczny opatrunek 4cm x 8cm, do zabiegów chirurgii endoskopowej zatok przynosowych(FESS), czas wchłaniania 7-10 dni | C6: op=8szt | D6: 28
F7: =SUM(F6) -> 0 | I7: =SUM(I6) -> 0
B9: Data | H9: Podpis osoby/osób upoważnionej
B10: ……………………………………………. | I10: ……………………………….

Sheet zadanie 96
A1: Załącznik nr 9 | G1: ZOZ/DZP/PN/21/22
B2: Załącznik Nr: 9
B4: Zadanie nr: 96 - Karty chipowe do monitora hemodynamicznego Lidco Rapid
A5: Lp. | B5: Nazwa produktu | C5: Jednostka miary | D5: ilość | E5: Cena jednostkowa[zł] netto | F5: Wartość [zł] netto | G5: VAT | H5: Cena jednostkowa [zł] brutto | I5: Wartość [zł] brutto | J5: Producent/Model/Nr katalogowy
A6: 1 | B6: Karty chipowe mikroprocesorowe (zgodne z ISO 7816-1) identyfikacji pacjenta do zapisu danych demograficznych- do monitora hemodynamicznego Lidco Rapid | C6: szt. | D6: 75
B7: Razem | F7: =SUM(F6) -> 0 | I7: =SUM(I6) -> 0
B10: Data | G10: Podpis osoby/osób upoważnionej
B11: ……………………………………………. | G11: ……………………………….

Sheet zadanie 97
A2: Załącznik nr 9 | G2: ZOZ/DZP/PN/21/22
A3: Zadanie nr 97: Akcesoria do kardiomonitora BleaseSirius firmy Spacelabs Medical USA
A4: Lp. | B4: Nazwa produktu | C4: Jednostka | D4: Ilość | E4: Cena jednostkowa netto | F4: Wartość Netto | G4: VAT | H4: Cena jednostkowa brutto | I4: Wartość brutto | J4: Producent/Model/Nr katalogowy
A5: 1 | B5: Przewód EKG 3- odprowadzeniowy | C5: szt. | D5: 5
A6: 2 | B6: Odprowadzenia do kabla 3-odprowadzeniowego | C6: szt. | D6: 5
A7: 3 | B7: Mankiet do pomiaru Ciśnienia 23-33 cm | C7: szt. | D7: 5
A8: 4 | B8: Mankiet do pomiaru ciśnienia 31-40 cm | C8: szt. | D8: 5
A9: 5 | B9: Rurka łącząca mankiet z kardiomonitorem | C9: szt. | D9: 5
A10: 6 | B10: Czujnik saturacji dla dorosłych | C10: szt. | D10: 5
A11: 7 | B11: Przedłużacz do czujnika saturacji | C11: szt. | D11: 5
A12: 8 | B12: Sonda temperatury naskórnej | C12: szt. | D12: 5
A13: 9 | B13: Pułapka wodna do analizatora gazowego | C13: Op=10 szt. | D13: 5
A14: 10 | B14: Linia próbkowania do analizatora gazowego | C14: Op=50 szt | D14: 5
A15: 11 | B15: Czujnik przepływu | C15: szt. | D15: 5
A16: 12 | B16: Rurka łącząca czujnik przpływu z aparatem 1,5 m | C16: szt. | D16: 5
A17: 13 | B17: Rurka łącząca przepływu z aparatem 2 m | C17: szt. | D17: 5
B18: RAZEM | F18: =SUM(F5:F17) -> 0 | I18: =SUM(I5:I17) -> 0
B19: Wszystkie pozycje kompatybilne z kardiomonitorem kardiomonitora BleaseSirius firmy Spacelabs Medical USA
B21: Data | H21: Podpis osoby/osób upoważnionej
B22: ……………………………………………. | H22: ……………………………….

Sheet zadanie 129
A2: Załącznik nr 9 | G2: ZOZ/DZP/PN/21/22
A3: Zadanie nr 129 - Odczynniki i testy, probówki
A4: Lp. | B4: Nazwa produktu | C4: Jednostka miary | D4: Ilość | E4: Cena jednostkowa netto | F4: Wartość netto | G4: VAT | H4: Cena jednostkowa brutto | I4: Wartość brutto | J4: Producent/Nazwa handlowa/Numer katalogowy
A5: 1 | B5: Cytofix - utrwalacz cytologiczny | C5: szt. | D5: 24
A6: 2 | B6: Test Shimera ( paski ) x 100 szt. | C6: op=100 szt. | D6: 10
A7: 3 | B7: Szkiełka podstawowe z miejscem na opis typu super forst | C7: op=50szt. | D7: 50
A8: 4 | B8: Paski fluoresceinowe | C8: op. 100szt | D8: 15
B9: RAZEM | F9: =SUM(F5:F8) -> 0 | I9: =SUM(I5:I8) -> 0
B11: Data | H11: Podpis osoby/osób upoważnionej
B12: ……………………………………………. | H12: ………………….. | I12: ……………………………….

Sheet zadanie 132
B1: Załacznik nr 9
A2: Załącznik nr 9 | G2: ZOZ/DZP/PN/21/22
A3: Zadanie nr 132 - Parawany na kółkach
A4: Lp. | B4: Nazwa produktu | C4: Jednostka miary | D4: Ilość | E4: Cena jednostkowa [zł] netto | F4: Wartość [zł] netto | G4: VAT | H4: Cena jednostkowa [zł] brutto | I4: Wartość [zł] brutto | J4: Producent/Nazwa handlowa/Numer katalogowy
A5: 1 | B5: Parawan ścienny teleskopowy: długość ramienia min.1200mm max2000mm, zasłona: 1800x2000mm w kolorze: biały niebieski zielony do wyboru przy zakupie. | C5: szt | D5: 2
A6: 2 | B6: Parawan stojący 1-skrzydłowy 1900mm x 1900mm, stelaż malowany proszkowo w kolorze białym, podstawa 2 kółka i nóżka, kolor zasłony: niebieski. | C6: szt | D6: 3
B7: RAZEM | F7: =SUM(F5:F6) -> 0 | I7: =SUM(I5:I6) -> 0
B11: Data | G11: Podpis osoby/osób upoważnionej
B12: ……………………………………………. | G12: ……………………………….

Sheet zadanie 133
B1: Załacznik nr 9
A2: Załącznik nr 9 | G2: ZOZ/DZP/PN/21/22
A3: Zadanie nr 133 - Akcesoria rehabilitacyjne
A4: Lp. | B4: Nazwa produktu | C4: Jednostka miary | D4: Ilość | E4: Cena jednostkowa [zł] netto | F4: Wartość [zł] netto | G4: VAT | H4: Cena jednostkowa [zł] brutto | I4: Wartość [zł] brutto | J4: Producent/Nazwa handlowa/Numer katalogowy
A5: 1 | B5: Gumy do ćwiczeń oporowych, wymienne, do urządzenia Pragma, z końcówkami do zamontowania, długość 85cm (+/-5cm) kolory: szara 8szt., czarna 8szt., zielona 8szt., | C5: szt | D5: 24
A6: 2 | B6: Podwieszka dwustawowa z pokryciem skórzanym | C6: szt | D6: 16
A7: 3 | B7: Półwałek rehabilitacyjny 60x10cm | C7: szt | D7: 4
A8: 4 | B8: Poduszka rehabilitacyjna z otworem pod głowę | C8: szt | D8: 4
B9: Razem | F9: =SUM(F5:F8) -> 0 | I9: =SUM(I5:I8) -> 0
B11: Data | G11: Podpis osoby/osób upoważnionej
B12: ……………………………………………. | G12: ……………………………….

Sheet zadanie 134
B1: Załacznik nr 9
A2: Załącznik nr 9 | G2: ZOZ/DZP/PN/21/22
B3: Zadanie nr 134 – Osłonki na zęby
A4: Lp. | B4: Nazwa produktu | C4: Jednostka miary | D4: Ilość | E4: Cena jednostkowa[zł] netto | F4: Wartość [zł] netto | G4: VAT | H4: Cena jednostkowa [zł] brutto | I4: Wartość [zł] brutto | J4: Producent/Nazwa handlowa/Numer katalogowy
A5: 1 | B5: Silikonowe lub innego miękkiego tworzywa nakładki na zęby dla dorosłych, sterylne lub mikrobiologicznie czyste | C5: szt | D5: 300
B6: RAZEM | F6: =F5 -> 0 | I6: =SUM(I5) -> 0
B11: Data | G11: Podpis osoby/osób upoważnionej
B12: ……………………………………………. | G12: ……………………………….

Sheet zadanie 154
A1: Załącznik nr 9 | G1: ZOZ/DZP/PN/21/22
A2: Zadanie nr 154 Kable do elektrod BTL 5000
A3: Lp. | B3: Nazwa produktu | C3: Jednostka miary | D3: Ilość | E3: Cena jednostkowa[zł] netto | F3: Wartość [zł] netto | G3: VAT | H3: Cena jednostkowa [zł] brutto | I3: Wartość [zł] brutto | J3: Producent/Model/Nr katalogowy
A4: 1 | B4: Kable do eletrod do urządzenia BTL5000 | C4: kpl | D4: 8
B5: RAZEM | F5: =F4 -> 0 | I5: =SUM(I4) -> 0
B8: ………………………………………………….. | F8: ……………………………………………
B9: Data | F9: Podpis osoby/osób uprawnionej

Sheet zadanie 155
A1: Załącznik nr 9 | G1: ZOZ/DZP/PN/21/22
A2: Zadanie nr 155 Czujnik do pomiaru ciśnienia wewnątrzczaszkowego.
A3: Lp. | B3: Nazwa produktu | C3: Jednostka miary | D3: Ilość | E3: Cena jednostkowa[zł] netto | F3: Wartość [zł] netto | G3: VAT | H3: Cena jednostkowa [zł] brutto | I3: Wartość [zł] brutto | J3: Producent/Model/Nr katalogowy
A4: 1 | B4: Czujnik śródmiąższowy ( parynchemalny) do pomiaru ciśnienia wewnątrzczaszkowego, produkt sterylny jednorazowy. W komplecie zestaw rypu drul/bolt do implantacji. Tytanowa obudowa czujnika-kompatybilność z rezonansem magnetycznym. Brak konieczności kalibracji przed użyciem. Kompatybilny z posiadanym wyposarzeniem monitorów pacjenta- modułem zerowania NPS2 firmy Raumedic. | C4: kpl | D4: 1
B5: RAZEM | F5: =F4 -> 0 | I5: =SUM(I4) -> 0
B8: ………………………………………………….. | F8: ……………………………………………
B9: Data | F9: Podpis osoby/osób uprawnionej

Sheet zadanie 156
A1: Załącznik nr 9 | G1: ZOZ/DZP/PN/21/22
A2: Zadanie nr 156 Zestaw wielorazowy do odciągania mleka.
A3: Lp. | B3: Nazwa produktu | C3: Jednostka miary | D3: Ilość | E3: Cena jednostkowa[zł] netto | F3: Wartość [zł] netto | G3: VAT | H3: Cena jednostkowa [zł] brutto | I3: Wartość [zł] brutto | J3: Producent/Model/Nr katalogowy
A4: 1 | B4: Zestaw do odciągania mleka: 1. Osłonka na lejek 2. Lejek 3D z silikonu medycznego 3. Osłonka do lejka 3D – ażurowa 4. Korpus 5. Silikonowa membrana 6. Nakrętka 7. Zaworek antyzwrotny 2 szt 8. Adaptor – możliwość wkręcenia wąskiej lub szerokiej butelki 9. Butelka 150 ml 10. Silikonowa rurka z łącznikiem – łączy lejek z silnikiem laktatora Opis: Ażurowa osłona lejka 3D umożliwia kontrolę siły nacisku na brodawkę, co wzmacnia jego skuteczność i pozwala uniknąć bólu. Równomierny, delikatny ucisk stymuluje wydzielanie się prolaktyny – hormonu odpowiedzialnego za produkcję mleka, powodując szybki i naturalny wypływ pokarmu Sterylizować w autoklawie w temp. 121ºC w czasie 20 min | C4: kpl. | D4: 20
B5: Silikonowe osłonki brodawki piersi. Opis: miękkie i delikatne, mają wyprofilowany kształt ,imitują brodawkę sutkową, bezzapachowe i bezsmakowe. Produkt wolny od bisfenolu A, możliwość wyparzania wodą. Rosmiar: S i M/L do wyboru przy zakupie. | C5: szt. | D5: 200
B6: RAZEM | F6: =SUM(F4:F5) -> 0 | I6: =SUM(I4:I5) -> 0
B8: ………………………………………………….. | F8: ……………………………………………
B9: Data | F9: Podpis osoby/osób uprawnionej

Sheet zadanie 157
A1: Załącznik nr 9 | G1: ZOZ/DZP/PN/21/22
A2: Zadanie 157 Cewnik Swana-Ganza
A3: Lp. | B3: Nazwa produktu | C3: Jednostka miary | D3: Ilość | E3: Cena jednostkowa[zł] netto | F3: Wartość [zł] netto | G3: VAT | H3: Cena jednostkowa [zł] brutto | I3: Wartość [zł] brutto | J3: Producent/Model/Nr katalogowy
A4: 1 | B4: Standardowy cewnik Swana-Ganza do pomiaru metodą termodylucji Kompatybilny z kablem Nihon Cohden K962 wraz czujnikiem kompatybilnym z Edwardsem [NKD-ED/93528] | C4: Op=5 szt. | D4: 2
A5: 2 | B5: Osłona przepływowa iniektatu CO-Set+ | C5: Op=8 szt. | D5: 3
B6: RAZEM | F6: =SUM(F4:F5) -> 0 | I6: =SUM(I4:I5) -> 0
B8: ………………………………………………….. | F8: ……………………………………………
B9: Data | F9: Podpis osoby/osób uprawnionej

Sheet zadanie 158 
A1: Załącznik nr 9 | G1: ZOZ/DZP/PN/21/22
A2: Zadanie nr 158 pieluchy dla dorosłych
A3: Lp. | B3: Nazwa produktu | C3: Jednostka miary | D3: Ilość | E3: Cena jednostkowa[zł] netto | F3: Wartość [zł] netto | G3: VAT | H3: Cena jednostkowa [zł] brutto | I3: Wartość [zł] brutto | J3: Producent/Model/Nr katalogowy
A4: 1 | B4: Pieluchomajtki oddychające na całej powierzchni, nie zawierające lateksu, posiadające dwa elastyczne ściągacze taliowe, podwójny wkład chłonny z superabsorbentem, podwójne przylepcorzepy umożliwiające wielokrotne zapinanie i odpinanie, hydrofobowe falbanki boczne, "dzienne", rozmiar XL (obwód 130-170 cm), chłonność nie mniej niż 2600g | C4: op. a30 szt. | D4: 500
A5: 2 | B5: Pieluchomajtki oddychające na całej powierzchni, nie zawierające lateksu, posiadające dwa elastyczne ściągacze taliowe, podwójny wkład chłonny z superabsorbentem, podwójne przylepcorzepy umożliwiające wielokrotne zapinanie i odpinanie, hydrofobowe falbanki boczne, "dzienne", rozmiar L (obwód 100-150 lub 110-150 cm), chłonność nie mniej niż 2200g | C5: op. a30 szt. | D5: 3500
A6: 3 | B6: Pieluchomajtki oddychające na całej powierzchni, nie zawierające lateksu, posiadające dwa elastyczne ściągacze taliowe, podwójny wkład chłonny z superabsorbentem, podwójne przylepcorzepy umożliwiające wielokrotne zapinanie i odpinanie, hydrofobowe falbanki boczne, "dzienne" rozmiar M (obwód 75-110 cm), chłonność nie mniej niż 2000g | C6: op. a30 szt. | D6: 1200
A7: 4 | B7: Pieluchomajtki oddychające na całej powierzchni, nie zawierające lateksu, posiadające dwa elastyczne ściągacze taliowe, podwójny wkład chłonny z superabsorbentem, podwójne przylepcorzepy umożliwiające wielokrotne zapinanie i odpinanie, hydrofobowe falbanki boczne o zwiększonej chłonności "nocne" rozmiar L (obwód 100-150 lub 110-150 cm), chłonność nie mniej niż 2800g | C7: op. a30 szt. | D7: 600
A8: 5 | B8: Pieluchomajtki oddychające na całej powierzchni, nie zawierające lateksu, posiadające dwa elastyczne ściągacze taliowe, podwójny wkład chłonny z superabsorbentem, podwójne przylepcorzepy umożliwiające wielokrotne zapinanie i odpinanie, hydrofobowe falbanki boczne o zwiększonej chłonności "nocne" rozmiar M (obwód 75-110 cm), chłonność nie mniej niż 2600g | C8: op. a30 szt. | D8: 600
A9: 6 | B9: Pielucha anatomiczna w rozmiarze 28-35x50-64cm chłonności 1100-1200 gram lub mililitrów | C9: op. a30 szt. | D9: 3500
A10: 7 | B10: Podkład chłonny 90x60 cm | C10: op= 30szt. | D10: 1800
A11: 8 | B11: Serweta z nitką radiacyjną 4 warstwy 8x17 nitek sterylna | C11: szt. | D11: 2000
B12: RAZEM | F12: =SUM(F4:F11) -> 0 | I12: =SUM(I4:I10) -> 0
B16: ………………………………………………….. | F16: ……………………………………………
B17: Data | F17: Podpis osoby/osób uprawnionej

Sheet zadanie 159
A1: Załącznik nr 9 | G1: ZOZ/DZP/PN/21/22
A2: Zadanie 159 Akcesoria do Mcgraph MAC
A3: Lp. | B3: Nazwa produktu | C3: Jednostka miary | D3: Ilość | E3: Cena jednostkowa[zł] netto | F3: Wartość [zł] netto | G3: VAT | H3: Cena jednostkowa [zł] brutto | I3: Wartość [zł] brutto | J3: Producent/Model/Nr katalogowy
A4: 1 | B4: Łyżka jednorazowa powlekana polimerem optycznym kompatybilna z urządzeniem Mcgraph MAC rozmiar 3 i 4 do wyboru przy zakupie | C4: op. 50 szt | D4: 2
A5: 2 | B5: Bateria 250minut do Mcgraph MAC. | C5: 1 szt. | D5: 1
B6: RAZEM | F6: =SUM(F4:F5) -> 0 | I6: =SUM(I4:I5) -> 0
B10: ………………………………………………….. | F10: ……………………………………………
B11: Data | F11: Podpis osoby/osób uprawnionej

Sheet podsumowanie
B7: L.p. | C7: Przedmiot zamówienia | D7: wartość netto | E7: wartość brutto | F7: netto euro | G7: euro brutto
B8: 1 | C8: Zadanie nr 5 - Nadroparinum | D8: ='Zadanie nr 5'!F10 -> 0 | E8: ='Zadanie nr 5'!I10 -> 0
B9: 2 | C9: Zadanie nr 25 - Leki OAIiT | D9: ='Zadanie nr 25'!F68 -> 0 | E9: ='Zadanie nr 25'!I68 -> 0
B10: 3 | C10: Zadanie nr 52 - Butelki do receptury | D10: ='Zadanie nr 52'!F16 -> 0 | E10: ='Zadanie nr 52'!I16 -> 0
B11: 4 | C11: Zadanie nr: 59 - Strzykawki do gazometrii. | D11: ='zadanie nr 59'!F7 -> 0 | E11: ='zadanie nr 59'!I7 -> 0
B12: 5 | C12: Zadanie nr: 85 - Opaska 2 | D12: ='zadanie 85'!F6 -> 0 | E12: ='zadanie 85'!I6 -> 0
B13: 6 | C13: Zadanie nr: 88 – Gąbka do FESS-u | D13: ='zadanie 88'!F7 -> 0 | E13: ='zadanie 88'!I7 -> 0
B14: 7 | C14: Zadanie nr: 96 - Karty chipowe do monitora hemodynamicznego Lidco Rapid | D14: ='zadanie 96'!F7 -> 0 | E14: ='zadanie 96'!I7 -> 0
B15: 8 | C15: Zadanie nr 97: Akcesoria do kardiomonitora BleaseSirius firmy Spacelabs Medical USA | D15: ='zadanie 97'!F18 -> 0 | E15: ='zadanie 97'!I18 -> 0
B16: 9 | C16: Zadanie nr 129 - Odczynniki i testy, probówki | D16: ='zadanie 129'!F9 -> 0 | E16: ='zadanie 129'!I9 -> 0
B17: 10 | C17: Zadanie nr 132 - Parawany na kółkach | D17: ='zadanie 132'!F7 -> 0 | E17: ='zadanie 132'!I7 -> 0
B18: 11 | C18: Zadanie nr 133 - Akcesoria rehabilitacyjne | D18: ='zadanie 133'!F9 -> 0 | E18: ='zadanie 133'!I9 -> 0
B19: 12 | C19: Zadanie nr 134 osłonki na zęby | D19: ='zadanie 134'!F6 -> 0 | E19: ='zadanie 134'!I6 -> 0
B20: 13 | C20: Zadanie nr 154 Kable do elektrod BTL 5000 | D20: ='zadanie 154'!F5 -> 0 | E20: ='zadanie 154'!I5 -> 0
B21: 14 | C21: Zadanie nr 155 Czujnik do pomiaru ciśnienia wewnątrzczaszkowego. | D21: ='zadanie 155'!F5 -> 0 | E21: ='zadanie 155'!I5 -> 0
B22: 15 | C22: Zadanie nr 156 Zestaw wielorazowy do odciągania mleka. | D22: ='zadanie 156'!F6 -> 0 | E22: ='zadanie 156'!I6 -> 0
B23: 16 | C23: Zadanie 157 Cewnik Swana-Ganza | D23: ='zadanie 157'!F6 -> 0 | E23: ='zadanie 157'!I6 -> 0
B24: 17 | C24: Zadanie nr 158 pieluchy dla dorosłych | D24: ='zadanie 158 '!F12 -> 0 | E24: ='zadanie 158 '!I12 -> 0
B25: 18 | C25: Zadanie 159 Akcesoria do Mcgraph MAC | D25: ='zadanie 159'!F6 -> 0 | E25: ='zadanie 159'!I6 -> 0
C26: RAZEM | D26: =SUM(D8:D25) -> 0 | E26: =SUM(E8:E25) -> 0
