Workbook

Sheet Zadanie 7A
A2: Załącznik nr 9 | H2: ZOZ/DZP/PN/2/23
A5: Zadanie nr 7A - Albuminy
A6: Lp. | B6: Nazwa produktu | C6: Jednostka miary | D6: Ilość | E6: Cena jednostkowa[zł] netto | F6: Wartość [zł] netto | G6: VAT | H6: Cena jednostkowa [zł] brutto | I6: Wartość [zł] brutto | J6: Producent/Nazwa handlowa
A7: 1 | B7: Albumina ludzka 20 % 50 ml | C7: flak 50 ml | D7: 200
A8: 2 | B8: Albumina ludzka 20 % 100 ml | C8: flak 100 ml | D8: 600
B9: RAZEM | F9: =SUM(F7:F8) -> 0 | I9: =SUM(I7:I8) -> 0
B14: ………………………………………………….. | F14: ……………………………………………
B15: Data | F15: Podpis osoby/osób uprawnionej

Sheet zadanie 5A
A1: Załącznik nr 9 | G1: ZOZ/DZP/PN/2/23
A4: Zadanie nr 5A - Nadroparinum
A5: Lp. | B5: Nazwa produktu | C5: Jednostka miary | D5: Ilość | E5: Cena jednostkowa[zł] netto | F5: Wartość [zł] netto | G5: VAT | H5: Cena jednostkowa [zł] brutto | I5: Wartość [zł] brutto | J5: Producent/Nazwa handlowa
A6: 1 | B6: HDCz 2850 j.m antyXa | C6: szt. amp.strz 0,3 ml | D6: 3500
A7: 2 | B7: HDCz 3800 j.m antyXa | C7: szt. amp.strz 0,4 ml | D7: 11300
A8: 3 | B8: HDCz 5700 j.m antyXa | C8: szt. amp.strz 0,6 ml | D8: 4500
A9: 4 | B9: HDCz 7600 j.m antyXa | C9: szt. amp.strz 0,8 ml | D9: 1000
B10: RAZEM | F10: =SUM(F6:F9) -> 0 | I10: =SUM(I6:I9) -> 0
B18: ………………………………………………….. | F18: ……………………………………………
B19: Data | F19: Podpis osoby/osób uprawnionej

Sheet Zadanie 10A
A2: Załącznik nr 9 | H2: ZOZ/DZP/PN/2/23
B3: Załącznik Nr: 9
A5: Zadanie nr: 10A - Strzykawki, igły
A6: Lp. | B6: Nazwa produktu | C6: Jednostka miary | D6: Ilość | E6: Cena jednostkowa netto | F6: Wartość netto | G6: VAT | H6: Cena jednostkowa brutto | I6: Wartość brutto | J6: Producent/Model/Nr katalogowy
A7: Strzykawka dwuczęściowa luer, wykonana z wysokiej jakości PP i/lub PE, w pełni przeźroczysty cylinder z wyraźną czarną, trwałą skalą pomiarową o przedłużonej skali o min. 20% w stosunku do skali nominalnej, wyraźna kryza zabezpieczająca przed wypadaniem tłoka, idealne dopasowanie cylindra i tłoka zapewniające pełną szczelność i bezskokowy przesów tłoka, tłok w wyraźnym, kontrastującym kolorze ułatwiającym odczyt ze sferycznym zakończeniem umożliwiającym maksymalne zmniejszenie przestrzeni martwej, logo producetna i nazwa własna na cylindrze i opakowaniu jednostkowym - Strzykawki jednego producenta, pakowane indywidualnie w opakowanie typu folia/papier - opakowania a 100 szt. Parametry dla pozycji 1-4
A8: 1 | B8: 2 ml skala co 0,1ml x 100 szt. | C8: op.=100szt | D8: 1200
A9: 2 | B9: 5 ml skala co 0,2ml x 100 szt. | C9: op.=100szt | D9: 1400
A10: 3 | B10: 10 ml skala co 0,5ml x 100 szt. | C10: op.=100szt | D10: 1200
A11: 4 | B11: 20 ml skala co 1ml x 100 szt. | C11: op.=100szt | D11: 1300
A12: 5 | B12: Strzykawka do tuberkuliny 1 ml 3 częściowe z igłą 0,45 x 12 mm x 100 szt. z osobną igłą | C12: op.=100szt | D12: 150
A13: 6 | B13: 100 ml Janeta z łącznikiem Luer,trzyczęściowa,wykonana z polipropylenu, skala w kolorze niebieskim, zaopatrzona w dodatkowy stożek do łączenia z cewnikiem | C13: szt. | D13: 5000
A14: Strzykawki - szczelne, łatwy przesuw tłoka, wyraźna skala. Wykazane na liście producenta pomp infuzyjnych MEDIMA S2 i Medima P2. Opis dla pozycji 7-10 | F14: =E14*D14 -> 0
A15: 7 | B15: 10ml x 100 szt., 3 częściowe | C15: op.=100szt | D15: 300
A16: 8 | B16: 20ml x 100 szt., 3 częściowe | C16: op.=100szt | D16: 1000
A17: 9 | B17: 50 ml do pomp 3 cz .do pomp Luer-Lock ze skalą dwustronną | C17: szt. | D17: 36000
A18: 10 | B18: 50 ml do pomp 3 cz .do pomp Luer-Lock do leków światłoczułych | C18: szt. | D18: 15000
A19: 11 | B19: Strzykawka 3-częściowa Luer-Lock model wymagany zgodnie z intrukcją producenta dializatora Primaflex 50ml | C19: szt. | D19: 5000
A20: Igły iniekcyjne o ostrzach zapewniających minimalny opór skóry, rurki pokryte silikonem, cienkościenne nasadki barwione zgodnie zkodem kolorów | F20: =E20*D20 -> 0
A21: 12 | B21: 0,45 x 13 mm x 100 szt. | C21: op=100szt | D21: 65
A22: 13 | B22: 0,5 x 25 mm x 100 szt. | C22: op=100szt | D22: 360
A23: 14 | B23: 0,6 x 25 mm x 100 szt. | C23: op=100szt | D23: 50
A24: 15 | B24: 0,7 x 30 mm x 100 szt. | C24: op=100szt | D24: 180
A25: 16 | B25: 0,8 x 40 mm x 100 szt. | C25: op=100szt | D25: 700
A26: 17 | B26: 0,9 x 40 mm x 100 szt. | C26: op=100szt | D26: 160
A27: 18 | B27: 1,1 x 40 mm x 100 szt. | C27: op=100szt | D27: 500
A28: 19 | B28: 1,2 x 40 mm x 100 szt. | C28: op=100szt | D28: 1700
A29: 21 | B29: 1,6 x 40 mm x 100 szt. | C29: op=100szt | D29: 30
A30: 22 | B30: Igła 0,8 x 120 mm x 100 szt. do blokad nerwowych | C30: op=50szt | D30: 36
A31: 23 | B31: Igła do bezpiecznego pobierania i rozpuszczania leków 18G x 30mm, szlif ołówkowy z otworem bocznym, końcówka pasująca do luer i luer-lock. | C31: op=100szt | D31: 1400
A32: 24 | B32: Igła do bezpiecznego pobierania i rozpuszczania leków z filtrem 18G x 30-50mm, szlif ścięty z otworem bocznym, końcówka pasująca do luer i luer-lock. | C32: op=100szt | D32: 500
... A38: 30 | B38: Kaniula do płukania kanalików łzowych, zagięta 27G x7/8in, ,40x22mm | C38: Op=100 szt | D38: 2
B39: RAZEM | F39: =SUM(F21:F38,F15:F19,F8:F13) -> 0 | I39: =SUM(I8:I38) -> 0

Sheet Zadanie 27A
A1: Załącznik nr 9 | H1: ZOZ/DZP/PN/2/23
A2: Zadanie nr: 27A Pasy do unieruchamiania pacjentów
A3: Lp. | B3: Nazwa produktu | C3: Jednostka miary | D3: Ilość | E3: Cena jednostkowa netto | F3: Wartość netto | G3: VAT | H3: Cena jednostkowa brutto | I3: Wartość brutto | J3: Producent/nazwa handlowa/Nr katalogowy
A4: 1 | B4: 2 opaski na nadgarstki + 4 zamki magnetyczne + 1 klucz magnetycznych rozmiar M/L. Dostępne rozmiary M (19-25 cm, szer. 8 cm), L (24-30 cm. Szer. 8 cm ) do wyboru przez zamawiającego | C4: kpl. | D4: 6
A5: 2 | B5: 1 pas na łóżko wraz z 2 pasami na kostki + 4 zamkami magnetycznymi + 1 klucz magnetyczny | C5: kpl. | D5: 6
B6: RAZEM | F6: =SUM(F4:F5) -> 0 | I6: =SUM(I4:I5) -> 0
B8: Oświadczam, że oferowany przedmiot zamówienia jest zgodny z opisem i spełnia wymagane parametry techniczne
B10: data ………………………………. | G10: podpis ……………………………………….

Sheet Zadanie 39A
A1: Załącznik nr 9 | H1: ZOZ/DZP/PN/2/23
B2: Zadanie nr 39A Lawaseptyk
A3: Lp. | B3: Nazwa produktu | C3: Jednostka miary | D3: Ilość | E3: Cena jednostkowa netto | F3: Wartość netto | G3: VAT | H3: Cena jednostkowa brutto | I3: Wartość brutto | J3: Producent/ nazwa handlowa
A4: 1 | B4: Roztwór na bazie HOCl i NaOCl o stężeniach po 40 ppm. Do odkażania i płukania ran ostrych oraz przewlekłych tj. owrzodzenia goleni, odleżyny, rany w przebiegu stopy cukrzycowej. Posiada działanie antybakteryjne, wspomaga oczyszczanie rany z martwicy oraz stwarza odpowiednie środowisko gojenia. Może być stosowany w głębokich ranach bez możliwości odpływu, a także z terapią podciśnieniową. Zarejestrowany jako wyrób medyczny. Produkt o szerokim spektrum skuteczności przeciwdrobnoustrojowej ( bakterie, wirusy, zarodniki, grzyby.) | C4: 250ml z atomizerem | D4: 50
A5: 2 | B5: Roztwór na bazie HOCl i NaOCl o stężeniach po 40 ppm. Do odkażania i płukania ran ostrych oraz przewlekłych tj. owrzodzenia goleni, odleżyny, rany w przebiegu stopy cukrzycowej. Posiada działanie antybakteryjne, wspomaga oczyszczanie rany z martwicy oraz stwarza odpowiednie środowisko gojenia. Może być stosowany w głębokich ranach bez możliwości odpływu, a także z terapią podciśnieniową. Zarejestrowany jako wyrób medyczny. Produkt o szerokim spektrum skuteczności przeciwdrobnoustrojowej ( bakterie, wirusy, zarodniki, grzyby.) | C5: 500ml | D5: 100
A6: 3 | B6: Preparat w żelu na bazie HOCl i NaOCl o stężeniach po 60 ppm. Do odkażania i płukania ran ostrych oraz przewlekłych tj. owrzodzenia goleni, odleżyny, rany w przebiegu stopy cukrzycowej. Posiada działanie antybakteryjne, wspomaga oczyszczanie rany z martwicy oraz stwarza odpowiednie środowisko gojenia. Może być stosowany w głębokich ranach bez możliwości odpływu, a także z terapią podciśnieniową. Zarejestrowany jako wyrób medyczny. Produkt o szerokim spektrum skuteczności przeciwdrobnoustrojowej ( bakterie, wirusy, zarodniki, grzyby.) | C6: 120g | D6: 100
A7: 4 | B7: Preparat w żelu na bazie HOCl i NaOCl o stężeniach po 60 ppm. Do odkażania i płukania ran ostrych oraz przewlekłych tj. owrzodzenia goleni, odleżyny, rany w przebiegu stopy cukrzycowej. Posiada działanie antybakteryjne, wspomaga oczyszczanie rany z martwicy oraz stwarza odpowiednie środowisko gojenia. Może być stosowany w głębokich ranach bez możliwości odpływu, a także z terapią podciśnieniową. Zarejestrowany jako wyrób medyczny.Produkt o szerokim spektrum skuteczności przeciwdrobnoustrojowej ( bakterie, wirusy, zarodniki, grzyby.) | C7: 250g | D7: 100
B8: Łącznie | F8: =SUM(F4:F7) -> 0 | G8: 0.08 | H8: =SUM(H4) -> 0 | I8: =SUM(I4:I7) -> 0

Sheet Zadanie 50A
A1: Załącznik nr 9 | H1: ZOZ/DZP/PN/2/23
A2: Zadanie nr 50 A – Akcesoria do ciągłych zabiegów nerkozastępczych i plazmaforezy
A3: Lp. | B3: Nazwa produktu | C3: Jednostka | D3: Ilość | E3: Cena jednostkowa netto | F3: Wartość Netto | G3: VAT | H3: Cena jednostkowa brutto | I3: Wartość brutto | J3: Producent/Model/Nr katalogowy
A4: 1 | B4: Zestaw składa się z następujących komponentów: 1. Wysokoprzepływowego dializatora specjalnie przystosowanego do eliminacji toksyn zwiazanych z białkami krwi pacjenta do dializatu zawierajacego albuminy surowicy ludzkiej (HSA). 2. Niskoprzepływowego dializatora stosowanego do usuwania toksyn rozpuszczalnych w wodzie z dializatu albuminy surowicy ludzkiej (HSA) obwodu MARS. 3. Kolumny adsorpcyjnej wypełnionej weglem aktywowanym parą, słuzacej do oczyszczania roztworu ludzkich albumin (HSA) wypełniajacego obwód zestawu MARS. Czasteczki wegla sa odsłoniete i wykazuja szczególną zdolność do adsorpcji niskoczasteczkowych, niepolarnych substancji, jak np. aromatyczne policykliczne weglowodory i kwasy. 4. Kolumny adsorpcyjnej wypełnionej zywicą jonowymienna, słuzacej do oczyszczania dializatu z HSA w obwodzie zestawu MARS. Kolumna jest przeznaczona szczególnie do usuwania czasteczek jonowych, jak bilirubina. | C4: 1 zestaw | D4: 40
B5: RAZEM | F5: =SUM(F4:F4) -> 0 | I5: =SUM(I4) -> 0
B8: Data | H8: Podpis osoby/osób upoważnionej
B9: ……………………………………………. | H9: ……………………………….

Sheet Zadanie 59A
A1: Załącznik nr 9 | H1: ZOZ/DZP/PN/2/23
A2: Zadanie nr: 59A - Strzykawki do gazometrii.
A3: Lp. | B3: Nazwa produktu | C3: Jednostka miary | D3: Ilość | E3: Cena jednostkowa[zł] netto | F3: Wartość [zł] netto | G3: VAT | H3: Cena jednostkowa [zł] brutto | I3: Wartość [zł] brutto | J3: Producent/Model/Nr katalogowy
A4: 1 | B4: Strzykawka sterylna, do pobierania krwi tętniczej, żylnej i innych mateiałów, metodą aspiracji w ilości do 1,7ml, heparynizowana suchą, wysokoskoncentrowaną heparyną litową, elektrolitowo zbilansowaną jonami wapnia, sodu, oraz potasu, z systemem bezkontaktowego usuwania pęcherzyk powietrza ze strzykawki i bezkontaktowego podawania materiału do analizatora , z wewnętrznym urządzeniem wspomagającym mieszanie próbki, zakończenie luer, | C4: szt. | D4: 10000
A5: 2 | B5: Strzykawka do gazometrii napylona heparyną zbalansowana (zredukowaną) wapniem 2-3 ml | C5: szt. | D5: 6500
B6: Razem | F6: =SUM(F4:F5) -> 0 | I6: =SUM(I4:I5) -> 0
B9: Data | G9: Podpis osoby/osób upoważnionej
B10: ……………………………………………. | G10: ……………………………….

Sheet zadanie nr 85A
A1: Załącznik nr 9 | G1: ZOZ/DZP/PN/2/23
B2: Załącznik Nr: 9
A3: Zadanie nr: 85A - Opaska 2
A4: Lp. | B4: Nazwa produktu | C4: Jednostka miary | D4: Ilość | E4: Cena jednostkowa netto | F4: Wartość netto | G4: VAT | H4: Cena jednostkowa brutto | I4: Wartość brutto | J4: Producent/Model/Nr katalogowy
A5: 1 | B5: Opaska uciskowa jednorazowego użytku kolor jasnozielony ( seledynowy ) szerokość 10 cm dł.10m | C5: szt. | D5: 20
B6: RAZEM | F6: =SUM(F5) -> 0 | I6: =SUM(I5) -> 0
B9: Data | H9: Podpis osoby/osób upoważnionej
B10: ……………………………………………. | H10: ……………………………….

Sheet Zadanie 95A
B2: Załącznik Nr: 9
A3: Załącznik nr 9 | H3: ZOZ/DZP/PN/2/23
A4: Zadanie nr 95A- Żele i gaziki
A5: Lp | B5: Nazwa produktu | C5: Jednostka | D5: Ilość | E5: Cena jednostkowa netto | F5: Wartość netto | G5: VAT | H5: Cena jednostkowa brutto | I5: Wartość brutto | J5: Producent/Model/Nr katalogowy
A6: 1 | B6: Sterylny (sterylizowany radiacyjnie) lubrykant poślizgowy ,pakowany podwójnie , saszetka z wyprofilowaną końcówką do dokładnej aplikacji, końcówka z nacięciem, lubrykant na bazie wody, odtłuszczony, bezzapachowy i bezbarwny, nie powoduje podrażnień, saszetki po 5g | C6: op=150szt. | D6: 6
A7: 2 | B7: Sterylny żel do miejscowego znieczulenia z lignokainą oraz zapewniający optymalne smarowanie przy wstawianiu instrumentów do jam ciała. Skład chemiczny żelu podany na sterylnej ampułkostrzykawce oraz opakowaniu zbiorczym. Ampułkostrzykawka pakowana pojed po 6ml | C7: op=10szt | D7: 50
A8: 3 | B8: Gaziki nasączane chlorheksydyną 2% i 70% alkoholem izopropylowy.Do dezynfekcji cewników centralnych i obwodowych.Pakowane pojedynczo. | C8: op=200szt. | D8: 10
A9: 4 | B9: Pałeczki do nawilżania jamy ustnej. Niezawierające cukru,nasączone gliceryną . | C9: op=75szt. | D9: 30
B10: RAZEM | F10: =SUM(F6:F9) -> 0 | I10: =SUM(I6:I9) -> 0
B13: Data | H13: Podpis osoby/osób upoważnionej
B14: ……………………………………………. | H14: ……………………………….

Sheet Zadanie 97A
A1: Załącznik nr 9 | H1: ZOZ/DZP/PN/2/23
A2: Zadanie nr 97A: Akcesoria do kardiomonitora BleaseSirius
A3: Lp. | B3: Nazwa produktu | C3: Jednostka | D3: Ilość | E3: Cena jednostkowa netto | F3: Wartość Netto | G3: VAT | H3: Cena jednostkowa brutto | I3: Wartość brutto | J3: Producent/Model/Nr katalogowy
A4: 1 | B4: Przewód EKG 3- odprowadzeniowy | C4: szt. | D4: 5
A5: 2 | B5: Odprowadzenia do kabla 3-odprowadzeniowego | C5: szt. | D5: 5
A6: 3 | B6: Mankiet do pomiaru Ciśnienia 23-33 cm | C6: szt. | D6: 5
A7: 4 | B7: Mankiet do pomiaru ciśnienia 31-40 cm | C7: szt. | D7: 5
A8: 5 | B8: Rurka łącząca mankiet z kardiomonitorem | C8: szt. | D8: 5
A9: 6 | B9: Czujnik saturacji dla dorosłych | C9: szt. | D9: 5
A10: 7 | B10: Przedłużacz do czujnika saturacji | C10: szt. | D10: 5
A11: 8 | B11: Sonda temperatury naskórnej | C11: szt. | D11: 5
A12: 9 | B12: Pułapka wodna do analizatora gazowego | C12: Op=10 szt. | D12: 5
A13: 10 | B13: Linia próbkowania do analizatora gazowego | C13: Op=50 szt | D13: 5
A14: 11 | B14: Czujnik przepływu | C14: szt. | D14: 5
A15: 12 | B15: Rurka łącząca czujnik przpływu z aparatem 1,5 m | C15: szt. | D15: 5
A16: 13 | B16: Rurka łącząca przepływu z aparatem 2 m | C16: szt. | D16: 5
B17: RAZEM | F17: =SUM(F4:F16) -> 0 | I17: =SUM(I4:I16) -> 0
B18: Wszystkie pozycje kompatybilne z kardiomonitorem kardiomonitora BleaseSirius
B20: Data | H20: Podpis osoby/osób upoważnionej
B21: ……………………………………………. | H21: ……………………………….

Sheet Zadanie 108A
A1: Załącznik nr 9 | H1: ZOZ/DZP/PN/2/23
A3: Zadanie nr: 108A - System HFNC
A4: Lp. | B4: Nazwa produktu | C4: Jednostka miary | D4: Ilość | E4: Cena jednostkowa[zł] netto | F4: Wartość [zł] netto | G4: VAT | H4: Cena jednostkowa [zł] brutto | I4: Wartość [zł] brutto | J4: Producent/Model/Nr katalogowy
A5: 1 | B5: Maska do terapii tlenowej HFNC (high flow nasal cannula), wykonana z przezroczystego, nietoksycznego PCV, nie zawierająca lateksu posiadająca regulowaną blaszkę na nos oraz gumkę mocującą, wyposażona w dren o długości w zakresie 30-40 cm. Uniwersalna maska kompatybilna z układami oddechowymi aparatów do terapii HFNC. Produkt zalecany do użytku przez 14 dni pediatryczne - XS, S, M do wyboru przy zakupie. | C5: szt. | D5: 50
A6: 2 | B6: Maska do terapii tlenowej HFNC (high flow nasal cannula), wykonana z przezroczystego, nietoksycznego PCV, nie zawierająca lateksu posiadająca regulowaną blaszkę na nos oraz gumkę mocującą, wyposażona w dren o długości w zakresie 30-40 cm. Uniwersalna maska kompatybilna z układami oddechowymi aparatów do terapii HFNC. Produkt zalecany do użytku przez 14 dni dla dorosłych M, L do wyboru przy zakupie. | C6: szt. | D6: 50
A7: 3 | B7: Adapter do połączenia masek do terapii tlenowej HFNC kompatybilny z pozycją 1 i 2 i układami do aparatów o przepływach od 2 do 60l/min. | C7: szt. | D7: 60
B8: Suma | F8: =SUM(F5:F7) -> 0 | I8: =SUM(I5:I7) -> 0

Sheet Zadanie 129A
B1: Załacznik nr 9
A2: Załącznik nr 9 | H2: ZOZ/DZP/PN/2/23
A3: Zadanie nr 129A - Odczynniki i testy, probówki
A4: Lp. | B4: Nazwa produktu | C4: Jednostka miary | D4: Ilość | E4: Cena jednostkowa netto | F4: Wartość netto | G4: VAT | H4: Cena jednostkowa brutto | I4: Wartość brutto | J4: Producent/Nazwa handlowa/Numer katalogowy
A5: 1 | B5: Cytofix - utrwalacz cytologiczny | C5: szt. | D5: 24
A6: 2 | B6: Test Shimera ( paski ) x 100 szt. | C6: op=100 szt. | D6: 10
A7: 3 | B7: Szkiełka podstawowe z miejscem na opis typu super forst | C7: op=50szt. | D7: 50
A8: 4 | B8: Paski fluoresceinowe | C8: op. 100szt | D8: 15
B9: RAZEM | F9: =SUM(F5:F8) -> 0 | I9: =SUM(I5:I8) -> 0
B11: Data | H11: Podpis osoby/osób upoważnionej
B12: ……………………………………………. | H12: ………………….. | I12: ……………………………….

Sheet Zadanie 132A
B1: Załacznik nr 9
A2: Załącznik nr 9 | H2: ZOZ/DZP/PN/2/23
A3: Zadanie nr 132A - Parawany na kółkach
A4: Lp. | B4: Nazwa produktu | C4: Jednostka miary | D4: Ilość | E4: Cena jednostkowa [zł] netto | F4: Wartość [zł] netto | G4: VAT | H4: Cena jednostkowa [zł] brutto | I4: Wartość [zł] brutto | J4: Producent/Nazwa handlowa/Numer katalogowy
A5: 1 | B5: Parawan ścienny teleskopowy: długość ramienia min.1200mm max2000mm, zasłona: 1800x2000mm w kolorze: biały niebieski zielony do wyboru przy zakupie. | C5: szt | D5: 2
A6: 2 | B6: Parawan stojący 1-skrzydłowy 1900mm x 1900mm, stelaż malowany proszkowo w kolorze białym, podstawa 2 kółka i nóżka, kolor zasłony: niebieski. | C6: szt | D6: 3
B7: RAZEM | F7: =SUM(F5:F6) -> 0 | I7: =SUM(I5:I6) -> 0
B11: Data | G11: Podpis osoby/osób upoważnionej
B12: ……………………………………………. | G12: ……………………………….

Sheet Zadanie 134A
B1: Załacznik nr 9
A2: Załącznik nr 9 | H2: ZOZ/DZP/PN/2/23
B3: Zadanie nr 134 A– Osłony na zęby
A4: Lp. | B4: Nazwa produktu | C4: Jednostka miary | D4: Ilość | E4: Cena jednostkowa[zł] netto | F4: Wartość [zł] netto | G4: VAT | H4: Cena jednostkowa [zł] brutto | I4: Wartość [zł] brutto | J4: Producent/Nazwa handlowa/Numer katalogowy
A5: 1 | B5: Silikonowe lub innego miękkiego tworzywa nakładki na zęby dla dorosłych, sterylne lub mikrobiologicznie czyste | C5: szt | D5: 300
B6: RAZEM | F6: =F5 -> 0 | I6: =SUM(I5) -> 0
B11: Data | G11: Podpis osoby/osób upoważnionej
B12: ……………………………………………. | G12: ……………………………….

Sheet Zadanie 155
B1: Załacznik nr 9
A2: Załącznik nr 9 | H2: ZOZ/DZP/PN/2/23
B3: Zadanie nr 155 Shavery
A4: Lp. | B4: Nazwa produktu | C4: Jednostka miary | D4: Ilość | E4: Cena jednostkowa[zł] netto | F4: Wartość [zł] netto | G4: VAT | H4: Cena jednostkowa [zł] brutto | I4: Wartość [zł] brutto | J4: Producent/Nazwa handlowa/Numer katalogowy
A5: 1 | B5: Ostrze proste z drenem 11 cm x 4 mm, Ostrze kompatybilne z urządzeniem shaver StraightShot M | C5: Op=5 szt | D5: 50
F6: =F5 -> 0 | I6: =SUM(I5) -> 0
B11: Data | G11: Podpis osoby/osób upoważnionej
B12: ……………………………………………. | G12: ……………………………….

Sheet zadanie 159A
A1: Załącznik nr 9 | G1: ZOZ/DZP/PN/2/23
A2: Zadanie 159A Akcesoria do Mcgraph MAC
A3: Lp. | B3: Nazwa produktu | C3: Jednostka miary | D3: Ilość | E3: Cena jednostkowa[zł] netto | F3: Wartość [zł] netto | G3: VAT | H3: Cena jednostkowa [zł] brutto | I3: Wartość [zł] brutto | J3: Producent/Model/Nr katalogowy
A4: 1 | B4: Łyżka jednorazowa powlekana polimerem optycznym kompatybilna z urządzeniem Mcgraph MAC rozmiar 3 i 4 do wyboru przy zakupie | C4: op. 50 szt | D4: 2
A5: 2 | B5: Bateria 250minut do Mcgraph MAC. | C5: 1 szt. | D5: 1
B6: RAZEM | F6: =SUM(F4:F5) -> 0 | I6: =SUM(I4:I5) -> 0
B10: ………………………………………………….. | F10: ……………………………………………
B11: Data | F11: Podpis osoby/osób uprawnionej

Sheet podsumowanie
D6: netto | E6: brutto
B7: 1 | C7: Zadanie nr 7A - Albuminy | D7: ='Zadanie 7A'!F9 -> 0 | E7: ='Zadanie 7A'!I9 -> 0
C8: Zadanie nr 5A - Nadroparinum | D8: ='zadanie 5A'!F10 -> 0 | E8: ='zadanie 5A'!I10 -> 0
B9: 2 | C9: Zadanie nr: 10 - Strzykawki, igły | D9: ='Zadanie 10A'!F39 -> 0 | E9: ='Zadanie 10A'!I39 -> 0
B10: 3 | C10: Zadanie nr: 27A Pasy do unieruchamiania pacjentów | D10: ='Zadanie 27A'!F6 -> 0 | E10: ='Zadanie 27A'!I6 -> 0
B11: 4 | C11: Zadanie nr 39A Lawaseptyk | D11: ='Zadanie 39A'!F8 -> 0 | E11: ='Zadanie 39A'!I8 -> 0
B12: 5 | C12: Zadanie nr 50 A – Akcesoria do ciągłych zabiegów nerkozastępczych i plazmaforezy | D12: ='Zadanie 50A'!F5 -> 0 | E12: ='Zadanie 50A'!I5 -> 0
B13: 6 | C13: Zadanie nr: 59A - Strzykawki do gazometrii. | D13: ='Zadanie 59A'!F6 -> 0 | E13: ='Zadanie 59A'!I6 -> 0
C14: Zadanie nr: 85A - Opaska 2 | D14: ='zadanie nr 85A'!F6 -> 0 | E14: ='zadanie nr 85A'!I6 -> 0
B15: 7 | C15: Zadanie nr 95A- Żele i gaziki | D15: ='Zadanie 95A'!F10 -> 0 | E15: ='Zadanie 95A'!I10 -> 0
B16: 8 | C16: Zadanie nr 97A: Akcesoria do kardiomonitora BleaseSirius | D16: ='Zadanie 97A'!F17 -> 0 | E16: ='Zadanie 97A'!I17 -> 0
B17: 9 | C17: Zadanie nr: 108A - System HFNC | D17: ='Zadanie 108A'!F8 -> 0 | E17: ='Zadanie 108A'!I8 -> 0
B18: 10 | C18: Zadanie nr 129A - Odczynniki i testy, probówki | D18: ='Zadanie 129A'!F9 -> 0 | E18: ='Zadanie 129A'!I9 -> 0
B19: 11 | C19: Zadanie nr 132A - Parawany na kółkach | D19: ='Zadanie 132A'!F7 -> 0 | E19: ='Zadanie 132A'!I7 -> 0
B20: 12 | C20: Zadanie nr 134 A– Osłony na zęby | D20: ='Zadanie 134A'!F6 -> 0 | E20: ='Zadanie 134A'!I6 -> 0
B21: 13 | C21: Zadanie nr 155 Shavery | D21: ='Zadanie 155'!F6 -> 0 | E21: ='Zadanie 155'!I6 -> 0
C22: Zadanie 159A Akcesoria do Mcgraph MAC | D22: ='zadanie 159A'!F6 -> 0 | E22: ='zadanie 159A'!I6 -> 0
D23: =SUM(D7:D22) -> 0 | E23: =SUM(E7:E22) -> 0
