Workbook
Name Excel_BuiltIn_Print_Area_14_1: #REF!
Name Excel_BuiltIn_Print_Area_16_1: #REF!
Name Excel_BuiltIn_Print_Area_17_1: #REF!
Name Excel_BuiltIn_Print_Area_18_1: #REF!
Name Excel_BuiltIn_Print_Area_19_1: #REF!
Name Excel_BuiltIn_Print_Area_2_1: #REF!
Name Excel_BuiltIn_Print_Area_22_1: #REF!
Name Excel_BuiltIn_Print_Area_22_1_1: #REF!
Name Excel_BuiltIn_Print_Area_24_1: #REF!
Name Excel_BuiltIn_Print_Area_3_1: #REF!
Name Excel_BuiltIn_Print_Area_3_1_1: #REF!
Name Excel_BuiltIn_Print_Area_3_1_1_1: #REF!
Name Excel_BuiltIn_Print_Area_4_1: #REF!
Name Excel_BuiltIn_Print_Area_5_1: #REF!
Name Excel_BuiltIn_Print_Area_6_1: #REF!
Name Excel_BuiltIn_Print_Area_7_1: #REF!
Name Excel_BuiltIn_Print_Titles_17: #REF!

Sheet Zadanie nr 26.
A1: Załącznik nr 9 | G1: ZOZ/DZP/PN/19/23
B4: Zadanie nr 26 – Terapia nerkozastępcza do aparatu OMNI
A5: Lp. | B5: Nazwa produktu | C5: Jednostka miary | D5: Ilość | E5: Cena jednostkowa[zł] netto | F5: Wartość [zł] netto | G5: VAT | H5: Cena jednostkowa [zł] brutto | I5: Wartość [zł] brutto | J5: Producent/Nazwa handlowa | K5: EAN
A6: 1 | B6: Płyn dializacyjny do terapii nerkozastępczej bez zawartości wapnia i zawartością fosforanów 1,25 mmol/l oraz z zawartością potasu 2 lub 4 mmol/l (zamiennie według potrzeb zamawiającego). Worek 5 l. Kompatybilne z aparatem OMNI | C6: szt. | D6: 400
A7: 2 | B7: Płyn do antykoagulacji z zawartością cytrynianu 4%. Worek 2000 ml. | C7: szt. | D7: 150
A8: 3 | B8: Zestaw drenów z filtrem o punkcie odcięcia 37 kDa i rejestracji na 96 godzin do cytrynianowej i heparynowej terapii CVVHD lub/i CVVHDF | C8: szt. | D8: 15
A9: 4 | B9: Płyn substytucyjny do terapii nerkozastępczej z zawartością wapnia 1,5 mmol/l , bez zawartości potasu lub z zawartością potasu 4 mmol/l ,bez zawartości mleczanów . Worek 5 L ( bez zawartości Potasu) (z zawartością Potasu 2mmol/l) lub (z zawartością Potasu 4mmol/l) do wyboru zamawiajacego przy zakupie | C9: szt. | D9: 150
A10: 5 | B10: Worki na filtrat z zaworem spustowym umożliwiającym drenaż bez zdejmowania worka z urządzenia. Pojemność 7 litrów. | C10: szt. | D10: 20
B11: RAZEM
B14: Data | H14: Podpis osoby/osób upoważnionej
B15: ……………………………………………. | H15: …………………… | I15: ……………………………….

Sheet Zadanie 38A
A1: Załącznik nr 9 | G1: ZOZ/DZP/PN/19/23
A3: Zadanie 38A. Calcium chloratum
A4: Lp. | B4: Nazwa produktu | C4: Jednostka miary | D4: Ilość | E4: Cena jednostkowa[zł] netto | F4: Wartość [zł] netto | G4: VAT | H4: Cena jednostkowa [zł] brutto | I4: Wartość [zł] brutto | J4: Producent/Nazwa handlowa | K4: EAN
A5: 1 | B5: Calcium chloratum 95-100mg/ml | C5: porcja po 5amp. | D5: 2500
B6: suma
B11: Data | F11: Podpis osoby/osób upoważnionej
B12: ……………………………………………. | F12: ……………………………….

Sheet Zadanie 38
A2: Załącznik nr 9 | G2: ZOZ/DZP/PN/19/23
A5: Zadanie 38. Calcium
A6: Lp. | B6: Nazwa produktu | C6: Jednostka miary | D6: Ilość | E6: Cena jednostkowa[zł] netto | F6: Wartość [zł] netto | G6: VAT | H6: Cena jednostkowa [zł] brutto | I6: Wartość [zł] brutto | J6: Producent/Nazwa handlowa | K6: EAN
A7: 1 | B7: Calcium gluconatum 95-100mg/ml | C7: op=5amp | D7: 1200
B8: suma
B13: Data | F13: Podpis osoby/osób upoważnionej
B14: ……………………………………………. | F14: ……………………………….

Sheet Zadanie nr 39
A1: Załącznik nr 9 | G1: ZOZ/DZP/PN/19/23
A3: Zadanie nr 39 - Długo i krótko działające analogi insuliny i barbituran
A4: Lp. | B4: Nazwa produktu | C4: Jednostka miary | D4: Ilość | E4: Cena jednostkowa[zł] netto | F4: Wartość [zł] netto | G4: VAT | H4: Cena jednostkowa [zł] brutto | I4: Wartość [zł] brutto | J4: Producent/Nazwa handlowa | K4: EAN
A5: 1 | B5: Insulinum glargine 300j. /ml | C5: 10 wstrzykiwaczy | D5: 15
A6: 2 | B6: Insulinum glargine 100j. /ml | C6: 5 wstrzykiwaczy | D6: 15
A7: 3 | B7: Insulinum glulisine 100j./ml | C7: 5 wstrzykiwaczy | D7: 15
A8: 4 | B8: Insulina Lizpro 100 j./ml, roztwór do wstrzykiwań, 10 wkładów po 3 ml | C8: 10 wstrzykiwaczy | D8: 15
A9: 5 | B9: Insulina glargine + liksysenatyd 100 jednostek/ml + 33 mikrogramów/ml, roztwór do wstrzykiwań we wstrzykiwaczu | C9: 3 wstrzykiwacze | D9: 15
A10: 6 | B10: Insulina glargine + liksysenatyd 100 jednostek/ml + 50 mikrogramów/ml, roztwór do wstrzykiwań we wstrzykiwaczu | C10: 3 wstrzykiwacze | D10: 15
B11: Razem
B15: …………….., dnia ………………… ……………………………………
B16: Podpis
B17: osoby upoważnionej

Sheet Zadanie nr 47
A2: Załącznik nr 9 | G2: ZOZ/DZP/PN/19/23
A4: Zadanie nr 47 -Diety w proszku
A5: Lp. | B5: Nazwa produktu | C5: Jednostka miary | D5: Ilość | E5: Cena jednostkowa[zł] netto | F5: Wartość [zł] netto | G5: VAT | H5: Cena jednostkowa [zł] brutto | I5: Wartość [zł] brutto | J5: Producent/Nazwa handlowa | K5: EAN
A6: 1 | B6: Dieta kompletna do żywienia drogą doustną, wysokokaloryczna, wysokobiałkowa, zawartość białka 15-19g porcja, na baziebiałka serwatkowego, zawartość błonnika maksimum 5g w porcji, 30-32g węglowodanów, składniki mineralne, osmolarność: 290-490mOsm/l zawartośc energetyczna 250-300kcal/porcja. | C6: Op 6 x 65 g. | D6: 10
A7: 2 | B7: Doustny preparat skład:z L -arginina 5 g na porcję, hydorlizat kolagenu, witaminy A i C oraz chelat cynku. Dla pacjenów z odleżynami i trudno gojącymi się ranami. | C7: op. 10x 13 g | D7: 10
A8: 3 | B8: Dieta kompletna do żywienia drogą doustną, wysokokaloryczna, wysokobiałkowa doustgna na bazie hydrolizatu drobiowego HBD, 22g białka 100g, hiperkaloryczna 400kcal/100g, zawiera L argininę 1,7g/100g, 13 witamin, oraz 13 składników mineralnych. | C8: op. 4 saszetki po 100 g | D8: 10
A9: 4 | B9: Wysokobiałkowy doustny przeparat żywieniowy w postaci proszku, do stosowania w hipoproteinemii, stanowiący dodatkowe źródło białka dla pacjentów,zaeartośc białka 5g w porcji. | C9: Op 260 g. | D9: 20
B10: RAZEM
B14: Data | G14: Podpis osoby/osób upoważnionej
B15: ……………………………………………. | G15: ………………………….. | H15: ……………………………….

Sheet Zadanie nr 51
A1: Załącznik nr 9 | G1: ZOZ/DZP/PN/19/23
A4: Zadanie nr – 51 Smoczki i butelki
A5: Lp. | B5: Nazwa produktu | C5: Jednostka miary | D5: Ilość | E5: Cena jednostkowa[zł] netto | F5: Wartość [zł] netto | G5: VAT | H5: Cena jednostkowa [zł] brutto | I5: Wartość [zł] brutto | J5: Producent/Nazwa handlowa/Numer katalogowy
A6: 1 | B6: Smoczek z elastomeru dla niemowląt 0-3 miesiące do butelek typu bebiko RTF 1 płyn, sterylne, pakowane pojedyńczo. | C6: op=48szt | D6: 180
A7: 2 | B7: Smoczek z elastomeru dla wcześniaków do butelek typu bebiko RTF 1 płyn, sterylne, pakowane pojedyńczo. | C7: op=48szt | D7: 10
A8: 3 | B8: Smoczek stosowany przy rozszczepie podniebienia. | C8: 1 szt. | D8: 50
A9: 4 | B9: Butelka jednorazowa gotowa do użytku dla niemowląt z nakrętką. | C9: 1 szt. po 50ml lub 80ml | D9: 650
A10: 5 | B10: Butelka jednorazowa gotowa do użytku dla niemowląt z nakrętką. | C10: Op=78 szt. po 230-250ml | D10: 12
A11: 6 | B11: Gruszka z miękkim końcem nr 2 | C11: 1szt. | D11: 30
B12: Razem
B15: Data | H15: Podpis osoby/osób upoważnionej
B16: ……………………………………………. | H16: ………………….. | I16: ……………………………….

Sheet Zadanie nr 52
A1: Załącznik nr 9 | G1: ZOZ/DZP/PN/19/23
A3: Zadanie 52 Przyrząd do nebulizacji.
A4: Lp. | B4: Nazwa produktu | C4: Jednostka miary | D4: Ilość | E4: Cena jednostkowa[zł] netto | F4: Wartość [zł] netto | G4: VAT | H4: Cena jednostkowa [zł] brutto | I4: Wartość [zł] brutto | J4: Producent/Nazwa handlowa/Numer katalogowy
A5: 1 | B5: Przyrząd typu MAD Nasal ze strzykawką 3ml | C5: Op=25 szt | D5: 6
B9: Data | G9: Podpis osoby/osób upoważnionej
B10: ……………………………………………. | G10: ……………………………….

Sheet Zadanie nr 54
A2: Załącznik nr 9 | G2: ZOZ/DZP/PN/19/23
B3: Zadanie nr 54 – Osłonki na zęby
A4: Lp. | B4: Nazwa produktu | C4: Jednostka miary | D4: Ilość | E4: Cena jednostkowa[zł] netto | F4: Wartość [zł] netto | G4: VAT | H4: Cena jednostkowa [zł] brutto | I4: Wartość [zł] brutto | J4: Producent/Nazwa handlowa/Numer katalogowy
A5: 1 | B5: Silikonowe lub innego miękkiego tworzywa nakładki na zęby dla dorosłych, sterylne lub mikrobiologicznie czyste | C5: szt | D5: 300
B6: RAZEM
B11: Data | G11: Podpis osoby/osób upoważnionej
B12: ……………………………………………. | G12: ……………………………….

Sheet podsumowanie
C7: L.p. | D7: Przedmiot zamówienia | E7: wartość netto | F7: wartość brutto | G7: netto euro | H7: euro brutto
C8: 1 | D8: Zadanie nr 1 - Leki różne | E8: =#REF! -> #REF! | F8: =#REF! -> #REF! | G8: =E8/$J$8 -> #REF! | H8: =F8/$J$8 -> #REF! | J8: 4.4536
C9: 2 | D9: Zadanie nr 2 - Płyny infuzyjne pojemnikach stojących | E9: =#REF! -> #REF! | F9: =#REF! -> #REF! | G9: =E9/$J$8 -> #REF! | H9: =F9/$J$8 -> #REF!
C10: 3 | D10: Zadanie nr 3 - Płyny infuzyjne | E10: =#REF! -> #REF! | F10: =#REF! -> #REF! | G10: =E10/$J$8 -> #REF! | H10: =F10/$J$8 -> #REF!
C11: 4 | D11: Zadanie nr 4 - Enoxaparinum | E11: =#REF! -> #REF! | F11: =#REF! -> #REF! | G11: =E11/$J$8 -> #REF! | H11: =F11/$J$8 -> #REF!
C12: 5 | D12: Zadanie nr 5 - Nadroparinum | E12: =#REF! -> #REF! | F12: =#REF! -> #REF! | G12: =E12/$J$8 -> #REF! | H12: =F12/$J$8 -> #REF!
C13: 6 | D13: Zadanie nr 6 - Leki różne 2 | E13: =#REF! -> #REF! | F13: =#REF! -> #REF! | G13: =E13/$J$8 -> #REF! | H13: =F13/$J$8 -> #REF!
C14: 7 | D14: Zadanie nr 7 - Albuminy | E14: =#REF! -> #REF! | F14: =#REF! -> #REF! | G14: =E14/$J$8 -> #REF! | H14: =F14/$J$8 -> #REF!
C15: 8 | D15: Zadanie nr 8 - Leki różne 14 | E15: =#REF! -> #REF! | F15: =#REF! -> #REF! | G15: =E15/$J$8 -> #REF! | H15: =F15/$J$8 -> #REF!
C16: 9 | D16: Zadanie nr 9 - Leki anestezjologiczne | E16: =#REF! -> #REF! | F16: =#REF! -> #REF! | G16: =E16/$J$8 -> #REF! | H16: =F16/$J$8 -> #REF!
C17: 10 | D17: Zadanie nr 10 - Sevofluran | E17: =#REF! -> #REF! | F17: =#REF! -> #REF! | G17: =E17/$J$8 -> #REF! | H17: =F17/$J$8 -> #REF!
C18: 11 | D18: Zadanie nr 11 - Mleko + preparaty dietetyczne | E18: =#REF! -> #REF! | F18: =#REF! -> #REF! | G18: =E18/$J$8 -> #REF! | H18: =F18/$J$8 -> #REF!
C19: 12 | D19: Zadanie nr 12 – Leki ZOL | E19: =#REF! -> #REF! | F19: =#REF! -> #REF! | G19: =E19/$J$8 -> #REF! | H19: =F19/$J$8 -> #REF!
C20: 13 | D20: Zadanie nr 13 – Amoxycylina z inhibitorem | E20: =#REF! -> #REF! | F20: =#REF! -> #REF! | G20: =E20/$J$8 -> #REF! | H20: =F20/$J$8 -> #REF!
... C32: 25 | D32: Zadanie nr 25 - Leki OAIiT | E32: =#REF! -> #REF! | F32: =#REF! -> #REF! | G32: =E32/$J$8 -> #REF! | H32: =F32/$J$8 -> #REF!
C33: 26 | D33: Zadanie nr 26 – Terapia nerkozastępcza do aparatu OMNI | E33: ='Zadanie nr 26.'!F11 -> 0 | F33: ='Zadanie nr 26.'!I11 -> 0 | G33: =E33/$J$8 -> 0 | H33: =F33/$J$8 -> 0
C34: 27 | D34: Zadanie nr 27 - Propofolum | E34: =#REF! -> #REF! | F34: =#REF! -> #REF! | G34: =E34/$J$8 -> #REF! | H34: =F34/$J$8 -> #REF!
C35: 28 | D35: Zadanie nr 28 - Leki Hospicjum | E35: =#REF! -> #REF! | F35: =#REF! -> #REF! | G35: =E35/$J$8 -> #REF! | H35: =F35/$J$8 -> #REF!
C36: 29 | D36: Zadanie nr 29 - Leki przeciwbólowe | E36: =#REF! -> #REF! | F36: =#REF! -> #REF! | G36: =E36/$J$8 -> #REF! | H36: =F36/$J$8 -> #REF!
C37: 30 | D37: Zadanie nr 30 -Leki okulistyczne 2 | E37: =#REF! -> #REF! | F37: =#REF! -> #REF! | G37: =E37/$J$8 -> #REF! | H37: =F37/$J$8 -> #REF!
C38: 31 | D38: Zadanie nr 31 - Kontrasty jodowe | E38: =#REF! -> #REF! | F38: =#REF! -> #REF! | G38: =E38/$J$8 -> #REF! | H38: =F38/$J$8 -> #REF!
C39: 32 | D39: Zadanie nr 32 - Acidum ibandronicum | E39: =#REF! -> #REF! | F39: =#REF! -> #REF! | G39: =E39/$J$8 -> #REF! | H39: =F39/$J$8 -> #REF!
C40: 33 | D40: Zadanie nr 33 - Imigluceraza i eliglustat | E40: =#REF! -> #REF! | F40: =#REF! -> #REF! | G40: =E40/$J$8 -> #REF! | H40: =F40/$J$8 -> #REF!
C41: 34 | D41: Zadanie nr: 34- Ferrum | E41: =#REF! -> #REF! | F41: =#REF! -> #REF! | G41: =E41/$J$8 -> #REF! | H41: =F41/$J$8 -> #REF!
C42: 35 | D42: Zadanie nr 35 - Glikokotykosteroidy | E42: =#REF! -> #REF! | F42: =#REF! -> #REF! | G42: =E42/$J$8 -> #REF! | H42: =F42/$J$8 -> #REF!
C43: 36 | D43: Zadanie nr: 36 - Desfluran | E43: =#REF! -> #REF! | F43: =#REF! -> #REF! | G43: =E43/$J$8 -> #REF! | H43: =F43/$J$8 -> #REF!
C44: 37 | D44: Zadanie nr: 37 – Metamizolum | E44: =#REF! -> #REF! | F44: =#REF! -> #REF! | G44: =E44/$J$8 -> #REF! | H44: =F44/$J$8 -> #REF!
C45: 38 | D45: Zadanie nr 38 – Calcium | E45: ='Zadanie 38'!F8 -> 0 | F45: ='Zadanie 38'!I8 -> 0 | G45: =E45/$J$8 -> 0 | H45: =F45/$J$8 -> 0
C46: 39 | D46: Zadanie nr 39 - Długo i krótko działające analogi insuliny i barbituran | E46: ='Zadanie nr 39'!F11 -> 0 | F46: ='Zadanie nr 39'!I11 -> 0 | G46: =E46/$J$8 -> 0 | H46: =F46/$J$8 -> 0
C47: 40 | D47: Zadanie nr 40 – Preaparat RTU | E47: =#REF! -> #REF! | F47: =#REF! -> #REF! | G47: =E47/$J$8 -> #REF! | H47: =F47/$J$8 -> #REF!
C48: 41 | D48: Zadanie nr 41 - Antybiotyki | E48: =#REF! -> #REF! | F48: =#REF! -> #REF! | G48: =E48/$J$8 -> #REF! | H48: =F48/$J$8 -> #REF!
C49: 42 | D49: Zadanie nr 42 -Leki okulistyczne | E49: =#REF! -> #REF! | F49: =#REF! -> #REF! | G49: =E49/$J$8 -> #REF! | H49: =F49/$J$8 -> #REF!
C50: 43 | D50: Zadanie nr 43 - Witamina K1 | E50: =#REF! -> #REF! | F50: =#REF! -> #REF! | G50: =E50/$J$8 -> #REF! | H50: =F50/$J$8 -> #REF!
C51: 44 | D51: Zadania nr 44 -Antybiotyki złożone | E51: =#REF! -> #REF! | F51: =#REF! -> #REF! | G51: =E51/$J$8 -> #REF! | H51: =F51/$J$8 -> #REF!
C52: 45 | D52: Zadanie nr 45 - Insuliny i analogi | E52: =#REF! -> #REF! | F52: =#REF! -> #REF! | G52: =E52/$J$8 -> #REF! | H52: =F52/$J$8 -> #REF!
C53: 46 | D53: Zadanie nr 46 - Budesonidum | E53: =#REF! -> #REF! | F53: =#REF! -> #REF! | G53: =E53/$J$8 -> #REF! | H53: =F53/$J$8 -> #REF!
C54: 47 | D54: Zadanie nr 47 -Diety w proszku | E54: ='Zadanie nr 47'!F10 -> 0 | F54: ='Zadanie nr 47'!I10 -> 0 | G54: =E54/$J$8 -> 0 | H54: =F54/$J$8 -> 0
C55: 48 | D55: Zadanie nr 48 - Preparaty przeczyszczające | E55: =#REF! -> #REF! | F55: =#REF! -> #REF! | G55: =E55/$J$8 -> #REF! | H55: =F55/$J$8 -> #REF!
C56: 49 | D56: Zadanie nr 49 Immunoglobuliny. | E56: =#REF! -> #REF! | F56: =#REF! -> #REF! | G56: =E56/$J$8 -> #REF! | H56: =F56/$J$8 -> #REF!
C57: 50 | D57: Zadanie nr 50 - Butelki do receptury | E57: =#REF! -> #REF! | F57: =#REF! -> #REF! | G57: =E57/$J$8 -> #REF! | H57: =F57/$J$8 -> #REF!
C58: 51 | D58: Zadanie nr – 51 Smoczki i butelki | E58: ='Zadanie nr 51'!F12 -> 0 | F58: ='Zadanie nr 51'!I12 -> 0 | G58: =E58/$J$8 -> 0 | H58: =F58/$J$8 -> 0
C59: 52 | D59: Zadanie 52 Przyrząd do nebulizacji. | E59: ='Zadanie nr 52'!F6 -> 0 | F59: ='Zadanie nr 52'!I6 -> 0 | G59: =E59/$J$8 -> 0 | H59: =F59/$J$8 -> 0
C60: 53 | D60: Zadanie nr: 53 – Strzykawki do żywienia | E60: =#REF! -> #REF! | F60: =#REF! -> #REF! | G60: =E60/$J$8 -> #REF! | H60: =F60/$J$8 -> #REF!
C61: 54 | D61: Zadanie nr 54 – Osłonki na zęby | E61: ='Zadanie nr 54'!F6 -> 0 | F61: ='Zadanie nr 54'!I6 -> 0 | G61: =E61/$J$8 -> 0 | H61: =F61/$J$8 -> 0
E62: =SUM(E8:E61) -> #REF! | F62: =SUM(F8:F61) -> #REF! | G62: =E62/$J$8 -> #REF! | H62: =F62/$J$8 -> #REF!
