Workbook
Name Print_Area_0: Zad.11!$A$1:$J$48
Name Print_Area_0: Zad.79!$A$1:$J$9

Sheet Zad.1
B1: ZOZ/DZP/PN/24/23
B2: Załącznik Nr: 9
A4: Zadanie nr: 1 - Cewniki, dreny, kanki, zgłębniki
A5: Lp. | B5: Nazwa produktu | C5: Jednostka miary | D5: Ilość | E5: Cena jednostkowa netto | F5: Wartość netto | G5: VAT | H5: Cena jednostkowa brutto | I5: Wartość brutto | J5: Producent/Nazwa handlowa/Numer katalogowy
A6: 1 | B6: Cewnik do odsysania Redon 12 F/70, z paskiem rtg silikonowane | C6: szt. | D6: 20
A7: 2 | B7: Cewnik do odsysania Redon 14 F/70, z paskiem rtg silikonowane | C7: szt. | D7: 350
A8: 3 | B8: Cewnik do odsysania Redon 16 F / 70, z paskiem rtg silikonowane | C8: szt. | D8: 100
A9: 4 | B9: Cewnik do odsysania Redon 18 F / 70, z paskiem rtg silikonowane | C9: szt. | D9: 100
A10: 5 | B10: Cewnik do odsysania Redon 20 F / 70, z paskiem rtg silikonowane | C10: szt. | D10: 20
A11: 6 | B11: Pojemnik typ Redon, sterylny o pojemności 200-250ml, końcówka schodkowa do załączenia drenów Redon, kształt płaski, pakowane w opakowanie papier folia. | C11: szt. | D11: 50
A12: 7 | B12: Cewnik do odsysania g. dróg oddech. C 4, dł. 40 cm | C12: szt. | D12: 50
A13: 8 | B13: Cewnik do odsysania g. dróg oddech. C 6, dł. 40 cm | C13: szt. | D13: 300
A14: 9 | B14: Cewnik do odsysania g. dróg oddech. C 8, dł. 40 cm | C14: szt. | D14: 800
A15: 10 | B15: Cewnik do odsysania g. dróg oddech. C 10, dł. 40 cm | C15: szt. | D15: 2300
A16: 11 | B16: Cewnik do odsysania g. dróg oddech. C 12, dł. 40-60 cm | C16: szt. | D16: 1800
A17: 12 | B17: Cewnik do odsysania g. dróg oddech. C 14, dł. 50-60 cm | C17: szt. | D17: 12000
... A64: 59 | B64: Zgłębnik Sengstakena G-16 | C64: szt. | D64: 5
B65: RAZEM | F65: =SUM(F6:F64) -> 0 | I65: =SUM(I6:I64) -> 0
B68: Data | H68: Podpis osoby/osób upoważnionej
B69: ……………………………………………. | I69: ……………………………….

Sheet Zad.2
B1: ZOZ/DZP/PN/24/23
B2: Załącznik Nr: 9
A4: Zadanie nr: 2 - Embolektomia, cewniki do żył centralnych, igły do znieczuleń
A5: Lp. | B5: Nazwa produktu | C5: Jednostka miary | D5: Ilość | E5: Cena jednostkowa netto | F5: Wartość netto | G5: VAT | H5: Cena jednostkowa brutto | I5: Wartość brutto | J5: Producent/Nazwa handlowa/Numer katalogowy
A6: 1 | B6: Cewnik do embolektomii F3/800 bal. 0,2 ml | C6: szt. | D6: 20
A7: 2 | B7: Cewnik do embolektomii F 4 / 800 bal. 0,7 ml | C7: szt. | D7: 10
A8: 3 | B8: Cewnik do embolektomii F 5/ 800 bal. 1,5 ml | C8: szt. | D8: 30
A9: 4 | B9: Cewnik do embolektomii F 6 / 800 bal. 2,0 ml | C9: szt. | D9: 20
A10: 5 | B10: Cewnik do żył centralnych met Seldingera 1- światł. 20 cm x 70 mm | C10: szt. | D10: 5
A11: 6 | B11: Cewnik do żył centralnych met Seldingera 2- światł. 20 cm x 70 mm | C11: szt. | D11: 50
A12: 7 | B12: Cewnik do żył centralnych met Seldingera 3- światł. 20 cm x 70 mm | C12: szt. | D12: 50
A13: 8 | B13: Cewnik pęcherzowo-miedniczkowy / szynowanie moczowodów / Dubble J 7 F 26 cm śr pętli 4 cm | C13: szt. | D13: 6
A14: 9 | B14: Dren do drenażu kl. piersiowej z trokarem 24 F | C14: szt. | D14: 30
A15: 10 | B15: Dren do drenażu kl. piersiowej z trokarem 28 F | C15: szt. | D15: 30
A16: 11 | B16: Igła do znieczuleń z ostrzem typu Pencil-Point o długości 88-90mm, w komplecie z igłą prowadzącą 20-22G, igła wykonana z wysokiej jakości stali nierdzewnej, przeźroczysta nasadka, ułatwiająca wizualizację płynu, karbowany uchwyt. 25-27G | C16: szt. | D16: 450
A17: 11A | B17: Igła do znieczuleń IPPS Quincke 18G-26G x 90mm Do wyboru przy zakupie | C17: szt. | D17: 50
A18: 12 | B18: Elektroda endokawitarna do czasowej stymulacji serca(bipolarna) skład:Kateter 6F, odlekłośc między odprowadzeniami 10mm, zakończenie Tip Z długośc katetera 110cm, geometria wtyku 15x2,0mm | C18: szt. | D18: 10
A19: 13 | B19: Zestaw z zastawką do wprowadzania i wymiany kateterów oraz elektrod endokawitarnych, skład: Koszulka z zastawką 6Fx11cm z kranikiem trójdrożnym, rozszerzacz 6Fx 18cm, Prowadnik J.035”x4cm, Igła prosta 18Gx7cm | C19: szt. | D19: 10
A20: 14 | B20: Kateter do odsysania ran typu redon, rozmiar 12-18CH. Dł. 50 lub 70cm Do wyboru przy zamówieniu. | C20: szt. | D20: 50
A21: 15 | B21: Zestaw do cystostomii: Katerer typu PIGTAIL 8F,9F,10F,12F,14F/45cm z poliuretanu slikonowego z igłą z koszulką rozrywealną 8F/80mm, 9F/80mm, 12F/120mm w komplecie, strykawka 10ml luer-lock, skalpel, kołnież mocujący, Opaska zaciskowa. Rozmiar do wyboru przy zakupie. | C21: 1kpl. | D21: 10
B22: RAZEM | F22: =SUM(F6:F21) -> 0 | I22: =SUM(I6:I21) -> 0
B24: Data | H24: Podpis osoby/osób upoważnionej
B25: ……………………………………………. | I25: ……………………………….

Sheet Zad.3
B1: ZOZ/DZP/PN/24/23
B2: Załącznik Nr: 9
A3: Zadanie nr: 3 – Osłony na ramię C
A4: Lp. | B4: Nazwa produktu | C4: Jednostka miary | D4: Ilość | E4: Cena jednostkowa netto | F4: Wartość netto | G4: VAT | H4: Cena jednostkowa brutto | I4: Wartość brutto | J4: Producent/Nazwa handlowa/Numer katalogowy
A5: 1 | B5: Osłona sterylna na przewody tubus złożona teleskopowo 16 x 200 cm z taśmą do mocowania na końcach | C5: szt. | D5: 700
A6: 2 | B6: Sterylny pokrowiec na ramię C aparatu rtg o wymiarach 100x160cm, wykonany z mocnej przezroczystej folii PE z 2 osłonami z gumką oraz 2 taśm. | C6: szt. | D6: 140
A7: Razem | F7: =SUM(F5:F6) -> 0 | I7: =SUM(I5:I6) -> 0
B9: Data | H9: Podpis osoby/osób upoważnionej
B10: ……………………………………………. | I10: ……………………………….

Sheet Zad.4
B2: ZOZ/DZP/PN/24/23
B3: Załącznik Nr: 9
A4: Zadanie nr: 4 - Elektromedycyna
A5: Lp. | B5: Nazwa produktu | C5: Jednostka miary | D5: Ilość | E5: Cena jednostkowa netto | F5: Wartość netto | G5: VAT | H5: Cena jednostkowa brutto | I5: Wartość brutto | J5: Producent/Nazwa handlowa/Numer katalogowy
A6: 1 | B6: Elektrody do EKG z żelem dla noworodków | C6: Op=50 szt. | D6: 11
A7: 2 | B7: Elektrody do EKG z żelem dla dzieci | C7: Op=50 szt. | D7: 30
A8: 3 | B8: Elektrody do EKG do badań spoczynkowych 44-30mm w kształcie prostokąta | C8: Op=50 szt. | D8: 1200
A9: 4 | B9: Elektrody do EKG do badań holterowskich i wysiłkowych, prostokątna z podłuznym otworem do mocowania przewodu o wyminarach 55x40mm | C9: Op=50 szt. | D9: 600
A10: 5 | B10: Elektrody do EKG Holter do próby wysiłkowej prostokątna z zaokraglonymi rogami i wypustką o wymiarach 50x40mm | C10: Op=50 szt. | D10: 100
A11: 6 | B11: Elektroda do EKG z możliwością użycia w promieniach RTG dla dorosłych, okrągła o wymiarach 45x42mm z wypustką do badań spoczynkowych | C11: Op=50 szt. | D11: 300
A12: 7 | B12: Elektrody przedsercowe, przyssawkowe komplet 6 szt. dla dorosłych | C12: 1 komplet | D12: 15
A13: 8 | B13: Elektrody przedsercowe, przyssawkowe komplet 6 szt. dziecięce | C13: 1 komplet | D13: 5
A14: 9 | B14: Elektrody kończynowe, klamrowe komplet 4 szt. dla dorosłych | C14: 1 komplet | D14: 16
A15: 10 | B15: Elektrody kończynowe, klamrowe komplet 4 szt. dla dzieci | C15: 1 komplet | D15: 2
A16: 11 | B16: Elektroda do stymulacji serca typu Quick – Combo RTS | C16: op. 2 szt. | D16: 20
A17: 12 | B17: Elektroda silikonowo węglowa do elektroterapii pasująca do urządzenia BTL, rozmiar 6x6cm | C17: szt. | D17: 12
... A37: 32 | B37: Papier termiczny na rolce 57mm x 30m bez nadruku | C37: szt. | D37: 220
B38: RAZEM | F38: =SUM(F6:F37) -> 0 | I38: =SUM(I6:I37) -> 0
B40: Data | H40: Podpis osoby/osób upoważnionej
B41: ……………………………………………. | I41: ……………………………….

Sheet Zad.5
B2: ZOZ/DZP/PN/24/23
B3: Załącznik Nr: 9
A4: Zadanie nr: 5 - Sterylizacja
A5: Lp. | B5: Nazwa produktu | C5: Jednostka miary | D5: Ilość | E5: Cena jednostkowa netto | F5: Wartość netto | G5: VAT | H5: Cena jednostkowa brutto | I5: Wartość brutto | J5: Producent/Nazwa handlowa/Numer katalogowy
A6: 1 | B6: Rękaw fol.- pap. bez fałdy, płaski 50 mm x 200m | C6: szt. | D6: 4
A7: 2 | B7: Rękaw fol.- pap. bez fałdy, płaski 75mm x 200m | C7: szt. | D7: 25
A8: 3 | B8: Rękaw fol.- pap. bez fałdy, płaski 100 mm x 200m | C8: szt. | D8: 25
A9: 4 | B9: Rękaw fol.- pap. bez fałdy, płaski 120mm x 200m | C9: szt. | D9: 20
A10: 5 | B10: Rękaw fol.- pap. bez fałdy, płaski 150 mm x 200m | C10: szt. | D10: 30
A11: 6 | B11: Rękaw fol.- pap. bez fałdy, płaski 200-210 mm x 200m | C11: szt. | D11: 20
A12: 7 | B12: Rękaw fol.- pap. bez fałdy, płaski 300mm x 200m | C12: szt. | D12: 20
A13: 8 | B13: Rękaw fol.-pap z fałdą 150 mm x 100m | C13: szt. | D13: 45
A14: 9 | B14: Rękaw fol.-pap z fałdą 200 mm x 100m | C14: szt. | D14: 20
A15: 10 | B15: Rękaw fol.-pap z fałdą 300 mm x 100m | C15: szt. | D15: 15
A16: 11 | B16: Rękaw fol.-pap z fałdą 400 mm x 100m | C16: szt. | D16: 20
A17: 12 | B17: Taśma neutralna 19 mm | C17: szt. | D17: 60
... A32: 27 | B32: Torebki papierowo-foliowe samoklejące 300 mm x 450 mm op. a 200 szt. | C32: op.=200szt | D32: 20
B33: RAZEM | F33: =SUM(F6:F32) -> 0 | I33: =SUM(I6:I32) -> 0
B35: Poz 1-11
B36: Parametry techniczne:
A37: - | B37: gramatura min 60g/m2
A38: - | B38: wskaźniki sterylizacji umieszczone poza obszarem pakowania na linii zgrzewu
A39: - | B39: 2 wskaźniki sterylizacji: para wodna/tlenek etylenu
A40: - | B40: folia 6-warstwowa wraz z warstwą kleju
A41: - | B41: na każdym rękawie papierowo-foliowym umieszczony wymiar nominalny rękawa (długość i szerokość numer serii)
A42: - | B42: zgrzew fabryczny 3-kanałowy
B43: Poz 18
A44: - | B44: Polyolefin i folia połączone są 3-kanałowym zgrzewem fabrycznym, którego wytrzymałość wynosi 6 Nm.
A45: - | B45: Laminat foliowy wykonany z 6-warstwowego kompozytu poliestru i polipropylenu o grubości 50μm, oraz polyolefin o gramaturze 93g/m2
B47: Data | H47: Podpis osoby/osób upoważnionej
B48: ……………………………………………. | H48: ……………………………….

Sheet Zad.6
B2: ZOZ/DZP/PN/24/23
B3: Załącznik Nr: 9
A4: Zadanie nr: 6 – Rękawice diagnostyczne
A5: Lp. | B5: Nazwa produktu | C5: Jednostka miary | D5: Ilość | E5: Cena jednostkowa netto | F5: Wartość netto | G5: VAT | H5: Cena jednostkowa brutto | I5: Wartość brutto | J5: Producent/Nazwa handlowa/Numer katalogowy
A6: 1 | B6: Rękawice lateksowe,z zewnętrzną warstwą polimerową, diagnostyczne, bezpudrowe, niejałowe. Długość rękawic min:245mm, grubość na palcu min. 0,10mm, na dłoni min. 0,08mm, na mankiecie: min. 0,06mm. Teksturowane na całej powierzchni. Siła zrywu przed starzeniem min. 6N, po starzeniu min. 6N. Zawartość protein <70ug/g. AQL max. 1,5. Wyrób medyczny klasy I zgodnie z Rozporządzeniem (UE) 2017/745 oraz środek ochrony indywidualnej kat. III typ B zgodnie z Rozporządzeniem (UE) 2016/425. Zgodne z normą EN 455 część 1,2,3 i 4, EN ISO 374-1, EN ISO 374 – 2, EN ISO 374-4,EN ISO 374-5, EN 16523-1, EN ISO 21420. Odporność na wirusy wykazana zgodnie z normą EN ISO 374-5. Dopuszczenie do kontaktu z żywnością zgodnie z Rozporządzeniem WE 1935/2004, Rozporządzeniem WE 10/2011 oraz Rozporządzeniem WE 2023/2006 ( potwierdzone deklaracją producenta), Termin ważności 5 lat od daty produkcji. Rozmiar od XS-XL do wyboru przy zakupie. | C6: op.100szt | D6: 2500
A7: 2 | B7: Rękawice nitrylowe, bezpudrowe, niejałowe, mankiet rolowany, kolor niebieski, powierzchnia zewnętrzna teksturowana na końcach palców, powierzchnia wewnętrzna chlorowana, długość min 240mm. AQL max 1.0. Grubość na palcu min 0,12mm, na dłoni min. 0,10 mm, na mankiecie min. 0,08mm. Siła zrywu przed starzeniem 7N, po starzeniu min. 7N. Rekawice zgodne z Rozporządzeniem (UE) 2017/745 zakwalifikowane jako wyrób medyczny w klasie I oraz Rozporządzeniem (UE) 2016/425 o środkach ochrony indywidualnej w kategorii III typ B. Rękawice zgodne z normą EN 455 (1-4), zgodne z normą EN ISO 374-1, EN ISO 374 – 2, EN 374-4, EN 16523-1,EN ISO 374-5. Rękawice przebadane na przenikanie mikroorganizmów zgodnie z EN ISO 374-5 lub ASTM F1671:07. Potwierdzony badaniem z niezależnego laboratorium na brak przebicia rękawicy dla min. 40 cytostatyków przez min 240min. oraz dla fentanylu przez min 240min. wg ASTM D6978. Dopuszczone do kontaktu z żywnością zgodnie z Rozporządzeniem WE 1935/2004, Rozporządzeniem WE 10/2011 oraz Rozporządzeniem WE nr2023/2006 ( potwierdzone deklaracją producenta. Termin ważności 5 lat od daty produkcji Rozmiar XS-XL do wyboru przy zakupie. | C7: op. 100 szt | D7: 32000
A8: 3 | B8: Rękawice nitrylowe, bezpudrowe, niejałowe, o przedłużonym mankiecie, do procedur wysokiego ryzyka, wewnętrznie chlorowane, teksturowane na końcach palców, grubość ścianki na palcu min 0,14mm, na dłoni min. 0,10 mm, na mankiecie min. 0,07mm, o długości min 290mm, AQL 1.0, siła zrywu przed starzeniem min. 9 N, po starzeniu min.8 N. Rękawice odporne na przenikanie wirusów zgodnie z EN ISO 374-5 lub ASTM F1671:07. Potwierdzony badaniem z niezależnego laboratorium brak przebicia rękawicy dla min. 30 cytostatyków przez min 240min. oraz fentanylu przez min.240 min. wg ASTM D6978. Potwierdzony badaniami z niezależnego laboratorium zgodnie z ASTM F739 brak przebicia dla min. 5 związków o działaniu dezynfekcyjnym >480 min. ( w tym 4% chlorheksydyny oraz przebicia dla min. 70% izopropanol przez min. 24 min. Potwierdzony badaniami z niezaleznego laboratorium brak wykrycia w rękawicy szkodliwych akceleratorów chemicznych. Rękawice zgodne z Rozporządzeniem(UE) 2017/745 w klasie I oraz Rozporządzeniem (UE) 2016/425 o środkach ochrony indywidualnej w kategorii III typ B, rękawice zgodne z EN 455 (1-4), zgodne z EN ISO 374-1, EN ISO 374-2, EN16523-1, EN ISO 374-4, EN ISO 374-5. Dopuszczone do kontaktu z żywnością zgodnie z Rozporządzeniem WE 1935/2004, Rozporządzeniem WE 10/2011 oraz Rozporządzeniem (WE) nr 2023/2006 (potwierdzone deklaracją producenta). Termin ważności 5 lat od daty produkcji.Rozmiar XS-XL do wyboru przy zakupie. | C8: op.100szt | D8: 2000
A9: 4 | B9: Rękawice nittylowe, bezpudrowe, niejałowe, mankiet rolowany, kolor zielony. Powierzchnia zewnętrzna teksturowana na palcach. Powierzchnia wewnętrzna chlorowana. AQL max 1,5, siła zrywu przed starzeniem oraz po starzeniu min. 6,5 N ( potwierdzone badaniem z niezależnego laboratorium). Długość min. 245 mm, grubość pojedynczej ścianki na palcu min 0,09 mm, na dłoni 0,07 mm, na mankiecie min 0,06 mm. Potwierdzony badaniem z niezależnego laboratorium brak przenikania oprzez rękawicę dla min 12 cytostatykó przez min 240 min. wg ASTM D6978. Rękawice z formułą certyfikowanego, organicznego i oczyszczonego wyciągu z aloesu o właściwościach nawilżających i niskim potencjale zapalenia skóry. Ocena efektu nawilżenia skóry ( potwierdzona badaniem Modifield Draize-95 Test). Rękawice odporne na przenikanie mikroorganizmów zgodnie z EN ISO 374-5. Rękawice odporne na przenikanie mikroorganizmów zgodnie z EN ISO 374-5. Rękawice zgodne z Rozporządzeniem (UE) 2017/745 zaklasyfikowane jako wyroby medyczne w klasie I oraz zgodne z Rozporządzeniem (ue) 2016/425 o środkach ochrony indywidualnej w kategorii III typ B. Rękawice zgodne z wymaganiami norm EN 455(1-4), EN ISO 374-2, EN 374-4, EN ISO 374-5, EN ISO EN ISO 21420., rozmiar od XS-XL | C9: op.100szt | D9: 2000
A10: 5 | B10: Rękawice nitrylowe, bezpudrowe, niejałowe, mankiet rolowany, kolor fioletowy. Powierzchnia zewnętrzna te4ksturowana na palcach. Powierzchnia wewnętrzna chlorowana. Teksturowane końcówki palców o właściwościach adhezyjnch, w celu zapewnienia precyzji podczas pracy z małymi przedmiotami w środowisku zarówno suchym jak i mokrym ( potwierdzone oświadczeniem producenta). Długość rękawicy min 250 mm ( potwierdzone niezależnymi badaniami), AQL max 1,5. Grubość pojedynczej ścianki na palcu 0,10-0,12 mm, na dłoni 0,07-0,08 mm. Minimalna wartość siły zrywu przed starzeniem i po starzeniu min 7N ( potwierdzone niezależnym badaniem). Rękawice zgodne z Rozporządzeniem (UE) 2017/745 zaklasyfikowane jako wyroby medyczne w klasie I oraz zgodne z Rozporządzeniem (UE) 2016/425 o środkach ochrony indywidualnej w kat III typ B, rękawice zgodne z EN 455 (1-4), zgodne z EN ISO 374-1, EN ISO 374-4, EN ISO 374-5. Rękawice odporne na przenikanie bakterii, grzybów i wirusów zgodnie z EN ISO 374-5. Zgodne z ASTM D6978 oraz potwierdzone badaniem z niezależnego laboratorium, brak przenikania przez rękawicę dla min 7 cytostatyków przez min 240 min. wg ASTM D6978. Opakowanie A 100 szt rozm S-XL | C10: op.=100 szt | D10: 1000
A11: 6 | B11: Rękawice foliowe PE , rozmiar M-L | C11: op=100szt. | D11: 1000
B12: RAZEM | F12: =SUM(F6:F11) -> 0 | I12: =SUM(I6:I11) -> 0
B20: Data | H20: Podpis osoby/osób upoważnionej
B21: ……………………………………………. | H21: ……………………………….

Sheet Zad.7
B2: ZOZ/DZP/PN/24/23
B3: Załącznik Nr: 9
B4: Zadanie nr: 7 – Kaniule, aparaty do przygotowywania i pobierania leków z butelek
A5: Lp. | B5: Nazwa produktu | C5: Jednostka miary | D5: Ilość | E5: Cena jednostkowa netto | F5: Wartość netto | G5: VAT | H5: Cena jednostkowa brutto | I5: Wartość brutto | J5: Producent/Nazwa handlowa/Numer katalogowy
A6: 1 | B6: Aparat do przygot. i pobierania leków z butelek z filtrem bakteryjnym 0,45 mikrometra z odpowietrznikiem z zamknięciem zatrzaskowym z mikrokolcem | C6: szt. | D6: 16000
A7: 2 | B7: Przyrząd do aspiracji leku z butelek, z wbudowanym filtrem bakteryjnym 0,45µm i filtrem cząsteczkowym 5µm, nieruchoma osłona otaczająca nasadkę łączącą ze strzykawką, zintegrowana zastawka zabezpieczająca lek przed wyciekaniem po odłączeniu od strzykawki. | C7: szt. | D7: 6000
A8: 3 | B8: Kaniula dożylna typu bezpiecznego z portem bocznym od G-24 do G-17 zaopatrzona w specjalny metalowy automatyczny zatrzask zabezpieczający koniec igły przed przypadkowym zakłuciem personelu z minimum 4 paskami kontroli pod promieniowaniem RTG membrana hydrofobowa, chroniąca przed wypływem krwi po założeniu kaniuli | C8: szt. | D8: 50000
A9: 4 | B9: Kaniula dożylna typu bezpiecznego bez portu bocznego z zaworem eliminujacym całkowicie wypływ krwi podczas kaniulacji, od G-24 do G-17 zaopatrzona w specjalny metalowy automatyczny zatrzask zabezpieczający koniec igły przed przypadkowym zakłuciem personelu z minimum 4 paskami kontroli pod promieniowaniem RTG membrana hydrofobowa, chroniąca przed wypływem krwi po założeniu kaniuli | C9: szt. | D9: 1000
A10: 5 | B10: Koreczki dwufunkcyjne do kaniul i strzykawek | C10: szt. | D10: 25000
A11: 6 | B11: Korek do wenflonu Luer Lock | C11: szt. | D11: 100000
A12: 7 | B12: Korek dezynfekcyjny zawierający 70% alkohol izopropylowy, sterylny, z aplikatorem umożliwiający sterylne podłączenie, bez możliwości kontaminacji obudowy koreczka przed podłączeniem. | C12: op=200szt. | D12: 10
A13: 8 | B13: Skala pomiarowa do inf. systemu OCŻ od +35 do -15cm wielokrotnego użytku, plastik. Z 2 uchwytami, z efektem powiększenia wyniku | C13: szt. | D13: 10
A14: 9 | B14: Zestaw bezpieczny do przetoczeń płynów inf. z zastawkami : zatrzymującymi wypływ płynu przy odpowietrzaniu i zabezpieczającymi przed dostaniem się pow. do drenu po infuzji, z odpowietrznikiem z filtrem p/bakteryjnym z wskaźnikiem BFE minimum 99,99999% zamykanym klapką, dwuczęściowa komora kroplowa z 15μm filtrem, zaciskiem rolkowym z zabezpieczeniem na kolec komory kroplowej dla zapewnienia bezpieczeństwa po użyciu (ostry kolec umożliwiający całkowite opróżnienie butelki), wolny od ftalanów | C14: szt. | D14: 131000
A15: 10 | B15: Igła do bezpiecznego pobierania leków ze zintegrowanym filtrem 5µm, zapobiegająca zanieczyszczeniom mechanicznym pobieranych leków - opakowanie typu folia/papier. | C15: szt. | D15: 400
A16: 11 | B16: Rurka do bezpiecznego pobierania leków z filtrem 5µm, do pobierania leków z dużych ampułek i otwartych fiolek, długość robocza rurki min. 10cm - opakowanie typu folia/papier. | C16: szt. | D16: 200
A17: 12 | B17: Łącznik międzystrzykawkowy luer-lock umożliwiający swobodny transfer zawartości jednej strzykawki do drugiej - pakowane indywidualnie opak. folia/papier | C17: szt. | D17: 150
... A21: 16 | B21: Zestaw do przetoczeń płynów infuzyjnych światłoczułych z dwuczęściową komorą kroplową, odpowietrznikiem z filtrem p/bakteryjnym oraz miejscem na kolec komory kroplowej dla zapewnienia bezpieczeństwa po użyciu. Długość drenu 180 cm. Opakowanie pojedyncze, sterylne. | C21: szt. | D21: 1000
B22: RAZEM | F22: =SUM(F6:F21) -> 0 | I22: =SUM(I6:I21) -> 0
B24: Data | H24: Podpis osoby/osób upoważnionej
B25: ……………………………………………. | H25: ……………………………….

Sheet Zad.8
B2: ZOZ/DZP/PN/24/23
B3: Załącznik Nr: 9
A4: Zadanie nr: 8 – Testy do sterylizacji.
A5: Lp. | B5: Nazwa produktu | C5: Jednostka miary | D5: Ilość | E5: Cena jednostkowa netto | F5: Wartość netto | G5: VAT | H5: Cena jednostkowa brutto | I5: Wartość brutto | J5: Producent/Nazwa handlowa/Numer katalogowy
A6: 1 | B6: Pakiet jednokrotnego użytku typu Bowie-Dick,symulujący pakiet porowaty pakowany w papier krepowy, Testzapewniają łatwą i jednoznaczną interpretację wyniku - zmiana koloru. | C6: 1 szt. | D6: 1600
A7: 2 | B7: Test wieloparametrowy MVI-S S-4 test parowy liniowe ułożenie wskaźnika | C7: op=250 | D7: 150
A8: 3 | B8: Szybki test do wykrywania protein i hemoglobiny. Parametry techniczne: wynik w czasie nie krótszym niż 10 minut, test składający się z tuby i nasączonego tamponu. Wynik w postaci zmiany barwy odczynnika na fioletową. Test zapewniający weryfikację HACCP/SSOP | C8: op.=25szt | D8: 6
A9: 4 | B9: Test jednorazowy kontroli mycia w myjniach dezynfektorach. | C9: op.=100szt | D9: 25
A10: 5 | B10: Test jednorazowy rutynowej kontroli w myjniach ultradźwiękowych. | C10: op=50szt | D10: 5
A11: 6 | B11: Uchwyt do mocowania testów z pozycji 4,5 | C11: 1szt | D11: 8
A12: 7 | B12: Test kontroli zgrzewu | C12: Op=250 szt | D12: 6
B13: RAZEM | F13: =SUM(F6:F12) -> 0 | I13: =SUM(I6:I12) -> 0
B16: Data | H16: Podpis osoby/osób upoważnionej
B17: ……………………………………………. | H17: ……………………………….

Sheet Zad.9
B1: ZOZ/DZP/PN/24/23
B2: Załącznik Nr: 9
A3: Zadanie nr 9 –Rękawice chirurgiczne.
A4: Lp. | B4: Nazwa produktu | C4: Jednostka miary | D4: Ilość | E4: Cena jednostkowa netto | F4: Wartość netto | G4: VAT | H4: Cena jednostkowa brutto | I4: Wartość brutto | J4: Producent/Nazwa handlowa/Numer katalogowy
A5: 1 | B5: Rękawice chirurgiczne, sterylne, ortopedyczne, bezpudrowe, o wysokie odporności na przekłucia i rozdarcia oraz wytrzymałe i rozciągliwe spełniające wymogi zabiegów podwyższonego ryzyka, chirurgii urazowej, ortopedycznej oraz rekonstrukcyjnej. Parametry techniczne : lateksowe kolor brązowy, kształt anatomiczny, rolowany mankiet, teksturowane, chlorowane i silikonowane na zewnątrz, pokryte warstwą poliuretanową i silikonowane od wewnątrz. Średnie grubości pojedynczej ścianki na palcu min. 0,33mm, na części dłoniowej min. 0,30mm, na mankiecie min. 0,26mm, minimalna długość rękawicy 295mm, rozmiary 6,0-9,0, AQL 1,0, poziom protein <30μg/g, jałowe, pakowane w opakowanie foliowe - wyjątkowo odporne na wilgoć. | C5: Para | D5: 3000
A6: 2 | B6: Rękawice chirurgiczne sterylne bezpudrowe mikrochirurgiczne, wykonane z lateks kauczuku naturalnego koloru brązowego mankiet z rolowanym brzegiem. Powierzchnia zewnętrzna: gładka, chlorowana i silikonowana, powierzchnia wewnętrzna: pokryta warstwą poliuretanową i silikonowana. Średnia grubość pojedynczej ścianki na palcu min. 0,18mm, na części dłoniowej min. 0,15mm, na mankiecie min. 0,12mm. Długość minimalna rękawicy 295mm, AQL: 1,0 zawartość protein <30μg/g, pakowane w opakowania foliowe -wyjątkowo odporne na wilgoć, rozmiary 6,0-9,0 | C6: Para | D6: 2500
A7: 3 | B7: Rękawice chirurgiczne jałowe, z lateksu kauczuku naturalnego, pudrowane. Powierzchnia zew. teksturowana, z rolowanym mankietem, o anatomicznym kształcie. Długość rękawicy min.280mm. Grubość ścianki o obszarze środkowego palca min. 0.21mm, dł. min. 0.20mm, mankietu min. 0.15mm., AQL1.0, poziom protein <70ug. Rozmiary 6,0-9,0 | C7: Para | D7: 26000
A8: 4 | B8: Rękawice chirurgiczne sterylne, bezpudrowe, lateks kauczuku naturalnego, kształt anatomiczny, mankiet prosty bez rolowanego zakończenia, powierzchnia zewnętrzna – mikroteksturowana, chlorowana, powierzchnia wewnętrzna – chlorowana. Średnia grubości pojedynczych ścianek: min. palec 0,220mm, dłoń min. 0,205mm, mankiet min. 0,240mm. Długość minimalna rękawicy 285mm, zawartość protein <30μg/g AQL-1,0, rozmiar 6,0-9,0 | C8: para | D8: 17200
A9: 5 | B9: Rękawice chirurgiczne neoprenowe kolor kremowy, jałowe,. Długość rękawicy min.300 mm, mankiet rolowany. Powierzchnia zewnętrzna teksturowana, chlorowana i silikonowana. Powierzchnia wewnętrzna pokryta warstwą poliuretanową i silikonowana. Średnia grubość pojedynczej ścianki na palcu 0,16 mm, na części dłoniowej 0,15 mm, na mankiecie 0,15 mm. AQL 1,0. Rękawice zgodne z Dyrektywa o Wyrobie Medycznym MDD 93/42/EEC & 2007/47/EC w klasie II a, zgodne z wymaganiami normy EN 455 część 1-4). Rozmiar 6-9,0 | C9: para | D9: 1500
A10: 6 | B10: Chirurgiczne rękawice lateksowe, jałowe, z wewnętrzną warstwą polimerową, bezpudrowe, powierzchnia zewnętrzna teksturowana, z rolowanym mankietem, anatomiczny kształt, długość minimalna rękawicy 285mm, grubość ścianki na palcu min.0,21mm, dłoni min. 0,20mm, mankiet min.0,15mm, siła zrywu przed starzeniem min.14N, siła po starzeniu min. 12 N, AQL 1,0, poziom protein lateksu <30ug/g, zaklasyfikowane jako środek ochrony indywidualnej w kat III. Zgodne z Dyrektywą Medyczną 93/42/EEC w klasie IIa i normą EN 455 część 1-4, posiadające Deklarację CE, Rozmiar 6,0 -9,0 | C10: Para | D10: 8000
A11: 7 | B11: Rękawice chirurgiczne i ochronne, lateksowe, bezpudrowe, kszatał anaromiczny. Mankiet rolowany. Rękawice wewnętrzne kształt zróżnicowany na obie dłonie, siła zrywu przed starzeniem 13,26N, po starzeniu 11.26N, długość 282mm. Rękawice zewnętrzne, kształt zróżnicowany na obie dłonie, siła zrywu przed stazrzeniem 13,23N po starzeniu 11,18N, długość 282mm, Poziom AQL 0,65. Wyrób medyczny klasy II a. oraz zgodnie z Rozporządzeniem ochrony indywidualnej kat. III typ C (UE) 2016/425. Zgodny z normą EN455-1-4. Dostępne rozmiary 6,0-9,0 | C11: op.=25kpl | D11: 25
A12: 8 | B12: Rękawice chirurgiczne, ginekologiczne, o przedłużonym mankiecie, jałowe, lateksowe bezpudrowe, kształt anatomiczny, mankiet rolowany, powierzchnia zewnętrzna teksturowana, chlorowana, powierzchnia wewnętrzna chlorowana, długość rękawicy minimum 500mm, grubość na palcu min. 0,33mm, na dłoni min 0,30mm, mankiet min. 0,18mm, poziom protein lateksu poniżej 20µg/g, AQL max.0,65;. Rękawice zgodne z Dyrektywą o Wyrobie Medycznym MDD 93/42/EEC & 2007/47/EC w klasie II a, rękawice zgodne z EN 455(1-4), rękawice przebadane na przenikanie mikroorganizmów zgodnie z ASTM F1671, rozmiar S-L | C12: op.=25szt | D12: 5
B13: suma | F13: =SUM(F5:F12) -> 0 | I13: =SUM(I5:I12) -> 0
B18: data ………………………………. | G18: podpis ……………………………………….

Sheet Zad.10
B1: ZOZ/DZP/PN/24/23
B2: Załącznik Nr: 9
A4: Zadanie nr: 10 - Strzykawki, igły
A5: Lp. | B5: Nazwa produktu | C5: Jednostka miary | D5: Ilość | E5: Cena jednostkowa netto | F5: Wartość netto | G5: VAT | H5: Cena jednostkowa brutto | I5: Wartość brutto | J5: Producent/Nazwa handlowa/Numer katalogowy
A6: Strzykawka dwuczęściowa luer, wykonana z wysokiej jakości PP i/lub PE, w pełni przeźroczysty cylinder z wyraźną czarną, trwałą skalą pomiarową o przedłużonej skali o min. 20% w stosunku do skali nominalnej, wyraźna kryza zabezpieczająca przed wypadaniem tłoka, idealne dopasowanie cylindra i tłoka zapewniające pełną szczelność i bezskokowy przesów tłoka, tłok w wyraźnym, kontrastującym kolorze ułatwiającym odczyt ze sferycznym zakończeniem umożliwiającym maksymalne zmniejszenie przestrzeni martwej, logo producetna i nazwa własna na cylindrze i opakowaniu jednostkowym - Strzykawki jednego producenta, pakowane indywidualnie w opakowanie typu folia/papier - opakowania a 100 szt. Parametry dla pozycji 1-4
A7: 1 | B7: 2 ml skala co 0,1ml x 100 szt. | C7: op.=100szt | D7: 1200
A8: 2 | B8: 5 ml skala co 0,2ml x 100 szt. | C8: op.=100szt | D8: 1400
A9: 3 | B9: 10 ml skala co 0,5ml x 100 szt. | C9: op.=100szt | D9: 1200
A10: 4 | B10: 20 ml skala co 1ml x 100 szt. | C10: op.=100szt | D10: 1300
A11: 5 | B11: Strzykawka do tuberkuliny 1 ml 3 częściowe z igłą 0,45 x 12 mm x 100 szt. z osobną igłą | C11: op.=100szt | D11: 150
A12: 6 | B12: 100 ml Janeta z łącznikiem Luer,trzyczęściowa,wykonana z polipropylenu, skala w kolorze niebieskim, zaopatrzona w dodatkowy stożek do łączenia z cewnikiem | C12: szt. | D12: 5000
A13: Strzykawki - szczelne, łatwy przesuw tłoka, wyraźna skala. Wykazane na liście producenta pomp infuzyjnych MEDIMA . Opis dla pozycji 7-10 | F13: =E13*D13 -> 0
A14: 7 | B14: 10ml x 100 szt., 3 częściowe | C14: op.=100szt | D14: 300
A15: 8 | B15: 20ml x 100 szt., 3 częściowe | C15: op.=100szt | D15: 1000
A16: 9 | B16: 50 ml do pomp 3 cz .do pomp Luer-Lock ze skalą dwustronną | C16: szt. | D16: 36000
A17: 10 | B17: 50 ml do pomp 3 cz .do pomp Luer-Lock do leków światłoczułych | C17: szt. | D17: 15000
A18: 11 | B18: Strzykawka 3-częściowa Luer-Lock model wymagany zgodnie z intrukcją producenta dializatora Primaflex 50ml | C18: szt. | D18: 5000
A19: Igły iniekcyjne o ostrzach zapewniających minimalny opór skóry, rurki pokryte silikonem, cienkościenne nasadki barwione zgodnie zkodem kolorów | F19: =E19*D19 -> 0
A20: 12 | B20: 0,45 x 13 mm x 100 szt. | C20: op=100szt | D20: 65
A21: 13 | B21: 0,5 x 25 mm x 100 szt. | C21: op=100szt | D21: 360
A22: 14 | B22: 0,6 x 25 mm x 100 szt. | C22: op=100szt | D22: 50
A23: 15 | B23: 0,7 x 30 mm x 100 szt. | C23: op=100szt | D23: 180
A24: 16 | B24: 0,8 x 40 mm x 100 szt. | C24: op=100szt | D24: 700
A25: 17 | B25: 0,9 x 40 mm x 100 szt. | C25: op=100szt | D25: 160
A26: 18 | B26: 1,1 x 40 mm x 100 szt. | C26: op=100szt | D26: 500
A27: 19 | B27: 1,2 x 40 mm x 100 szt. | C27: op=100szt | D27: 1700
A28: 21 | B28: 1,6 x 40 mm x 100 szt. | C28: op=100szt | D28: 30
A29: 22 | B29: Igła 0,8 x 120 mm x 100 szt. do blokad nerwowych | C29: op=50szt | D29: 36
A30: 23 | B30: Igła do bezpiecznego pobierania i rozpuszczania leków 18G x 30mm, szlif ołówkowy z otworem bocznym, końcówka pasująca do luer i luer-lock. | C30: op=100szt | D30: 1400
A31: 24 | B31: Igła do bezpiecznego pobierania i rozpuszczania leków z filtrem 18G x 30-50mm, szlif ścięty, końcówka pasująca do luer i luer-lock. | C31: op=100szt | D31: 50
... A37: 30 | B37: Igła do płukania kanalików łzowych - jednorazowego użytku | C37: Op=20 szt | D37: 2
B38: RAZEM | F38: =SUM(F7:F36) -> 0 | I38: =SUM(I7:I37) -> 0
B41: Data | H41: Podpis osoby/osób upoważnionej
B42: ……………………………………………. | I42: ……………………………….

Sheet Zad.11
B1: ZOZ/DZP/PN/24/23
B2: Załącznik Nr: 9
A4: Zadanie nr: 11 - Rurki
A5: Lp. | B5: Nazwa produktu | C5: Jednostka miary | D5: Ilość | E5: Cena jednostkowa netto | F5: Wartość netto | G5: VAT | H5: Cena jednostkowa brutto | I5: Wartość brutto | J5: Producent/Nazwa handlowa/Numer katalogowy
A6: 1 | B6: Rurki intubacyjne bez mankietu 2,0 – 4,5silikonowane, jałowe | C6: szt. | D6: 100
A7: Rurki intubacyjne z mankietem, ustno-nosowa, z termoplastycznego PCV, przeźroczysta, typ Murphy, linia RTG na całej dł., z czytelnym oznaczeniem znacznika głębokości i rozmiaru rurki na baloniku jałowe silikonowane | F7: =E7*D7 -> 0
A8: 2 | B8: Nr 2,5-9,5 co 0,5 do wyboru przy zakupie | C8: szt. | D8: 2600
A9: Rurki intubacyjne zbrojone z mankietem, typ Murphy, odporne na zginanie, znakowany balonik,rozmiar, jałowe, silikonowane | F9: =E9*D9 -> 0
A10: 3 | B10: Nr. 4,0-8,5 co 0,5 do wyboru przy zakupie | C10: szt. | D10: 400
A11: Rurki intubacyjne zbrojone z mankietem, typ Murphy, odporne na zginanie, znakowany balonik rozmiar, jałowe, silikonowane z prowadnicą | F11: =E11*D11 -> 0
A12: 4 | B12: nr. 6-9 co 0,5 do wyboru przy zakupie | C12: szt. | D12: 70
A13: 5 | B13: Rurka tracheostomijna z dwoma niskociśnieniowymi mankietami uszczelniającymi, wykonana z medycznej odmiany termoplastycznego PCV, atraumatycznie wykończone wszystkie elementy rurki, linia kontrastowa RTG, baloniki kontrolne z samouszczelniejącymi się zaworami. Rozmiary do wyboru przy zakupie 7,0-9,0 co 1,0 | C13: szt. | D13: 70
A14: 6 | B14: Rurka tracheostomijna zbrojona z ruchomym szyldem, wydłużona część dystalna i proksymalna, z niskociśnieniowym mankietam uszczelniającym, wykonana z medycznej odmiany termoplastycznego PCV, atraumatycznie wykończone wszystkie elementy rurki, linia kontrastowa RTG, balonik kontrolne z samouszczelniejącym się zaworem. Rozmiary do wyboru przy zakupie 7,0-10, co 1,0 | C14: szt. | D14: 10
A15: 7 | B15: Rurka tracheostomijna z ruchomym szyldem, wydłużona część dystalna i proksymalna, z niskociśnieniowym mankietam uszczelniającym, wykonana z medycznej odmiany termoplastycznego PCV, atraumatycznie wykończone wszystkie elementy rurki, linia kontrastowa RTG, balonik kontrolne z samouszczelniejącym się zaworem. Rozmiary do wyboru przy zakupie 7,0-10, co 1,0 | C15: szt. | D15: 10
A16: 8 | B16: Rurki ustno - gardłowe Guedel z medycznego PCV, barwne wkładki, zaokrąglone krawędzie, blokada przeciw zagryzieniu, jałowe,rozmiary od 000 do 6 do wyboru przy zamówieniu | C16: szt. | D16: 1000
A17: 9 | B17: Rurka nosowo-gardłowa 6-8mm | C17: szt. | D17: 10
A18: Rurki tracheostomijne z mankietem silikonowane, jałowe | F18: =E18*D18 -> 0
A19: 10 | B19: nr. 5,0-10 co 0,5 do wyboru przy zakupie | C19: szt. | D19: 80
A20: 11 | B20: Zestaw o min. składzie: rurka tracheostomijna KAN bez mankietu 1 szt., prowadnica 1 szt., kaniula wewnętrzna z łącznikiem 15mm 1 szt., kaniula wewnętrzna z kołnierzem 2 szt., miękka opaska mocująca, łącznik 15mm nasadka łącząca, korek dekaniulacyjny, nasadka kosmetyczna rozmiary rurek do wyboru przy zakupie : 5,0-10,0 mm | C20: 1 zestaw | D20: 15
A21: 12 | B21: Zestaw o min. składzie: rurka tracheostomijna KAN z mankietem 1 szt., prowadnica 1 szt., kaniula wewnętrzna z łącznikiem 15mm 1 szt., kaniula wewnętrzna z kołnierzem 2 szt., miękka opaska mocująca, łącznik 15mm nasadka łącząca, korek dekaniulacyjny, nasadka kosmetyczna rozmiary rurek do wyboru przy zakupie : 5,0-10,0 mm | C21: 1 zestaw | D21: 5
A22: 13 | B22: Zestaw o min. składzie: rurka tracheostomijna KAN bez mankietu,fenestracyjna 1 szt., prowadnica 1 szt., kaniula wewnętrzna z łącznikiem 15mm, z otworami 1 szt., kaniula wewnętrzna z łącznikiem 15mm, bez otworów fenestracyjnych 1 szt, kaniula wewnętrzna z kołnierzem, z otworami fenestracyjnymi 1 szt., miękka opaska mocująca, łącznik 15mm nasadka łącząca, korek dekaniulacyjny, nasadka kosmetyczna rozmiary rurek do wyboru przy zakupie : 5,0-10,0 mm | C22: 1 zestaw | D22: 10
A23: 14 | B23: Zestaw o min. składzie: rurka tracheostomijna KAN z mankietem,fenestracyjna 1 szt., prowadnica 1 szt., kaniula wewnętrzna z łącznikiem 15mm, z otworami 1 szt., kaniula wewnętrzna z łącznikiem 15mm, bez otworów fenestracyjnych 1 szt, kaniula wewnętrzna z kołnierzem, z otworami fenestracyjnymi 1 szt., miękka opaska mocująca, łącznik 15mm nasadka łącząca, korek dekaniulacyjny, nasadka kosmetyczna rozmiary rurek do wyboru przy zakupie : 5,0-10,0 mm | C23: 1 zestaw | D23: 5
A24: 15 | B24: Łącznik do drenów symetryczny, sterylny, O.D. 15mm I.D. 6mm | C24: szt | D24: 200
A25: Prowadnice do rurek intubacyjnych -metal, pokryty tworzywem, miękki koniec, jałowe | F25: =E25*D25 -> 0
A26: 16 | B26: Rozmiar 2-2,2 mm / 230 mm | C26: szt. | D26: 100
A27: 17 | B27: Rozmiar 3 mm / 340 mm | C27: szt. | D27: 160
A28: 18 | B28: Rozmiar 4 mm / 360 mm | C28: szt. | D28: 400
A29: 19 | B29: Rozmiar 5 mm / 370 mm | C29: szt. | D29: 300
A30: Prowadnice do trudnych intubacji bez futerału. Elastyczna, wzmocniona na całej długości, skalowana podziałka, zagięty koniec ułatwiający wprowadzanie, materiał o właściwościach poślizgowych, jałowe | F30: =E30*D30 -> 0
A31: 20 | B31: Rozmiar 1,6 x 600 mm | C31: szt. | D31: 10
A32: 21 | B32: Rozmiar 2,0 x 600 mm | C32: szt. | D32: 10
A33: 22 | B33: Rozmiar 5,0 długość 800mm | C33: szt. | D33: 40
A34: Prowadnice do wymiany rurek intubacyjnych z kanałem do wentylacji: w komplecie z łącznikiem 15mm i Luer Lock z zagiętym końcem, jałowa, elastyczna, wzmocniona na całej długości. | F34: =E34*D34 -> 0
A35: 23 | B35: Rozmiar 5,0 długość 800 mm | C35: szt. | D35: 30
A36: 24 | B36: Prowadnica do trudnej intubacji, z wygiętym zakończeniem, elastyczna, wzmocniona na całej długości, skalowana - wielorazowego użytku, śr. zewn. 3.3 i 5.0mm - długość 60-80cm | C36: szt. | D36: 60
A37: 25 | B37: Prowadnica do rurek intubacyjnych z możliwością podawania tlenu, z prostym lub wygiętym końcem dystalnym, elastyczna, wzmocniona na całej długości, skalowana, z wewnętrznym kanałem oraz łącznikiem 15mm i łącznikiem luer-lock, śr. zewn. 2.6, 3.3, 5.0 i 6.0mm - długość 60-83cm | C37: szt. | D37: 20
A38: 26 | B38: Opaska do rurek tracheostomijnych, jałowa. | C38: szt | D38: 220
A39: Rurka tracheostomijna metalowa z okienkiem | F39: =E39*D39 -> 0
A40: 27 | B40: nr.7 | C40: szt. | D40: 5
A41: 28 | B41: nr.8 | C41: szt. | D41: 10
...

Sheet Zad.12
B1: ZOZ/DZP/PN/24/23
B2: Załącznik Nr: 9
A4: Zadanie nr: 12 – Łyżki i rękojeści.
A5: Lp. | B5: Nazwa produktu | C5: Jednostka miary | D5: Ilość | E5: Cena jednostkowa netto | F5: Wartość netto | G5: VAT | H5: Cena jednostkowa brutto | I5: Wartość brutto | J5: Producent/Nazwa handlowa/Numer katalogowy
A6: 1 | B6: Łyżka jednorazowego użytku, metalowa, diodowa,współpracująca z rękojeściami standardowymi. Z wyraźnym nadrukiem rozmiaru na opakowaniu jednostkowym. Dostępne rozmiary łyżek: Mac 0- dł. 82mm, szer. 9mm, 1- dł. 92mm, szer 11,50mm, 2- dł. 114mm, szer. 14mm, 3- dł. 133mm, szer. 14mm , 4- dł. 158mm, szer. 14mm,5- dł. 174, szer. 14mm, Mill 00-dł. 65mm, szer.11,5mm, 0- dł. 76mm, szer. 11,5mm, 1- dł. 100mm, szer. 11,5mm, 2 – dł. 151mm, szer. 13mm, 3 – dł. 190mm, szer. 13, 4 – dł. 207, szer. 13mm. – do wyboru przez Zamawiającego Pakowane pojedynczo, zdezynfekowane, gotowe do użytku Współpracują ze wszystkimi rękojeściami w standardzie ISO 7376-1. Data przydatności i seria na jednostkowym opakowaniu każdej łyżki | C6: szt. | D6: 1000
A7: 2 | B7: Łyżki jednorazowe, metalowe: Metalowe łyżki światłowodowe, jednorazowego użytku z podstawą z tworzywa sztucznego. Z wyraźnym nadrukiem rozmiaru na opakowaniu jednostkowym. Wytrzymały materiał oraz ergonomiczny kształt Zaokrąglona końcówka łyżki i gładkie krawędzie zmniejszają ryzyko uszkodzeń Pakowane pojedynczo – gotowe do użytku Dostępne w rozmiarach Mac 00-dł. 72Mm, szer 9mm ,0- dł. 82mm, szer. 9mm, 1- dł. 94mm, szr. 11,50mm, 2- dł. 116mm, szer 14mm, 3- dł. 133mm, szer. 14mm, 4- dł. 159mm, szer 14mm, 5- dł. 172mm, szer. 14mm oraz Miller 000-dł. 58Mm, szer 11,5mm, 00-dł. 69mm, szer. 11,5mm, 0 – dł. 79mm, szer. 11,5mm, 1 – dł. 102mm, szer. 11,5mm, 2 – dł. 152mm, szer. 13mm 3 – dł. 193mm, szer. 13mm, 4 – dł. 209mm, szer. 13mm. do wyboru przez zamawiającego Współpracują z rękojeściami światłowodowymi w standardzie ISO 7376-3 Nie zawierają latexu Pakowanie folia-papier.Data przydatności i seria na jednostkowym opakowaniu każdej łyżki | C7: szt. | D7: 2500
A8: 3 | B8: Rękojeści wielorazowe LED, współpracujące z łyżkami z poz. 2 Mocne, jasne światło LED: 9500 lux, min. 50 000h pracy Do sterylizacji w systemach systemach nisko-temperaturowych oraz w autoklawie, po wyciągnięciu diody LED Dostępne w 3 rozmiarach: średni, krótki, pediatryczny Współpracują z łyżkami światłowodowymi w standardzie ISO 7376-3 | C8: szt. | D8: 15
A9: 4 | B9: Rękojeść wielorazowa klasyczna rozmiar standardowy, zasilanie bateryjne (baterie R-14), pediatryczna, krótka ( zasilanie bateryjne AA). Do wyboru przy zakupie. Rękojeść zgodne z normą ISO 7376-1 | C9: szt. | D9: 10
A10: 5 | B10: Rękojeść jednorazowa kompatybilna z łyżkami światłowodowymi z wbudowaną baterią do łyżek w normie ISO 7376-3 | C10: szt. | D10: 200
A11: 6 | B11: Łyżka do wideolaryngoskopu Is3-L jednorazowego użytku, wykonana z tworzywa, pakowana pojedynczo. Rozmiar S, M, L do wyboru przy zakupie. Opakowanie folia-papier, na opakowaniu czytelna informacja o rozmiarze łyżki. | C11: szt. | D11: 110
B12: Razem | F12: =SUM(F6:F11) -> 0 | I12: =SUM(I6:I11) -> 0
B18: Data | F18: Podpis osoby/osób upoważnionej
B19: ……………………………………………. | F19: ……………………………….

Sheet Zad. 13
B1: ZOZ/DZP/PN/24/23
B2: Załącznik Nr: 9
A3: Zadanie nr: 13 Pojemniki z formaliną.
A4: Lp. | B4: Nazwa produktu | C4: Jednostka miary | D4: Ilość | E4: Cena jednostkowa netto | F4: Wartość netto | G4: VAT | H4: Cena jednostkowa brutto | I4: Wartość brutto | J4: Producent/Nazwa handlowa/Numer katalogowy
A5: 1 | B5: Pojemnik BiopSafe 60ml. Bezpieczny pojemnik tworzący system zamknięty do materiału biopsyjnego/histopatologicznego składający się z pokrywy zawierającej środek utrwalający i zbiornika. Pokrywa zbudowana z elementów : 1.Tłok zakończony nakłuwaczem 2.Folia aluminiowa zgrzana z nakrętką 3.Filtr zabezpieczający 4.Przycisk uwalniający substancję utrwalającą 5.Substancja utrwalająca - Formaldechyd 4% w roztworze wodnym (10% roztwór formaliny) i <2.5% metanol o łącznej objętości 60ml 5. Pokrywa wyposażona w gwint zewnętrzny. Zbiornik wyposażony w gwint wewnętrzny służący do zamknięcia i szczelnego połączenia z pokrywą. Substancja utrwalająca uwalniana po połączeniu pokrywy ze zbiornikiem i przez wciśnięcie przycisku wbudowanego w górną część pokrywy. | C5: op.=18 szt | D5: 50
A6: 2 | B6: Pojemnik BiopSafe 20ml. Bezpieczny pojemnik tworzący system zamknięty do materiału biopsyjnego/histopatologicznego składający się z pokrywy zawierającej środek utrwalający i zbiornika. Pokrywa zbudowana z elementów : 1.Tłok zakończony nakłuwaczem 2.Folia aluminiowa zgrzana z nakrętką 3.Filtr zabezpieczający 4.Przycisk uwalniający substancję utrwalającą 5.Substancja utrwalająca - Formaldechyd 4% w roztworze wodnym (10% roztwór formaliny) i <2.5% metanol o łącznej objętości 20ml 5. Pokrywa wyposażona w gwint zewnętrzny. Zbiornik wyposażony w gwint wewnętrzny służący do zamknięcia i szczelnego połączenia z pokrywą. Substancja utrwalająca uwalniana po połączeniu pokrywy ze zbiornikiem i przez wciśnięcie przycisku wbudowanego w górną część pokrywy. | C6: op=24szt. | D6: 150
B7: Razem | F7: =SUM(F5:F6) -> 0 | I7: =SUM(I5:I6) -> 0
B10: Data | H10: Podpis osoby/osób upoważnionej
B11: ……………………………………………. | H11: ……………………………….

Sheet Zad. 14
B1: ZOZ/DZP/PN/24/23
B2: Załącznik Nr: 9
A3: Zadanie nr 14: Autoczytnik do inkubacji
A4: Lp. | B4: Nazwa produktu | C4: Jednostka miary | D4: Ilość | E4: Cena jednostkowa netto | F4: Wartość netto | G4: VAT | H4: Cena jednostkowa brutto | I4: Wartość brutto | J4: Producent/Nazwa handlowa/Numer katalogowy
A5: 1 | B5: Wskaźnik biologiczny o szybkim odczycie do pary wodnej (odczyt w autoczytniku po 24 minuty .) kompatybilny z autoczytnikiem Attest 490, zalecany przez producenta urządzenia. Fiolkowy wskaźnik biologiczny o szybkim odczycie do pary wodnej. Ostateczny odczyt wyniku negatywnego/zabicie bakterii po 24 minutach inkubacji. Wykrycie przez odczyt automatyczny fluorescencji w autoczytniku. Wskaźnik posiada wewnętrzny system kruszenia ampułki nie wymagający użycia zewnętrznego "kruszera". Kształt fiolki w kształcie litry "D" - dopasowany do kształtu komory autoczytnika. Nakrętka wskaźnika w kolorze brązowym. Na fiolce repozycjonowalna nierwąca się naklejka z miejscem do opisu oraz wskaźnik chemiczny. | C5: op=50szt. | D5: 70
B6: RAZEM | F6: =SUM(F5:F5) -> 0 | I6: =SUM(I5:I5) -> 0
B9: Data | H9: Podpis osoby/osób upoważnionej
B10: ……………………………………………. | H10: ……………………………….

Sheet zad.15
B1: ZOZ/DZP/PN/24/23
B2: Załącznik Nr: 9
A3: Zadanie nr: 15 – Akcesoria do systemu ssącego i oddechowego
A4: Lp. | B4: Nazwa produktu | C4: Jednostka miary | D4: Ilość | E4: Cena jednostkowa netto | F4: Wartość netto | G4: VAT | H4: Cena jednostkowa brutto | I4: Wartość brutto | J4: Producent/Nazwa handlowa/Numer katalogowy
A5: 1 | B5: Wkład workowy jednorazowy z integralną zastawką zabezpieczającą, z maksymalnie 2 otworami w pokrywie worka. Kompatybilny z systemem RECEPTAL poj. 2 litry, z data ważności na każdym wkładzie. | C5: szt. | D5: 300
A6: 2 | B6: Trwały pojemnik/ kanister/ wielokrotnego użytku o śr. nie większej niż 11 cm z nietł. się tworzywa z podziałką co 25 ml, ze złączem do próżni, poj. 2 litry | C6: szt. | D6: 5
A7: 3 | B7: Linia monitorująca do próbkowania gazów, złącze typu męskie / żeńskie, dł. 3 m | C7: szt. | D7: 5
A8: 4 | B8: Pułapka wodna czarna typu D-fend do monitora f-my Datex - Ohmeda i Sirius | C8: szt. | D8: 20
A9: 5 | B9: Jednorazowy, układ oddechowy do respiratora dla dorosłych w składzie: 2 rury karbowane śr.2 2 mm z pamięcią kształtu, o dł. min 1,5 m, złączka Y, łącznik prosty 22m/22m | C9: szt. | D9: 50
A10: 6 | B10: Filtr p/bakteryjny z portem do kapnografii dla dorosłych o objętości oddechowej 180-250 ml bez wymiennika ciepła i wilgoci | C10: szt. | D10: 2500
A11: 7 | B11: Filtr p/bakteryjny z wymiennikiem ciepła i wilgoci, z portem do kapnografii dla dorosłych o objętości oddechowej 180-250 ml | C11: szt. | D11: 3500
A12: 8 | B12: Filtr p/bakteryjny z wymiennikiem ciepła i wilgoci, z portem do kapnografii, pediatryczny o objętości oddechowej 50-90 ml. | C12: szt. | D12: 300
A13: 9 | B13: Filtr p/bakteryjny z wymiennikiem ciepła i wilgoci z portem do kapnografii, noworodkowy o objętości oddechowej 25-40 ml. | C13: szt. | D13: 60
A14: 10 | B14: Wymiennik ciepła i wilgoci „sztuczny nos” do rurek tracheostomijny dla dorosłych bez drenu. | C14: szt. | D14: 300
A15: 11 | B15: Wapno sodowane do aparatu do zniecz. 4,5 kg | C15: szt. | D15: 26
A16: 12 | B16: Maska tlenowa, hypoalergiczna, bezzapachowa, przeźroczysta, wykonana z medycznej odmiany miękkiego PCV, do wysokich stężeń tlenu z przewodem tlenowym, z kulką do monitorowania oddechów i gumką naciągającą oraz rezerwuarem tlenowym | C16: szt. | D16: 200
... A31: 27 | B31: Przewód o gładkim świetle dla dorosłych z PCV długość 200cm, złącza 22 Typ Flex , przewód sterylny | C31: Op=10 szt | D31: 3
B32: RAZEM | F32: =SUM(F5:F31) -> 0 | I32: =SUM(I5:I31) -> 0
B34: Data | H34: Podpis osoby/osób upoważnionej
B35: ……………………………………………. | H35: ……………………………….

Sheet Zad.17
B2: ZOZ/DZP/PN/24/23
B3: Załącznik Nr: 9
A4: Zadanie nr: 17– Pojemniki na próbki
A5: Lp. | B5: Nazwa produktu | C5: Jednostka miary | D5: Ilość | E5: Cena jednostkowa netto | F5: Wartość netto | G5: VAT | H5: Cena jednostkowa brutto | I5: Wartość brutto | J5: Producent/Nazwa handlowa/Numer katalogowy
A6: 1 | B6: Pojemnik na mocz 100-125 ml niesterylny z zakrętką zakręcaną | C6: szt. | D6: 30000
A7: 2 | B7: Pojemnik na mocz lub materiał biologiczny 50-60 ml sterylny z zakrętką zakręcaną | C7: szt. | D7: 12000
A8: 3 | B8: Pojemnik na kał z łopatką 20-25 ml | C8: szt. | D8: 3000
A9: 4 | B9: Pojemnik na kał z łopatką 20-25 ml sterylny | C9: szt. | D9: 1000
A10: 5 | B10: Zestaw do pobierania próbek z drzewa oskrzelowego z łącznikami pasującymi do wszystkich typów cewników do odsysania, przeźroczysta probówka o poj. 10ml, dodatkowa zakrętka oraz nalepka identyfikacyjna - sterylny | C10: szt. | D10: 500
B11: RAZEM | F11: =SUM(F6:F10) -> 0 | I11: =SUM(I6:I10) -> 0
B14: Data | H14: Podpis osoby/osób upoważnionej
B15: ……………………………………………. | H15: ……………………………….

Sheet Zad.18
B2: ZOZ/DZP/PN/24/23
B3: Załącznik Nr: 9
A4: Zadanie nr: 18 – Nebulizacja i akcesoria do urządzeń.
A5: Lp. | B5: Nazwa produktu | C5: Jednostka miary | D5: Ilość | E5: Cena jednostkowa netto | F5: Wartość netto | G5: VAT | H5: Cena jednostkowa brutto | I5: Wartość brutto | J5: Producent/Nazwa handlowa/Numer katalogowy
A6: 1 | B6: Jednorazowy ustnik do spirometru o wymiarach: średnica wewnętrzna 20mm, średnica zewnętrzna 22mm, długość: 65mm +-1mm pakowane pojedynczo. | C6: Op=200 | D6: 10
A7: 2 | B7: Filtr do przeciwbakteryjny do ustnika od spirometru Microlab | C7: Op=50 szt | D7: 20
A8: 3 | B8: Inhalator tłokowy do nebulizacji do stosowania w szpitalu do pracy ciągłej z wbudowanym manometrem z regulacją cisnienia 1,3-2,5 bar. Przepływ max. 16l/min., wielokość cząsteczek (MMAD) max 3,5µm, waga urzadzenia max 2,2 kg, | C8: szt | D8: 5
A9: 4 | B9: Nebulizator do kompresora Pari: wydajność 600mg/min, średnia masa cząsteczki MMD:3,5 µm, ilość czątek poniżej 5µm:67%, nadaje się do sterylizacji w autoklawie (ok. 100 razy w temp. 134oC), pojemnik na lek 2-8 ml | C9: szt | D9: 8
A10: 5 | B10: Maska miękka bez stabilizatora dla dorosłych | C10: szt | D10: 8
A11: 6 | B11: Turbinka do spirometru Microlab 8 ML 3500 | C11: szt. | D11: 4
A12: 7 | B12: Uchwyt do lampy ML501/701 | C12: szt. | D12: 10
A13: 8 | B13: Uchywt do lampy Marled/marlux | C13: szt | D13: 10
A14: 9 | B14: Maska dla dzieci współpracująca z nebulizatorami Pari- do sterylizacji w autoklawie (po założeniu stabilizatorów) | C14: szt | D14: 10
A15: 10 | B15: Maska w rozmiarach 0- dla wcześniaków,1 – dla noworodków i niemowląt od 0-1 roku życia, 2 – dla dzici 1-3 roku życia,3- dla dzieci powyżej 3 roku życia, w komplecie kolanko umożliwiające inhalację dziecka w pozycji leżącej - do sterylizacji w autoklawie | C15: szt | D15: 10
A16: 11 | B16: Nebulizator: - do inhalacji dzieci powyżej powyżej 4 roku życia oraz osób dorosłych- możliwość sterylizacji w autoklawie ok. 100 razy, temperatura sterylizacji 134st. C. Charakterystyka aerozolu (w połączeniu z kompresorem Pari Turbo Boy SX) Wydajność: 600mg/min średnia masa cząsteczki MMD 3,5um ilość cząstek poniżej 5um 67% | C16: szt | D16: 10
A17: 12 | B17: Nebulizator: - w połączeniu z maską do inhalacji noworodków - możliwość sterylizacji w autoklawie ok. 100 razy, temperatura sterylizacji 134st. C. Charakterystyka aerozolu (w połączeniu z kompresorem Pari Boy SX) Wydajność: 450mg/min Średnia masa cząsteczki MMD 2,2um ilość cząstek poniżej 5um 89% | C17: szt | D17: 10
... A19: 14 | B19: Dren do nebulizatora Pari | C19: szt | D19: 20
B20: RAZEM | F20: =SUM(F6:F19) -> 0 | I20: =SUM(I6:I19) -> 0
B23: Data | H23: Podpis osoby/osób upoważnionej
B24: ……………………………………………. | H24: ……………………………….

Sheet Zad.19
B1: ZOZ/DZP/PN/24/23
B2: Załącznik Nr: 9
A3: Zadanie nr: 19- Test wód płodowych
A4: Lp. | B4: Nazwa produktu | C4: Jednostka miary | D4: Ilość | E4: Cena jednostkowa netto | F4: Wartość netto | G4: VAT | H4: Cena jednostkowa brutto | I4: Wartość brutto | J4: Producent/Nazwa handlowa/Numer katalogowy
A5: 1 | B5: Szybki test paskowy do wykrywania przedwczesnego pęknięcia błon płodowych u kobiet ciężarnych. Detekcja IGFBP-1. | C5: op=10 szt. | D5: 14
B6: RAZEM | F6: =SUM(F5) -> 0 | I6: =SUM(I5) -> 0
B10: Data | H10: Podpis osoby/osób upoważnionej
B11: ……………………………………………. | H11: ……………………………….

Sheet Zad.20
B2: ZOZ/DZP/PN/24/23
B3: Załącznik Nr: 9
A4: Zadanie nr: 20 - Różne
A5: Lp. | B5: Nazwa produktu | C5: Jednostka miary | D5: Ilość | E5: Cena jednostkowa netto | F5: Wartość netto | G5: VAT | H5: Cena jednostkowa brutto | I5: Wartość brutto | J5: Producent/Nazwa handlowa/Numer katalogowy
A6: 1 | B6: Igła przeznaczona dla dorosłych oraz dla dzieci powyżej 12 r.ż. Igła jest automatycznym wkłuciem doszpikowym, przeznaczonym do użycia u pacjentów, u których założenie obwodowego dostępu dożylnego jest bardzo trudne bądź niemożliwe. Szczególnie podczas działań ratunkowych. Opis: stały dostęp do naczynia; odpowiedni do przetaczania krwi; mało bolesna penetracja igły do kości gąbczastej; sprzęt jednorazowego użycia podnosi bezpieczeństwo; szybka infuzja płynów i leków; brak bezpośredniego kontaktu z krwią; szczególnie odpowiedni w sytuacjach zagrożenia życia (wypadki lotnicze i drogowe, trzęsienia ziemi, konflikty zbrojne, w medycynie katastrof, resuscytacji, planowe znieczulenia kostne) | C6: szt. | D6: 2
A7: 2 | B7: Igła przeznaczona dla dzieci poniżej 12 r.ż. Igła jest automatycznym wkłuciem doszpikowym, przeznaczonym do użycia u pacjentów, u których założenie obwodowego dostępu dożylnego jest bardzo trudne bądź niemożliwe. Szczególnie podczas działań ratunkowych. Opis: stały dostęp do naczynia; odpowiedni do przetaczania krwi; mało bolesna penetracja igły do kości gąbczastej; sprzęt jednorazowego użycia podnosi bezpieczeństwo; szybka infuzja płynów i leków; brak bezpośredniego kontaktu z krwią; szczególnie odpowiedni w sytuacjach zagrożenia życia (wypadki lotnicze i drogowe, trzęsienia ziemi, konflikty zbrojne, w medycynie katastrof, resuscytacji, planowe znieczulenia kostne) | C7: szt. | D7: 2
A8: 3 | B8: Kieliszek plast. do leków 30ml skala co 1ml w pięciu kolorach. | C8: Op=90 szt. | D8: 2000
A9: 4 | B9: Nakładka do kieliczków jednorazowych | C9: Op=90 szt. | D9: 40
A10: 5 | B10: Kruszarka do leków, wielorazowa do miażdżenia tabletek bezpośrednio w kieliszku jednorazowym. | C10: szt. | D10: 5
A11: 6 | B11: Kompres żelowy (okład) chłodząco / rozgrzewający wielorazowy, nadający się do dezynfekcji, 18-20 x 28-30cm | C11: szt | D11: 10
A12: 7 | B12: Kompres żelowy (okład) chłodząco/rozgrzewający wielorazowy, nadający się do dezynfekcji, 9-11 x 26-28cm | C12: szt. | D12: 10
A13: 8 | B13: Marker skórny 2 końcówki, jałowy | C13: op. 25 szt | D13: 2
A14: 9 | B14: Nożyczki / bocianki / do otwierania klemów | C14: szt. | D14: 50
A15: 10 | B15: Nakłuwacze typu Medlance 2,4 mm, guzik spustowy od góry. | C15: op=100szt | D15: 700
A16: 11 | B16: Opaska do ident. dzieci z wyciąganą karteczką informacyjną | C16: szt.=100szt | D16: 30
A17: 12 | B17: Opaska do ident noworodków z wyciąganą karteczką informacyjną | C17: szt.=100szt | D17: 50
... A44: 39 | B44: Stetoskop kardiologiczny: Technologia głowicy: dwustronna Duża membrana średnicy 4,5cm Mała membrana / lejek: 33cm Przewód (lira) dwukanałowy, wykonany jest z niekruszejącego i nie sklejającego się tworzywa PVC niezawierającego lateksu, o dużej gęstości. Oliwki miękkie Dostępny do zakupu w 6 różnych kolorach Gwarancja dożywotnia | C44: szt. | D44: 6
B45: RAZEM | F45: =SUM(F6:F44) -> 0 | I45: =SUM(I6:I44) -> 0
B47: Data | H47: Podpis osoby/osób upoważnionej
B48: ……………………………………………. | H48: ……………………………….

Sheet Zad. 22
B2: ZOZ/DZP/PN/24/23
B3: Załącznik Nr: 9
B4: Zadanie nr 22 Kaniule bezpieczne.
A5: Lp. | B5: Nazwa produktu | C5: Jednostka miary | D5: Ilość | E5: Cena jednostkowa[zł] netto | F5: Wartość [zł] netto | G5: VAT | H5: Cena jednostkowa [zł] brutto | I5: Wartość [zł] brutto | J5: Producent/Nazwa handlowa/Numer katalogowy
A6: 1 | B6: Kaniula dotętnicza 20 G 1,1 x 45 mm, przepływ 49 ml/min., cewnik z PTFE, z zaworem odcinającym - suwakowo-kulkowym typu Flowswitch w kolorze czerwonym, ze skrzydełkami z otworami do przyszycia do skóry pacjenta, sterylne, jednorazowego użytku. Produkt nie zawierający DEHP, PVC oraz naturalnego lateksu. Sterylizowane tlenkiem etylenu. Czas stosowania max 30 dni potwierdzony przez producenta w instrukcji użycia znajdującej się w każdym opakowaniu handowym. | C6: szt. | D6: 1200
A7: 2 | B7: Bezpieczna kaniula dożylna przeznaczona do małych, delikatnych żył u pacjentów neonatologicznych, pediatrycznych i osób starszych. Posiadająca wyjmowany uchwyt w którym schowane są skrzydełka kaniuli,ułatwiające kaniulację naczynia. Bez dodatkowego portu górnego. Kaniula widoczna w promieniach RTG, 6 wtopionych pasków radiocieniujących. Wykonana z unikalnego poliuretanu, biokompatybilnego, o potwierdzonym klinicznie wpływie na zmniejszenie ryzyka wystąpienia zakrzepowego zapalenia żył. Dodatkowy otwór przy ostrzu igły umożliwiający natychmiastowe wzrokowe potwierdzenie wejścia do naczynia podczas kaniulacji (system 3-krotnego potwierdzenia wypływu krwi). Sterylna, jednorazowego użytku, pakowana pojedynczo w opakowanie typu blister papier/folia w rozmiarach 26G dł 19 mm, prędkość przepływu 14 ml/min ,24 G długość 19mm,,prędkość przeplywu 19 ml/min Rozmiar do wyboru przy zakupie. | C7: szt. | D7: 2200
A8: 3 | B8: Bezpieczna kaniula dożylna wykonana z biokompatybilnego poliuretanu. Posiadająca dodatkowy, samodomykający się port do wstrzyknięć, min. 5 pasków kontrastujących w promieniach RTG. Możliwość identyfikacji radiologicznej położenia końca kaniuli. Posiadająca zastawkę bezzwrotną zapobiegającą wypływowi krwi. Posiadająca zabezpieczenie igły w postaci plastikowej osłonki o gładkich krawędziach z systemem kapilar zapobiegających zakłuciu się oraz zachlapaniu krwią. Pozbawiona jakichkolwiek ostrych elementów wchodzących w skład mechanizmu zabezpieczającego kaniulę, a jej konstrukcja ma chronić personel medyczny przed przypadkowym zakłuciem/zadraśnięciem/ zachlapaniem krwią, uniemożliwiając jednocześnie powtórne użycie cewnika. Kaniula dożylna bezpieczna - sterylna, jednorazowego użytku, pakowana pojedynczo, wyraźne oznaczenie rozmiaru i daty ważności na opakowaniu jednostkowym. Wykonana z biokompatybilnego poliuretanu nowej generacji (badania kliniczne). Hypoalergiczna, termoplastyczna, odporna na zginanie (tzw. pamięć kształtu) z samodomykającym się portem iniekcyjnym oraz zastawką bezzwrotną zapobiegającą wypływowi krwi, elastyczne skrzydełka ułatwiające bezpieczne mocowanie widoczne w rtg, konstrukcja kaniuli eliminująca ryzyko ekspozycji na krew podczas kaniulacji naczyń. Posiadająca plastikową osłonkę z systemem kapilar zapobiegających zakłuciu się oraz zachlapaniu krwią, która w pełni zamyka ostrze i światło igły. rodukt nie zawiera PVC, DEHP ani naturalnego lateksu. Sterylizowane radiacyjnie Rozmiary : 0,9 mmx25mm-22G( niebieski) przepływ 42 ml/min. 1,1x32mm -20G (różowy)przepływ 67 ml/min 1,3x32mm-18G( zielony)przepływ 103ml/min 1,3x45mm-18G( zielony)przepływ 103ml/min 1,5x45mm-17G(biały)przepływ 133ml/min 1,8x45mm-16G(szary) przepływ236ml/min 2,0x45mm-14G(pomarańczowy)270 ml/min do wyboru przy zakupie; | C8: szt. | D8: 18000
A9: 4 | B9: Kaniula bezpieczna i.v. w systemie zamkniętym, typu motylkowego z pasywnym zabezpieczeniem ostrza, wykonana z silikonowanego poliuretanu z minimum 5-cioma paskami cieniującymi w RTG wtopionymi w strukturę materiału i, z rozgałęzionym podwójnie portem luer-lok na transparentnym przedłużeniu z klemą. Minimum jedna odnoga portu zabezpieczona transparentnym zaworem bezigłowym, druga odnoga zabezpieczona usuwalnym filtrem hydrofobowym. Rozmiary 24G-18G do wyboru przy zakupie | C9: szt. | D9: 200
A10: 5 | B10: Wężyk do kaniuli donaczyniowej z podwójnym przedłużaczem 15 cm zakończony systemem dostępu naczyniowego z końcówką typu Luer posiadającą membramę silikonową aktywowaną połączeniem luer przy obu końcach. dren o średnicy wewnętrznej 2,8 mm, przedłużenie z zaciskiem przesuwanym, przemieszczanie płynu neutralne w wypadku stosowania zestawu przedłużającego i zacisku.objętość wypełnienia 1,14 ml , wytrzymały na ciśnienie 45 PSI | C10: szt. | D10: 100
A11: 6 | B11: Kranik odcinający do terapii dożylnej, trójdrożny z przedłużaczem* 7cm bez DEHP, z dodatkowym portem iniekcyjnym, wykonany z poliwęglanu -tworzywa odpornego na mechaniczne pęknięcia oraz na wszystkie leki w tym również na działanie lipidów i leków do chemioterapii. Białe trójramienne pokrętło umożliwiające swobodną i precyzyjną obsługę kraników i podwójny: optyczny i wyczuwalny identyfikator pozycji otwarty/zamknięty, jałowy, j.u. objętość wypełnienia 0,8 ml, sterylizowany radiacyjnie .Opakowanie typu blister-pack. . Pakowany pojedyńczo z widoczną datą ważności. Sterylizowany R. | C11: szt. | D11: 4000
A12: 7 | B12: Kranik odcinający do terapii dożylnej, trójdrożny, wykonany z poliwęglanu-tworzywa odpornego na mechaniczne pęknięcia oraz na wszystkie leki w tym również na działanie lipidów i leków do chemioterapii. Białe trójramienne pokrętło umożliwiające swobodną i precyzyjną obsługę kraników i podwójny: optyczny i wyczuwalny identyfikator pozycji otwarty/zamknięty, jałowy, j.u., Niezależnie obracająca się nakrętka luer lock umożliwiająca podłączenie kranika z innym złączem luer lock bez konieczności skręcania/obracania łączonych elementów. Wyposażony w znaczniki : czerwony dla oznaczenia linii tętniczej, niebieski dla oznaczenia linii żylnej. Wytrzymałość kranika 3 bary, objętość wypełnienia 0,2-0,22 ml, . Sterylny (sterylizowany promieniami beta).Opakowanie medyczne typu blister. | C12: szt. | D12: 4500
A13: 8 | B13: Taca z koreczkami do strzykawek: Zamknięcie/zabezpieczenie strzykawki wypełnionej lekiem lub roztworem , zmniejsza ryzyko zanieczyszczenia przez dotyk, zapobiega wyciekowi leku przygotowanego w strzykawce. Zabezpieczenie może być stosowane do strzykawek Luer Lock oraz Luer . Na końcówce LL zabezpieczenie jest nałożone . opakowanie jednostkowe 1 taca = 10 szt koreczków. Możliwość otwieraia jednorazowo po 2 koreczki na blistrze . | C13: op=200tacek po 10 szt | D13: 30
F14: =SUM(F6:F13) -> 0 | I14: =SUM(I6:I13) -> 0
B17: Data | H17: Podpis osoby/osób upoważnionej
B18: ……………………………………………. | H18: ……………………………….

Sheet Zad. 23
B2: ZOZ/DZP/PN/24/23
B3: Załącznik Nr: 9
A4: Zadanie nr: 23- Nasadka do amniotomii
