Workbook
Name Print_Area_0: Zad.11!$A$1:$J$48
Name Print_Area_0: Zad.79!$A$1:$J$9

Sheet Zad.1
B1: ZOZ/DZP/PN/24/23
B2: Załącznik Nr: 9
A4: Zadanie nr: 1 - Cewniki, dreny, kanki, zgłębniki
A5: Lp. | B5: Nazwa produktu | C5: Jednostka miary | D5: Ilość | E5: Cena jednostkowa netto | F5: Wartość netto | G5: VAT | H5: Cena jednostkowa brutto | I5: Wartość brutto | J5: Producent/Nazwa handlowa/Numer katalogowy
A6: 1 | B6: Cewnik do odsysania Redon 12 F/70, z paskiem rtg silikonowane | C6: szt. | D6: 20
A7: 2 | B7: Cewnik do odsysania Redon 14 F/70, z paskiem rtg silikonowane | C7: szt. | D7: 350
A8: 3 | B8: Cewnik do odsysania Redon 16 F / 70, z paskiem rtg silikonowane | C8: szt. | D8: 100
A9: 4 | B9: Cewnik do odsysania Redon 18 F / 70, z paskiem rtg silikonowane | C9: szt. | D9: 100
A10: 5 | B10: Cewnik do odsysania Redon 20 F / 70, z paskiem rtg silikonowane | C10: szt. | D10: 20
A11: 6 | B11: Pojemnik typ Redon, sterylny o pojemności 200-250ml, końcówka schodkowa do załączenia drenów Redon, kształt płaski, pakowane w opakowanie papier folia. | C11: szt. | D11: 50
A12: 7 | B12: Cewnik do odsysania g. dróg oddech. C 4, dł. 40 cm | C12: szt. | D12: 50
A13: 8 | B13: Cewnik do odsysania g. dróg oddech. C 6, dł. 40 cm | C13: szt. | D13: 300
A14: 9 | B14: Cewnik do odsysania g. dróg oddech. C 8, dł. 40 cm | C14: szt. | D14: 800
A15: 10 | B15: Cewnik do odsysania g. dróg oddech. C 10, dł. 40 cm | C15: szt. | D15: 2300
A16: 11 | B16: Cewnik do odsysania g. dróg oddech. C 12, dł. 40-60 cm | C16: szt. | D16: 1800
A17: 12 | B17: Cewnik do odsysania g. dróg oddech. C 14, dł. 50-60 cm | C17: szt. | D17: 12000
... A64: 59 | B64: Zgłębnik Sengstakena G-16 | C64: szt. | D64: 5
B65: RAZEM | F65: =SUM(F6:F64) -> 0 | I65: =SUM(I6:I64) -> 0
B68: Data | H68: Podpis osoby/osób upoważnionej
B69: ……………………………………………. | I69: ……………………………….

Sheet Zad.2
B1: ZOZ/DZP/PN/24/23
B2: Załącznik Nr: 9
A4: Zadanie nr: 2 - Embolektomia, cewniki do żył centralnych, igły do znieczuleń
A5: Lp. | B5: Nazwa produktu | C5: Jednostka miary | D5: Ilość | E5: Cena jednostkowa netto | F5: Wartość netto | G5: VAT | H5: Cena jednostkowa brutto | I5: Wartość brutto | J5: Producent/Nazwa handlowa/Numer katalogowy
A6: 1 | B6: Cewnik do embolektomii F3/800 bal. 0,2 ml | C6: szt. | D6: 20
A7: 2 | B7: Cewnik do embolektomii F 4 / 800 bal. 0,7 ml | C7: szt. | D7: 10
A8: 3 | B8: Cewnik do embolektomii F 5/ 800 bal. 1,5 ml | C8: szt. | D8: 30
A9: 4 | B9: Cewnik do embolektomii F 6 / 800 bal. 2,0 ml | C9: szt. | D9: 20
A10: 5 | B10: Cewnik do żył centralnych met Seldingera 1- światł. 20 cm x 70 mm | C10: szt. | D10: 5
A11: 6 | B11: Cewnik do żył centralnych met Seldingera 2- światł. 20 cm x 70 mm | C11: szt. | D11: 50
A12: 7 | B12: Cewnik do żył centralnych met Seldingera 3- światł. 20 cm x 70 mm | C12: szt. | D12: 50
A13: 8 | B13: Cewnik pęcherzowo-miedniczkowy / szynowanie moczowodów / Dubble J 7 F 26 cm śr pętli 4 cm | C13: szt. | D13: 6
A14: 9 | B14: Dren do drenażu kl. piersiowej z trokarem 24 F | C14: szt. | D14: 30
A15: 10 | B15: Dren do drenażu kl. piersiowej z trokarem 28 F | C15: szt. | D15: 30
A16: 11 | B16: Igła do znieczuleń z ostrzem typu Pencil-Point o długości 88-90mm, w komplecie z igłą prowadzącą 20-22G, igła wykonana z wysokiej jakości stali nierdzewnej, przeźroczysta nasadka, ułatwiająca wizualizację płynu, karbowany uchwyt. 25-27G | C16: szt. | D16: 450
A17: 11A | B17: Igła do znieczuleń IPPS Quincke 18G-26G x 90mm Do wyboru przy zakupie | C17: szt. | D17: 50
A18: 12 | B18: Elektroda endokawitarna do czasowej stymulacji serca(bipolarna) skład:Kateter 6F, odlekłośc między odprowadzeniami 10mm, zakończenie Tip Z długośc katetera 110cm, geometria wtyku 15x2,0mm | C18: szt. | D18: 10
A19: 13 | B19: Zestaw z zastawką do wprowadzania i wymiany kateterów oraz elektrod endokawitarnych, skład: Koszulka z zastawką 6Fx11cm z kranikiem trójdrożnym, rozszerzacz 6Fx 18cm, Prowadnik J.035”x4cm, Igła prosta 18Gx7cm | C19: szt. | D19: 10
A20: 14 | B20: Kateter do odsysania ran typu redon, rozmiar 12-18CH. Dł. 50 lub 70cm Do wyboru przy zamówieniu. | C20: szt. | D20: 50
A21: 15 | B21: Zestaw do cystostomii: Katerer typu PIGTAIL 8F,9F,10F,12F,14F/45cm z poliuretanu slikonowego z igłą z koszulką rozrywealną 8F/80mm, 9F/80mm, 12F/120mm w komplecie, strykawka 10ml luer-lock, skalpel, kołnież mocujący, Opaska zaciskowa. Rozmiar do wyboru przy zakupie. | C21: 1kpl. | D21: 10
B22: RAZEM | F22: =SUM(F6:F21) -> 0 | I22: =SUM(I6:I21) -> 0
B24: Data | H24: Podpis osoby/osób upoważnionej
B25: ……………………………………………. | I25: ……………………………….

Sheet Zad.3
B1: ZOZ/DZP/PN/24/23
B2: Załącznik Nr: 9
A3: Zadanie nr: 3 – Osłony na ramię C
A4: Lp. | B4: Nazwa produktu | C4: Jednostka miary | D4: Ilość | E4: Cena jednostkowa netto | F4: Wartość netto | G4: VAT | H4: Cena jednostkowa brutto | I4: Wartość brutto | J4: Producent/Nazwa handlowa/Numer katalogowy
A5: 1 | B5: Osłona sterylna na przewody tubus złożona teleskopowo 16 x 200 cm z taśmą do mocowania na końcach | C5: szt. | D5: 700
A6: 2 | B6: Sterylny pokrowiec na ramię C aparatu rtg o wymiarach 100x160cm, wykonany z mocnej przezroczystej folii PE z 2 osłonami z gumką oraz 2 taśm. | C6: szt. | D6: 140
A7: Razem | F7: =SUM(F5:F6) -> 0 | I7: =SUM(I5:I6) -> 0
B9: Data | H9: Podpis osoby/osób upoważnionej
B10: ……………………………………………. | I10: ……………………………….

Sheet Zad.4
B2: ZOZ/DZP/PN/24/23
B3: Załącznik Nr: 9
A4: Zadanie nr: 4 - Elektromedycyna
A5: Lp. | B5: Nazwa produktu | C5: Jednostka miary | D5: Ilość | E5: Cena jednostkowa netto | F5: Wartość netto | G5: VAT | H5: Cena jednostkowa brutto | I5: Wartość brutto | J5: Producent/Nazwa handlowa/Numer katalogowy
A6: 1 | B6: Elektrody do EKG z żelem dla noworodków | C6: Op=50 szt. | D6: 11
A7: 2 | B7: Elektrody do EKG z żelem dla dzieci | C7: Op=50 szt. | D7: 30
A8: 3 | B8: Elektrody do EKG do badań spoczynkowych 44-30mm w kształcie prostokąta | C8: Op=50 szt. | D8: 1200
A9: 4 | B9: Elektrody do EKG do badań holterowskich i wysiłkowych, prostokątna z podłuznym otworem do mocowania przewodu o wyminarach 55x40mm | C9: Op=50 szt. | D9: 600
A10: 5 | B10: Elektrody do EKG Holter do próby wysiłkowej prostokątna z zaokraglonymi rogami i wypustką o wymiarach 50x40mm | C10: Op=50 szt. | D10: 100
A11: 6 | B11: Elektroda do EKG z możliwością użycia w promieniach RTG dla dorosłych, okrągła o wymiarach 45x42mm z wypustką do badań spoczynkowych | C11: Op=50 szt. | D11: 300
A12: 7 | B12: Elektrody przedsercowe, przyssawkowe komplet 6 szt. dla dorosłych | C12: 1 komplet | D12: 15
A13: 8 | B13: Elektrody przedsercowe, przyssawkowe komplet 6 szt. dziecięce | C13: 1 komplet | D13: 5
A14: 9 | B14: Elektrody kończynowe, klamrowe komplet 4 szt. dla dorosłych | C14: 1 komplet | D14: 16
A15: 10 | B15: Elektrody kończynowe, klamrowe komplet 4 szt. dla dzieci | C15: 1 komplet | D15: 2
A16: 11 | B16: Elektroda do stymulacji serca typu Quick – Combo RTS | C16: op. 2 szt. | D16: 20
A17: 12 | B17: Elektroda silikonowo węglowa do elektroterapii pasująca do urządzenia BTL, rozmiar 6x6cm | C17: szt. | D17: 12
... A37: 32 | B37: Papier termiczny na rolce 57mm x 30m bez nadruku | C37: szt. | D37: 220
B38: RAZEM | F38: =SUM(F6:F37) -> 0 | I38: =SUM(I6:I37) -> 0
B40: Data | H40: Podpis osoby/osób upoważnionej
B41: ……………………………………………. | I41: ……………………………….

Sheet Zad.5
B2: ZOZ/DZP/PN/24/23
B3: Załącznik Nr: 9
A4: Zadanie nr: 5 - Sterylizacja
A5: Lp. | B5: Nazwa produktu | C5: Jednostka miary | D5: Ilość | E5: Cena jednostkowa netto | F5: Wartość netto | G5: VAT | H5: Cena jednostkowa brutto | I5: Wartość brutto | J5: Producent/Nazwa handlowa/Numer katalogowy
A6: 1 | B6: Rękaw fol.- pap. bez fałdy, płaski 50 mm x 200m | C6: szt. | D6: 4
A7: 2 | B7: Rękaw fol.- pap. bez fałdy, płaski 75mm x 200m | C7: szt. | D7: 25
A8: 3 | B8: Rękaw fol.- pap. bez fałdy, płaski 100 mm x 200m | C8: szt. | D8: 25
A9: 4 | B9: Rękaw fol.- pap. bez fałdy, płaski 120mm x 200m | C9: szt. | D9: 20
A10: 5 | B10: Rękaw fol.- pap. bez fałdy, płaski 150 mm x 200m | C10: szt. | D10: 30
A11: 6 | B11: Rękaw fol.- pap. bez fałdy, płaski 200-210 mm x 200m | C11: szt. | D11: 20
A12: 7 | B12: Rękaw fol.- pap. bez fałdy, płaski 300mm x 200m | C12: szt. | D12: 20
A13: 8 | B13: Rękaw fol.-pap z fałdą 150 mm x 100m | C13: szt. | D13: 45
A14: 9 | B14: Rękaw fol.-pap z fałdą 200 mm x 100m | C14: szt. | D14: 20
A15: 10 | B15: Rękaw fol.-pap z fałdą 300 mm x 100m | C15: szt. | D15: 15
A16: 11 | B16: Rękaw fol.-pap z fałdą 400 mm x 100m | C16: szt. | D16: 20
A17: 12 | B17: Taśma neutralna 19 mm | C17: szt. | D17: 60
... A32: 27 | B32: Torebki papierowo-foliowe samoklejące 300 mm x 450 mm op. a 200 szt. | C32: op.=200szt | D32: 20
B33: RAZEM | F33: =SUM(F6:F32) -> 0 | I33: =SUM(I6:I32) -> 0
B35: Poz 1-11
B36: Parametry techniczne:
A37: - | B37: gramatura min 60g/m2
A38: - | B38: wskaźniki sterylizacji umieszczone poza obszarem pakowania na linii zgrzewu
A39: - | B39: 2 wskaźniki sterylizacji: para wodna/tlenek etylenu
A40: - | B40: folia 6-warstwowa wraz z warstwą kleju
A41: - | B41: na każdym rękawie papierowo-foliowym umieszczony wymiar nominalny rękawa (długość i szerokość numer serii)
A42: - | B42: zgrzew fabryczny 3-kanałowy
B43: Poz 18
A44: - | B44: Polyolefin i folia połączone są 3-kanałowym zgrzewem fabrycznym, którego wytrzymałość wynosi 6 Nm.
A45: - | B45: Laminat foliowy wykonany z 6-warstwowego kompozytu poliestru i polipropylenu o grubości 50μm, oraz polyolefin o gramaturze 93g/m2
B47: Data | H47: Podpis osoby/osób upoważnionej
B48: ……………………………………………. | H48: ……………………………….

Sheet Zad.6
B2: ZOZ/DZP/PN/24/23
B3: Załącznik Nr: 9
A4: Zadanie nr: 6 – Rękawice diagnostyczne
A5: Lp. | B5: Nazwa produktu | C5: Jednostka miary | D5: Ilość | E5: Cena jednostkowa netto | F5: Wartość netto | G5: VAT | H5: Cena jednostkowa brutto | I5: Wartość brutto | J5: Producent/Nazwa handlowa/Numer katalogowy
A6: 1 | B6: Rękawice lateksowe,z zewnętrzną warstwą polimerową, diagnostyczne, bezpudrowe, niejałowe. Długość rękawic min:245mm, grubość na palcu min. 0,10mm, na dłoni min. 0,08mm, na mankiecie: min. 0,06mm. Teksturowane na całej powierzchni. Siła zrywu przed starzeniem min. 6N, po starzeniu min. 6N. Zawartość protein <70ug/g. AQL max. 1,5. Wyrób medyczny klasy I zgodnie z Rozporządzeniem (UE) 2017/745 oraz środek ochrony indywidualnej kat. III typ B zgodnie z Rozporządzeniem (UE) 2016/425. Zgodne z normą EN 455 część 1,2,3 i 4, EN ISO 374-1, EN ISO 374 – 2, EN ISO 374-4,EN ISO 374-5, EN 16523-1, EN ISO 21420. Odporność na wirusy wykazana zgodnie z normą EN ISO 374-5. Dopuszczenie do kontaktu z żywnością zgodnie z Rozporządzeniem WE 1935/2004, Rozporządzeniem WE 10/2011 oraz Rozporządzeniem WE 2023/2006 ( potwierdzone deklaracją producenta), Termin ważności 5 lat od daty produkcji. Rozmiar od XS-XL do wyboru przy zakupie. | C6: op.100szt | D6: 2500
A7: 2 | B7: Rękawice nitrylowe, bezpudrowe, niejałowe, mankiet rolowany, kolor niebieski, powierzchnia zewnętrzna teksturowana na końcach palców, powierzchnia wewnętrzna chlorowana, długość min 240mm. AQL max 1.0. Grubość na palcu min 0,12mm, na dłoni min. 0,10 mm, na mankiecie min. 0,08mm. Siła zrywu przed starzeniem 7N, po starzeniu min. 7N. Rekawice zgodne z Rozporządzeniem (UE) 2017/745 zakwalifikowane jako wyrób medyczny w klasie I oraz Rozporządzeniem (UE) 2016/425 o środkach ochrony indywidualnej w kategorii III typ B. Rękawice zgodne z normą EN 455 (1-4), zgodne z normą EN ISO 374-1, EN ISO 374 – 2, EN 374-4, EN 16523-1,EN ISO 374-5. Rękawice przebadane na przenikanie mikroorganizmów zgodnie z EN ISO 374-5 lub ASTM F1671:07. Potwierdzony badaniem z niezależnego laboratorium na brak przebicia rękawicy dla min. 40 cytostatyków przez min 240min. oraz dla fentanylu przez min 240min. wg ASTM D6978. Dopuszczone do kontaktu z żywnością zgodnie z Rozporządzeniem WE 1935/2004, Rozporządzeniem WE 10/2011 oraz Rozporządzeniem WE nr2023/2006 ( potwierdzone deklaracją producenta. Termin ważności 5 lat od daty produkcji Rozmiar XS-XL do wyboru przy zakupie. | C7: op. 100 szt | D7: 32000
A8: 3 | B8: Rękawice nitrylowe, bezpudrowe, niejałowe, o przedłużonym mankiecie, do procedur wysokiego ryzyka, wewnętrznie chlorowane, teksturowane na końcach palców, grubość ścianki na palcu min 0,14mm, na dłoni min. 0,10 mm, na mankiecie min. 0,07mm, o długości min 290mm, AQL 1.0, siła zrywu przed starzeniem min. 9 N, po starzeniu min.8 N. Rękawice odporne na przenikanie wirusów zgodnie z EN ISO 374-5 lub ASTM F1671:07. Potwierdzony badaniem z niezależnego laboratorium brak przebicia rękawicy dla min. 30 cytostatyków przez min 240min. oraz fentanylu przez min.240 min. wg ASTM D6978. Potwierdzony badaniami z niezależnego laboratorium zgodnie z ASTM F739 brak przebicia dla min. 5 związków o działaniu dezynfekcyjnym >480 min. ( w tym 4% chlorheksydyny oraz przebicia dla min. 70% izopropanol przez min. 24 min. Potwierdzony badaniami z niezaleznego laboratorium brak wykrycia w rękawicy szkodliwych akceleratorów chemicznych. Rękawice zgodne z Rozporządzeniem(UE) 2017/745 w klasie I oraz Rozporządzeniem (UE) 2016/425 o środkach ochrony indywidualnej w kategorii III typ B, rękawice zgodne z EN 455 (1-4), zgodne z EN ISO 374-1, EN ISO 374-2, EN16523-1, EN ISO 374-4, EN ISO 374-5. Dopuszczone do kontaktu z żywnością zgodnie z Rozporządzeniem WE 1935/2004, Rozporządzeniem WE 10/2011 oraz Rozporządzeniem (WE) nr 2023/2006 (potwierdzone deklaracją producenta). Termin ważności 5 lat od daty produkcji.Rozmiar XS-XL do wyboru przy zakupie. | C8: op.100szt | D8: 2000
A9: 4 | B9: Rękawice nittylowe, bezpudrowe, niejałowe, mankiet rolowany, kolor zielony. Powierzchnia zewnętrzna teksturowana na palcach. Powierzchnia wewnętrzna chlorowana. AQL max 1,5, siła zrywu przed starzeniem oraz po starzeniu min. 6,5 N ( potwierdzone badaniem z niezależnego laboratorium). Długość min. 245 mm, grubość pojedynczej ścianki na palcu min 0,09 mm, na dłoni 0,07 mm, na mankiecie min 0,06 mm. Potwierdzony badaniem z niezależnego laboratorium brak przenikania oprzez rękawicę dla min 12 cytostatykó przez min 240 min. wg ASTM D6978. Rękawice z formułą certyfikowanego, organicznego i oczyszczonego wyciągu z aloesu o właściwościach nawilżających i niskim potencjale zapalenia skóry. Ocena efektu nawilżenia skóry ( potwierdzona badaniem Modifield Draize-95 Test). Rękawice odporne na przenikanie mikroorganizmów zgodnie z EN ISO 374-5. Rękawice odporne na przenikanie mikroorganizmów zgodnie z EN ISO 374-5. Rękawice zgodne z Rozporządzeniem (UE) 2017/745 zaklasyfikowane jako wyroby medyczne w klasie I oraz zgodne z Rozporządzeniem (ue) 2016/425 o środkach ochrony indywidualnej w kategorii III typ B. Rękawice zgodne z wymaganiami norm EN 455(1-4), EN ISO 374-2, EN 374-4, EN ISO 374-5, EN ISO EN ISO 21420., rozmiar od XS-XL | C9: op.100szt | D9: 2000
A10: 5 | B10: Rękawice nitrylowe, bezpudrowe, niejałowe, mankiet rolowany, kolor fioletowy. Powierzchnia zewnętrzna te4ksturowana na palcach. Powierzchnia wewnętrzna chlorowana. Teksturowane końcówki palców o właściwościach adhezyjnch, w celu zapewnienia precyzji podczas pracy z małymi przedmiotami w środowisku zarówno suchym jak i mokrym ( potwierdzone oświadczeniem producenta). Długość rękawicy min 250 mm ( potwierdzone niezależnymi badaniami), AQL max 1,5. Grubość pojedynczej ścianki na palcu 0,10-0,12 mm, na dłoni 0,07-0,08 mm. Minimalna wartość siły zrywu przed starzeniem i po starzeniu min 7N ( potwierdzone niezależnym badaniem). Rękawice zgodne z Rozporządzeniem (UE) 2017/745 zaklasyfikowane jako wyroby medyczne w klasie I oraz zgodne z Rozporządzeniem (UE) 2016/425 o środkach ochrony indywidualnej w kat III typ B, rękawice zgodne z EN 455 (1-4), zgodne z EN ISO 374-1, EN ISO 374-4, EN ISO 374-5. Rękawice odporne na przenikanie bakterii, grzybów i wirusów zgodnie z EN ISO 374-5. Zgodne z ASTM D6978 oraz potwierdzone badaniem z niezależnego laboratorium, brak przenikania przez rękawicę dla min 7 cytostatyków przez min 240 min. wg ASTM D6978. Opakowanie A 100 szt rozm S-XL | C10: op.=100 szt | D10: 1000
A11: 6 | B11: Rękawice foliowe PE , rozmiar M-L | C11: op=100szt. | D11: 1000
B12: RAZEM | F12: =SUM(F6:F11) -> 0 | I12: =SUM(I6:I11) -> 0
B20: Data | H20: Podpis osoby/osób upoważnionej
B21: ……………………………………………. | H21: ……………………………….

Sheet Zad.7
B2: ZOZ/DZP/PN/24/23
B3: Załącznik Nr: 9
B4: Zadanie nr: 7 – Kaniule, aparaty do przygotowywania i pobierania leków z butelek
A5: Lp. | B5: Nazwa produktu | C5: Jednostka miary | D5: Ilość | E5: Cena jednostkowa netto | F5: Wartość netto | G5: VAT | H5: Cena jednostkowa brutto | I5: Wartość brutto | J5: Producent/Nazwa handlowa/Numer katalogowy
A6: 1 | B6: Aparat do przygot. i pobierania leków z butelek z filtrem bakteryjnym 0,45 mikrometra z odpowietrznikiem z zamknięciem zatrzaskowym z mikrokolcem | C6: szt. | D6: 16000
A7: 2 | B7: Przyrząd do aspiracji leku z butelek, z wbudowanym filtrem bakteryjnym 0,45µm i filtrem cząsteczkowym 5µm, nieruchoma osłona otaczająca nasadkę łączącą ze strzykawką, zintegrowana zastawka zabezpieczająca lek przed wyciekaniem po odłączeniu od strzykawki. | C7: szt. | D7: 6000
A8: 3 | B8: Kaniula dożylna typu bezpiecznego z portem bocznym od G-24 do G-17 zaopatrzona w specjalny metalowy automatyczny zatrzask zabezpieczający koniec igły przed przypadkowym zakłuciem personelu z minimum 4 paskami kontroli pod promieniowaniem RTG membrana hydrofobowa, chroniąca przed wypływem krwi po założeniu kaniuli | C8: szt. | D8: 50000
A9: 4 | B9: Kaniula dożylna typu bezpiecznego bez portu bocznego z zaworem eliminujacym całkowicie wypływ krwi podczas kaniulacji, od G-24 do G-17 zaopatrzona w specjalny metalowy automatyczny zatrzask zabezpieczający koniec igły przed przypadkowym zakłuciem personelu z minimum 4 paskami kontroli pod promieniowaniem RTG membrana hydrofobowa, chroniąca przed wypływem krwi po założeniu kaniuli | C9: szt. | D9: 1000
A10: 5 | B10: Koreczki dwufunkcyjne do kaniul i strzykawek | C10: szt. | D10: 25000
A11: 6 | B11: Korek do wenflonu Luer Lock | C11: szt. | D11: 100000
A12: 7 | B12: Korek dezynfekcyjny zawierający 70% alkohol izopropylowy, sterylny, z aplikatorem umożliwiający sterylne podłączenie, bez możliwości kontaminacji obudowy koreczka przed podłączeniem. | C12: op=200szt. | D12: 10
A13: 8 | B13: Skala pomiarowa do inf. systemu OCŻ od +35 do -15cm wielokrotnego użytku, plastik. Z 2 uchwytami, z efektem powiększenia wyniku | C13: szt. | D13: 10
A14: 9 | B14: Zestaw bezpieczny do przetoczeń płynów inf. z zastawkami : zatrzymującymi wypływ płynu przy odpowietrzaniu i zabezpieczającymi przed dostaniem się pow. do drenu po infuzji, z odpowietrznikiem z filtrem p/bakteryjnym z wskaźnikiem BFE minimum 99,99999% zamykanym klapką, dwuczęściowa komora kroplowa z 15μm filtrem, zaciskiem rolkowym z zabezpieczeniem na kolec komory kroplowej dla zapewnienia bezpieczeństwa po użyciu (ostry kolec umożliwiający całkowite opróżnienie butelki), wolny od ftalanów | C14: szt. | D14: 131000
A15: 10 | B15: Igła do bezpiecznego pobierania leków ze zintegrowanym filtrem 5µm, zapobiegająca zanieczyszczeniom mechanicznym pobieranych leków - opakowanie typu folia/papier. | C15: szt. | D15: 400
A16: 11 | B16: Rurka do bezpiecznego pobierania leków z filtrem 5µm, do pobierania leków z dużych ampułek i otwartych fiolek, długość robocza rurki min. 10cm - opakowanie typu folia/papier. | C16: szt. | D16: 200
A17: 12 | B17: Łącznik międzystrzykawkowy luer-lock umożliwiający swobodny transfer zawartości jednej strzykawki do drugiej - pakowane indywidualnie opak. folia/papier | C17: szt. | D17: 150
... A21: 16 | B21: Zestaw do przetoczeń płynów infuzyjnych światłoczułych z dwuczęściową komorą kroplową, odpowietrznikiem z filtrem p/bakteryjnym oraz miejscem na kolec komory kroplowej dla zapewnienia bezpieczeństwa po użyciu. Długość drenu 180 cm. Opakowanie pojedyncze, sterylne. | C21: szt. | D21: 1000
B22: RAZEM | F22: =SUM(F6:F21) -> 0 | I22: =SUM(I6:I21) -> 0
B24: Data | H24: Podpis osoby/osób upoważnionej
B25: ……………………………………………. | H25: ……………………………….

Sheet Zad.8
B2: ZOZ/DZP/PN/24/23
B3: Załącznik Nr: 9
A4: Zadanie nr: 8 – Testy do sterylizacji.
A5: Lp. | B5: Nazwa produktu | C5: Jednostka miary | D5: Ilość | E5: Cena jednostkowa netto | F5: Wartość netto | G5: VAT | H5: Cena jednostkowa brutto | I5: Wartość brutto | J5: Producent/Nazwa handlowa/Numer katalogowy
A6: 1 | B6: Pakiet jednokrotnego użytku typu Bowie-Dick,symulujący pakiet porowaty pakowany w papier krepowy, Testzapewniają łatwą i jednoznaczną interpretację wyniku - zmiana koloru. | C6: 1 szt. | D6: 1600
A7: 2 | B7: Test wieloparametrowy MVI-S S-4 test parowy liniowe ułożenie wskaźnika | C7: op=250 | D7: 150
A8: 3 | B8: Szybki test do wykrywania protein i hemoglobiny. Parametry techniczne: wynik w czasie nie krótszym niż 10 minut, test składający się z tuby i nasączonego tamponu. Wynik w postaci zmiany barwy odczynnika na fioletową. Test zapewniający weryfikację HACCP/SSOP | C8: op.=25szt | D8: 6
A9: 4 | B9: Test jednorazowy kontroli mycia w myjniach dezynfektorach. | C9: op.=100szt | D9: 25
A10: 5 | B10: Test jednorazowy rutynowej kontroli w myjniach ultradźwiękowych. | C10: op=50szt | D10: 5
A11: 6 | B11: Uchwyt do mocowania testów z pozycji 4,5 | C11: 1szt | D11: 8
A12: 7 | B12: Test kontroli zgrzewu | C12: Op=250 szt | D12: 6
B13: RAZEM | F13: =SUM(F6:F12) -> 0 | I13: =SUM(I6:I12) -> 0
B16: Data | H16: Podpis osoby/osób upoważnionej
B17: ……………………………………………. | H17: ……………………………….

Sheet Zad.9
B1: ZOZ/DZP/PN/24/23
B2: Załącznik Nr: 9
A3: Zadanie nr 9 –Rękawice chirurgiczne.
A4: Lp. | B4: Nazwa produktu | C4: Jednostka miary | D4: Ilość | E4: Cena jednostkowa netto | F4: Wartość netto | G4: VAT | H4: Cena jednostkowa brutto | I4: Wartość brutto | J4: Producent/Nazwa handlowa/Numer katalogowy
A5: 1 | B5: Rękawice chirurgiczne, sterylne, ortopedyczne, bezpudrowe, o wysokie odporności na przekłucia i rozdarcia oraz wytrzymałe i rozciągliwe spełniające wymogi zabiegów podwyższonego ryzyka, chirurgii urazowej, ortopedycznej oraz rekonstrukcyjnej. Parametry techniczne : lateksowe kolor brązowy, kształt anatomiczny, rolowany mankiet, teksturowane, chlorowane i silikonowane na zewnątrz, pokryte warstwą poliuretanową i silikonowane od wewnątrz. Średnie grubości pojedynczej ścianki na palcu min. 0,33mm, na części dłoniowej min. 0,30mm, na mankiecie min. 0,26mm, minimalna długość rękawicy 295mm, rozmiary 6,0-9,0, AQL 1,0, poziom protein <30μg/g, jałowe, pakowane w opakowanie foliowe - wyjątkowo odporne na wilgoć. | C5: Para | D5: 3000
A6: 2 | B6: Rękawice chirurgiczne sterylne bezpudrowe mikrochirurgiczne, wykonane z lateks kauczuku naturalnego koloru brązowego mankiet z rolowanym brzegiem. Powierzchnia zewnętrzna: gładka, chlorowana i silikonowana, powierzchnia wewnętrzna: pokryta warstwą poliuretanową i silikonowana. Średnia grubość pojedynczej ścianki na palcu min. 0,18mm, na części dłoniowej min. 0,15mm, na mankiecie min. 0,12mm. Długość minimalna rękawicy 295mm, AQL: 1,0 zawartość protein <30μg/g, pakowane w opakowania foliowe -wyjątkowo odporne na wilgoć, rozmiary 6,0-9,0 | C6: Para | D6: 2500
A7: 3 | B7: Rękawice chirurgiczne jałowe, z lateksu kauczuku naturalnego, pudrowane. Powierzchnia zew. teksturowana, z rolowanym mankietem, o anatomicznym kształcie. Długość rękawicy min.280mm. Grubość ścianki o obszarze środkowego palca min. 0.21mm, dł. min. 0.20mm, mankietu min. 0.15mm., AQL1.0, poziom protein <70ug. Rozmiary 6,0-9,0 | C7: Para | D7: 26000
A8: 4 | B8: Rękawice chirurgiczne sterylne, bezpudrowe, lateks kauczuku naturalnego, kształt anatomiczny, mankiet prosty bez rolowanego zakończenia, powierzchnia zewnętrzna – mikroteksturowana, chlorowana, powierzchnia wewnętrzna – chlorowana. Średnia grubości pojedynczych ścianek: min. palec 0,220mm, dłoń min. 0,205mm, mankiet min. 0,240mm. Długość minimalna rękawicy 285mm, zawartość protein <30μg/g AQL-1,0, rozmiar 6,0-9,0 | C8: para | D8: 17200
A9: 5 | B9: Rękawice chirurgiczne neoprenowe kolor kremowy, jałowe,. Długość rękawicy min.300 mm, mankiet rolowany. Powierzchnia zewnętrzna teksturowana, chlorowana i silikonowana. Powierzchnia wewnętrzna pokryta warstwą poliuretanową i silikonowana. Średnia grubość pojedynczej ścianki na palcu 0,16 mm, na części dłoniowej 0,15 mm, na mankiecie 0,15 mm. AQL 1,0. Rękawice zgodne z Dyrektywa o Wyrobie Medycznym MDD 93/42/EEC & 2007/47/EC w klasie II a, zgodne z wymaganiami normy EN 455 część 1-4). Rozmiar 6-9,0 | C9: para | D9: 1500
A10: 6 | B10: Chirurgiczne rękawice lateksowe, jałowe, z wewnętrzną warstwą polimerową, bezpudrowe, powierzchnia zewnętrzna teksturowana, z rolowanym mankietem, anatomiczny kształt, długość minimalna rękawicy 285mm, grubość ścianki na palcu min.0,21mm, dłoni min. 0,20mm, mankiet min.0,15mm, siła zrywu przed starzeniem min.14N, siła po starzeniu min. 12 N, AQL 1,0, poziom protein lateksu <30ug/g, zaklasyfikowane jako środek ochrony indywidualnej w kat III. Zgodne z Dyrektywą Medyczną 93/42/EEC w klasie IIa i normą EN 455 część 1-4, posiadające Deklarację CE, Rozmiar 6,0 -9,0 | C10: Para | D10: 8000
A11: 7 | B11: Rękawice chirurgiczne i ochronne, lateksowe, bezpudrowe, kszatał anaromiczny. Mankiet rolowany. Rękawice wewnętrzne kształt zróżnicowany na obie dłonie, siła zrywu przed starzeniem 13,26N, po starzeniu 11.26N, długość 282mm. Rękawice zewnętrzne, kształt zróżnicowany na obie dłonie, siła zrywu przed stazrzeniem 13,23N po starzeniu 11,18N, długość 282mm, Poziom AQL 0,65. Wyrób medyczny klasy II a. oraz zgodnie z Rozporządzeniem ochrony indywidualnej kat. III typ C (UE) 2016/425. Zgodny z normą EN455-1-4. Dostępne rozmiary 6,0-9,0 | C11: op.=25kpl | D11: 25
A12: 8 | B12: Rękawice chirurgiczne, ginekologiczne, o przedłużonym mankiecie, jałowe, lateksowe bezpudrowe, kształt anatomiczny, mankiet rolowany, powierzchnia zewnętrzna teksturowana, chlorowana, powierzchnia wewnętrzna chlorowana, długość rękawicy minimum 500mm, grubość na palcu min. 0,33mm, na dłoni min 0,30mm, mankiet min. 0,18mm, poziom protein lateksu poniżej 20µg/g, AQL max.0,65;. Rękawice zgodne z Dyrektywą o Wyrobie Medycznym MDD 93/42/EEC & 2007/47/EC w klasie II a, rękawice zgodne z EN 455(1-4), rękawice przebadane na przenikanie mikroorganizmów zgodnie z ASTM F1671, rozmiar S-L | C12: op.=25szt | D12: 5
B13: suma | F13: =SUM(F5:F12) -> 0 | I13: =SUM(I5:I12) -> 0
B18: data ………………………………. | G18: podpis ……………………………………….

Sheet Zad.10
B1: ZOZ/DZP/PN/24/23
B2: Załącznik Nr: 9
A4: Zadanie nr: 10 - Strzykawki, igły
A5: Lp. | B5: Nazwa produktu | C5: Jednostka miary | D5: Ilość | E5: Cena jednostkowa netto | F5: Wartość netto | G5: VAT | H5: Cena jednostkowa brutto | I5: Wartość brutto | J5: Producent/Nazwa handlowa/Numer katalogowy
A6: Strzykawka dwuczęściowa luer, wykonana z wysokiej jakości PP i/lub PE, w pełni przeźroczysty cylinder z wyraźną czarną, trwałą skalą pomiarową o przedłużonej skali o min. 20% w stosunku do skali nominalnej, wyraźna kryza zabezpieczająca przed wypadaniem tłoka, idealne dopasowanie cylindra i tłoka zapewniające pełną szczelność i bezskokowy przesów tłoka, tłok w wyraźnym, kontrastującym kolorze ułatwiającym odczyt ze sferycznym zakończeniem umożliwiającym maksymalne zmniejszenie przestrzeni martwej, logo producetna i nazwa własna na cylindrze i opakowaniu jednostkowym - Strzykawki jednego producenta, pakowane indywidualnie w opakowanie typu folia/papier - opakowania a 100 szt. Parametry dla pozycji 1-4
A7: 1 | B7: 2 ml skala co 0,1ml x 100 szt. | C7: op.=100szt | D7: 1200
A8: 2 | B8: 5 ml skala co 0,2ml x 100 szt. | C8: op.=100szt | D8: 1400
A9: 3 | B9: 10 ml skala co 0,5ml x 100 szt. | C9: op.=100szt | D9: 1200
A10: 4 | B10: 20 ml skala co 1ml x 100 szt. | C10: op.=100szt | D10: 1300
A11: 5 | B11: Strzykawka do tuberkuliny 1 ml 3 częściowe z igłą 0,45 x 12 mm x 100 szt. z osobną igłą | C11: op.=100szt | D11: 150
A12: 6 | B12: 100 ml Janeta z łącznikiem Luer,trzyczęściowa,wykonana z polipropylenu, skala w kolorze niebieskim, zaopatrzona w dodatkowy stożek do łączenia z cewnikiem | C12: szt. | D12: 5000
A13: Strzykawki - szczelne, łatwy przesuw tłoka, wyraźna skala. Wykazane na liście producenta pomp infuzyjnych MEDIMA . Opis dla pozycji 7-10 | F13: =E13*D13 -> 0
A14: 7 | B14: 10ml x 100 szt., 3 częściowe | C14: op.=100szt | D14: 300
A15: 8 | B15: 20ml x 100 szt., 3 częściowe | C15: op.=100szt | D15: 1000
A16: 9 | B16: 50 ml do pomp 3 cz .do pomp Luer-Lock ze skalą dwustronną | C16: szt. | D16: 36000
A17: 10 | B17: 50 ml do pomp 3 cz .do pomp Luer-Lock do leków światłoczułych | C17: szt. | D17: 15000
A18: 11 | B18: Strzykawka 3-częściowa Luer-Lock model wymagany zgodnie z intrukcją producenta dializatora Primaflex 50ml | C18: szt. | D18: 5000
A19: Igły iniekcyjne o ostrzach zapewniających minimalny opór skóry, rurki pokryte silikonem, cienkościenne nasadki barwione zgodnie zkodem kolorów | F19: =E19*D19 -> 0
A20: 12 | B20: 0,45 x 13 mm x 100 szt. | C20: op=100szt | D20: 65
A21: 13 | B21: 0,5 x 25 mm x 100 szt. | C21: op=100szt | D21: 360
A22: 14 | B22: 0,6 x 25 mm x 100 szt. | C22: op=100szt | D22: 50
A23: 15 | B23: 0,7 x 30 mm x 100 szt. | C23: op=100szt | D23: 180
A24: 16 | B24: 0,8 x 40 mm x 100 szt. | C24: op=100szt | D24: 700
A25: 17 | B25: 0,9 x 40 mm x 100 szt. | C25: op=100szt | D25: 160
A26: 18 | B26: 1,1 x 40 mm x 100 szt. | C26: op=100szt | D26: 500
A27: 19 | B27: 1,2 x 40 mm x 100 szt. | C27: op=100szt | D27: 1700
A28: 21 | B28: 1,6 x 40 mm x 100 szt. | C28: op=100szt | D28: 30
A29: 22 | B29: Igła 0,8 x 120 mm x 100 szt. do blokad nerwowych | C29: op=50szt | D29: 36
A30: 23 | B30: Igła do bezpiecznego pobierania i rozpuszczania leków 18G x 30mm, szlif ołówkowy z otworem bocznym, końcówka pasująca do luer i luer-lock. | C30: op=100szt | D30: 1400
A31: 24 | B31: Igła do bezpiecznego pobierania i rozpuszczania leków z filtrem 18G x 30-50mm, szlif ścięty, końcówka pasująca do luer i luer-lock. | C31: op=100szt | D31: 50
... A37: 30 | B37: Igła do płukania kanalików łzowych - jednorazowego użytku | C37: Op=20 szt | D37: 2
B38: RAZEM | F38: =SUM(F7:F36) -> 0 | I38: =SUM(I7:I37) -> 0
B41: Data | H41: Podpis osoby/osób upoważnionej
B42: ……………………………………………. | I42: ……………………………….

Sheet Zad.11
B1: ZOZ/DZP/PN/24/23
B2: Załącznik Nr: 9
A4: Zadanie nr: 11 - Rurki
A5: Lp. | B5: Nazwa produktu | C5: Jednostka miary | D5: Ilość | E5: Cena jednostkowa netto | F5: Wartość netto | G5: VAT | H5: Cena jednostkowa brutto | I5: Wartość brutto | J5: Producent/Nazwa handlowa/Numer katalogowy
A6: 1 | B6: Rurki intubacyjne bez mankietu 2,0 – 4,5silikonowane, jałowe | C6: szt. | D6: 100
A7: Rurki intubacyjne z mankietem, ustno-nosowa, z termoplastycznego PCV, przeźroczysta, typ Murphy, linia RTG na całej dł., z czytelnym oznaczeniem znacznika głębokości i rozmiaru rurki na baloniku jałowe silikonowane | F7: =E7*D7 -> 0
A8: 2 | B8: Nr 2,5-9,5 co 0,5 do wyboru przy zakupie | C8: szt. | D8: 2600
A9: Rurki intubacyjne zbrojone z mankietem, typ Murphy, odporne na zginanie, znakowany balonik,rozmiar, jałowe, silikonowane | F9: =E9*D9 -> 0
A10: 3 | B10: Nr. 4,0-8,5 co 0,5 do wyboru przy zakupie | C10: szt. | D10: 400
A11: Rurki intubacyjne zbrojone z mankietem, typ Murphy, odporne na zginanie, znakowany balonik rozmiar, jałowe, silikonowane z prowadnicą | F11: =E11*D11 -> 0
A12: 4 | B12: nr. 6-9 co 0,5 do wyboru przy zakupie | C12: szt. | D12: 70
A13: 5 | B13: Rurka tracheostomijna z dwoma niskociśnieniowymi mankietami uszczelniającymi, wykonana z medycznej odmiany termoplastycznego PCV, atraumatycznie wykończone wszystkie elementy rurki, linia kontrastowa RTG, baloniki kontrolne z samouszczelniejącymi się zaworami. Rozmiary do wyboru przy zakupie 7,0-9,0 co 1,0 | C13: szt. | D13: 70
A14: 6 | B14: Rurka tracheostomijna zbrojona z ruchomym szyldem, wydłużona część dystalna i proksymalna, z niskociśnieniowym mankietam uszczelniającym, wykonana z medycznej odmiany termoplastycznego PCV, atraumatycznie wykończone wszystkie elementy rurki, linia kontrastowa RTG, balonik kontrolne z samouszczelniejącym się zaworem. Rozmiary do wyboru przy zakupie 7,0-10, co 1,0 | C14: szt. | D14: 10
A15: 7 | B15: Rurka tracheostomijna z ruchomym szyldem, wydłużona część dystalna i proksymalna, z niskociśnieniowym mankietam uszczelniającym, wykonana z medycznej odmiany termoplastycznego PCV, atraumatycznie wykończone wszystkie elementy rurki, linia kontrastowa RTG, balonik kontrolne z samouszczelniejącym się zaworem. Rozmiary do wyboru przy zakupie 7,0-10, co 1,0 | C15: szt. | D15: 10
A16: 8 | B16: Rurki ustno - gardłowe Guedel z medycznego PCV, barwne wkładki, zaokrąglone krawędzie, blokada przeciw zagryzieniu, jałowe,rozmiary od 000 do 6 do wyboru przy zamówieniu | C16: szt. | D16: 1000
A17: 9 | B17: Rurka nosowo-gardłowa 6-8mm | C17: szt. | D17: 10
A18: Rurki tracheostomijne z mankietem silikonowane, jałowe | F18: =E18*D18 -> 0
A19: 10 | B19: nr. 5,0-10 co 0,5 do wyboru przy zakupie | C19: szt. | D19: 80
A20: 11 | B20: Zestaw o min. składzie: rurka tracheostomijna KAN bez mankietu 1 szt., prowadnica 1 szt., kaniula wewnętrzna z łącznikiem 15mm 1 szt., kaniula wewnętrzna z kołnierzem 2 szt., miękka opaska mocująca, łącznik 15mm nasadka łącząca, korek dekaniulacyjny, nasadka kosmetyczna rozmiary rurek do wyboru przy zakupie : 5,0-10,0 mm | C20: 1 zestaw | D20: 15
A21: 12 | B21: Zestaw o min. składzie: rurka tracheostomijna KAN z mankietem 1 szt., prowadnica 1 szt., kaniula wewnętrzna z łącznikiem 15mm 1 szt., kaniula wewnętrzna z kołnierzem 2 szt., miękka opaska mocująca, łącznik 15mm nasadka łącząca, korek dekaniulacyjny, nasadka kosmetyczna rozmiary rurek do wyboru przy zakupie : 5,0-10,0 mm | C21: 1 zestaw | D21: 5
A22: 13 | B22: Zestaw o min. składzie: rurka tracheostomijna KAN bez mankietu,fenestracyjna 1 szt., prowadnica 1 szt., kaniula wewnętrzna z łącznikiem 15mm, z otworami 1 szt., kaniula wewnętrzna z łącznikiem 15mm, bez otworów fenestracyjnych 1 szt, kaniula wewnętrzna z kołnierzem, z otworami fenestracyjnymi 1 szt., miękka opaska mocująca, łącznik 15mm nasadka łącząca, korek dekaniulacyjny, nasadka kosmetyczna rozmiary rurek do wyboru przy zakupie : 5,0-10,0 mm | C22: 1 zestaw | D22: 10
A23: 14 | B23: Zestaw o min. składzie: rurka tracheostomijna KAN z mankietem,fenestracyjna 1 szt., prowadnica 1 szt., kaniula wewnętrzna z łącznikiem 15mm, z otworami 1 szt., kaniula wewnętrzna z łącznikiem 15mm, bez otworów fenestracyjnych 1 szt, kaniula wewnętrzna z kołnierzem, z otworami fenestracyjnymi 1 szt., miękka opaska mocująca, łącznik 15mm nasadka łącząca, korek dekaniulacyjny, nasadka kosmetyczna rozmiary rurek do wyboru przy zakupie : 5,0-10,0 mm | C23: 1 zestaw | D23: 5
A24: 15 | B24: Łącznik do drenów symetryczny, sterylny, O.D. 15mm I.D. 6mm | C24: szt | D24: 200
A25: Prowadnice do rurek intubacyjnych -metal, pokryty tworzywem, miękki koniec, jałowe | F25: =E25*D25 -> 0
A26: 16 | B26: Rozmiar 2-2,2 mm / 230 mm | C26: szt. | D26: 100
A27: 17 | B27: Rozmiar 3 mm / 340 mm | C27: szt. | D27: 160
A28: 18 | B28: Rozmiar 4 mm / 360 mm | C28: szt. | D28: 400
A29: 19 | B29: Rozmiar 5 mm / 370 mm | C29: szt. | D29: 300
A30: Prowadnice do trudnych intubacji bez futerału. Elastyczna, wzmocniona na całej długości, skalowana podziałka, zagięty koniec ułatwiający wprowadzanie, materiał o właściwościach poślizgowych, jałowe | F30: =E30*D30 -> 0
A31: 20 | B31: Rozmiar 1,6 x 600 mm | C31: szt. | D31: 10
A32: 21 | B32: Rozmiar 2,0 x 600 mm | C32: szt. | D32: 10
A33: 22 | B33: Rozmiar 5,0 długość 800mm | C33: szt. | D33: 40
A34: Prowadnice do wymiany rurek intubacyjnych z kanałem do wentylacji: w komplecie z łącznikiem 15mm i Luer Lock z zagiętym końcem, jałowa, elastyczna, wzmocniona na całej długości. | F34: =E34*D34 -> 0
A35: 23 | B35: Rozmiar 5,0 długość 800 mm | C35: szt. | D35: 30
A36: 24 | B36: Prowadnica do trudnej intubacji, z wygiętym zakończeniem, elastyczna, wzmocniona na całej długości, skalowana - wielorazowego użytku, śr. zewn. 3.3 i 5.0mm - długość 60-80cm | C36: szt. | D36: 60
A37: 25 | B37: Prowadnica do rurek intubacyjnych z możliwością podawania tlenu, z prostym lub wygiętym końcem dystalnym, elastyczna, wzmocniona na całej długości, skalowana, z wewnętrznym kanałem oraz łącznikiem 15mm i łącznikiem luer-lock, śr. zewn. 2.6, 3.3, 5.0 i 6.0mm - długość 60-83cm | C37: szt. | D37: 20
A38: 26 | B38: Opaska do rurek tracheostomijnych, jałowa. | C38: szt | D38: 220
A39: Rurka tracheostomijna metalowa z okienkiem | F39: =E39*D39 -> 0
A40: 27 | B40: nr.7 | C40: szt. | D40: 5
A41: 28 | B41: nr.8 | C41: szt. | D41: 10
A42: 29 | B42: nr.9 | C42: szt. | D42: 2
A43: 30 | B43: Szczoteczki do mycia rurek tracheostomijnych | C43: szt. | D43: 100
B44: RAZEM | F44: =SUM(F6:F43) -> 0 | I44: =SUM(I6:I43) -> 0
B47: Data | H47: Podpis osoby/osób upoważnionej
B48: ……………………………………………. | H48: ……………………………….

Sheet Zad.12
B1: ZOZ/DZP/PN/24/23
B2: Załącznik Nr: 9
A4: Zadanie nr: 12 – Łyżki i rękojeści.
A5: Lp. | B5: Nazwa produktu | C5: Jednostka miary | D5: Ilość | E5: Cena jednostkowa netto | F5: Wartość netto | G5: VAT | H5: Cena jednostkowa brutto | I5: Wartość brutto | J5: Producent/Nazwa handlowa/Numer katalogowy
A6: 1 | B6: Łyżka jednorazowego użytku, metalowa, diodowa,współpracująca z rękojeściami standardowymi. Z wyraźnym nadrukiem rozmiaru na opakowaniu jednostkowym. Dostępne rozmiary łyżek: Mac 0- dł. 82mm, szer. 9mm, 1- dł. 92mm, szer 11,50mm, 2- dł. 114mm, szer. 14mm, 3- dł. 133mm, szer. 14mm , 4- dł. 158mm, szer. 14mm,5- dł. 174, szer. 14mm, Mill 00-dł. 65mm, szer.11,5mm, 0- dł. 76mm, szer. 11,5mm, 1- dł. 100mm, szer. 11,5mm, 2 – dł. 151mm, szer. 13mm, 3 – dł. 190mm, szer. 13, 4 – dł. 207, szer. 13mm. – do wyboru przez Zamawiającego Pakowane pojedynczo, zdezynfekowane, gotowe do użytku Współpracują ze wszystkimi rękojeściami w standardzie ISO 7376-1. Data przydatności i seria na jednostkowym opakowaniu każdej łyżki | C6: szt. | D6: 1000
A7: 2 | B7: Łyżki jednorazowe, metalowe: Metalowe łyżki światłowodowe, jednorazowego użytku z podstawą z tworzywa sztucznego. Z wyraźnym nadrukiem rozmiaru na opakowaniu jednostkowym. Wytrzymały materiał oraz ergonomiczny kształt Zaokrąglona końcówka łyżki i gładkie krawędzie zmniejszają ryzyko uszkodzeń Pakowane pojedynczo – gotowe do użytku Dostępne w rozmiarach Mac 00-dł. 72Mm, szer 9mm ,0- dł. 82mm, szer. 9mm, 1- dł. 94mm, szr. 11,50mm, 2- dł. 116mm, szer 14mm, 3- dł. 133mm, szer. 14mm, 4- dł. 159mm, szer 14mm, 5- dł. 172mm, szer. 14mm oraz Miller 000-dł. 58Mm, szer 11,5mm, 00-dł. 69mm, szer. 11,5mm, 0 – dł. 79mm, szer. 11,5mm, 1 – dł. 102mm, szer. 11,5mm, 2 – dł. 152mm, szer. 13mm 3 – dł. 193mm, szer. 13mm, 4 – dł. 209mm, szer. 13mm. do wyboru przez zamawiającego Współpracują z rękojeściami światłowodowymi w standardzie ISO 7376-3 Nie zawierają latexu Pakowanie folia-papier.Data przydatności i seria na jednostkowym opakowaniu każdej łyżki | C7: szt. | D7: 2500
A8: 3 | B8: Rękojeści wielorazowe LED, współpracujące z łyżkami z poz. 2 Mocne, jasne światło LED: 9500 lux, min. 50 000h pracy Do sterylizacji w systemach systemach nisko-temperaturowych oraz w autoklawie, po wyciągnięciu diody LED Dostępne w 3 rozmiarach: średni, krótki, pediatryczny Współpracują z łyżkami światłowodowymi w standardzie ISO 7376-3 | C8: szt. | D8: 15
A9: 4 | B9: Rękojeść wielorazowa klasyczna rozmiar standardowy, zasilanie bateryjne (baterie R-14), pediatryczna, krótka ( zasilanie bateryjne AA). Do wyboru przy zakupie. Rękojeść zgodne z normą ISO 7376-1 | C9: szt. | D9: 10
A10: 5 | B10: Rękojeść jednorazowa kompatybilna z łyżkami światłowodowymi z wbudowaną baterią do łyżek w normie ISO 7376-3 | C10: szt. | D10: 200
A11: 6 | B11: Łyżka do wideolaryngoskopu Is3-L jednorazowego użytku, wykonana z tworzywa, pakowana pojedynczo. Rozmiar S, M, L do wyboru przy zakupie. Opakowanie folia-papier, na opakowaniu czytelna informacja o rozmiarze łyżki. | C11: szt. | D11: 110
B12: Razem | F12: =SUM(F6:F11) -> 0 | I12: =SUM(I6:I11) -> 0
B18: Data | F18: Podpis osoby/osób upoważnionej
B19: ……………………………………………. | F19: ……………………………….

Sheet Zad. 13
B1: ZOZ/DZP/PN/24/23
B2: Załącznik Nr: 9
A3: Zadanie nr: 13 Pojemniki z formaliną.
A4: Lp. | B4: Nazwa produktu | C4: Jednostka miary | D4: Ilość | E4: Cena jednostkowa netto | F4: Wartość netto | G4: VAT | H4: Cena jednostkowa brutto | I4: Wartość brutto | J4: Producent/Nazwa handlowa/Numer katalogowy
A5: 1 | B5: Pojemnik BiopSafe 60ml. Bezpieczny pojemnik tworzący system zamknięty do materiału biopsyjnego/histopatologicznego składający się z pokrywy zawierającej środek utrwalający i zbiornika. Pokrywa zbudowana z elementów : 1.Tłok zakończony nakłuwaczem 2.Folia aluminiowa zgrzana z nakrętką 3.Filtr zabezpieczający 4.Przycisk uwalniający substancję utrwalającą 5.Substancja utrwalająca - Formaldechyd 4% w roztworze wodnym (10% roztwór formaliny) i <2.5% metanol o łącznej objętości 60ml 5. Pokrywa wyposażona w gwint zewnętrzny. Zbiornik wyposażony w gwint wewnętrzny służący do zamknięcia i szczelnego połączenia z pokrywą. Substancja utrwalająca uwalniana po połączeniu pokrywy ze zbiornikiem i przez wciśnięcie przycisku wbudowanego w górną część pokrywy. | C5: op.=18 szt | D5: 50
A6: 2 | B6: Pojemnik BiopSafe 20ml. Bezpieczny pojemnik tworzący system zamknięty do materiału biopsyjnego/histopatologicznego składający się z pokrywy zawierającej środek utrwalający i zbiornika. Pokrywa zbudowana z elementów : 1.Tłok zakończony nakłuwaczem 2.Folia aluminiowa zgrzana z nakrętką 3.Filtr zabezpieczający 4.Przycisk uwalniający substancję utrwalającą 5.Substancja utrwalająca - Formaldechyd 4% w roztworze wodnym (10% roztwór formaliny) i <2.5% metanol o łącznej objętości 20ml 5. Pokrywa wyposażona w gwint zewnętrzny. Zbiornik wyposażony w gwint wewnętrzny służący do zamknięcia i szczelnego połączenia z pokrywą. Substancja utrwalająca uwalniana po połączeniu pokrywy ze zbiornikiem i przez wciśnięcie przycisku wbudowanego w górną część pokrywy. | C6: op=24szt. | D6: 150
B7: Razem | F7: =SUM(F5:F6) -> 0 | I7: =SUM(I5:I6) -> 0
B10: Data | H10: Podpis osoby/osób upoważnionej
B11: ……………………………………………. | H11: ……………………………….

Sheet Zad. 14
B1: ZOZ/DZP/PN/24/23
B2: Załącznik Nr: 9
A3: Zadanie nr 14: Autoczytnik do inkubacji
A4: Lp. | B4: Nazwa produktu | C4: Jednostka miary | D4: Ilość | E4: Cena jednostkowa netto | F4: Wartość netto | G4: VAT | H4: Cena jednostkowa brutto | I4: Wartość brutto | J4: Producent/Nazwa handlowa/Numer katalogowy
A5: 1 | B5: Wskaźnik biologiczny o szybkim odczycie do pary wodnej (odczyt w autoczytniku po 24 minuty .) kompatybilny z autoczytnikiem Attest 490, zalecany przez producenta urządzenia. Fiolkowy wskaźnik biologiczny o szybkim odczycie do pary wodnej. Ostateczny odczyt wyniku negatywnego/zabicie bakterii po 24 minutach inkubacji. Wykrycie przez odczyt automatyczny fluorescencji w autoczytniku. Wskaźnik posiada wewnętrzny system kruszenia ampułki nie wymagający użycia zewnętrznego "kruszera". Kształt fiolki w kształcie litry "D" - dopasowany do kształtu komory autoczytnika. Nakrętka wskaźnika w kolorze brązowym. Na fiolce repozycjonowalna nierwąca się naklejka z miejscem do opisu oraz wskaźnik chemiczny. | C5: op=50szt. | D5: 70
B6: RAZEM | F6: =SUM(F5:F5) -> 0 | I6: =SUM(I5:I5) -> 0
B9: Data | H9: Podpis osoby/osób upoważnionej
B10: ……………………………………………. | H10: ……………………………….

Sheet zad.15
B1: ZOZ/DZP/PN/24/23
B2: Załącznik Nr: 9
A3: Zadanie nr: 15 – Akcesoria do systemu ssącego i oddechowego
A4: Lp. | B4: Nazwa produktu | C4: Jednostka miary | D4: Ilość | E4: Cena jednostkowa netto | F4: Wartość netto | G4: VAT | H4: Cena jednostkowa brutto | I4: Wartość brutto | J4: Producent/Nazwa handlowa/Numer katalogowy
A5: 1 | B5: Wkład workowy jednorazowy z integralną zastawką zabezpieczającą, z maksymalnie 2 otworami w pokrywie worka. Kompatybilny z systemem RECEPTAL poj. 2 litry, z data ważności na każdym wkładzie. | C5: szt. | D5: 300
A6: 2 | B6: Trwały pojemnik/ kanister/ wielokrotnego użytku o śr. nie większej niż 11 cm z nietł. się tworzywa z podziałką co 25 ml, ze złączem do próżni, poj. 2 litry | C6: szt. | D6: 5
A7: 3 | B7: Linia monitorująca do próbkowania gazów, złącze typu męskie / żeńskie, dł. 3 m | C7: szt. | D7: 5
A8: 4 | B8: Pułapka wodna czarna typu D-fend do monitora f-my Datex - Ohmeda i Sirius | C8: szt. | D8: 20
A9: 5 | B9: Jednorazowy, układ oddechowy do respiratora dla dorosłych w składzie: 2 rury karbowane śr.2 2 mm z pamięcią kształtu, o dł. min 1,5 m, złączka Y, łącznik prosty 22m/22m | C9: szt. | D9: 50
A10: 6 | B10: Filtr p/bakteryjny z portem do kapnografii dla dorosłych o objętości oddechowej 180-250 ml bez wymiennika ciepła i wilgoci | C10: szt. | D10: 2500
A11: 7 | B11: Filtr p/bakteryjny z wymiennikiem ciepła i wilgoci, z portem do kapnografii dla dorosłych o objętości oddechowej 180-250 ml | C11: szt. | D11: 3500
A12: 8 | B12: Filtr p/bakteryjny z wymiennikiem ciepła i wilgoci, z portem do kapnografii, pediatryczny o objętości oddechowej 50-90 ml. | C12: szt. | D12: 300
A13: 9 | B13: Filtr p/bakteryjny z wymiennikiem ciepła i wilgoci z portem do kapnografii, noworodkowy o objętości oddechowej 25-40 ml. | C13: szt. | D13: 60
A14: 10 | B14: Wymiennik ciepła i wilgoci „sztuczny nos” do rurek tracheostomijny dla dorosłych bez drenu. | C14: szt. | D14: 300
A15: 11 | B15: Wapno sodowane do aparatu do zniecz. 4,5 kg | C15: szt. | D15: 26
A16: 12 | B16: Maska tlenowa, hypoalergiczna, bezzapachowa, przeźroczysta, wykonana z medycznej odmiany miękkiego PCV, do wysokich stężeń tlenu z przewodem tlenowym, z kulką do monitorowania oddechów i gumką naciągającą oraz rezerwuarem tlenowym | C16: szt. | D16: 200
... A31: 27 | B31: Przewód o gładkim świetle dla dorosłych z PCV długość 200cm, złącza 22 Typ Flex , przewód sterylny | C31: Op=10 szt | D31: 3
B32: RAZEM | F32: =SUM(F5:F31) -> 0 | I32: =SUM(I5:I31) -> 0
B34: Data | H34: Podpis osoby/osób upoważnionej
B35: ……………………………………………. | H35: ……………………………….

Sheet Zad.17
B2: ZOZ/DZP/PN/24/23
B3: Załącznik Nr: 9
A4: Zadanie nr: 17– Pojemniki na próbki
A5: Lp. | B5: Nazwa produktu | C5: Jednostka miary | D5: Ilość | E5: Cena jednostkowa netto | F5: Wartość netto | G5: VAT | H5: Cena jednostkowa brutto | I5: Wartość brutto | J5: Producent/Nazwa handlowa/Numer katalogowy
A6: 1 | B6: Pojemnik na mocz 100-125 ml niesterylny z zakrętką zakręcaną | C6: szt. | D6: 30000
A7: 2 | B7: Pojemnik na mocz lub materiał biologiczny 50-60 ml sterylny z zakrętką zakręcaną | C7: szt. | D7: 12000
A8: 3 | B8: Pojemnik na kał z łopatką 20-25 ml | C8: szt. | D8: 3000
A9: 4 | B9: Pojemnik na kał z łopatką 20-25 ml sterylny | C9: szt. | D9: 1000
A10: 5 | B10: Zestaw do pobierania próbek z drzewa oskrzelowego z łącznikami pasującymi do wszystkich typów cewników do odsysania, przeźroczysta probówka o poj. 10ml, dodatkowa zakrętka oraz nalepka identyfikacyjna - sterylny | C10: szt. | D10: 500
B11: RAZEM | F11: =SUM(F6:F10) -> 0 | I11: =SUM(I6:I10) -> 0
B14: Data | H14: Podpis osoby/osób upoważnionej
B15: ……………………………………………. | H15: ……………………………….

Sheet Zad.18
B2: ZOZ/DZP/PN/24/23
B3: Załącznik Nr: 9
A4: Zadanie nr: 18 – Nebulizacja i akcesoria do urządzeń.
A5: Lp. | B5: Nazwa produktu | C5: Jednostka miary | D5: Ilość | E5: Cena jednostkowa netto | F5: Wartość netto | G5: VAT | H5: Cena jednostkowa brutto | I5: Wartość brutto | J5: Producent/Nazwa handlowa/Numer katalogowy
A6: 1 | B6: Jednorazowy ustnik do spirometru o wymiarach: średnica wewnętrzna 20mm, średnica zewnętrzna 22mm, długość: 65mm +-1mm pakowane pojedynczo. | C6: Op=200 | D6: 10
A7: 2 | B7: Filtr do przeciwbakteryjny do ustnika od spirometru Microlab | C7: Op=50 szt | D7: 20
A8: 3 | B8: Inhalator tłokowy do nebulizacji do stosowania w szpitalu do pracy ciągłej z wbudowanym manometrem z regulacją cisnienia 1,3-2,5 bar. Przepływ max. 16l/min., wielokość cząsteczek (MMAD) max 3,5µm, waga urzadzenia max 2,2 kg, | C8: szt | D8: 5
A9: 4 | B9: Nebulizator do kompresora Pari: wydajność 600mg/min, średnia masa cząsteczki MMD:3,5 µm, ilość czątek poniżej 5µm:67%, nadaje się do sterylizacji w autoklawie (ok. 100 razy w temp. 134oC), pojemnik na lek 2-8 ml | C9: szt | D9: 8
A10: 5 | B10: Maska miękka bez stabilizatora dla dorosłych | C10: szt | D10: 8
A11: 6 | B11: Turbinka do spirometru Microlab 8 ML 3500 | C11: szt. | D11: 4
A12: 7 | B12: Uchwyt do lampy ML501/701 | C12: szt. | D12: 10
A13: 8 | B13: Uchywt do lampy Marled/marlux | C13: szt | D13: 10
A14: 9 | B14: Maska dla dzieci współpracująca z nebulizatorami Pari- do sterylizacji w autoklawie (po założeniu stabilizatorów) | C14: szt | D14: 10
A15: 10 | B15: Maska w rozmiarach 0- dla wcześniaków,1 – dla noworodków i niemowląt od 0-1 roku życia, 2 – dla dzici 1-3 roku życia,3- dla dzieci powyżej 3 roku życia, w komplecie kolanko umożliwiające inhalację dziecka w pozycji leżącej - do sterylizacji w autoklawie | C15: szt | D15: 10
A16: 11 | B16: Nebulizator: - do inhalacji dzieci powyżej powyżej 4 roku życia oraz osób dorosłych- możliwość sterylizacji w autoklawie ok. 100 razy, temperatura sterylizacji 134st. C. Charakterystyka aerozolu (w połączeniu z kompresorem Pari Turbo Boy SX) Wydajność: 600mg/min średnia masa cząsteczki MMD 3,5um ilość cząstek poniżej 5um 67% | C16: szt | D16: 10
A17: 12 | B17: Nebulizator: - w połączeniu z maską do inhalacji noworodków - możliwość sterylizacji w autoklawie ok. 100 razy, temperatura sterylizacji 134st. C. Charakterystyka aerozolu (w połączeniu z kompresorem Pari Boy SX) Wydajność: 450mg/min Średnia masa cząsteczki MMD 2,2um ilość cząstek poniżej 5um 89% | C17: szt | D17: 10
... A19: 14 | B19: Dren do nebulizatora Pari | C19: szt | D19: 20
B20: RAZEM | F20: =SUM(F6:F19) -> 0 | I20: =SUM(I6:I19) -> 0
B23: Data | H23: Podpis osoby/osób upoważnionej
B24: ……………………………………………. | H24: ……………………………….

Sheet Zad.19
B1: ZOZ/DZP/PN/24/23
B2: Załącznik Nr: 9
A3: Zadanie nr: 19- Test wód płodowych
A4: Lp. | B4: Nazwa produktu | C4: Jednostka miary | D4: Ilość | E4: Cena jednostkowa netto | F4: Wartość netto | G4: VAT | H4: Cena jednostkowa brutto | I4: Wartość brutto | J4: Producent/Nazwa handlowa/Numer katalogowy
A5: 1 | B5: Szybki test paskowy do wykrywania przedwczesnego pęknięcia błon płodowych u kobiet ciężarnych. Detekcja IGFBP-1. | C5: op=10 szt. | D5: 14
B6: RAZEM | F6: =SUM(F5) -> 0 | I6: =SUM(I5) -> 0
B10: Data | H10: Podpis osoby/osób upoważnionej
B11: ……………………………………………. | H11: ……………………………….

Sheet Zad.20
B2: ZOZ/DZP/PN/24/23
B3: Załącznik Nr: 9
A4: Zadanie nr: 20 - Różne
A5: Lp. | B5: Nazwa produktu | C5: Jednostka miary | D5: Ilość | E5: Cena jednostkowa netto | F5: Wartość netto | G5: VAT | H5: Cena jednostkowa brutto | I5: Wartość brutto | J5: Producent/Nazwa handlowa/Numer katalogowy
A6: 1 | B6: Igła przeznaczona dla dorosłych oraz dla dzieci powyżej 12 r.ż. Igła jest automatycznym wkłuciem doszpikowym, przeznaczonym do użycia u pacjentów, u których założenie obwodowego dostępu dożylnego jest bardzo trudne bądź niemożliwe. Szczególnie podczas działań ratunkowych. Opis: stały dostęp do naczynia; odpowiedni do przetaczania krwi; mało bolesna penetracja igły do kości gąbczastej; sprzęt jednorazowego użycia podnosi bezpieczeństwo; szybka infuzja płynów i leków; brak bezpośredniego kontaktu z krwią; szczególnie odpowiedni w sytuacjach zagrożenia życia (wypadki lotnicze i drogowe, trzęsienia ziemi, konflikty zbrojne, w medycynie katastrof, resuscytacji, planowe znieczulenia kostne) | C6: szt. | D6: 2
A7: 2 | B7: Igła przeznaczona dla dzieci poniżej 12 r.ż. Igła jest automatycznym wkłuciem doszpikowym, przeznaczonym do użycia u pacjentów, u których założenie obwodowego dostępu dożylnego jest bardzo trudne bądź niemożliwe. Szczególnie podczas działań ratunkowych. Opis: stały dostęp do naczynia; odpowiedni do przetaczania krwi; mało bolesna penetracja igły do kości gąbczastej; sprzęt jednorazowego użycia podnosi bezpieczeństwo; szybka infuzja płynów i leków; brak bezpośredniego kontaktu z krwią; szczególnie odpowiedni w sytuacjach zagrożenia życia (wypadki lotnicze i drogowe, trzęsienia ziemi, konflikty zbrojne, w medycynie katastrof, resuscytacji, planowe znieczulenia kostne) | C7: szt. | D7: 2
A8: 3 | B8: Kieliszek plast. do leków 30ml skala co 1ml w pięciu kolorach. | C8: Op=90 szt. | D8: 2000
A9: 4 | B9: Nakładka do kieliczków jednorazowych | C9: Op=90 szt. | D9: 40
A10: 5 | B10: Kruszarka do leków, wielorazowa do miażdżenia tabletek bezpośrednio w kieliszku jednorazowym. | C10: szt. | D10: 5
A11: 6 | B11: Kompres żelowy (okład) chłodząco / rozgrzewający wielorazowy, nadający się do dezynfekcji, 18-20 x 28-30cm | C11: szt | D11: 10
A12: 7 | B12: Kompres żelowy (okład) chłodząco/rozgrzewający wielorazowy, nadający się do dezynfekcji, 9-11 x 26-28cm | C12: szt. | D12: 10
A13: 8 | B13: Marker skórny 2 końcówki, jałowy | C13: op. 25 szt | D13: 2
A14: 9 | B14: Nożyczki / bocianki / do otwierania klemów | C14: szt. | D14: 50
A15: 10 | B15: Nakłuwacze typu Medlance 2,4 mm, guzik spustowy od góry. | C15: op=100szt | D15: 700
A16: 11 | B16: Opaska do ident. dzieci z wyciąganą karteczką informacyjną | C16: szt.=100szt | D16: 30
A17: 12 | B17: Opaska do ident noworodków z wyciąganą karteczką informacyjną | C17: szt.=100szt | D17: 50
... A44: 39 | B44: Stetoskop kardiologiczny: Technologia głowicy: dwustronna Duża membrana średnicy 4,5cm Mała membrana / lejek: 33cm Przewód (lira) dwukanałowy, wykonany jest z niekruszejącego i nie sklejającego się tworzywa PVC niezawierającego lateksu, o dużej gęstości. Oliwki miękkie Dostępny do zakupu w 6 różnych kolorach Gwarancja dożywotnia | C44: szt. | D44: 6
B45: RAZEM | F45: =SUM(F6:F44) -> 0 | I45: =SUM(I6:I44) -> 0
B47: Data | H47: Podpis osoby/osób upoważnionej
B48: ……………………………………………. | H48: ……………………………….

Sheet Zad. 22
B2: ZOZ/DZP/PN/24/23
B3: Załącznik Nr: 9
B4: Zadanie nr 22 Kaniule bezpieczne.
A5: Lp. | B5: Nazwa produktu | C5: Jednostka miary | D5: Ilość | E5: Cena jednostkowa[zł] netto | F5: Wartość [zł] netto | G5: VAT | H5: Cena jednostkowa [zł] brutto | I5: Wartość [zł] brutto | J5: Producent/Nazwa handlowa/Numer katalogowy
A6: 1 | B6: Kaniula dotętnicza 20 G 1,1 x 45 mm, przepływ 49 ml/min., cewnik z PTFE, z zaworem odcinającym - suwakowo-kulkowym typu Flowswitch w kolorze czerwonym, ze skrzydełkami z otworami do przyszycia do skóry pacjenta, sterylne, jednorazowego użytku. Produkt nie zawierający DEHP, PVC oraz naturalnego lateksu. Sterylizowane tlenkiem etylenu. Czas stosowania max 30 dni potwierdzony przez producenta w instrukcji użycia znajdującej się w każdym opakowaniu handowym. | C6: szt. | D6: 1200
A7: 2 | B7: Bezpieczna kaniula dożylna przeznaczona do małych, delikatnych żył u pacjentów neonatologicznych, pediatrycznych i osób starszych. Posiadająca wyjmowany uchwyt w którym schowane są skrzydełka kaniuli,ułatwiające kaniulację naczynia. Bez dodatkowego portu górnego. Kaniula widoczna w promieniach RTG, 6 wtopionych pasków radiocieniujących. Wykonana z unikalnego poliuretanu, biokompatybilnego, o potwierdzonym klinicznie wpływie na zmniejszenie ryzyka wystąpienia zakrzepowego zapalenia żył. Dodatkowy otwór przy ostrzu igły umożliwiający natychmiastowe wzrokowe potwierdzenie wejścia do naczynia podczas kaniulacji (system 3-krotnego potwierdzenia wypływu krwi). Sterylna, jednorazowego użytku, pakowana pojedynczo w opakowanie typu blister papier/folia w rozmiarach 26G dł 19 mm, prędkość przepływu 14 ml/min ,24 G długość 19mm,,prędkość przeplywu 19 ml/min Rozmiar do wyboru przy zakupie. | C7: szt. | D7: 2200
A8: 3 | B8: Bezpieczna kaniula dożylna wykonana z biokompatybilnego poliuretanu. Posiadająca dodatkowy, samodomykający się port do wstrzyknięć, min. 5 pasków kontrastujących w promieniach RTG. Możliwość identyfikacji radiologicznej położenia końca kaniuli. Posiadająca zastawkę bezzwrotną zapobiegającą wypływowi krwi. Posiadająca zabezpieczenie igły w postaci plastikowej osłonki o gładkich krawędziach z systemem kapilar zapobiegających zakłuciu się oraz zachlapaniu krwią. Pozbawiona jakichkolwiek ostrych elementów wchodzących w skład mechanizmu zabezpieczającego kaniulę, a jej konstrukcja ma chronić personel medyczny przed przypadkowym zakłuciem/zadraśnięciem/ zachlapaniem krwią, uniemożliwiając jednocześnie powtórne użycie cewnika. Kaniula dożylna bezpieczna - sterylna, jednorazowego użytku, pakowana pojedynczo, wyraźne oznaczenie rozmiaru i daty ważności na opakowaniu jednostkowym. Wykonana z biokompatybilnego poliuretanu nowej generacji (badania kliniczne). Hypoalergiczna, termoplastyczna, odporna na zginanie (tzw. pamięć kształtu) z samodomykającym się portem iniekcyjnym oraz zastawką bezzwrotną zapobiegającą wypływowi krwi, elastyczne skrzydełka ułatwiające bezpieczne mocowanie widoczne w rtg, konstrukcja kaniuli eliminująca ryzyko ekspozycji na krew podczas kaniulacji naczyń. Posiadająca plastikową osłonkę z systemem kapilar zapobiegających zakłuciu się oraz zachlapaniu krwią, która w pełni zamyka ostrze i światło igły. rodukt nie zawiera PVC, DEHP ani naturalnego lateksu. Sterylizowane radiacyjnie Rozmiary : 0,9 mmx25mm-22G( niebieski) przepływ 42 ml/min. 1,1x32mm -20G (różowy)przepływ 67 ml/min 1,3x32mm-18G( zielony)przepływ 103ml/min 1,3x45mm-18G( zielony)przepływ 103ml/min 1,5x45mm-17G(biały)przepływ 133ml/min 1,8x45mm-16G(szary) przepływ236ml/min 2,0x45mm-14G(pomarańczowy)270 ml/min do wyboru przy zakupie; | C8: szt. | D8: 18000
A9: 4 | B9: Kaniula bezpieczna i.v. w systemie zamkniętym, typu motylkowego z pasywnym zabezpieczeniem ostrza, wykonana z silikonowanego poliuretanu z minimum 5-cioma paskami cieniującymi w RTG wtopionymi w strukturę materiału i, z rozgałęzionym podwójnie portem luer-lok na transparentnym przedłużeniu z klemą. Minimum jedna odnoga portu zabezpieczona transparentnym zaworem bezigłowym, druga odnoga zabezpieczona usuwalnym filtrem hydrofobowym. Rozmiary 24G-18G do wyboru przy zakupie | C9: szt. | D9: 200
A10: 5 | B10: Wężyk do kaniuli donaczyniowej z podwójnym przedłużaczem 15 cm zakończony systemem dostępu naczyniowego z końcówką typu Luer posiadającą membramę silikonową aktywowaną połączeniem luer przy obu końcach. dren o średnicy wewnętrznej 2,8 mm, przedłużenie z zaciskiem przesuwanym, przemieszczanie płynu neutralne w wypadku stosowania zestawu przedłużającego i zacisku.objętość wypełnienia 1,14 ml , wytrzymały na ciśnienie 45 PSI | C10: szt. | D10: 100
A11: 6 | B11: Kranik odcinający do terapii dożylnej, trójdrożny z przedłużaczem* 7cm bez DEHP, z dodatkowym portem iniekcyjnym, wykonany z poliwęglanu -tworzywa odpornego na mechaniczne pęknięcia oraz na wszystkie leki w tym również na działanie lipidów i leków do chemioterapii. Białe trójramienne pokrętło umożliwiające swobodną i precyzyjną obsługę kraników i podwójny: optyczny i wyczuwalny identyfikator pozycji otwarty/zamknięty, jałowy, j.u. objętość wypełnienia 0,8 ml, sterylizowany radiacyjnie .Opakowanie typu blister-pack. . Pakowany pojedyńczo z widoczną datą ważności. Sterylizowany R. | C11: szt. | D11: 4000
A12: 7 | B12: Kranik odcinający do terapii dożylnej, trójdrożny, wykonany z poliwęglanu-tworzywa odpornego na mechaniczne pęknięcia oraz na wszystkie leki w tym również na działanie lipidów i leków do chemioterapii. Białe trójramienne pokrętło umożliwiające swobodną i precyzyjną obsługę kraników i podwójny: optyczny i wyczuwalny identyfikator pozycji otwarty/zamknięty, jałowy, j.u., Niezależnie obracająca się nakrętka luer lock umożliwiająca podłączenie kranika z innym złączem luer lock bez konieczności skręcania/obracania łączonych elementów. Wyposażony w znaczniki : czerwony dla oznaczenia linii tętniczej, niebieski dla oznaczenia linii żylnej. Wytrzymałość kranika 3 bary, objętość wypełnienia 0,2-0,22 ml, . Sterylny (sterylizowany promieniami beta).Opakowanie medyczne typu blister. | C12: szt. | D12: 4500
A13: 8 | B13: Taca z koreczkami do strzykawek: Zamknięcie/zabezpieczenie strzykawki wypełnionej lekiem lub roztworem , zmniejsza ryzyko zanieczyszczenia przez dotyk, zapobiega wyciekowi leku przygotowanego w strzykawce. Zabezpieczenie może być stosowane do strzykawek Luer Lock oraz Luer . Na końcówce LL zabezpieczenie jest nałożone . opakowanie jednostkowe 1 taca = 10 szt koreczków. Możliwość otwieraia jednorazowo po 2 koreczki na blistrze . | C13: op=200tacek po 10 szt | D13: 30
F14: =SUM(F6:F13) -> 0 | I14: =SUM(I6:I13) -> 0
B17: Data | H17: Podpis osoby/osób upoważnionej
B18: ……………………………………………. | H18: ……………………………….

Sheet Zad. 23
B2: ZOZ/DZP/PN/24/23
B3: Załącznik Nr: 9
A4: Zadanie nr: 23- Nasadka do amniotomii
A5: Lp. | B5: Nazwa produktu | C5: Jednostka miary | D5: Ilość | E5: Cena jednostkowa netto | F5: Wartość netto | G5: VAT | H5: Cena jednostkowa brutto | I5: Wartość brutto | J5: Producent/Nazwa handlowa/Numer katalogowy
A6: 1 | B6: Jednorazowa, lateksowa nasadka na palec zaopatrzona w haczyk do wykonania bezpiecznej amniotomii. | C6: op=100szt | D6: 12
B7: RAZEM | F7: =SUM(F6:F6) -> 0 | I7: =SUM(I6:I6) -> 0
B9: Oświadczam, że oferowany przedmiot zamówienia jest zgodny z opisem i spełnia wymagane parametry techniczne
B11: Data | H11: Podpis osoby/osób upoważnionej
B12: ……………………………………………. | H12: ……………………………….

Sheet Zad.24
B1: ZOZ/DZP/PN/24/23
B2: Załącznik Nr: 9
A3: Zadanie 24- Mankiety do szybkiej infuzji
A4: Lp. | B4: Nazwa produktu | C4: Jednostka miary | D4: Ilość | E4: Cena jednostkowa netto | F4: Wartość netto | G4: VAT | H4: Cena jednostkowa brutto | I4: Wartość brutto | J4: Producent/Nazwa handlowa/Numer katalogowy
A5: 1 | B5: Mankiety wielorazowe do szybkiego przetaczania płynów infuzyjnych o objętości 500-1000ml z manometrem zegarowym i pomką. | C5: szt | D5: 12
B6: RAZEM | F6: =SUM(F5) -> 0 | I6: =SUM(I5) -> 0
B8: Data | H8: Podpis osoby/osób upoważnionej
B9: ……………………………………………. | H9: ……………………………….

Sheet Zad.25
B1: ZOZ/DZP/PN/24/23
B2: Załącznik Nr: 9
A3: Zadanie nr: 25- System ochraniaczy do sterylizacji narzędzi
A4: Lp. | B4: Nazwa produktu | C4: Jednostka miary | D4: Ilość | E4: Cena jednostkowa netto | F4: Wartość netto | G4: VAT | H4: Cena jednostkowa brutto | I4: Wartość brutto | J4: Producent/Nazwa handlowa/Numer katalogowy
A5: 1. | B5: Ochraniacz końcówek ( kieszeni z przelotkami) rozmiar 27x41cm | C5: op=50szt. | D5: 2
B6: Razem | F6: =SUM(F5) -> 0 | I6: =SUM(I5) -> 0
B9: Data | H9: Podpis osoby/osób upoważnionej
B10: ……………………………………………. | H10: ……………………………….

Sheet Zad.26
B2: ZOZ/DZP/PN/24/23
B3: Załącznik Nr: 9
A4: Zadanie nr: 26 – Klipsy.
A5: Lp. | B5: Nazwa produktu | C5: Jednostka miary | D5: Ilość | E5: Cena jednostkowa netto | F5: Wartość netto | G5: VAT | H5: Cena jednostkowa brutto | I5: Wartość brutto | J5: Producent/Nazwa handlowa/Numer katalogowy
A6: 1 | B6: Klipsy tytanowe, sterylne, pakowane w zasobniki po z taśmą samoprzylepną, rozmiar M/L, pasujące do klipsownicy STORZ | C6: 1 zasobnik 6 szt. | D6: 350
A7: 2 | B7: Klipsy tytanowe, sterylne, pakowane w zasobniki po . z taśmą samoprzylepną, rozmiar M/L, pasujące do klipsownicy STORZ | C7: 1 zasobnik 4 szt | D7: 250
B8: RAZEM | F8: =SUM(F6:F7) -> 0 | I8: =SUM(I6:I7) -> 0
B11: Data | H11: Podpis osoby/osób upoważnionej
B12: ……………………………………………. | H12: ……………………………….

Sheet Zad.28
B1: ZOZ/DZP/PN/24/23
B2: Załącznik Nr: 9
A3: Zadanie nr: 28 - Odsysanie pola operacyjnego
A4: Lp. | B4: Nazwa produktu | C4: Jednostka miary | D4: Ilość | E4: Cena jednostkowa netto | F4: Wartość netto | G4: VAT | H4: Cena jednostkowa brutto | I4: Wartość brutto | J4: Producent/Nazwa handlowa/Numer katalogowy
A5: 1 | B5: Dren, wąż do ssaka z końcówką lejkowatą z jednej strony, z drugiej zakończoną łącznikiem typu finger-tip z kontrolą odsysania kompatybilną z cewnikami do odsysania górnych dróg oddechowych, długość drenu 210 cm przekrój 24CH, fi wewnętrzne 5,6mm, zewnętrzne 8mm, jałowy. | C5: szt. | D5: 1200
A6: 2 | B6: Dren, wąż do ssaka zakończenia z obu stron lejkowate, długość 210-220 cm, przekrój 24Ch, fi wewnętrzne 5,6mm, zewnętrzne 8mm,jałowy | C6: szt. | D6: 3500
A7: 3 | B7: Dren do odsysania pola operacyjnego połączony końcówką standardową typu Yankauer, z otworami szczytowymi, bez oliwkowatego zakończenia o przekroju 21CH bez kontroli odsysania, o długości 210-220cm o przekroju 24CH, jałowy | C7: szt. | D7: 600
A8: 4 | B8: Końcówka do odsysania pola operacyjnego z wymiennym filtrem w rączce z załączoną końcówką o długości 15 i 23 w komplecie, lub 15 i 23 cm do wyboru przy zakupie, jałowa. | C8: szt. | D8: 100
A9: 5 | B9: Łącznik typu finger-tip z kontrolą odsysania do drenu z pozycji 2, kompatybilną z cewnikami do odsysania górnych dróg oddechowych, | C9: szt. | D9: 2500
B10: RAZEM | F10: =SUM(F5:F9) -> 0 | I10: =SUM(I5:I9) -> 0
B12: Data | H12: Podpis osoby/osób upoważnionej
B13: ……………………………………………. | H13: ……………………………….

Sheet Zad.29
B2: ZOZ/DZP/PN/24/23
B3: Załącznik Nr: 9
B4: Zadanie nr: 29 - Cewniki do terapii
A5: Lp. | B5: Nazwa produktu | C5: Jednostka miary | D5: Ilość | E5: Cena jednostkowa[zł] netto | F5: Wartość [zł] netto | G5: VAT | H5: Cena jednostkowa [zł] brutto | I5: Wartość [zł] brutto | J5: Producent/Nazwa handlowa/Numer katalogowy
A6: 1 | B6: Trzykanałowy cewnik do wkłuć centralnych wykonany z termowrażliwego poliuretanu w całości kontrastujący w RTG wprowadzany techniką Seldingera. Znaczniki odległości od 9cm od dystalnego końca cewnika co 1 cm. Cewnik w rozmiarze 7,5FR (światła 14G, 18G, 18G), długość cewnika 20cm . Użytkownik może wybrać jeden z dwóch wariantów wprowadzacza : igłę lub krótką kaniulę. Każdy zestaw zawiera : Cewnik trzykanałowy, Igła do nakłucia 18G/70mm, krótka kaniula 18G, Prowadnik typu „J” 60cm, ze znacznikami głębokości z elastyczną dystalną końcówką, dylatator, dodatkowe skrzydełka mocujące, 3 zatyczki z membraną do wstrzyknięć, skalpel, strzykawka 5ml | C6: szt. | D6: 110
A7: 2 | B7: Czterokanałowy cewnik do wkłuć centralnych wykonany z termowrażliwego poliuretanu w całości kontrastujący w RTG wprowadzany techniką Seldingera. Znaczniki odległości od 9cm od dystalnego końca cewnika co 1 cm. Cewnik w rozmiarze 8,5FR (światła 16G, 14G, 18G, 18G), długość cewnika 20cm . Użytkownik może wybrać jeden z dwóch wariantów wprowadzacza : igłę lub krótką kaniulę. Każdy zestaw zawiera : cewnik czterokanałowy, igła do nakłucia 18G/70mm, krótka kaniula 18G, prowadnik typu "J" 60cm ze znacznikami głębokości z elastyczną dystalną końcówką, dylatator, dodatkowe skrzydełka mocujące, 4 zatyczki z membraną do wstrzyknięć, skalpel, strzykawka 5ml | C7: szt. | D7: 150
A8: 3 | B8: Cewnik dotętniczy wprowadzany metodą Seldingera wykonany z polietylenu, widoczny w RTG. W zestawie igła do wprowadzania, prowadnik. Cewnik w rozmiarach: 3FR o długościach 6cm, igła wprowadzająca 20G/38cm, prowadnik 0,53mm/20cm, 4FR o długościach 8, 10cm, igła wprowadzająca 19G/54cm, prowadnik 0,71mm/30cm dla długości 18cm igła wprowadzająca 19G/68cm, prowadnik 0,1mm/46cm, 4,5FR o długości 18cm, igła wprowadzająca 17G/70cm, prowadnik 0,9mm/46cm, 5FR/18cm, igła wprowadzająca 16G/70cm, prowadnik 1,1mm/46cm. Rozmiary 4FR/18cm, 4,5F/18cm, 5FR/18cm w zestawie zawierają dodatkowo polietylenową przedłużkę 30cm, strzykawkę 5ml, trójdrożny zawór regulujący przepływ. | C8: szt. | D8: 50
A9: 4 | B9: Podwójny cewnik do diagnostycznego płukania oskrzelowo-pęcherzykowego ( pobieranie do diagnostyki zapalenia płuc), dystalna końcówka zewnętrznego cewnika jest zamknięta zatyczką polietylenową glikolową , cewnik zewnętrzny cieniujący RTG o ś ,2,0x2,7mm (9F) dł 60cm | C9: szt. | D9: 70
A10: 5 | B10: Igła do blokady nerwów obwodowych pokryta drobinkami szkła, całkowicie echogeniczna ( do samej końcówki igły), ze szlifem ułatwiającym penetrację przez skórę, a zarazem zapewniającym maksymalną widoczność, ze znacznikami odległości co 1 cm, odkręcana przedłużka 50 cm (objętość 1 ml) pozwalająca na podłączenie strzykawki bezpośrednio do igły jeżeli zachodzi taka potrzeba. Kabel podłączeniowy 60 cm przymocowany z tyłu igły wskazujący na kierunek szlifu igły. Kompatybilna ze wszystkimi neurostymulatorami. Igła w rozmiarach:23G/25mm, 23G/35mm, 22G/50mm, 21G/85mm,21G/100mm, 20G/120mm, 20G/150mm. | C10: szt. | D10: 1000
A11: 6 | B11: Antybakteryjny trzykanałowy cewnik do wkłuć centralnych wykonany z termowrażliwego poliuretanu w całości kontrastujący w RTG, inkorporowany aktywnym srebrem, wprowadzany techniką Seldingera. Znaczniki odległości od 9cm od dystalnego końca cewnika co 1 cm. Cewnik w rozmiarze 7,5FR (światła 14G, 18G, 18G), długość cewnika 16cm lub 20cm do wyboru przez Zamawiającego. Użytkownik może wybrać jeden z dwóch wariantów wprowadzacza : igłę lub krótką kaniulę. Każdy zestaw zawiera : Cewnik trzykanałowy, Igła do nakłucia 18G/70mm, krótka kaniula 18G, Prowadnik typu „J” 60cm, ze znacznikami głębokości z elastyczną dystalną końcówką, dylatator, dodatkowe skrzydełka mocujące, 3 zatyczki z membraną do wstzryknięć, skalpel, strzykawka 5ml | C11: szt. | D11: 20
A12: 7 | B12: Antybakteryjny czterokanałowy cewnik do wkłuć centralnych wykonany z termowrażliwego poliuretanu inkorporowany aktywnym srebrem, w całości kontrastujący w RTG wprowadzany techniką Seldingera. Znaczniki odległości od 9cm od dystalnego końca cewnika co 1 cm | C12: szt. | D12: 20
A13: 8 | B13: Cewnik pępowinowy 3,5F, 4F | C13: szt. | D13: 20
A14: 9 | B14: System bezigłowy o objętości martwej 0,02ml, o zerowym wypływie wstecznym z silikonowa podzielna membraną w obudowę wbudowany mechanizm srężynowy. Opakowanie folia-papier , lub w bezdotykowym aplikatorze. Do wyboru przy zakupie przez zamawiającego | C14: szt. | D14: 5000
A15: 10 | B15: Rampa 4 -kranikowa z portem bocznym, z drenem 50 cm. | C15: szt. | D15: 600
A16: 11 | B16: Specjalnie zaprojektowany do przezściennego wytwarzania przetoki jelita czczego za pomocą igły. Tacka zawiera: - 1 silikonowy cewnik, całkowicie kontrastujący w XRO, długość 60cm średnica 2.0 x 3.2mm - 1 wprowadzacz typu Desilet - 1 igła typu Alena Fr 10 - 1 końcówka uciskowa (kod 2196.30) - 1 17G igła długość 98mm - 2 łączniki | C16: szt. | D16: 10
B17: Razem | F17: =SUM(F6:F15) -> 0 | I17: =SUM(I6:I16) -> 0
B19: Na czas trwania umowy wymagane jest użyczenie 1 szt. neurostymulatora. Koszt użyczenia należy wliczyć w cenę oferty.
B22: Data | G22: Podpis osoby/osób upoważnionej
B23: ……………………………………………. | G23: ……………………………….

Sheet Zad.31
B2: ZOZ/DZP/PN/24/23
B3: Załącznik Nr: 9
A4: Zadanie nr: 31 – Akcesoria anestezjologiczne
B5: Nazwa produktu | C5: Jednostka miary | D5: Ilość | E5: Cena jednostkowa netto | F5: Wartość netto | G5: VAT | H5: Cena jednostkowa brutto | I5: Wartość brutto | J5: Producent/Nazwa handlowa/Numer katalogowy
A6: 1 | B6: Maski twarzowe, anestezjologiczne, jednorazowego użytku, w rozmiarach od 1-6 kodowane kolorem, przeźroczyste, wykonane z PCW bez szkodliwych ftalanów i lateksu. Maska zawiera miękki, elastyczny mankiet powietrzny, bez zaworu, dopasowujący się do kształtu twarzy pacjenta. | C6: szt. | D6: 4500
A7: 2 | B7: Pełnotwarzowa, wielorazowa maska do nieinwazyjnej wentylacji oraz CPAP, obejmująca wyłącznie usta i nos pacjenta, wyposażona w wsparcie czołowe z możliwością regulacji nachylenia za pomocą wbudowanego w maskę pokrętła. Wszystkie elementy wspierające się na twarzy pacjenta wyposażone w poduszki żelowe zapewniające szczelność oraz komfort pacjenta. Maska łatwa w montażu, wyposażona w dedykowaną opaskę mocującą z unikalnymi zatrzaskami magnetycznymi, zapewniającymi szybkie i łatwe pozycjonowanie maski. Wyposażona w port kapno oraz niebieskie obrotowe kolanko w zakresie 360 stopni. W zestawie szablony rozmiarowe dla łatwej identyfikacji rozmiaru maski S, M lub L.Maska nie zawiera: lateksu, PVC, DEHP, DBP, BBP, PBB, PBDE. Dostępna w rozmiarach S, M, L, XL | C7: szt. | D7: 20
A8: 3 | B8: Układ anestezjologiczny pediatryczny, jednorazowego użytku, mikrobiologicznie czysty, składający się z rur o średnicy 15mm: dwóch ramion o długości 150cm oraz trzeciej rury o długości 110cm z workiem oddechowym bez lateksu o pojemności 1L. Układ wykonany z EVA, PE, PP bez lateksu i PVC. Przeznaczony do wentylacji pacjentów o wadze 5-40kg. Układ zabezpieczony czerwonym kapturkiem, pozwalającym na zachowanie czystości układu do momentu jego użycia. Pakowany we folię. | C8: szt. | D8: 200
A9: 4 | B9: Układ anestezjologiczny dla dorosłych,średnica rur i złączy 22 mm, jednorazowy, mikrobiologicznie czysty, wyprodukowany z wysokiej jakości materiału: PP, TPE, CR, PE, bez lateksu. Zestaw zawiera: ramię wdechowe i wydechowe o stałej długości 180 cm zakończone od strony pacjenta rozłącznym trójnikiem Y oraz łącznikiem kątowym z portem Luer Lock, zabezpieczonym zintegrowanym koreczkiem, złącza usztywnione; ramię do worka o stałej długości 150 cm, worek oddechowy bezlateksowy o pojemności 2L wraz z łącznikiem do worka. Worek w okolicy szyjki wewnątrz zaopatrzony w koszyczek zapobiegający sklejaniu się jego powierzchni. Układ zabezpieczony czerwonym kapturkiem, pozwalającym na zachowanie czystości układu do momentu jego użycia. Pakowany we folię. | C9: szt. | D9: 1500
A10: 5 | B10: Układ anestezjologiczny dla noworodków z AutoBreath | D10: 100
A11: 6 | B11: Układ anestezjologiczny do Venstar Cavina | D11: 100
A12: 7 | B12: Łącznik oddechowy- martwa przestrzeń-jednorazowego użycia, gładka powierzchnia wewnętrzna, długość 15cm wraz z podwójnie obrotowym łącznikiem kątowym, mikrobiologicznie czysty, bez lateksu i PVC. Złącze kątowe posiada port próbkowania gazów oraz port do ssania/ bronchoskopii. | C12: szt. | D12: 2500
A13: 8 | B13: Filtr do inkubatora Isolette C2000 | C13: szt. | D13: 8
B14: RAZEM | F14: =SUM(F6:F13) -> 0 | I14: =SUM(I6:I13) -> 0
B17: Data | H17: Podpis osoby/osób upoważnionej
B18: ……………………………………………. | H18: ……………………………….

Sheet Zad.32
B1: ZOZ/DZP/PN/24/23
B2: Załącznik Nr: 9
A3: Zadanie nr: 32 - Części wymienne do aparatów f - my Drager
A4: Lp. | B4: Nazwa produktu | C4: Jednostka miary | D4: Ilość | E4: Cena jednostkowa netto | F4: Wartość netto | G4: VAT | H4: Cena jednostkowa brutto | I4: Wartość brutto | J4: Producent/Nazwa handlowa/Numer katalogowy
A5: 1 | B5: Czujnik przepływu służący do pomiaru objętości przepływających gazów w aparatach do znieczulania oraz respiratorach firmy Drager Przeznaczony do dezynfekcji, a nie do sterylizacji, z czytnikiem RIFD. Opakowanie zbiorcze 5szt. | C5: op=5 szt. | D5: 6
A6: 2 | B6: Czujnik jednorazowy na palec dla dorosłych z pianki typu MS16445 | C6: Op=24 szt | D6: 5
A7: 3 | B7: Pułapka wodna do monitorowania gazów anestetycznych przystosowana do pracy z dostępnymi na rynku aparatami Drager, zapewniająca zabezpieczenie modułu pomiarowego przed wilgocią, wyposażona w dwa zintegrowane filtry hydrofobowe. Czas pracy 4 tyg., nie podlegająca sterylizacji. Opakowanie zbiorcze 12szt. | C7: op=12szt | D7: 8
A8: 4 | B8: Czujnik tlenu do aparatu Fabius GS typu premium Oxygen sensor | C8: szt. | D8: 8
A9: 5 | B9: Mankiet 23-33/33cm, 23-33/43cm,23-33/53cm, 31-40cm/40cm, 38-50cm/50cm, 38-50cm/50cm do pomiaru ciśnienia. | C9: szt. | D9: 10
A10: 6 | B10: Mankiet NIPC, wielokrotnego użytku, kompatybilne. rozmiar XS, S, 12–19 cm / 19 cm 17–25 cm / 29 cm | C10: szt. | D10: 12
A11: 7 | B11: Dren łączący NIPC, do monitorów Infinity | C11: szt. | D11: 4
A12: 8 | B12: Linia próbkująca do Scio (dren pomiarowy) do monitorowania stężenia gazów anestetycznych CO2, O2, N2O; jednorazowego użytku, mikrobiologicznie czysta, wolne od latexu, dł 250cm, końcówki męskie, kompatybilna z pułapką WaterLock 2. Opakowanie zbiorcze 10szt-niepodzielne. | C12: op=10szt | D12: 8
A13: 9 | B13: Moduł przewodowy do MultiMed 5, wieloparametrowy, do pomiarów EWKG, SpO2, Temperatury, Oddechu, długość 1,5 m, kompatybilny z kardiomonitorami Drager | C13: szt. | D13: 1
A14: 10 | B14: Przedłużacz do Sp02 Nellcor / Drager; kompatybilny z modułem MultiMed 5 do kardiomonitorów Drager, dł. 1m | C14: szt. | D14: 4
A15: 11 | B15: Czujnik do SpO2, na palec,wielokrotnego użytku, kompatybilny z przedłużaczem SpO2 Nellcor/Drager do modułu MultiMed5. | C15: szt. | D15: 6
A16: 12 | B16: Przewód EKG 3-odprowadzeniowy 2-pinowy, kompatybilny z MultiMed 5 do kardiomonitorów Draeger, dł 1m. | C16: szt. | D16: 4
... A20: 16 | B20: Nebulizator do Savina | C20: szt. | D20: 4
A21: 17 | B21: Mankiet 31-40cm/55cm Rozmiar L+ | D21: 2
A22: 18 | B22: Przedłużacz Spo2 do Nelcor z kablem 2m | D22: 2
A23: 19 | B23: Kostka przeciwzakłóceniowa EKG ESU | D23: 2
A24: 20 | B24: Kabel EKG 5 odprowadzeń, 2 piny | D24: 1
A25: 21 | B25: Jednorazowe wkłady kompatybilne z ssakiem Vacu smart, 700ml z wkładką żelową i bez żelu do wyboru przy zakupie. | C25: op=25szt. | D25: 24
A26: 22 | B26: Zbiornik na wydzielinę wielokrotnego użytku PSU 700ml | C26: szt. | D26: 5
A27: 23 | B27: Filtr p/bakteryjny do ssaków przy aparacie Primus | C27: Op=20 szt | D27: 1
A28: 24 | B28: Czujnik spo2 do Vista 120 2,5m | C28: szt. | D28: 2
A29: 25 | B29: Przewód przejściowy EKG do Vista 120 | C29: szt. | D29: 2
A30: 26 | B30: Kabel ekg 3 -odporadzeniowy Do Vista 120 | C30: szt. | D30: 2
A31: 27 | B31: Kabel EkG 5-odpowadzeniowy do Vista 120 | C31: szt. | D31: 2
A32: 28 | B32: Dren NIPC do Vista 120 | C32: szt. | D32: 2
A33: 29 | B33: Mankiet 20,5-28cm do Vista 120 | C33: szt. | D33: 2
A34: 30 | B34: Mankiet 27-35cm do Vista 120 | C34: szt. | D34: 2
A35: 31 | B35: Mankiet 34-43 cm do Vista 120 | C35: szt. | D35: 2
A36: 32 | B36: Wapno sodowane 1,2 l | C36: szt. | D36: 2
... A39: 35 | B39: Elektroda do monitorowania głębokości snu kompatybilna z urządzeniem BIS firmy Draeger | C39: szt | D39: 100
B40: RAZEM | F40: =SUM(F5:F39) -> 0 | I40: =SUM(I5:I27) -> 0
B43: Data | H43: Podpis osoby/osób upoważnionej
B44: ……………………………………………. | H44: ……………………………….

Sheet Zad. 33
B2: ZOZ/DZP/PN/24/23
B3: Załącznik Nr: 9
A4: Zadanie nr: 33 Pasy do unieruchamiania pacjentów
A5: Lp. | B5: Nazwa produktu | C5: Jednostka miary | D5: Ilość | E5: Cena jednostkowa netto | F5: Wartość netto | G5: VAT | H5: Cena jednostkowa brutto | I5: Wartość brutto | J5: Producent/Nazwa handlowa/Numer katalogowy
A6: 1 | B6: 2 opaski na nadgarstki + 4 zamki magnetyczne + 1 klucz magnetycznych rozmiar M/L. Dostępne rozmiary M (19-25 cm, szer. 8 cm), L (24-30 cm. Szer. 8 cm ) do wyboru przez zamawiającego | C6: kpl. | D6: 6
A7: 2 | B7: 1 pas na łóżko wraz z 2 pasami na kostki + 4 zamkami magnetycznymi + 1 klucz magnetyczny | C7: kpl. | D7: 6
B8: RAZEM | F8: =SUM(F6:F7) -> 0 | I8: =SUM(I6:I7) -> 0
B10: Oświadczam, że oferowany przedmiot zamówienia jest zgodny z opisem i spełnia wymagane parametry techniczne
B12: data ………………………………. | G12: podpis ……………………………………….

Sheet Zad.34
B1: ZOZ/DZP/PN/24/23
B2: Załącznik Nr: 9
A4: Zadanie nr: 34- Akcesoria do Neopuff
A5: Lp. | B5: Nazwa produktu | C5: Jednostka miary | D5: Ilość | E5: Cena jednostkowa netto | F5: Wartość netto | G5: VAT | H5: Cena jednostkowa brutto | I5: Wartość brutto | J5: Producent/Nazwa handlowa/Numer katalogowy
A6: 1 | B6: Dren z zastawką do aparatu Neopuff | C6: szt. | D6: 50
B7: Razem | F7: =SUM(F6:F6) -> 0 | I7: =SUM(I6:I6) -> 0
B10: Data | H10: Podpis osoby/osób upoważnionej
B11: ……………………………………………. | H11: ……………………………….

Sheet Zad.35
B1: ZOZ/DZP/PN/24/23
B2: Załącznik Nr: 9
A4: Zadanie nr: 35 -Maty dekontaminacyjne
B5: Nazwa produktu | C5: Jednostka miary | D5: Ilość | E5: Cena jednostkowa netto | F5: Wartość netto | G5: VAT | H5: Cena jednostkowa brutto | I5: Wartość brutto | J5: Producent/Nazwa handlowa/Numer katalogowy
A6: 1 | B6: Mata dekontaminacja 60 x115cm, niebieska. Opis produktu: Mata składająca się z 30 cienkich arkuszy lepnych wykonanych z folii pozbawionej metali ciężkich, substancja lepna na bazie akrylu, powłoka grzybobójcza hamująca rozwój bakterii na macie, w rogu maty małe numerowane etykietki umożliwiające łatwe usuwanie kolejnych warstw. | C6: 1op = 30 arkuszy | D6: 48
B7: RAZEM | F7: =SUM(F6) -> 0 | I7: =SUM(I6) -> 0
B12: Data | H12: Podpis osoby/osób upoważnionej
B13: ……………………………………………. | H13: ……………………………….

Sheet Zad.37
B1: ZOZ/DZP/PN/24/23
B2: Załącznik Nr: 9
A4: Zadanie nr: 37 - Etykiety do sterylizacji
A5: Lp. | B5: Nazwa produktu | C5: Jednostka miary | D5: Ilość | E5: Cena jednostkowa netto | F5: Wartość netto | G5: VAT | H5: Cena jednostkowa brutto | I5: Wartość brutto | J5: Producent/Nazwa handlowa/Numer katalogowy
A6: 1 | B6: Etykieta podwójnie samoprzylepna z miejscem na 6 pól. Kompatybilna z metkownicą trzyrzędową BLITZ | C6: rolka | D6: 160
B7: RAZEM | F7: =SUM(F6) -> 0 | I7: =SUM(I6) -> 0
B10: Data | H10: Podpis osoby/osób upoważnionej
B11: ……………………………………………. | H11: ……………………………….

Sheet Zad.38
B1: ZOZ/DZP/PN/24/23
B2: Załącznik Nr: 9
B4: Zadanie nr: 38 – System odsysania.
A5: Lp. | B5: Nazwa produktu | C5: Jednostka miary | D5: Ilość | E5: Cena jednostkowa netto | F5: Wartość netto | G5: VAT | H5: Cena jednostkowa brutto | I5: Wartość brutto | J5: Producent/Nazwa handlowa/Numer katalogowy
A6: 1 | B6: Pojemniki wielorazowego użytku na wkłady workowe, wykonane z przeźroczystego tworzywa ze skala pomiarową, wyposażone w zintegrowany zaczep do mocowania oraz króciec obrotowy typu schodkowego do przyłączenia próżni , pojemność 1000ml, przystosowane do zawieszenia na aparatach anestezjologicznych (wymagany spłaszczony kształt) | C6: szt. | D6: 12
A7: 2 | B7: Pojemniki wielorazowego użytku na wkłady workowe, wykonane z przeźroczystego tworzywa ze skala pomiarową, wyposażone w zintegrowany zaczep do mocowania oraz króciec obrotowy typu schodkowego do przyłączenia próżni pojemność 2000ml | C7: szt. | D7: 30
A8: 3 | B8: Pojemniki wielorazowego użytku na wkłady workowe, wykonane z przeźroczystego tworzywa ze skala pomiarową, wyposażone w zintegrowany zaczep do mocowania oraz króciec obrotowy typu schodkowego do przyłączenia próżni, pojemność 3000ml | C8: szt. | D8: 18
A9: 4 | B9: Wymienne zapasowe przyłącza do próżni do mocowania na pojemnikach wielorazowych | C9: szt. | D9: 20
A10: 5 | B10: Zestaw: wkład workowy 1000ml z drenem 210cm z końcówkami żeńską i męską do podłączenia cewników, zapakowany razem w 1 opakowanie | C10: szt. | D10: 1500
A11: 6 | B11: Wkłady workowe jednorazowego użytku, z trwale dołączoną pokrywą, z zastawką zapobiegającą wypływowi wydzieliny do źródła próżni, dużym otworem do pobierania próbek, posiadające w pokrywie tylko jeden króciec łączący (wymagany króciec obrotowy typu schodkowego) , pojemność 2000 ml | C11: szt. | D11: 4700
A12: 7 | B12: Wkłady workowe jednorazowego użytku, z trwale dołączoną pokrywą, z zastawką zapobiegającą wypływowi wydzieliny do źródła próżni, dużym otworem do pobierania próbek, posiadające w pokrywie tylko jeden króciec łączący (wymagany króciec obrotowy typu schodkowego) , pojemność 3000 ml | C12: szt. | D12: 1500
A13: 8 | B13: Uchwyt uniwersalny sprężynowy do mocowania pojemników na szynie wąskiej | C13: szt. | D13: 10
A14: 9 | B14: Uchwyt z obejmą do mocowania pojemników na aparatach anestezjologicznych | C14: szt. | D14: 4
A15: 10 | B15: Mata absorpcyjna na rozlane wydzieliny na bloku operacyjnym rozmiar120 x 60cm, wchłaniająca ok. 6 litrów płynów, zawierająca preparat żelujący w osłonie z włóknistej tkaniny | C15: szt. | D15: 100
A16: 11 | B16: Wózek na kółkach do montowania zestawu wkładów wielorazowych | C16: szt. | D16: 2
A17: 12 | B17: Filtr hydrofobowy do ssaka | C17: szt. | D17: 100
A18: 13 | B18: Zestaw do drenażu opłucnej dwu-butlowy z portem dla dorosłych | C18: szt. | D18: 40
B19: RAZEM | F19: =SUM(F6:F18) -> 0 | I19: =SUM(I6:I18) -> 0
B22: Data | H22: Podpis osoby/osób upoważnionej
B23: ……………………………………………. | H23: ……………………………….

Sheet Zad.39
B1: ZOZ/DZP/PN/24/23
B2: Załącznik Nr: 9
A4: Zadanie nr: 39 – Czujniki
A5: Lp. | B5: Nazwa produktu | C5: Jednostka miary | D5: Ilość | E5: Cena jednostkowa netto | F5: Wartość netto | G5: VAT | H5: Cena jednostkowa brutto | I5: Wartość brutto | J5: Producent/Nazwa handlowa/Numer katalogowy
A6: 1 | B6: Klips do pulsoxymetru TS-F-D | C6: szt. | D6: 1
A7: 2 | B7: Kabel połączeniowy do czujnika saturacji ze złączką okrągłą typu TS-G3 | C7: szt. | D7: 1
A8: 3 | B8: Czujnik typu TS-F4- GE | C8: szt. | D8: 1
A9: 4 | B9: Czujnik tlenowy do respiratora 7900 | C9: szt. | D9: 1
A10: 5 | B10: Komplet czujników przepływowych do aparatu Aespiro | C10: Komplet 2 szt. | D10: 1
A11: 6 | B11: Czujnik natężenia tlenu do aparatu Aespiro | C11: szt. | D11: 1
A12: 7 | B12: Przewód czujnika natężenia tlenu do aparatu Aespiro | C12: szt. | D12: 1
A13: 8 | B13: Pułapka wodna do monitora przy aparacie Aespiro | C13: szt. | D13: 3
A14: 9 | B14: Kabel EKG 3- odprowadzeniowy kompatybilny z kardiomonitorem Datex Ohmeda wejście okrągłe. | C14: szt. | D14: 1
A15: 10 | B15: Mankiet NIBP dla dorosłych 31-40cm, wielorazowy, 2 -żyłowy | C15: szt. | D15: 1
A16: 11 | B16: Mankiet NIBP dla dorosłych 36-46cm wielorazowy, 2 -żyłowy | C16: szt. | D16: 1
A17: 12 | B17: Kabel połączeniowy, dla dorosłych i dzieci, czarny, sło min 3,6m | C17: szt. | D17: 1
... A19: 14 | B19: Nakładka odbijająca promieniowanie typu Girafe Family | C19: Op=50 szt | D19: 4
B20: RAZEM | F20: =SUM(F6:F19) -> 0 | I20: =SUM(I6:I19) -> 0
B23: Data | H23: Podpis osoby/osób upoważnionej
B24: ……………………………………………. | H24: ……………………………….

Sheet Zad.41
B1: ZOZ/DZP/PN/24/23
B2: Załącznik Nr: 9
A3: Zadanie nr: 41- Punkcje
A4: Lp. | B4: Nazwa produktu | C4: Jednostka miary | D4: Ilość | E4: Cena jednostkowa netto | F4: Wartość netto | G4: VAT | H4: Cena jednostkowa brutto | I4: Wartość brutto | J4: Producent/Nazwa handlowa/Numer katalogowy
A5: 1 | B5: Zestaw do punkcji opłucnej 3-igłowy typu Toraset | C5: szt. | D5: 150
A6: 2 | B6: Igła do punkcji z talerza biodrowego 1,8 x 45 mm 15G | C6: szt. | D6: 100
A7: 3 | B7: Igła do trepanobiopsji 8G x 100mm z elementem wycinającym | C7: szt. | D7: 10
A8: 4 | B8: Zestaw z igłą do trepanobiopsji 8G x 100mm. Igła do trepanobiopsji - wersja z zewnętrzną kaniulą ekstrakcyjną, wygodny, ergonomiczny uchwyt typu „młotek”,piramidalnie zakończony mandryn, zewnętrzny element wycinający w pełni diagnostyczny, nieuszkodzony bioptat, w uchwycie kaniuli gniazdo typu Luer-Lock, wypychacz bioptatu, zatyczka, prowadnica. | C8: szt. | D8: 10
B9: RAZEM | F9: =SUM(F5:F8) -> 0 | I9: =SUM(I5:I8) -> 0
B11: Data | H11: Podpis osoby/osób upoważnionej
B12: ……………………………………………. | H12: ……………………………….

Sheet Zad.42
B1: ZOZ/DZP/PN/24/23
B2: Załącznik Nr: 9
A3: Zadanie nr: 42 – Koszule dla pacjentów
A4: Lp. | B4: Nazwa produktu | C4: Jednostka | D4: Ilość | E4: Cena jednostkowa netto | F4: Wartość netto | G4: VAT | H4: Cena jednostkowa brutto | I4: Wartość brutto | J4: Producent/Nazwa handlowa/Numer katalogowy
A5: 1 | B5: Koszula wykonana z tkaniny bawełniano-poliestrowej min 45% bawełny, białej, bądź z nadrukiem, o gramaturze 130-140g/m2. Kroje: koszula pacjenta rozcięta z tyłu po całości, wiązana na troki, z zakładką umożliwiającą osłoniecie pacjenta w miejscu rozcięciaq, rekaw krótki; Koszula pacjenta rozcietqa z tyłu po całości, wiązana na troki, z zakładką osłoniecie pacjenta w miejscu rozciecia, krótki rękaw z napami; koszula połozniza z rozcieciem z przodu, wiązanym na dwie pary troków, Rozmiary M/L, XL/XXL. Rozmiary i rodzaj koszuli do wyboru przy zakupie. | C5: szt. | D5: 250
B6: Razem | F6: =SUM(F5:F5) -> 0 | I6: =SUM(I5:I5) -> 0
B8: Data | H8: Podpis osoby/osób upoważnionej
B9: ……………………………………………. | H9: ……………………………….

Sheet Zad.43
B2: ZOZ/DZP/PN/24/23
B3: Załącznik Nr: 9
A4: Zadanie nr: 43 – Pieluchy dla dorosłych
A5: L.p. | B5: Przedmiot zamówienia | C5: Jm | D5: Ilość opakowań | E5: Cena jednostkowa netto za opak. | F5: Wartość netto | G5: VAT | H5: Cena jednostkowa brutto za opak. | I5: Wartość brutto | J5: Producent/Nazwa handlowa/Numer katalogowy
A6: 1 | B6: Pieluchomajtki oddychające na całej powierzchni, nie zawierające lateksu, posiadające dwa elastyczne ściągacze taliowe, podwójny wkład chłonny z superabsorbentem, podwójne przylepcorzepy umożliwiające wielokrotne zapinanie i odpinanie, hydrofobowe falbanki boczne, "dzienne", rozmiar XL (obwód 130-170 cm), chłonność nie mniej niż 2600g | C6: op. a30 szt. | D6: 500
A7: 2 | B7: Pieluchomajtki oddychające na całej powierzchni, nie zawierające lateksu, posiadające dwa elastyczne ściągacze taliowe, podwójny wkład chłonny z superabsorbentem, podwójne przylepcorzepy umożliwiające wielokrotne zapinanie i odpinanie, hydrofobowe falbanki boczne, "dzienne", rozmiar L (obwód 100-150 lub 110-150 cm), chłonność nie mniej niż 2200g | C7: op. a30 szt. | D7: 3500
A8: 3 | B8: Pieluchomajtki oddychające na całej powierzchni, nie zawierające lateksu, posiadające dwa elastyczne ściągacze taliowe, podwójny wkład chłonny z superabsorbentem, podwójne przylepcorzepy umożliwiające wielokrotne zapinanie i odpinanie, hydrofobowe falbanki boczne, "dzienne" rozmiar M (obwód 75-110 cm), chłonność nie mniej niż 2000g | C8: op. a30 szt. | D8: 1000
A9: 4 | B9: Pieluchomajtki oddychające na całej powierzchni, nie zawierające lateksu, posiadające dwa elastyczne ściągacze taliowe, podwójny wkład chłonny z superabsorbentem, podwójne przylepcorzepy umożliwiające wielokrotne zapinanie i odpinanie, hydrofobowe falbanki boczne o zwiększonej chłonności "nocne" rozmiar L (obwód 100-150 lub 110-150 cm), chłonność nie mniej niż 2800g | C9: op. a30 szt. | D9: 600
A10: 5 | B10: Pieluchomajtki oddychające na całej powierzchni, nie zawierające lateksu, posiadające dwa elastyczne ściągacze taliowe, podwójny wkład chłonny z superabsorbentem, podwójne przylepcorzepy umożliwiające wielokrotne zapinanie i odpinanie, hydrofobowe falbanki boczne o zwiększonej chłonności "nocne" rozmiar M (obwód 75-110 cm), chłonność nie mniej niż 2600g | C10: op. a30 szt. | D10: 600
A11: 6 | B11: Pielucha anatomiczna w rozmiarze 28-35x50-64cm chłonności 1100-1200 gram lub mililitrów | C11: op. a30 szt. | D11: 4600
A12: 7 | B12: Podkład chłonny 90x60 cm | C12: op= 30szt. | D12: 1800
B13: RAZEM | F13: =SUM(F6:F12) -> 0 | I13: =SUM(I6:I12) -> 0
B16: Data | H16: Podpis osoby/osób upoważnionej
B17: ……………………………………………. | H17: ……………………………….

Sheet Zad.44
B1: ZOZ/DZP/PN/24/23
B2: Załącznik Nr: 9
A3: Zadanie nr: 44- Strzykawki do przepłukiwania cewników.
A4: Lp. | B4: Nazwa produktu | C4: Jednostka miary | D4: Ilość | E4: Cena jednostkowa netto | F4: Wartość netto | G4: VAT | H4: Cena jednostkowa brutto | I4: Wartość brutto | J4: Producent/Nazwa handlowa/Numer katalogowy
A5: 1 | B5: Strzykawka napełniona fabrycznie do przepłukiwania zawierająca chlorek sodu (izotoniczny roztwór NaCl 0,9%) o pojemności 20 ml, gotowa do użycia bez konieczności odblokowywania tłoka. Sterylna wewnątrz i na zewnątrz. Ma posiadać długi korek zamykający o dł. min 12 mm, posiadający gwintowane przedłużenie zamykające wejście do strzykawki Luer Lock, w opakowaniu ograniczający, generowanie zanieczyszczeń mechanicznych, bez zawartości celulozy, z optycznie i wyczuwalnie zaznaczonym miejscem otwarcia – szerokość listka do otwierania 0,8 cm. Klasa II b lub III. Na cylindrze piktogram oznaczający dawkę. | C5: szt. | D5: 2000
A6: 2 | B6: Strzykawka napełniona fabrycznie do przepłukiwania zawierająca chlorek sodu (izotoniczny roztwór NaCl 0,9%) o pojemności 10 ml, gotowa do użycia bez konieczności odblokowywania tłoka. Sterylna wewnątrz i na zewnątrz. Ma posiadać długi korek zamykający o dł. min 12 mm, posiadający gwintowane przedłużenie zamykające wejście do strzykawki Luer Lock, w opakowaniu ograniczający, generowanie zanieczyszczeń mechanicznych, bez zawartości celulozy, z optycznie i wyczuwalnie zaznaczonym miejscem otwarcia – szerokość listka do otwierania 0,8 cm. Klasa II b lub III. . Na cylindrze piktogram oznaczający dawkę. | C6: szt. | D6: 3000
B7: Razem | F7: =SUM(F5:F6) -> 0 | I7: =SUM(I5:I6) -> 0
B9: Data | H9: Podpis osoby/osób upoważnionej
B10: ……………………………………………. | H10: ……………………………….

Sheet Zad.45
B1: ZOZ/DZP/PN/24/23
B2: Załącznik Nr: 9
A3: Zadanie nr: 45 - Pojemniki HDPE.
A4: Lp. | B4: Nazwa produktu | C4: Jednostka miary | D4: Ilość | E4: Cena jednostkowa netto | F4: Wartość netto | G4: VAT | H4: Cena jednostkowa brutto | I4: Wartość brutto | J4: Producent/Nazwa handlowa/Numer katalogowy
A5: 1 | B5: Pojemnik HDPE pojemność 100ml średnica wlotu 35mm śr pojemnika 52x62mm | C5: szt | D5: 600
A6: 2 | B6: Pojemnik HDPE pojemność 250ml średnica wlotu 58mm śr pojemnika 73x90mm | C6: szt | D6: 800
A7: 3 | B7: Pojemnik HDPE pojemność 500ml średnica wlotu 74mm śr pojemnika 85x110mm | C7: szt | D7: 550
A8: 4 | B8: Pojemnik HDPE pojemność 1000ml średnica wlotu 88mm śr pojemnika 110x132mm | C8: szt | D8: 300
A9: 5 | B9: Pojemnik HDPE pojemność 2000ml średnica wlotu 88mm śr pojemnika 137x165mm | C9: szt | D9: 200
A10: 6 | B10: Pojemnik z polipropylenu do transportu i przechowywania materiałów tkankowych w 10% zbuforowanej formalinie. Pojemność 3000ml wymiar minimalny: 182x172x137mm | C10: szt. | D10: 100
A11: 7 | B11: Pojemnik z polipropylenu do transportu i przechowywania materiałów tkankowych w 10% zbuforowanej formalinie. Pojemność 5000ml wymiar minimalny: 208x192x192mm | C11: szt. | D11: 80
A12: 8 | B12: Pojemnik z polipropylenu do transportu i przechowywania materiałów tkankowych w 10% zbuforowanej formalinie. Pojemność 10000ml wymiar minimalny: 251x251x264mm | C12: szt. | D12: 50
B13: RAZEM | F13: =SUM(F5:F12) -> 0 | I13: =SUM(I5:I12) -> 0
B19: Data | H19: Podpis osoby/osób upoważnionej
B20: ……………………………………………. | H20: ……………………………….

Sheet Zad.46
B1: ZOZ/DZP/PN/24/23
B2: Załącznik Nr: 9
A3: Zadanie nr: 46 – Igła z kulką
A4: Lp. | B4: Nazwa produktu | C4: Jednostka miary | D4: Ilość | E4: Cena jednostkowa netto | F4: Wartość netto | G4: VAT | H4: Cena jednostkowa brutto | I4: Wartość brutto | J4: Producent/Nazwa handlowa/Numer katalogowy
A5: 1 | B5: Jałowe, jednorazowe narzędzie chirurgiczne wykonane z austenitycznej stali nierdzewnej o wymiarach, 18G(1,2x81mm) z końcówką luer, | C5: op.=25szt | D5: 20
B6: RAZEM | F6: =SUM(F5:F5) -> 0 | I6: =SUM(I5:I5) -> 0
B10: Data | I10: Podpis osoby/osób upoważnionej
B11: ……………………………………………. | I11: ……………………………….

Sheet Zad.49
B1: ZOZ/DZP/PN/24/23
B2: Załącznik Nr: 9
A3: Zadanie nr: 49 - Żarówki
A4: Lp. | B4: Nazwa produktu | C4: Jednostka miary | D4: Ilość | E4: Cena jednostkowa netto | F4: Wartość netto | G4: VAT | H4: Cena jednostkowa brutto | I4: Wartość brutto | J4: Producent/Nazwa handlowa/Numer katalogowy
A5: 1 | B5: Żarówki typ EFR, trzonek GZ6,35, W150, V15, średnica 50, odbłyśnik tak | C5: szt. | D5: 10
A6: 2 | B6: zarówki do l. oper., trzonek G6,35, W150, V24, odbłyśnik nie | C6: szt. | D6: 10
A7: 3 | B7: Żarówki do l. oper., trzonek G6,35, W120, V24, odbłyśnik nie | C7: szt. | D7: 10
A8: 4 | B8: oprawka ceramiczna do lamp Martin ML 501/701 do żarówek z pozycji :2,3 | C8: szt. | D8: 10
A9: 5 | B9: Zestaw żarówek do lampy operacyjnej ML702HX ( halogen120W + ksenon 70W) | C9: kpl. | D9: 5
A10: 6 | B10: Żarówka do lampy operacyjnej ML502 (ksenon 70W) | C10: szt. | D10: 5
B11: RAZEM | F11: =SUM(F5:F10) -> 0 | I11: =SUM(I5:I8) -> 0
B13: Data | H13: Podpis osoby/osób upoważnionej
B14: ……………………………………………. | H14: ……………………………….

Sheet Zad.51
B1: ZOZ/DZP/PN/24/23
B2: Załącznik Nr: 9
A3: Zadanie 51- System zbiórki kału.
A4: Lp. | B4: Nazwa produktu | C4: Jednostka miary | D4: Ilość | E4: Cena jednostkowa netto | F4: Wartość netto | G4: VAT | H4: Cena jednostkowa brutto | I4: Wartość brutto | J4: Producent/Nazwa handlowa/Numer katalogowy
A5: 1 | B5: Jednorazowy system do kontrolowanej zbiórki luźnego stolca wyposażony w: silikonowy rękaw o długości 167 cm z wbudowaną w strukturę silikonu na całej długości substancją neutralizującą nieprzyjemne zapachy; balonik retencyjny z niebieską kieszonką dla umieszczenia palca wiodącego; port do napełniania balonika retencyjnego z sygnalizatorem, który wypełnia się, gdy balonik osiągnie wielkość optymalną dla pacjenta oraz port do irygacji umożliwiający także doodbytnicze podanie leków, z klamrą zamykającą światło drenu w celu utrzymania leku w miejscu podania. System zawiera port do pobierania próbek stolca, pasek koralikowy do podwieszania kompatybilny z ramami łóżek szpitalnych i z miejscem na opis. System przebadany klinicznie (ocena bezpieczeństwa stosowania systemu do 29 dni), czas utrzymania systemu do 29 dni, biologicznie czysty. W zestawie 3 worki do zbiórki stolca, o pojemności 1000 ml, z zastawką zabezpieczającą przed wylaniem zawartości skalowane co 25 ml oraz z filtrem węglowym. W sklad zestawu wchodzi 1 system i 3 worki po 1000ml. | C5: 1 zestaw | D5: 25
A6: 2 | B6: Kompatybilne z zestawem worki do zbiórki stolca o pojemności 1000ml nieprzezroczyste, z okienkiem podglądu, skalowane co 25ml, w tym numerycznie co 100ml, z filtrem węglowym, zastawką zabezpieczającą przed wylaniem zawartości, biologicznie czyste. | C6: Op=10 sztuk | D6: 20
B7: Razem | F7: =SUM(F5:F6) -> 0 | I7: =SUM(I5:I6) -> 0
B10: Data | G10: Podpis osoby/osób upoważnionej
B11: ……………………………………………. | G11: ……………………………….

Sheet Zad.52
B1: ZOZ/DZP/PN/24/23
B2: Załącznik Nr: 9
A3: Zadanie nr: 52 – Narzędzia
A4: Lp. | B4: Nazwa produktu | C4: Jednostka miary | D4: Ilość | E4: Cena jednostkowa netto | F4: Wartość netto | G4: VAT | H4: Cena jednostkowa brutto | I4: Wartość brutto | J4: Producent/Nazwa handlowa/Numer katalogowy
A5: 1 | B5: Mini koszyk do sterylizacji w autoklawie w temp. do 134°. Przeznaczony do ochrony delikatnych narzędzi i śrubek. Wykonany z siatki ze stali nierdzewnej o bardzo drobnych oczkach, wymiar 80X80X40 MM, uchwyty z boku koszyka umożliwiające przenoszenie. Zamykana pokrywa | C5: szt. | D5: 1
A6: 2 | B6: Mały koszyk do sterylizacji w autoklawie w temp. do 134°. Przeznaczony do ochrony delikatnych narzędzi i śrubek. Wykonany z siatki ze stali nierdzewnej o bardzo drobnych oczkach, wymiar 200X100X50 MM, uchwyt na dłuższym boku koszyka umożliwiający przenoszenie. Zamykana pokrywa. | C6: szt. | D6: 1
A7: 3 | B7: Kontener do sterylizacji (bezfiltrowy) rozmiar 1/2 o wymiarach267x272x220mm+/-5mm,kontener posiadający wielorazowy wskaźnik uwidaczniający próbę otwarcia. Wskaźnik pozwala wizualnie wykryć przypadkowe otwarcie kontenera po sterylizacji. Pojemnik składający się z wanny i pokrywy. Wanna kontenera wykonana z jednego kawałka blachy ze stopu aluminium, brzeg wanny kontenera wywinięty na zewnątrz, wyposażona w 2 uchwyty blokowane pod kątem, uchwyty znaczone kolorem do wyboru przez Zamawaiającego z min. 5 kolorów/ miejsce na tabliczki opisowe po obu stronach kontenera, tabliczki z naniesioną laserowo nazwą zestawu. Pokrywa wykonana z wysokiej jakości tworzywa sztucznego z jedną labiryntową płytką bariery bakteriologicznej bez konieczności wymiany filtrów. Bariera mikrobiologiczna z nieograniczoną liczba sterylizacji (zdejmowalna do dezynfekcji przed kolejnym użyciem) możliwość samodzielnej wymiany uszczelek w pokrywie kontenera. Kontener wyposażony w : kosz wykonany ze stali nierdzewnej wyposażony w uchwyty do wyjmowania z wanny rozmiar 240x251x94mm +/- 5mm, mata silikonowa typu „jeżyk” 234x244 +/-5mm | C7: kpl | D7: 2
A8: 4 | B8: Kontener do sterylizacji (bezfiltrowy) rozmiar 1/2 o wymiarach267x272x122mm+/-5mm,kontener posiadający wielorazowy wskaźnik uwidaczniający próbę otwarcia. Wskaźnik pozwala wizualnie wykryć przypadkowe otwarcie kontenera po sterylizacji. Pojemnik składający się z wanny i pokrywy. Wanna kontenera wykonana z jednego kawałka blachy ze stopu aluminium, brzeg wanny kontenera wywinięty na zewnątrz, wyposażona w 2 uchwyty blokowane pod kątem, uchwyty znaczone kolorem do wyboru przez Zamawaiającego z min. 5 kolorów/ miejsce na tabliczki opisowe po obu stronach kontenera, tabliczki z naniesioną laserowo nazwą zestawu. Pokrywa wykonana z wysokiej jakości tworzywa sztucznego z jedną labiryntową płytką bariery bakteriologicznej bez konieczności wymiany filtrów. Bariera mikrobiologiczna z nieograniczoną liczba sterylizacji (zdejmowalna do dezynfekcji przed kolejnym użyciem) możliwość samodzielnej wymiany uszczelek w pokrywie kontenera. Kontener wyposażony w : kosz wykonany ze stali nierdzewnej wyposażony w uchwyty do wyjmowania z wanny rozmiar 240x251x44mm +/- 5mm, mata silikonowa typu „jeżyk” 234x244 +/-5mm | C8: kpl | D8: 2
A9: 5 | B9: Kontener do sterylizacji (bezfiltrowy) rozmiar 1/1 o wymiarach 553x272x272mm+/-5mm,kontener posiadający wielorazowy wskaźnik uwidaczniający próbę otwarcia. Wskaźnik pozwala wizualnie wykryć przypadkowe otwarcie kontenera po sterylizacji. Pojemnik składający się z wanny i pokrywy. Wanna kontenera wykonana z jednego kawałka blachy ze stopu aluminium, brzeg wanny kontenera wywinięty na zewnątrz, wyposażona w 2 uchwyty blokowane pod kątem, uchwyty znaczone kolorem do wyboru przez Zamawaiającego z min. 5 kolorów/ miejsce na tabliczki opisowe po obu stronach kontenera, tabliczki z naniesioną laserowo nazwą zestawu. Pokrywa wykonana z wysokiej jakości tworzywa sztucznego z dwiema labiryntowymi płytkami bariery bakteriologicznej bez konieczności wymiany filtrów. Bariera mikrobiologiczna z nieograniczoną liczba sterylizacji (zdejmowalna do dezynfekcji przed kolejnym użyciem) możliwość samodzielnej wymiany uszczelek w pokrywie kontenera. Kontener wyposażony w : silikonowa siatkę zabezpieczającą 520x250 mm +/-5mm | C9: kpl | D9: 1
A10: 6 | B10: Kontener do sterylizacji (bezfiltrowy) rozmiar 3/4 o wymiarach 448x272x143mm+/-5mm,kontener posiadający wielorazowy wskaźnik uwidaczniający próbę otwarcia. Wskaźnik pozwala wizualnie wykryć przypadkowe otwarcie kontenera po sterylizacji. Pojemnik składający się z wanny i pokrywy. Wanna kontenera wykonana z jednego kawałka blachy ze stopu aluminium, brzeg wanny kontenera wywinięty na zewnątrz, wyposażona w 2 uchwyty blokowane pod kątem, uchwyty znaczone kolorem do wyboru przez Zamawaiającego z min. 5 kolorów/ miejsce na tabliczki opisowe po obu stronach kontenera, tabliczki z naniesioną laserowo nazwą zestawu. Pokrywa wykonana z wysokiej jakości tworzywa sztucznego z dwiema labiryntowymi płytkami bariery bakteriologicznej bez konieczności wymiany filtrów. Bariera mikrobiologiczna z nieograniczoną liczba sterylizacji (zdejmowalna do dezynfekcji przed kolejnym użyciem) możliwość samodzielnej wymiany uszczelek w pokrywie kontenera. Kontener wyposażony w :Kontener wyposażony w : kosz wykonany ze stali nierdzewnej wyposażony w uchwyty do wyjmowania z wanny rozmiar 410x251x64mm +/- 5mm, mata silikonowa typu „jeżyk” 394x244 +/-5mm | C10: kpl | D10: 2
A11: 7 | B11: Kontener do sterylizacji (bezfiltrowy) rozmiar 3/4 o wymiarach 267x272x143mm+/-5mm,kontener posiadający wielorazowy wskaźnik uwidaczniający próbę otwarcia. Wskaźnik pozwala wizualnie wykryć przypadkowe otwarcie kontenera po sterylizacji. Pojemnik składający się z wanny i pokrywy. Wanna kontenera wykonana z jednego kawałka blachy ze stopu aluminium, brzeg wanny kontenera wywinięty na zewnątrz, wyposażona w 2 uchwyty blokowane pod kątem 90 stopni, uchwyty znaczone kolorem do wyboru przez Zamawiającego z min. 5 kolorów/ miejsce na tabliczki opisowe po obu stronach kontenera, tabliczki z naniesioną laserowo nazwą zestawu. Pokrywa wykonana z wysokiej jakości tworzywa sztucznego z dwiema labiryntowymi płytkami bariery bakteriologicznej bez konieczności wymiany filtrów. Bariera mikrobiologiczna z nieograniczoną liczba sterylizacji (zdejmowalna do dezynfekcji przed kolejnym użyciem) możliwość samodzielnej wymiany uszczelek w pokrywie kontenera. Kontener wyposażony w :Kontener wyposażony w : kosz wykonany ze stali nierdzewnej wyposażony w uchwyty do wyjmowania z wanny rozmiar 240x251x64mm +/- 5mm, mata silikonowa typu „jeżyk” 234x244 +/-5mm | C11: kpl | D11: 1
A12: 8 | B12: Kontener do sterylizacji (bezfiltrowy) rozmiar 1/1 o wymiarach553x272x164mm+/-5mm,kontener posiadający wielorazowy wskaźnik uwidaczniający próbę otwarcia. Wskaźnik pozwala wizualnie wykryć przypadkowe otwarcie kontenera po sterylizacji. Pojemnik składający się z wanny i pokrywy. Wanna kontenera wykonana z jednego kawałka blachy ze stopu aluminium, brzeg wanny kontenera wywinięty na zewnątrz, wyposażona w 2 uchwyty blokowane pod kątem 90 stopni, uchwyty znaczone kolorem do wyboru przez Zamawiającego z min. 5 kolorów/ miejsce na tabliczki opisowe po obu stronach kontenera, tabliczki z naniesioną laserowo nazwą zestawu. Pokrywa wykonana z wysokiej jakości tworzywa sztucznego z dwiema labiryntowymi płytkami bariery bakteriologicznej bez konieczności wymiany filtrów. Bariera mikrobiologiczna z nieograniczoną liczba sterylizacji (zdejmowalna do dezynfekcji przed kolejnym użyciem) możliwość samodzielnej wymiany uszczelek w pokrywie kontenera. Kontener wyposażony w : Kontener wyposażony w : kosz wykonany ze stali nierdzewnej wyposażony w uchwyty do wyjmowania z wanny rozmiar 532x251x94mm +/- 5mm, mata silikonowa typu „jeżyk” 524x244 +/-5m | C12: kpl | D12: 2
A13: 9 | B13: Kleszcze naczyniowe Pean, standard, odgiete dł. 16,5cm cm | C13: szt. | D13: 5
A14: 10 | B14: Kleszcze naczyniowe Pean,standard, proste, dł. 14,5 cm | C14: szt. | D14: 5
A15: 11 | B15: Kleszcze naczyniowe Kocher (Ochsner), 1x2 z., proste, dł. 24 cm | C15: szt. | D15: 1
A16: 12 | B16: Kleszcze naczyniowe Kocher (Ochsner), 1x2 z., proste, dł. 22,5 cm | C16: szt. | D16: 5
... A51: 47 | B51: Kleszczyki do ligatury, proste, gładkie szczęki, dł. 12 cm | C51: szt. | D51: 2
B52: RAZEM | F52: =SUM(F7:F51) -> 0 | I52: =SUM(I7:I51) -> 0
B55: Data | H55: Podpis osoby/osób upoważnionej
B56: ……………………………………………. | H56: ……………………………….
B61: Wymogi dla poz. 6-34: - parametry oferowanych narzędzi potwierdzić oryginalnym katalogiem; - certyfikaty i parametry przedstawione w formie oryginału lub kopii; - narzędzia fabrycznie nowe, nieregenerowane, nieużywane, - narzędzia pakowane pojedynczo, każde w osobnym opakowaniu, - narzędzia ocechowane numerem katalogowym, nazwą producenta, - dostawca zapewni serwis na terenie Unii Europejskiej, gwarancyjny i pogwarancyjny w formie kompleksowej naprawy instrumentów wraz z wymianą twardych wkładek oraz niezbędnych części i pełną obróbkę powierzchni. Serwis dostawcy certyfikowany normami :ISO 9001 2011 i ISO EN 13485 - narzędzia muszą być wykonane ze stali zgodnie z DIN 58298, ISO 13402, ISO 7741, ISO 7151, DIN 58295 spełniać standard dla stali ISO 7153-1 oraz dla poszczególnych grup wyrobów, posiadać stal wg norm DIN (wraz z potwierdzeniem parametrów stali certyfikatem producenta): nożyczki- X38CrMoV15 - twardość stali w zakresie 50-58 HRC dla wszystkich rodzi nożyczek kleszczyki, podważki, klemy - X20Cr13- twardość stali w zakresie 42-50 HRC; imadła - X20Cr13 - twardość stali w zakresie 42-50 HRC; Imadła z twardą wkładką - X20Cr13 lub X30Cr13- twardość stali w zakresie 42-50HRC; retraktory- X20Cr13 lub X5CrNi18-10- twardość stali w zakresie 185 HV 10;
B68: Data | H68: Podpis osoby/osób upoważnionej
B69: ……………………………………………. | H69: ……………………………….

Sheet Zad.53
B1: ZOZ/DZP/PN/24/23
B2: Załącznik Nr: 9
B3: Zadanie nr: 53 - Kaseta do podgrzewania płynów infuzyjnych
A4: Lp. | B4: Nazwa produktu | C4: Jednostka miary | D4: Ilość | E4: Cena jednostkowa netto | F4: Wartość netto | G4: VAT | H4: Cena jednostkowa brutto | I4: Wartość brutto | J4: Producent/Nazwa handlowa/Numer katalogowy
A5: 1 | B5: Kaseta do podgrzewania płynów infuzyjnych standardowa do 400ml/min do urządzenia Fluido Sa200 | C5: szt. | D5: 20
B6: RAZEM | F6: =SUM(F5:F5) -> 0 | I6: =SUM(I5:I5) -> 0
B11: Data | H11: Podpis osoby/osób upoważnionej
B12: ……………………………………………. | H12: ……………………………….

Sheet Zad.54
B2: ZOZ/DZP/PN/24/23
B3: Załącznik Nr: 9
A5: Zadanie nr: 54– Okularki do fototerapii
A6: Lp. | B6: Nazwa produktu | C6: Jednostka miary | D6: Ilość | E6: Cena jednostkowa netto | F6: Wartość netto | G6: VAT | H6: Cena jednostkowa brutto | I6: Wartość brutto | J6: Producent/Nazwa handlowa/Numer katalogowy
A7: 1 | B7: Okularki do fototerapii:w trzech rozmiarach: zwykłe - ob. głowy 33-38cm (+/- 4cm), dla wcześniaków 26-32 cm (+/- 4cm), do wyboru przy zakupie Okularki stosowane do fototerapii podczas leczenia żółtaczki, mocowane wokół głowy posiadające dwa niezależne punkty regulacji, zapobiegające przypadkowemu przesunięciu i umożliwiające precyzyjne dopasowanie do główki dziecka. Okularki: w kształcie litery Y, wykonane z jednego materiału zmniejszającego podrażnienia skóry, miłe w dotyku i wygodne dla główki i twarzy dziecka; chroniące oczy przed szkodliwym działaniem światła, nie zawierającego lateksu. | C7: szt. | D7: 1200
B8: RAZEM | F8: =SUM(F7:F7) -> 0 | I8: =SUM(I7:I7) -> 0
B11: Data | H11: Podpis osoby/osób upoważnionej
B12: ……………………………………………. | I12: ……………………………….

Sheet Zad.55
B1: ZOZ/DZP/PN/24/23
B2: Załącznik Nr: 9
A3: Zadanie nr: 55- Taśmy retrakcyjne.
A4: Lp. | B4: Nazwa produktu | C4: Jednostka miary | D4: Ilość | E4: Cena jednostkowa[zł] netto | F4: Wartość [zł] netto | G4: VAT | H4: Cena jednostkowa [zł] brutto | I4: Wartość [zł] brutto | J4: Producent/Nazwa handlowa/Numer katalogowy
A5: 1 | B5: Taśmy retrakcyjne wykonane z nieprzepuszczalnej dla promieni rentgenowskich bawełny do wewnątrzoperacyjnej izolacji, znakowania, mechanicznego podtrzymywania i podwiązywania organów, naczyń krwionośnych, ścięgien i nerwów. 8 mm x 75cm, biały lub, niebieski do wyboru przy zakupie. | C5: Op=24 szt. | D5: 30
B6: RAZEM | F6: =SUM(F5) -> 0 | I6: =SUM(I5) -> 0
B8: Data | G8: Podpis osoby/osób upoważnionej
B9: ……………………………………………. | G9: ……………………………….

Sheet Zad.58
B1: ZOZ/DZP/PN/24/23
B2: Załącznik Nr: 9
A3: Zadanie nr: 58 - Zestaw do drenażu aktywnego
A4: Lp. | B4: Nazwa produktu | C4: Jednostka miary | D4: Ilość | E4: Cena jednostkowa[zł] netto | F4: Wartość [zł] netto | G4: VAT | H4: Cena jednostkowa [zł] brutto | I4: Wartość [zł] brutto | J4: Producent/Nazwa handlowa/Numer katalogowy
A5: 1 | B5: Zestaw do drenażu opłucnej (aktywnego z opcją grawitacyjną z zastawką wodną , komora kolekcyjna o pojemności 2100ml z wersją lub dwoma drenami 1000ml+1100ml) do wyboru przy zakupie, wyskalowana co 5ml do objetości 200ml I co 10ml do 2000ml, komora wodnej regulacji siły ssania, zastawka bezpieczeństwa do uwolnienia wysokiego ciśnienia, automatyczny zawór uwalniający ciśnienie dodatnie, wypełnienie zastawki pozwala na monitoring ciśnienia, diagnozowanie przecieku, oraz zapobiega przed powrotem drenowanej treści pacjenta, samouszczelniający bezigłowy port do pobierania próbek,dren łączący, wysokość do 25cm, uchwyt do noszenia i powiedzenia, sterylny, podwójnie pakowany. | C5: szt | D5: 20
B6: Razem | F6: =SUM(F5) -> 0 | I6: =SUM(I5) -> 0
B9: Data | G9: Podpis osoby/osób upoważnionej
B10: ……………………………………………. | G10: ……………………………….

Sheet Zad.59
B1: ZOZ/DZP/PN/24/23
B2: Załącznik Nr: 9
A3: Zadanie nr: 59 - Strzykawki do gazometrii.
A4: Lp. | B4: Nazwa produktu | C4: Jednostka miary | D4: Ilość | E4: Cena jednostkowa[zł] netto | F4: Wartość [zł] netto | G4: VAT | H4: Cena jednostkowa [zł] brutto | I4: Wartość [zł] brutto | J4: Producent/Nazwa handlowa/Numer katalogowy
A5: 1 | B5: Strzykawka sterylna, do pobierania krwi tętniczej, żylnej i innych mateiałów, metodą aspiracji w ilości do 1,7ml, heparynizowana suchą, wysokoskoncentrowaną heparyną litową, elektrolitowo zbilansowaną jonami wapnia, sodu, oraz potasu, z systemem bezkontaktowego usuwania pęcherzyk powietrza ze strzykawki i bezkontaktowego podawania materiału do analizatora , z wewnętrznym urządzeniem wspomagającym mieszanie próbki, zakończenie luer, | C5: szt. | D5: 6000
A6: 2 | B6: Strzykawka do gazometrii napylona heparyną zbalansowana (zredukowaną) wapniem 2ml | C6: szt. | D6: 6500
B7: Razem | F7: =SUM(F5:F6) -> 0 | I7: =SUM(I5:I6) -> 0
B10: Data | G10: Podpis osoby/osób upoważnionej
B11: ……………………………………………. | G11: ……………………………….

Sheet Zad.60
B1: ZOZ/DZP/PN/24/23
B2: Załącznik Nr: 9
A3: Zadanie nr: 60 – Pozycjoner pod głowę
A4: Lp. | B4: Nazwa produktu | C4: Jednostka miary | D4: Ilość | E4: Cena jednostkowa netto | F4: Wartość netto | G4: VAT | H4: Cena jednostkowa brutto | I4: Wartość brutto | J4: Producent/Nazwa handlowa/Numer katalogowy
A5: 1 | B5: Pozycjonery przeciwodleżynowe pod głowę o wymiarach 200x50 mm. Wykonane z pianki wiskoelastycznej i medycznego żelu silikonowego, pokryte poliuretanem, rozkładające ciężar ciała i obniżające nacisk powierzchniowy do bezpiecznego poziomu, chroniące przed ryzykiem podrażnienia nerwów, wielokrotnego użytku, o właściwościach nie powodujących podrażnień dla skóry - potwierdzone badaniami wg. normy ISO 10993-10 (Biologiczna ocena wyrobów medycznych – test na podrażnianie uczulanie skóry) i ISO 10993-1 (Biologiczna ocena wyrobów medycznych – ocena biokompatybilności) lub równoważnej, do dezynfekcji ogólnie dostępnymi środkami, żel nie wycieka w przypadku przecięcia powłoki, przezierne dla promieni RTG, nieprzewodzące ładunków elektrycznych, wolne od lateksu, gwarancja na wady fabryczne minimum 24 m-ce | C5: szt. | D5: 2
A6: 2 | B6: Pozycjonery przeciwodleżynowe, Półwałek o wymiarach 505x92x75 mm. Wykonane z medycznego żelu silikonowego, pokryte poliuretanem, rozkładające ciężar ciała i obniżające nacisk powierzchniowy do bezpiecznego poziomu, chroniące przed ryzykiem podrażnienia nerwów, wielokrotnego użytku, o właściwościach nie powodujących podrażnień dla skóry - potwierdzone badaniami wg. normy ISO 10993-10 (Biologiczna ocena wyrobów medycznych – test na podrażnianie uczulanie skóry) i ISO 10993-1 (Biologiczna ocena wyrobów medycznych – ocena biokompatybilności) lub równoważnej, do dezynfekcji ogólnie dostępnymi środkami, żel nie wycieka w przypadku przecięcia powłoki, przezierne dla promieni RTG, nieprzewodzące ładunków elektrycznych, wolne od lateksu, gwarancja na wady fabryczne minimum 24 m-ce | C6: szt. | D6: 2
B7: RAZEM | F7: =SUM(F5:F6) -> 0 | I7: =SUM(I5:I6) -> 0
B12: Data | H12: Podpis osoby/osób upoważnionej
B13: ……………………………………………. | H13: ……………………………….

Sheet Zad. 61
B2: ZOZ/DZP/PN/24/23
B3: Załącznik Nr: 9
B4: Zadanie nr: 61 - System do mierzenia ciśnienia śródbrzusznego.
A5: Lp. | B5: Nazwa produktu | C5: Jednostka miary | D5: Ilość | E5: Cena jednostkowa[zł] netto | F5: Wartość [zł] netto | G5: VAT | H5: Cena jednostkowa [zł] brutto | I5: Wartość [zł] brutto | J5: Producent/Nazwa handlowa/Numer katalogowy
A6: 1 | B6: Zamknięty system do nieinwazyjnego pomiaru ciśnienia śródbrzusznego metodą manometryczną ( fabrycznie połączony zestaw do godzinowej zbiórki moczu z linią pomiarową, sterylny, w jednym opakowaniu co zapewnia utrzymanie systemu zamkniętego), 20 ml dren manometryczny wyposażony w filtr biologiczny, umieszczony pomiędzy cewnikiem foley, a zestawem do godzinowej zbiórki moczu, zapewniający właściwe odpowietrzenie. Zastawka antyzwrotna wbudowana w łącznik do cewnika foley zapobiega cofaniu się moczu z zestawu do godzinowej zbiórki moczu do linii pomiarowej. Zintegrowany zacisk drenu pozwalający na wyrównanie ciśnień i precyzyjny odczyt wartości ciśnienia śródbrzusznego, bezigłowy port do pobierania próbek, linia pomiarowa wyskalowana w mm Hg, czas użycia do 7 dni. | C6: szt. | D6: 70
B7: Razem | F7: =SUM(F6) -> 0 | I7: =SUM(I6) -> 0
B9: Data | G9: Podpis osoby/osób upoważnionej
B10: ……………………………………………. | G10: ……………………………….

Sheet Zad.62
B2: ZOZ/DZP/PN/24/23
B3: Załącznik Nr: 9
A4: Zadanie nr: 62 - Drobny sprzęt wielorazowy
A5: Lp. | B5: Nazwa produktu | C5: Jednostka miary | D5: Ilość | E5: Cena jednostkowa[zł] netto | F5: Wartość [zł] netto | G5: VAT | H5: Cena jednostkowa [zł] brutto | I5: Wartość [zł] brutto | J5: Producent/Nazwa handlowa/Numer katalogowy
A6: 1 | B6: Aparat do mierzenia ciśnienia dla dzieci z kompletem 3 mankietów różnej wielkości | C6: szt. | D6: 3
A7: 2 | B7: Ciśnieniomierz automatyczny z mankietem naramiennym dla dorosłych z zasilaniem bateryjnym | C7: szt. | D7: 10
A8: 3 | B8: Aparat do mierzenia ciśnienia zegarowy dla dorosłych z gruszką zintegrowaną z mankietem ze słuchawkami z etui | C8: szt. | D8: 5
A9: 4 | B9: Aparat do mierzenia ciśnienia zegarowy dla dorosłych z gruszką osobno podpięta do mankietu 2-żyłowego z mankietem ze słuchawkami z etui | C9: szt. | D9: 4
A10: 5 | B10: Słuchawki lekarskie dla dorosłych typu Littmann lub równoważne spełniajace wymagania: Rodzaj membrany :‎ Pojedyncza dwutonowa membrana Rodzaj oliwek ‎: ‎ Miękkie Średnica małej membrany :‎ ‎ 3,3 cm Średnica membrany‎ : ‎ 4,3 cm Technologia głowicy ‎: ‎ Dwustronna Waga głowicy ‎: ‎ 82 g Waga netto‎ : ‎ 150 g Konstrukcja przewodu ‎: ‎ Pojedyncze światło przewodu Dodatkowe oliwki‎ : ‎ Tak Dodatkowy adaptor ‎: ‎Tak Skala akustyczna ‎: ‎ 7 Długość‎: ‎ 69 cm | C10: szt. | D10: 2
A11: 6 | B11: Słuchawki lekarskie do badania dzieci typu Littmann lub równoważne spełniajace wymagania: Średnica małej membrany‎ : 2,5 cm Średnica membrany‎ : 3,3 cm Technologia głowicy‎ : Dwustronna Waga głowicy‎ : 40 g Waga netto‎ : 105 g Pacjent‎ : Noworodek,‎ Dziecko Skala akustyczna : 7 Długość‎ : 71 cm Rodzaj membrany‎ : "Płynąca" membrana Rodzaj oliwek‎ : Miękkie | C11: szt. | D11: 2
A12: 7 | B12: Słuchawki lekarskie do badania noworodków typu Littmann lub równoważne spełniajace wymagania: Skala akustyczna : 7 Długość‎ : 71 cm Pacjrent : Noworodek Okres Gwarancji :‎ 3 lata Pacjent‎ : Noworodek, Rodzaj membrany‎ : "Płynąca" membrana Rodzaj oliwek‎ : Miękkie Średnica małej membrany‎ : 3,3 cm Średnica membrany ‎: 2,7 cm Technologia głowicy‎ : Dwustronna Waga głowicy‎ : 30 g Waga netto‎ : 95 g | C12: szt. | D12: 2
A13: 8 | B13: Latarka lekarska | C13: szt. | D13: 2
A14: 9 | B14: Szczypce Magilla do intubacji 15-17cm | C14: szt. | D14: 2
A15: 10 | B15: Szczypce Magilla do intubacji 19-22 cm | C15: szt. | D15: 1
A16: 11 | B16: Szczypce Magilla do intubacji 24-26 cm | C16: szt. | D16: 4
A17: 12 | B17: Moździeż z pistlem Fi 96-110 | C17: szt. | D17: 15
... A31: 26 | B31: Termometr elektroniczny, bezdotykowy do mierzenia temperatury ciała | C31: szt. | D31: 20
B32: Razem | F32: =SUM(F6:F31) -> 0 | I32: =SUM(I6:I29) -> 0
B35: Uwaga:
B36: Zamawiający nie wymaga wyrobu medycznego w poz : 12,14,15
B38: Data | G38: Podpis osoby/osób upoważnionej
B39: ……………………………………………. | G39: ……………………………….

Sheet Zad.63
B1: ZOZ/DZP/PN/24/23
B2: Załącznik Nr: 9
A3: Zadanie nr: 63 – Opaski
A4: Lp. | B4: Nazwa produktu | C4: Jednostka miary | D4: Ilość | E4: Cena jednostkowa netto | F4: Wartość netto | G4: VAT | H4: Cena jednostkowa brutto | I4: Wartość brutto | J4: Producent/Nazwa handlowa/Numer katalogowy
A5: 1 | B5: Opaska zaciskowa na ramię, długa 82x8cm | C5: szt. | D5: 2
A6: 2 | B6: Opaska zaciskowa podwójna 84x16cm | C6: szt. | D6: 2
A7: 3 | B7: Opaska uciskowa dł. 5m, szer.6cm | C7: szt. | D7: 2
A8: 4 | B8: Opaska uciskowa dł. 5m, szer.10cm | C8: szt. | D8: 2
B9: RAZEM | F9: =SUM(F5:F8) -> 0 | I9: =SUM(I5:I8) -> 0
B13: Data | H13: Podpis osoby/osób upoważnionej
B14: ……………………………………………. | H14: ……………………………….

Sheet Zad.64
B1: ZOZ/DZP/PN/24/23
B2: Załącznik Nr: 9
B3: Zadanie nr: 64 - Koce grzewcze
A4: Lp. | B4: Nazwa produktu | C4: Jednostka miary | D4: Ilość | E4: Cena jednostkowa netto | F4: Wartość netto | G4: VAT | H4: Cena jednostkowa brutto | I4: Wartość brutto | J4: Producent/Nazwa handlowa/Numer katalogowy
A5: 1 | B5: Koce jednorazowe do ogrzewania pacjenta 2270mm x 1330mm do 10% dla dorosłych kompatybilny z systemem Mistral-Air | C5: szt. | D5: 50
A6: 2 | B6: Koce jednorazowe do ogrzewania pacjenta 1660mm x 1330mm z tolerancją 10% w górę, dla dorosłych kompatybilny z systemem Mistral-Air | C6: szt. | D6: 30
B7: RAZEM | F7: =SUM(F5:F6) -> 0 | I7: =SUM(I5:I6) -> 0
B11: Data | H11: Podpis osoby/osób upoważnionej
B12: ……………………………………………. | H12: ……………………………….

Sheet Zad.65
B1: ZOZ/DZP/PN/24/23
B2: Załącznik Nr: 9
A3: Zadanie nr 65 - Worki do moczu
A4: Lp. | B4: Nazwa produktu | C4: Jednostka miary | D4: Ilość | E4: Cena jednostkowa netto | F4: Wartość netto | G4: VAT | H4: Cena jednostkowa brutto | I4: Wartość brutto | J4: Producent/Nazwa handlowa/Numer katalogowy
A5: 1 | B5: Wieszak do worków na mocz przy łóżku | C5: szt. | D5: 800
A6: 2 | B6: Worek do moczu z odprowadzeniem i zastawką zwrotna, jałowy 2000ml | C6: szt. | D6: 12000
A7: 3 | B7: Worek do moczu z odprowadzeniem i zastawką zwrotna, jałowy 750-1000ml do mocowania przy nodze | C7: szt. | D7: 200
A8: 4 | B8: Worek do moczu z odprowadzeniem i zastawką zwrotna, jałowy 2000ml, 7-dniowy z portem. | C8: szt. | D8: 200
B9: RAZEM | F9: =SUM(F5:F8) -> 0 | I9: =SUM(I5:I8) -> 0
B10: Oświadczam, że oferowany przedmiot zamówienia jest zgodny z opisem i spełnia wymagane parametry techniczne
B11: Data | H11: Podpis osoby/osób upoważnionej
B12: ……………………………………………. | H12: ………………….. | I12: ……………………………….

Sheet Zad.66
B1: ZOZ/DZP/PN/24/23
B2: Załącznik Nr: 9
A3: Zadanie nr: 66 - Myjki.
A4: Lp. | B4: Nazwa produktu | C4: Jednostka miary | D4: Ilość | E4: Cena jednostkowa netto | F4: Wartość netto | G4: VAT | H4: Cena jednostkowa brutto | I4: Wartość brutto | J4: Producent/Nazwa handlowa/Numer katalogowy
A5: 1 | B5: Myjka w formie rękawic Dwuwarstwowa, jednorazowa myjka do mycia ciała w formie półokrągłej rękawicy. Nasączona jednostronnie środkami myjącymi o neutralnym pH 5,5, wykonana z jednej strony (części myjącej) z poliestru, z drugiej strony z włókniny. Obie warstwy myjki nie podfoliowane. Rozmiar 14 cm x 20 cm,(+,-2cm) gramatura 90g/m2. Produkowana zgodnie z wymaganiami. Czystość mikrobiologiczna na brak zawartości Pseudomonas aeruginosa, Candida albicans, Staphylococcus aureus oraz pozbawiony latexu. Opakowanie jednostkowe a'10 sztuk z nadrukowanym składem. Produkt pakowany w opakowanie foliowe.. | C5: op. 10szt. | D5: 13000
A6: 2 | B6: Szczoteczki do chirurgicznego mycia rąk, jednorazowego użytku. Produkt zaopatrzony jest z jednej strony w nylonową szczotkę, a z drugiej w miękką gąbkę. jego kształt zapewnia użytkownikowi wysoki komfort i łatwość posługiwania się. Każda szczoteczka zaopatrzona jest w szpatułkę do czyszczenia paznokci, szczoteczka jest sucha, gotowa do użycia bezpośrednio po wyjęciu z opakowania, wymiary:8x5x4cm, nasączone 4% chlorheksydyną pakowane zbiorczo w formie dyspensera | C6: szt. | D6: 7000
A7: 3 | B7: Szczoteczki do chirurgicznego mycia rąk, jednorazowego użytku. Produkt zaopatrzony jest z jednej strony w nylonową szczotkę, a z drugiej w miękką gąbkę. jego kształt zapewnia użytkownikowi wysoki komfort i łatwość posługiwania się. Każda szczoteczka zaopatrzona jest w szpatułkę do czyszczenia paznokci, szczoteczka jest sucha, gotowa do użycia bezpośrednio po wyjęciu z opakowania, wymiary:8x5x4cm, pakowane zbiorczo w formie dyspensera | C7: szt. | D7: 2000
A8: 4 | B8: Gotowa do użycia, jednorazowa gąbka nasączona 25ml antyseptycznym, myjącym roztworem glukonianu chlorheksydyny o stężeniu wagowym 4 % (nie zawierająca mydła). Rozmiar 12cm x 7,5 cm x 2,3 cm(+,-0,5cm) wykonana z poliuretanu. Stosowana do antyseptycznego mycia ciała i oczyszczania skóry, wymaga spłukiwania. Pakowana pojedynczo Opakowanie blistrowe z systemem łatwego rozdzieralnego otwarcia. Wyrób nie zawiera latexu. | C8: szt. | D8: 3000
A9: 5 | B9: Czepek do bezwodnego mycia głowy Jednorazowy czepek do bezwodnego mycia głowy. Zewnętrzna warstwa polietylenowa, wewnętrzna warstwa włókniny nasączony substancjami myjącymi oraz odżywką. Nie wymagający namoczenia oraz spłukiwania. Zawierający w składzie m.in. kokamidopropylobetainę oraz dioctan glutaminianu tetrasodowego. Pakowany pojedynczo, z możliwością podgrzania w mikrofalówce (20 sek. w 800W). Zapachowy, pakowany pojedynczo. Na opakowaniu nadrukowany skład oraz instrukcja użycia Nie zawiera latexu. Termin ważności: 24 m-ce od daty produkcji. Zarejestrowany jako produkt kosmetyczny | C9: szt | D9: 100
B10: RAZEM | F10: =SUM(F5:F9) -> 0 | I10: =SUM(I5:I9) -> 0
B14: Data | H14: Podpis osoby/osób upoważnionej
B15: ……………………………………………. | H15: ……………………………….

Sheet Zad.67
B1: ZOZ/DZP/PN/24/23
B2: Załącznik Nr: 9
A3: Zadanie nr: 67 - Wyroby z masy celulozowej
A4: Lp. | B4: Nazwa produktu | C4: Jednostka miary | D4: Ilość | E4: Cena jednostkowa netto | F4: Wartość netto | G4: VAT | H4: Cena jednostkowa brutto | I4: Wartość brutto | J4: Producent/Nazwa handlowa/Numer katalogowy
A5: 1 | B5: Kaczka męska wykonana z pulpy celulozowej; wymiary 250 x 115 x 115mm; waga 37.5g (+/- 5g); pojemność: 800ml odporność na przesiąkanie: 4 godz.; odporność na temp cieczy: 35stC (+/- 3stC); ilość w opakowaniu: 100 szt.; Znak Ce oraz nazwa producenta na jednostkowym produkcie umożliwiająca identyfikację | C5: szt. | D5: 16000
A6: 2 | B6: Basen jednorazowy płaski 1900 – 2100ml, odporność na przesiąkanie: 4 godz.; odporność na temp cieczy: 35stC (+/- 3stC); ilość w opakowaniu: 100 szt.; Znak Ce oraz nazwa producenta na jednostkowym produkcie umożliwiająca identyfikację | C6: szt. | D6: 2500
A7: 3 | B7: Przykrywka jednorazowa do basenu płaskiego poz nr 2 ( Mozliwość utylizacji w maceratorze ) | C7: szt. | D7: 300
A8: 4 | B8: Podstawa pod basen jednorazowy z pozycji 2 | C8: szt. | D8: 20
A9: 5 | B9: Miska nerkowata 690-710ml, odporność na przesiąkanie: 4 godz.; odporność na temp cieczy: 35stC (+/- 3stC); ilość w opakowaniu: 260 szt.: Znak Ce oraz nazwa producenta na jednostkowym produkcie umożliwiająca identyfikacje | C9: szt. | D9: 20000
A10: 6 | B10: Miska do mycia pacjenta wykonana z pulpy celulozowej; wymiary 330 x 255 x 100mm; waga 58.5g (+/- 3 g); Pojemność: 3-4 litry; odporność na przesiąkanie: 2 godziny; przystosowana do ciepłej wody z detergentem, do temperatury 45 stopni C; | C10: szt. | D10: 7000
A11: 7 | B11: Miska Mała Ogólnego zastosowania ( Nocnik Dziecięcy ) wymiary 233x86 mm pojemność robocza 1 litr Odporność na przesiąkanie dla zawartości o temperaturze do 35 stopni 4 godziny Znak Ce oraz nazwa producenta na jednostkowym produkcie umożliwiająca identyfikacja | C11: szt. | D11: 3000
A12: 8 | B12: Podstawka pod miskę ogólnego zastosowania ( Nocnik ) kompatybilna z pozycją nr 7 | C12: szt. | D12: 5
A13: 9 | B13: Przykrywka do miski ogólnego zastosowania ( Nocnik ) kompatybilna z pozycją nr. 7 ( Możliwość utylizacji w maceratorze ) | C13: szt. | D13: 500
A14: 10 | B14: Miska do mycia pacjenta wykonana z pulpy celulozowej; wymiary 365 x 258 x 170mm; wysokość ścian naczynia co najmniej 16 centymetrów od podstawy; waga 95g (+/- 5 g); pojemność: 6 litrów; odporność na przesiąkanie: 2 godziny;przystosowana do ciepłej wody z detergentem, do temperatury 45 stopni C; | C14: szt. | D14: 500
B15: Razem | F15: =SUM(F5:F14) -> 0 | I15: =SUM(I5:I14) -> 0
B17: Pojemniki jednorazowego użytku do utylizacji ludzkich odpadów bytowych. Produkt wykonany z regenerowanych włókien celulozy, klejony naturalnym woskiem z dodatkiem żywicy ze środkiem pomocniczym zapobiegającym osadzaniu i pienieniu
B20: Data | H20: Podpis osoby/osób upoważnionej
B21: ……………………………………………. | I21: ……………………………….

Sheet Zad.68
B1: ZOZ/DZP/PN/24/23
B2: Załącznik Nr: 9
B3: Zadanie nr: 68 - Zestawy cewników, igły.
A4: Lp. | B4: Nazwa produktu | C4: Jednostka miary | D4: Ilość | E4: Cena jednostkowa netto | F4: Wartość netto | G4: VAT | H4: Cena jednostkowa brutto | I4: Wartość brutto | J4: Producent/Nazwa handlowa/Numer katalogowy
A5: 1 | B5: Igła z ostrzem typu Pencil Point z bocznym otworem, przezroczysty uchwyt lock ze wskaźnikiem położenia szlifu igły, z pryzmatem zmieniającym barwę po wypełnieniu PMR G-25 x 3,5cala (0,53x88 ) z prowadnicą | C5: szt. | D5: 2500
A6: 2 | B6: Igła z ostrzem typu Pencil Point z bocznym otworem, przezroczysty uchwyt lock, ze wskaźnikiem położenia szlifu igły, z pryzmatem zmieniającym barwę po wypełnieniu PMR G-27 x 3,5cala (0,42x88 ) z prowadnicą | C6: szt. | D6: 1000
A7: 3 | B7: Igła z ostrzem typu Pencil Point z bocznym otworem, przezroczysty uchwyt lock, z pryzmatem zmieniającym barwę po wypełnieniu PMR G-22 x 3,5cala (0,7x88 ) | C7: szt. | D7: 100
A8: 4 | B8: Igła do znieczuleń zewnątrzoponowych G 16 1,7x80 typ TUOHY zakrzywiona, ze skrzydełkami mocowanymi na stałe igła oznaczona, co 1cm celem kontroli gł. wkłucia, wzmocniona mandrynem z tworzywa sztucznego do wyboru przy zakupie. | C8: szt. | D8: 50
A9: 5 | B9: Igła do znieczuleń z ostrzem typu Pencil-Point o długości 103mm, w komplecie z igłą prowadzącą 20-22G, igła wykonana z wysokiej jakości stali nierdzewnej, eleiptyczny, uchwyt z wskaźnikiem położenia szlifu w uchwycie igły i mandrynu, pryzmat wizualizacyjny, zmieniający barwę pod wpływem płynu mózgowo-rdzeniowego - konstrukcja uchwytów igły i prowadnicy zapewnia skrócenie długości roboczej igły o mniej niż 12mm 25G-27G | C9: szt. | D9: 300
A10: 6 | B10: Igła do nakłuć lędźwiowych i znieczuleń - typu Standard - z ostrzem typu Quincke, idealnie dopasowany mandryn, przeźroczysta nasadka, ułatwiająca wizualizację płynu, eleiptyczny, wygodny uchwyt z wskaźnikiem położenia szlifu w uchwycie igły i mandrynu, pryzmat wizualizacyjny, zmianijący barwę pod wpływem płynu .mózgowo-rdzeniowego 19 G /1.1mm/ x 88-90mm oraz 22 G /0.7mm/ x 38-40mm. | C10: szt. | D10: 50
A11: 7 | B11: Igła zewnątrzoponowa TUOHY 18 G, sterylna apirogenna, wykonana z wysokiej klasy stali, 16-18G /1.7-1.3mm/ x 80-90mm | C11: szt. | D11: 50
A12: 8 | B12: Igła zewnątrzoponowa TUOHY 18 G, sterylna apirogenna, wykonana z wysokiej klasy stali , 18G x 150mm | C12: szt. | D12: 50
A13: 9 | B13: Igła do przepłukiwania portów 22Gx25mm zakrzywiona | C13: szt. | D13: 100
A14: 10 | B14: Zestaw do połączonego znieczulenia podpajęczynówkowego i zewnątrzoponowego. W zestawie igła Tuohy 18G-20G x 88 mm do wyboru przy zakupie, z dodatkowym otworem umożliwiającym wprowadzenie końca igły podpajeczynówkowej typu Pencil Point 27G. Cewnik zewnątrzoponowy z miękką końcówką Soft tip, filtr, strzykawka LOR 10ML , system mocowania igły PP w igle Tuohy | C14: op=10szt | D14: 5
A15: 11 | B15: Igła stosowana do długotrwałych infuzji przystosowana do iniekcji pod wysokim ciśnieniem do 325 psi (22,4 bary) elastyczne skrzydełka dla ułatwienia nakłucia portu i mocowania ostrze igły ze specjalnym szlifem łyżeczkowym w celu wydłużenia okresu użytkowania silikonowej membrany nie zwiera lateksu i DEHP dren z zaciskiem  długość drenu: 200 +/- 10 mm w rozmiarach do wyboru: 19Gx15mm do 22Gx25mm | C15: szt | D15: 200
A16: 12 | B16: Igła stosowana do długotrwałych infuzji elastyczne skrzydełka dla ułatwienia nakłucia portu i mocowania ostrze igły ze specjalnym szlifem łyżeczkowym w celu wydłużenia okresu użytkowania silikonowej membrany nie zwiera lateksu i DEHP (skrzydełka) dren z zaciskiem (bez PCV) długość drenu: 200 +/- 10 mm łącznik Y w rozmiarach do wyboru: 19Gx20mm do 22Gx25mm | C16: szt | D16: 200
... A26: 22 | B26: Igła z ostrzem typu Pencil Point z bocznym otworem, przezroczysty uchwyt lock ze wskaźnikiem położenia szlifu igły, z pryzmatem zmieniającym barwę po wypełnieniu PMR G-27 x 3,5cala (0,53x120 ) z prowadnicą | C26: szt | D26: 125
B27: RAZEM | F27: =SUM(F5:F26) -> 0 | I27: =SUM(I5:I26) -> 0
B29: Data | H29: Podpis osoby/osób upoważnionej
B30: ……………………………………………. | H30: ……………………………….

Sheet Zad.69
B1: ZOZ/DZP/PN/24/23
B2: Załącznik Nr: 9
A3: Zadanie nr: 69 - Skalpele jednorazowe
A4: Lp. | B4: Nazwa produktu | C4: Jednostka miary | D4: Ilość | E4: Cena jednostkowa netto | F4: Wartość netto | G4: VAT | H4: Cena jednostkowa brutto | I4: Wartość brutto | J4: Producent/Nazwa handlowa/Numer katalogowy
A5: 1 | B5: Nożyk chirurgiczny jednorazowy typu skalpel z mechanizmem powalającym na bezpieczne chowanie oraz wysuwanie ostrza, wraz z blokadą, w rękojeści skala w cm i calach, mechanizm blokady ze słyszalnym kliknięciem i wizualizacją. Rozmiar nr 10,11,15,20,22 | C5: op. 25 szt | D5: 240
B6: RAZEM | F6: =SUM(F5:F5) -> 0 | I6: =SUM(I5:I5) -> 0
B8: Data | H8: Podpis osoby/osób upoważnionej
B9: ……………………………………………. | H9: ……………………………….

Sheet Zad.70
B1: ZOZ/DZP/PN/24/23
B2: Załącznik Nr: 9
A4: Zadanie nr: 70 - Akcesoria do OIT
A5: Lp. | B5: Nazwa produktu | C5: Jednostka miary | D5: Ilość | E5: Cena jednostkowa netto | F5: Wartość netto | G5: VAT | H5: Cena jednostkowa brutto | I5: Wartość brutto | J5: Producent/Nazwa handlowa/Numer katalogowy
A6: 1 | B6: Resuscytator wielorazowy, zawór pacjenta, maska z pompowanym mankietem roz. 5, rezerwuar tlenu do sterylizacji w autoklawie. Worek samorozprężalny umożliwiający wentylację pacjentów o masie ciała od 15 kg wzwyż - Maksymalna dostarczana objętość oddechowa 1300 ml - Możliwość podłączenia zaworu PEEP na zaworze pacjenta bez potrzeby stosowania dodatkowych złączek - Pasek zabezpieczający przed wyślizgiwaniem się z dłoni - Dodatkowa zewnętrzna (wymienna) powłoka worka zabezpieczająca przed wytworzeniem zbyt wysokiego ciśnienia w drogach oddechowych bez skokowej utraty objętości - Odłączany rezerwuar tlenu o objętości 1500 ml - Maska dla dorosłych z miękkim pompowanym mankietem rozmiar 5 - Możliwość sterylizacji wszystkich elementów resuscytatora w autoklawie (w temp 134ºC) włącznie z rezerwuarem tlenu i maską - Instrukcja obsługi w języku polskim zawierająca wykaz części zamiennych | C6: szt. | D6: 5
A7: 2 | B7: Resuscytator MARK IV Baby, zawór pacjenta, zamknięty rezerwuar tlenu nadający się do sterylizacji w autoklawie, maska 0 z pompowanym mankietem.- Możliwość wentylacji małych dzieci, niemowląt i noworodków (waga pacjenta poniżej 20 kg)- Maksymalna objętość oddechowa 300 ml- Prosta konstrukcja zaworu pacjenta ułatwiająca demontaż w celu czyszczenia i sterylizacji -zawór z pojedynczą membraną- Możliwość podłączenia zaworu PEEP na zaworze pacjenta bez potrzeby stosowania dodatkowych złączek- Dodatkowa powłoka worka zabezpieczająca przed wytworzeniem zbyt wysokiego ciśnienia w drogach oddechowych bez skokowej utraty objętości oddechowej- Zawór bezpieczeństwa 40 cm H2O- Zaczep do powieszenia aparatu- Odłączany rezerwuar tlenu o objętości 1500 ml - Złącze umożliwiające pomiar ciśnienia w drogach oddechowych podczas wentylacji- Maska twarzowa silikonowa rozmiar 0 - Możliwość sterylizacji wszystkich elementów resuscytatora w autoklawie - w temp 134 °C,włącznie z rezerwuarem tlenu i maską. | C7: szt. | D7: 5
A8: 3 | B8: Maska dla dzieci, rozmiar 2 z pompowanym mankietem. Przezroczysta kopuła umożliwiająca zaobserwowanie krwawienia, wymiocin lub oddechów spontanicznych. Oparcie na kciuk ułatwiające docisk maski do twarzy Anatomiczny kształt z pompowanym mankietem uszczelniającym. Możliwość zdjęcia mankietu w celu umycia. Możliwość sterylizacji w autoklawie w temp. 134°C. | C8: szt. | D8: 5
A9: 4 | B9: Resuscytator Ambu Oval Plus • Możliwość wentylacji pacjentów o macie ciała powyżej 30 kg, • Objętość oddechowa 1100 ml, • Możliwość podłączenia zaworu PEEP na zaworze pacjenta bez potrzeby stosowania dodatkowych złączek, • Rezerwuar tlenu o objętości 1500 ml • Możliwość podawania tlenu po odłączeniu rezerwuaru tlenu • Pasek zabezpieczający przed wyślizgiwaniem się z dłoni zintegrowany z workiem silikonowym • Obrotowe połączenie zaworu pacjenta z workiem • Maska dla dorosłych rozmiar 5, silikonowa z otwartym mankietem • Możliwość wielokrotnej sterylizacji wszystkich elementów resuscytatora w autoklawie (w temp. 134 stopni C) włącznie z rezerwuarem tlenu • Instrukcja obsługi w języku polskim z wykazem części zamiennych. | C9: szt. | D9: 25
A10: 5 | B10: Zawór pacjenta z pojedynczą membraną i obracanym złączem do Ambu MARK III /Ambu MARK IV | C10: szt. | D10: 5
A11: 6 | B11: Membrana do zaworu pacjenta z pojedynczą membraną i zaworu wlotowego | C11: szt. | D11: 5
A12: 7 | B12: Rezerwuar tlenu MARK IV do sterylizacji w autoklawie | C12: szt. | D12: 5
A13: 8 | B13: Zawór wlotowy do MARK IV kompletny | C13: szt. | D13: 5
A14: 9 | B14: Powłoka zewnętrzna do MARK IV | C14: szt. | D14: 5
A15: 10 | B15: Zawór pacjenta pediatryczny do Ambu MARK IV Baby | C15: szt. | D15: 5
A16: 11 | B16: Rezerwuar tlenu MARK IV (do sterylizacji w autoklawie) z adapterem umożliwiającym podłączenie do MARK IV Baby | C16: szt. | D16: 5
A17: 12 | B17: Powłoka zewnętrzna do MARK IV Baby | C17: szt. | D17: 5
... A20: 15 | B20: Worek rezerwuaru tlenu do Ambu Mark IV/Oval PLUS nadający się do sterylizacji w autoklawie | C20: szt. | D20: 5
B21: RAZEM | F21: =SUM(F6:F20) -> 0 | I21: =SUM(I6:I20) -> 0
B24: Data | H24: Podpis osoby/osób upoważnionej
B25: ……………………………………………. | H25: ……………………………….

Sheet Zad.71
B1: ZOZ/DZP/PN/24/23
B2: Załącznik Nr: 9
A3: Zadanie nr: 71- Tracheostomia i konikotomia
A4: Lp. | B4: Nazwa produktu | C4: Jednostka miary | D4: Ilość | E4: Cena jednostkowa netto | F4: Wartość netto | G4: VAT | H4: Cena jednostkowa brutto | I4: Wartość brutto | J4: Producent/Nazwa handlowa/Numer katalogowy
A5: 1 | B5: Rurka tracheostomijna z mankietem uszczelniejącym typu Fome-Cuf, wykonana ze 100% czystego medycznego silikonu, powłoka zmniejszająca przyleganie, łącznik 15mm, mankiet samorozprężalny z pianki poliuretanowej typu Fome-Cuf, elastyczny kołnierz z oznaczeniem średnicy wewnętrznej i zewnętrznej oraz długości rurki, mandryn, w zestawie strzykawka 60ml z kranikiem, łącznik do automatycznej regulacji ciśnienia, tasiemka do mocowania, klin do rozłączania oraz koreczek, rozmiary do dowolnego wyboru w trakcie realizacji umowy 5,0 do 9,0 co 1,0 | C5: szt. | D5: 3
A6: 2 | B6: Kompletny zestaw do przezskórnej tracheotomii metodą Griggsa. W Zestawie min.: Kompletny zestaw do przezskórnej tracheotomii metodą Griggsa, z wielorazowym peanem, zawierający skalpel, kaniulę z igłą i strzykawką do identyfikacji tchawicy, prowadnicę Seldingera, rozszerzadło oraz rurkę tracheostomijną z wbudowanym przewodem do odsysania z przestrzeni podgłośniowej z mankietem niskociśnieniowym, posiadającą sztywny samoblokujący się mandryn z otworem na prowadnicę Seldingera. Pakowany na jednej, sztywnej tacy umożliwiającej szybkie otwarcie zestawu. Rozmiary: 7,0mm, 8,0mm, 9,0mm | C6: szt. | D6: 2
A7: 3 | B7: Zestaw do przezskórnej tracheostomii metodą Griggsa, w zestawie min.: skalpel, kaniula z igłą i strzykawką do identyfikacji tchawicy, prowadnica Seldingera, rozszerzadło, rurka tracheostomijna z mankietem niskociśnieniowym i samoblokującym się mandrynem z otworem na prowadnicę Seldingera, możliwość odsysania z przestrzeni pogłośniowej, pakowany na jednej,sztywnej tacy umożliwiającej szybkie otwarcie zestawu. Rozmiary do wyboru podczas zakupu 7,0 -8,0 - 9,0 | C7: kpl. | D7: 40
A8: 4 | B8: Rurka tracheostomijna z regulowanym położeniem kołnierza, mechanizm blokujący, umożliwiający przesuwanie kołnierza wzdłuż osi rurki oraz obracanie o 360°, miękki, cienkościenny, niskociśnieniowy mankiet z systemem ograniczania wzrostu ciśnienia wewnątrz mankietu, wykonana z mieszaniny silikonu i PCV, oznaczenie na rurce jej rozmiaru, rodzaju oraz średnicy mankietu i zakresu zmiennej długości. Rozmiary do wyboru podczas zakupu 7,0-8,0-9,0 | C8: szt. | D8: 10
A9: 5 | B9: Rurka tracheotomijna z odsysaniem z przestrzeni podgłośniowej, z miękkim, cienkościennym mankietem niskociśnieniowym oraz systemem ograniczania wzrostu ciśnienia wewnątrz mankietu typu Soft Seal lub równoważnym z balonikiem kontrolnym wyraźnie wskazującym na wypełnienie mankietu (płaski przed wypełnieniem), oznaczenie na rurce jej rozmiaru, rodzaju i średnicy mankietu, wykonana z termoplastycznego PCV, przeżroczysty kołnierz z oznaczeniem rozmiaru i długości rurki, samoblokujący się mandryn z otworem na prowadnicę Seldingera umożliwiający założenie bądź wymianę rurki. Rozmiary do wyboru podczas zakupu 7,0-9,0 co 0,5 | C9: szt. | D9: 80
A10: 6 | B10: Zestaw do szybkiej, bezpiecznej, ratunkowej konikotomii - typu PCK, z igłą Veressa, wyposażoną we wskaźnik sygnalizujący wejście do światła tachawicy i kontakt z jej tylna ściną, w zestawie ponadto min.: rurka tracheostomijna 6,0mm z mankietem uszczelniającym. skalpel nr 15, strzykawka 10ml, miękka opaska do mocowania rurki, wymiennik ciepła i wilgoci typu thermovent T oraz szew chirurgiczny, nylonowy z igłą, opakowanie typu blister z graficzna instrukcją obsługi. Rozmiar 6,0 | C10: szt. | D10: 4
A11: 7 | B11: Zestaw do punkcji opłucnej ( / osierdzia / otrzewnej) o składzie: igła Veressa; cewnik z poliuretanu, widoczny w rtg, w rozmiarach 9Ch lub 12Ch, do 29 dni, z układem automatycznych zastawek jednokierunkowych (możliwość przełączenia w tryb drenażu z pominięciem zastawek); strzykawka luer lock 60ml; worek do drenażu 2000ml z kranikiem spustowym; skalpel z zatrzaskowym zabezpieczeniem ostrza przed zakłuciem; łącznik luer lock / schodkowy; linia do przedłużenia cewnika dł. 50cm, zacisk nożyczkowy; komplet mocowań cewnika do skóry pacjenta. | C11: szt | D11: 40
A12: 8 | B12: Rurka intubacyjna z mankietem typu Soft-Seal i odsysaniem z nad mankietu. Rurka intubacyjna z mankietem zwężającym się ku dołowi, o potwierdzonej badaniami klinicznymi obniżonej przenikalności dla podtlenku azotu, z wbudowanym przewodem do odsysania, z otworem Murphy’ego, balonik kontrolny wskazujący na stan wypełnienia mankietu z oznaczeniem nazwy producenta, średnicy rurki i mankietu oraz rodzaju mankietu, dodatkowe oznaczenie rozmiaru na korpusie rurki w miejscu widocznym po zaintubowaniu jak i na łączniku, linia Rtg na całej długości rurki, skala centymetrowa podana na korpusie rurki, sterylna, jednorazowa, rozmiary od 6,0 do 9,0 mm co 0,5 mm. | C12: szt | D12: 200
A13: 9 | B13: Rurka tracheostomijna z regulowanym położeniem kołnierza. Rurka tracheostomijna z regulowanym położeniem kołnierza, wykonana z czystego silikonu, z mankietem typu Aire-Cuf, zbrojona, z centymetrowymi znacznikami głębokości, z oznaczeniem na kołnierzu średnicy wew. i zew. długości, rodzaju i średnicy mankietu, z obturatorem i łącznikiem 15mm, w zestawie z opaską do mocowania oraz klinem do rozłączania obwodu oddechowego, sterylna, rozmiary: Śr. wew. (mm) / Śr. zew. (mm) / Długość (mm) 6,0 / 8,7 / 110 7,0 / 10,0 / 120 8,0 / 11,0 / 130 9,0 / 12,3 / 140 | C13: szt | D13: 3
A14: 10 | B14: Rurka Wyskalowana, zbrojona rurka tracheostomijna z mankietem niskociśnieniowym z balonikiem kontrolnym wyraźnie wskazującym na wypełnienie mankietu (płaski przed wypełnieniem) posiadający oznaczenia rozmiaru rurki oraz rodzaju i średnicy mankietu, wykonana z termoplastycznego PCW, zbrojona drutem, z elastycznym, przezroczystym regulowanym kołnierzem z zaciskiem utrzymującym właściwą pozycję, z oznaczeniem rozmiaru na giętkich skrzydełkach, z samoblokującym się mandrynem z otworem na cewnik prowadzący, w zestawie cienkościenna elastyczna kaniula z PTFE, gąbka do czyszczenia kaniuli, miękka opaska mocująca i klin do odłączania rurki. Rozmiary: 7mm, 8mm i 9mm | C14: szt | D14: 3
A15: 11 | B15: Rurka dooskrzelowa prawa, bez zaczepu, z dwoma mankietami niskociśnieniowymi zróżnicowanymi kolorami odpowiadającymi kolorom baloników kontrolnych, z oznaczeniem na korpusie rurki średnicy zarówno części tchawiczej jak i oskrzelowej, z otworem Murphy’ego, linia widoczna pod Rtg na całej długości rurki, zintegrowane łączniki kątowe z uszczelnionym wejściem do bronchoskopu, w zestawie: prowadnica do ukształtowania, łącznik obrotowy, trójnik, kolorystycznie zróżnicowane elastyczne przedłużki do zamknięcia światła oraz cztery cewniki do odsysania. Rozmiary: 28F, 32F, 35F, 37F, 39F, 41F | C15: szt | D15: 2
A16: 12 | B16: Rurka dooskrzelowa lewa, bez zaczepu, z dwoma mankietami niskociśnieniowymi zróżnicowanymi kolorami odpowiadającymi kolorom baloników kontrolnych, z oznaczeniem na korpusie rurki średnicy zarówno części tchawiczej jak i oskrzelowej, linia widoczna pod Rtg na całej długości rurki, zintegrowane łączniki kątowe z uszczelnionym wejściem do bronchoskopu, w zestawie: prowadnica do ukształtowania, łącznik obrotowy, trójnik, kolorystycznie zróżnicowane elastyczne przedłużki do zamknięcia światła oraz cztery cewniki do odsysania. Rozmiary: 28F, 32F, 35F, 37F, 39F, 41F | C16: szt | D16: 2
... A22: 18 | B22: Zatrzaskowy system mocowania cewnika do skóry pacjenta z przezroczystą, sztywną, płaską częścią zatrzaskową, gąbkową częścią przylepną, niskoprofilowy (wysokość do 5mm), rozmiary 18G i 16G/17G. | C22: szt | D22: 620
B23: RAZEM | F23: =SUM(F5:F22) -> 0 | I23: =SUM(I5:I22) -> 0
B26: Data | H26: Podpis osoby/osób upoważnionej
B27: ……………………………………………. | H27: ……………………………….

Sheet Zad.72
B1: ZOZ/DZP/PN/24/23
B2: Załącznik Nr: 9
B3: Zadanie nr: 72- Staplery
A4: Lp. | B4: Nazwa produktu | C4: Jednostka miary | D4: Ilość | E4: Cena jednostkowa netto | F4: Wartość netto | G4: VAT | H4: Cena jednostkowa brutto | I4: Wartość brutto | J4: Producent/Nazwa handlowa/Numer katalogowy
A5: 1. | B5: Stapler okrężny o średnicy zewnętrznej kowadełka 25,5mm i średnicy ostrza 17mm, zakrzywiony jednorazowego użytku do stosowania wewnętrznego. Kowadełko zaopatrzone w otwór do przeciągania szwu prowadzącego.Stapler z zintegrowaną automatyczną blokadą bezpieczeństwa, oraz systemem obrotowego ostrza.16 zszywek ze stopu tytanu w dwóch rzędach z kontrolowanym dociskiem tkanki i regulowaną wysokością zszywek w zakresie od 1mm do 2,5mm.Pokrętło regulacyjne „motylkowe” ułatwiające zamykanie i otwieranie staplera, z opcją podwójnej prędkości, | C5: Szt. | D5: 2
A6: 2. | B6: Stapler okrężny o średnicy zewnętrznej kowadełka 29,5mm i średnicy ostrza 20,5 mm zakrzywiony jednorazowego użytku do stosowania wewnętrznego. Kowadełko zaopatrzone w otwór do przeciągania szwu prowadzącego.Stapler z zintegrowaną automatyczną blokadą bezpieczeństwa, oraz systemem obrotowego ostrza.16 zszywek ze stopu tytanu w dwóch rzędach z kontrolowanym dociskiem tkanki i regulowaną wysokością zszywek w zakresie od 1mm do 2,5mm.Pokrętło regulacyjne „motylkowe” ułatwiające zamykanie i otwieranie staplera, z opcją podwójnej prędkości, | C6: Szt. | D6: 3
A7: 3. | B7: Stapler okrężny o średnicy zewnętrznej kowadełka 33,5mm i średnicy ostrza 24,8 mm zakrzywiony jednorazowego użytku do stosowania wewnętrznego. Kowadełko zaopatrzone w otwór do przeciągania szwu prowadzącego.Stapler z zintegrowaną automatyczną blokadą bezpieczeństwa, oraz systemem obrotowego ostrza.16 zszywek ze stopu tytanu w dwóch rzędach z kontrolowanym dociskiem tkanki i regulowaną wysokością zszywek w zakresie od 1mm do 2,5mm.Pokrętło regulacyjne „motylkowe” ułatwiające zamykanie i otwieranie staplera, z opcją podwójnej prędkości, | C7: Szt. | D7: 4
A8: 4. | B8: Stapler okrężny jednorazowego użytku do stosowania wewnętrznego, prosty, umożliwiający wykonanie zespolenia bez przecinających się linii zszywek. Stapler o średnicy zewnętrznej kowadełka 29,5mm i średnicy ostrza 20,5 mm. 24 zszywki wykonane ze stopu tytanu, o wysokości 5mm przed zamknięciem oraz 1,00 do 2,50 mm po zamknięciu. Wysokość obudowy 4mm, pojemność główki staplera 12,6mm.Stapler z 4 otworami trakcyjnymi pozwalające na wciągnięcie linii zszywek i tkanki do główki staplera, wzmocnione ostrze i system jego uwalniania (Power cut) wraz z akcesoriami trans analnymi do wykonania zespolenia bez przecinających się linii zszywek (anoskop, 2 trokary pomocnicze, szydełko, zestaw do oceny szczelności | C8: Szt. | D8: 5
A9: 5. | B9: Stapler okrężny jednorazowego użytku do stosowania wewnętrznego, prosty, umożliwiający wykonanie zespolenia bez przecinających się linii zszywek. Stapler o średnicy zewnętrznej kowadełka 33,5mm i średnicy ostrza 24,8 mm. 32 zszywki i wykonane ze stopu tytanu, o wysokości 5mm przed zamknięciem oraz 1,00 do 2,50 mm po zamknięciu. Wysokość obudowy 4mm, pojemność główki staplera 12,6mm.Stapler z 4 otworami trakcyjnymi pozwalające na wciągnięcie linii zszywek i tkanki do główki staplera, wzmocnione ostrze i system jego uwalniania (Power cut) wraz z akcesoriami trans analnymi do wykonania zespolenia bez przecinających się linii zszywek (anoskop, 2 trokary pomocnicze, szydełko, zestaw do oceny szczelności | C9: Szt. | D9: 6
A10: 6. | B10: Stapler liniowy z nożem wbudowanym w ładunek, w rozmiarze 60 o długości linii zszywek 65mm i długości linii cięcia 59mm, jednorazowego użytku do stosowania wewnętrznego.Stapler z dwustronną dźwignią do wystrzelenia ładunku wraz z przyciskiem szybkiego zwalniania.Wskaźnik końca linii cięcia,ruchomy ładunek zabezpieczający przed przypadkowym wystrzeleniem,oraz systemy zabezpieczające zespolenie: łańcuch pozycjonujący tkanki – zapobiega ześlizgiwaniu się tkanki z końcówek roboczych narzędzia, początek i koniec zespolenia na długości min.1,5 zszywki poza linią cięcia, system kontroli dźwigni zapewniający równoczesne zamykanie końcówek roboczych narzędzia i równomierną kompresję tkanki, -64 zszywek ze stopu tytanu o wysokości 4,5 mm ułożonych w dwóch rzędach, dla grubości tkanki od 1,8mm do 2mm. | C10: Szt. | D10: 7
A11: 7. | B11: Ładunek do staplera liniowego z nożem dł.60-zszywki 4,5(kolor zielony) | C11: Szt. | D11: 8
A12: 8. | B12: Stapler liniowy z nożem wbudowanym w ładunek, w rozmiarze 80 o długości linii zszywek 85mm i długości linii cięcia 79mm, jednorazowego użytku do stosowania wewnętrznego.Stapler z dwustronną dźwignią do wystrzelenia ładunku wraz z przyciskiem szybkiego zwalniania.Wskaźnik końca linii cięcia,ruchomy ładunek zabezpieczający przed przypadkowym wystrzeleniem,oraz systemy zabezpieczające zespolenie: łańcuch pozycjonujący tkanki – zapobiega ześlizgiwaniu się tkanki z końcówek roboczych narzędzia, początek i koniec zespolenia na długości min.1,5 zszywki poza linią cięcia, system kontroli dźwigni zapewniający równoczesne zamykanie końcówek roboczych narzędzia i równomierną kompresję tkanki,84 zszywek ze stopu tytanu o wysokości 3,8mm ułożonych w dwóch rzędach, dla grubości tkanki od 1mm do 1,5mm. | C12: Szt. | D12: 9
A13: 9. | B13: Ładunek do staplera liniowego z nożem dł.80-zszywki 3,8(kolor niebieski) | C13: Szt. | D13: 10
A14: 10. | B14: Stapler liniowy z nożem wbudowanym w ładunek, w rozmiarze 80 o długości linii zszywek 85mm i długości linii cięcia 79mm, jednorazowego użytku do stosowania wewnętrznego.Stapler z dwustronną dźwignią do wystrzelenia ładunku wraz z przyciskiem szybkiego zwalniania.Wskaźnik końca linii cięcia,ruchomy ładunek zabezpieczający przed przypadkowym wystrzeleniem,oraz systemy zabezpieczające zespolenie: łańcuch pozycjonujący tkanki – zapobiega ześlizgiwaniu się tkanki z końcówek roboczych narzędzia, początek i koniec zespolenia na długości min.1,5 zszywki poza linią cięcia, system kontroli dźwigni zapewniający równoczesne zamykanie końcówek roboczych narzędzia i równomierną kompresję tkanki,84 zszywek ze stopu tytanu o wysokości 4,5mm ułożonych w dwóch rzędach, dla grubości tkanki od 1mm do 1,5mm. | C14: Szt. | D14: 11
A15: 11. | B15: Ładunek do staplera liniowego z nożem dł.80-zszywki 4,5(kolor zielony) | C15: Szt. | D15: 12
A16: 12. | B16: Stapler liniowy z nożem wbudowanym w ładunek, w rozmiarze 100 o długości linii zszywek 105mm i długości linii cięcia 99mm, jednorazowego użytku do stosowania wewnętrznego.Stapler z dwustronną dźwignią do wystrzelenia ładunku wraz z przyciskiem szybkiego zwalniania.Wskaźnik końca linii cięcia,ruchomy ładunek zabezpieczający przed przypadkowym wystrzeleniem,oraz systemy zabezpieczające zespolenie: łańcuch pozycjonujący tkanki – zapobiega ześlizgiwaniu się tkanki z końcówek roboczych narzędzia, początek i koniec zespolenia na długości min.1,5 zszywki poza linią cięcia, system kontroli dźwigni zapewniający równoczesne zamykanie końcówek roboczych narzędzia i równomierną kompresję tkanki,104 zszywek ze stopu tytanu o wysokości 3,8mm ułożonych w dwóch rzędach, dla grubości tkanki od 1mm do 1,5mm. | C16: Szt. | D16: 13
... A20: 16. | B20: Skalpel bezpieczny ze sali węglowej FIG10,11,15,20 do wyboru przy zakupie | C20: op.=10 szt | D20: 35
B21: RAZEM | F21: =SUM(F5:F20) -> 0 | I21: =SUM(I5:I20) -> 0
B24: Data | H24: Podpis osoby/osób upoważnionej
B25: ……………………………………………. | H25: ……………………………….

Sheet Zad.73
B1: ZOZ/DZP/PN/24/23
B2: Załącznik Nr: 9
A3: Zadanie nr: 73 - Obuwie operacyjne
A4: Lp. | B4: Nazwa produktu | C4: Jednostka miary | D4: Ilość | E4: Cena jednostkowa netto | F4: Wartość netto | G4: VAT | H4: Cena jednostkowa brutto | I4: Wartość brutto | J4: Producent/Nazwa handlowa/Numer katalogowy
A5: 1 | B5: Buty operacyjne : Buty operacyjne zielone, niebieskie, białe, fioletowe. Rozmiary: 36, 37, 38. 39. 40, 41, 42, 43, 44, 45, 46, 47. Obuwie operacyjne wykonane z tworzywa sztucznego. Obuwie ma zapełnić trwałość – ma być wykonane z jednego odlewu, wolne od klejenia czy innego łączenia poszczególnych elementów, bez elementów ruchomych w postaci pasków zabezpieczających stopę przed wysunięciem. Obuwie ma zapewnić wysoki komfort użytkowania: ma posiadać otwory wentylacyjne po bokach oraz anatomicznie wyprofilowaną powierzchnię styku ze stopą w części śródstopia. Obuwie ma zapewnić bezpieczeństwo użytkowania dzięki płaskiej podeszwie z dopuszczalnym prześwitem w części śródstopia nie wyższym niż 10mm mierzonym od podeszwy do płaszczyzny styku obuwia z podłożem, oraz podwyższonemu oparciu pięty o wysokości nie mniejszej niż 30mm mierzonej od wewnętrznej strony buta, w celu zabezpieczenia stopy przed wysunięciem się. Łatwa identyfikacja rozmiaru ma być zapewniona dzięki wytłoczeniu rozmiaru buta na jego pięcie. Antypoślizgowe dzięki wyprofilowanej podeszwie, antystatyczne. Nadające się do mycia i dezynfekcji w maksymalnej temp. 85 stopni. Gwarancja na 5 lat. | C5: para | D5: 20
A6: 2 | B6: Obuwie operacyjne: wykonane z tworzywa SEBS spełniające wymagania dla środków ochrony osobistej klasy 1 wg dyrektywy EEC 89/686. Obuwie ma zapewnić trwałość – ma być wykonane z jednego odlewu, wolne od klejenia czy też innego łączenia poszczególnych elementów, bez ruchomych elementów w postaci pasków zabezpieczających stopę przed wypadaniem. Tworzywo, z którego wykonane jest obuwie ma zapewnić wysoką elastyczność na poziomie minimum 85% przed zerwaniem, przy czym minimalna siła zrywająca powinna być nie mniejsza niż 6MPa (wytrzymałość na rozciąganie przy zrywaniu). Obuwie ma zapewnić wysoki komfort użytkowania: ma posiadać otwory wentylacyjne po bokach oraz anatomicznie wyprofilowaną powierzchnie styku ze stopą w części śródstopia oraz pod palcami stopy. Obuwie ma dodatkowo minimalizować potliwość stopy poprzez posiadanie wypustków po wewnętrznej stronie podbicia, dzięki czemu stworzona będzie poduszka powietrzna między stopą i powierzchnią wewnętrzną buta. Obuwie powinno być wyposażone w wypustki na powierzchni styku ze stopą, przyczyniające się do podniesienia komfortu użytkowania obuwia, poprzez masowanie powierzchni stopy oraz poprawiające krążenie krwi. Obuwie ma zapewnić bezpieczeństwo użytkowania dzięki płaskiej, urzeźbionej podeszwie, zapewniającej antypoślizgowość i podniesionej części tylnej w celu zabezpieczenia stopy przed wysunięciem się. Obuwie ma zapewnić łatwą identyfikację rozmiaru zapewnioną dzięki wytłoczeniu rozmiaru buta na jego pięcie. Pełna rozmiarówka do wyboru przy zakupie. Gwarancja na 2 lata. Kolor zielony i niebieski. Obuwie nadające się do prania w temperaturze 90 st. C i sterylizacji w temperaturze 134 st. C. | C6: para | D6: 30
B7: RAZEM | F7: =SUM(F5:F6) -> 0 | I7: =SUM(I5:I6) -> 0
B10: Data | H10: Podpis osoby/osób upoważnionej
B11: ……………………………………………. | H11: ……………………………….

Sheet Zad.74
B1: ZOZ/DZP/PN/24/23
B2: Załącznik Nr: 9
B3: Zadanie nr: 74 - Ostrza do strzygarek
A4: Lp | B4: Nazwa produktu | C4: Jednostka | D4: Ilość | E4: Cena jednostkowa netto | F4: Wartość netto | G4: VAT | H4: Cena jednostkowa brutto | I4: Wartość brutto | J4: Producent/Nazwa handlowa/Numer katalogowy
A5: 1 | B5: Ostrza jednokrotnego użytku o szerokości 38mm umożliwiające wymianę bezdotykowo, kompatybilne z posiadaną strzygarką 3M model 9661 z ruchomą głowicą | C5: op=50szt | D5: 30
A6: 2 | B6: Strzygarka pozwalająca na użytkowanie ostrzy z pozycji 1 | C6: szt | D6: 6
A7: 3 | B7: Ładowarka do strzygarki z pozycji 2 | C7: szt | D7: 6
B8: RAZEM | F8: =SUM(F5:F7) -> 0 | I8: =SUM(I5:I7) -> 0
B12: Data | H12: Podpis osoby/osób upoważnionej
B13: ……………………………………………. | H13: ……………………………….

Sheet Zad.76
B1: ZOZ/DZP/PN/24/23
B2: Załącznik Nr: 9
A3: Zadanie nr: 76 - Wzierniki i szczoteczki ginekologiczne
A4: Lp. | B4: Nazwa produktu | C4: Jednostka miary | D4: Ilość | E4: Cena jednostkowa netto | F4: Wartość netto | G4: VAT | H4: Cena jednostkowa brutto | I4: Wartość brutto | J4: Producent/Nazwa handlowa/Numer katalogowy
A5: 1 | B5: Wziernik ginekologiczny, dopochwowy, sterylny, jednorazowy, rozmiar od XXS, XS, S, M do L | C5: szt. | D5: 11000
A6: 2 | B6: Szczoteczka cytologiczna sterylna typu „grzebyk”, „wachlarz”. | C6: szt. | D6: 2500
B7: RAZEM | F7: =SUM(F5:F6) -> 0 | I7: =SUM(I5:I6) -> 0
B10: Data | H10: Podpis osoby/osób upoważnionej
B11: ……………………………………………. | H11: ……………………………….

Sheet Zad.77
B1: ZOZ/DZP/PN/24/23
B2: Załącznik Nr: 9
A3: Zadanie nr: 77 - Test ureazowy suchy
A4: Lp. | B4: Nazwa produktu | C4: Jednostka miary | D4: Ilość | E4: Cena jednostkowa netto | F4: Wartość netto | G4: VAT | H4: Cena jednostkowa brutto | I4: Wartość brutto | J4: Producent/Nazwa handlowa/Numer katalogowy
A5: 1 | B5: Test ureazowy suchy | C5: szt. | D5: 1200
B6: RAZEM | F6: =SUM(F5) -> 0 | I6: =SUM(I5) -> 0
A8: Szybki Test Ureazowy SUCHY przeznaczony do wykrywania Helicobacter pylori w bioptatach z żołądka lub dwunastnicy. Zasada działania testu opiera się na fizjologicznej zdolności Helicobacter pylori do wytwarzania dużej ilości ureazy. Enzym ten rozkłada mocznik obecny w teście, czego następstwem jest wydzielanie amoniaku wywołującego zmianę koloru odpowiednich indykatorów.
A9: Cechy testu: O13- Prostota wykonania badania. - Możliwość oceny stopnia infekcji. - Nie daje fałszywie dodatnich wyników z żółcią i krwią.- Eliminacja tzw. Blushing effect. - Bez dodatku ani soli fizjologicznej. - Wysoka czułość i specyficzność. - Szybki wynik badania. - Trwały w temperaturze pokojowej i może być przechowywany przez minimum 12 miesięcy.
A10: Odczyt wyników : zmianę koloru, od różowego aż do purpurowego, świadczącą o obecnościHelicobacter pylori,obserwuje się w pierścieniu widocznym na dnie studzienki. W większości przypadków dodatni wynik testu można odczytać w czasie 5-15 minut. W przypadku niewielkiego zakażenia, na pojawienie się koloru można oczekiwać do 2 godzin. Jeżeli w czasie do 2 godzin od wprowadzenia do testu bioptatów cały pierścień pozostaje żółty, należy przyjąć, że w badanych wycinkach nie byłoH.pylori.
B13: Data | H13: Podpis osoby/osób upoważnionej
B14: ……………………………………………. | H14: ……………………………….

Sheet Zad.78
B1: ZOZ/DZP/PN/24/23
B2: Załącznik Nr: 9
A3: Zadanie nr: 78 - Paski do glukometrów
A4: Lp. | B4: Nazwa produktu | C4: Jednostka miary | D4: Ilość | E4: Cena jednostkowa netto | F4: Wartość netto | G4: VAT | H4: Cena jednostkowa brutto | I4: Wartość brutto | J4: Producent/Nazwa handlowa/Numer katalogowy
A5: 1 | B5: Paski do glukometru do pomiaru stężenia glukozy w krwi włośniczkowej, żylnej, tętniczej i noworodkowej, ze względów epidemiologicznych pakowane pojedynczo, | C5: op. 100pasków | D5: 600
B6: RAZEM | F6: =SUM(F5) -> 0 | I6: =SUM(I5) -> 0
A9: Paski do glukometrów z pozycji 1 mają być: pakowane pojedynczo w celu zapobiegnięcia zanieczyszczeniu paska, objętość krwi do 0,6μl, każde opakowanie pasków może posiadać chip, zakres hematokrytu 20%-70%, metoda enzymatyczna GDH-NAD,
A10: Paski do glukometrów z pozycji 2 mają być: pakowane pojedynczo w celu zapobiegnięcia zanieczyszczeniu paska, objętość krwi do 1,5μl
A11: Należy dostarczyć 50szt. glukometrów których cena ma być wliczona w cenę pasków
A12: Glukometry mają posiadać czujnik minimalnej objętości próbki krwi, kodowany chipem lub nie z opakowania pasków testowych, posiada zabezpieczenie w postaci komunikatu o nieprawidłowej dacie przydatności do użycia przy kodowaniu chipem. Pomiar powinien się odbywać do 20 sekund lub mniej.
B17: Data | H17: Podpis osoby/osób upoważnionej
B18: ……………………………………………. | H18: ……………………………….

Sheet Zad.79
B2: ZOZ/DZP/PN/24/23
B3: Załącznik Nr: 9
A4: Zadanie nr: 79 - Worki i narzędzia do laparoskopii.
A5: Lp. | B5: Nazwa produktu | C5: Jednostka miary | D5: Ilość | E5: Cena jednostkowa netto | F5: Wartość netto | G5: VAT | H5: Cena jednostkowa brutto | I5: Wartość brutto | J5: Producent/Nazwa handlowa/Numer katalogowy
A6: 1 | B6: Worek laparoskopowy ekstrakcyjny, jednorazowego użytku, z samorozprężającym drutem, z pamięcią kształtu, tuba odłączana, pojemność 200ml, wym. 95x161 mm, dedykowany do płaszczy trokarów o śr. 10/12mm (op. 10szt.) | C6: op.=10szt | D6: 38
A7: 2 | B7: Kleszcze grasper laparoskopowy CLAW jednorazowego użytku, kompletny, obrotowe 360 stopni.Obie bransze aktywne,pełne, narzędzie na powierzchni bransz wyposażone we wsteczne zęby chwytne a część dystalna zakończona zębami 1x2, rączka plastikowa z blokada na palec wskazujący, śr. 5mm, dł. 330mm, dł. bransz 16,5mm 1op (12 szt.) | C7: op.=12szt | D7: 2
A8: 3 | B8: Disektor laparoskopowy MARYLAND, narzędzie kompletne, obrotowe 360 stopni, jednorazowego użytku. Obie bransze aktywne, zakrzywione w lewo, delikatne, rączka plastikowa bez blokady, sr. 5mm, dł. bransz 19mm, dł. robocza 330mm (op.12 szt.) | C8: op.=12szt | D8: 2
A9: 4 | B9: Płaszcz trokara, niemetalowy, wykonany z tworzywa PEEK, wielorazowego użytku, z zaworem do isuflacji, kaniula gwintowana skośna, dł. robocza 100mm, śr 11mm. | C9: szt. | D9: 1
A10: 5 | B10: Uszczelka silikonowa wewntrzna do trokarów Easyport, 10-12,5mm | C10: Op=5 szt | D10: 4
A11: 6 | B11: Uszczelka silikonowa wewntrzna do trokarów Easyport, 5mm | C11: Op=5 szt | D11: 2
A12: 7 | B12: Nożyczki laparoskopowe monopolarne, jednorazowego użytku, zagięte,obrotowe 360 stopni, rączka bez blokady, dł. 330mm, dł. ostrzy 17mm, śr. 5mm (op.5szt.). Wymóg posiadania w ofercie ww.nożyczek o dł.450mm oraz 330mm z branszami o dł.12mm | C12: op=5szt | D12: 7
A13: 8 | B13: Płaszcz trokara, jednorazowego użytku, karbowany, z uszczelką oraz kranikiem do insuflacji, o śr. 5mm i dł. 100mm, w komplecie z bezpiecznym gwoździem trokara w postaci płaskiego wysuwanego nożą w kształcie litery "V", aktywacja za pomocą oznaczonego kolorystycznie przycisku na rękojeści gwoździa, dedykowanym do płaszcza o śr. 5mm (op./5 szt.). Każdy płaszcz i gwóźdź znakowanie średnicy kaniuli. | C13: op=5szt | D13: 2
A14: 9 | B14: Zestaw dwóch płaszczy trokara jednorazowego użytku o śr. 10 mm oraz dł. tubusa 100 mm, w komplecie z gwoździem bezpiecznym trokara, z samocofającym się ostrzem. Płaszcze karbowane, przezroczyste, z opisem średnicy, posiadający uszczelkę oraz kranik do insuflacji. Płaszcze 2 – częściowe z odłączaną auto redukcją. Gwóźdź z opisem średnicy, plastikowy posiadający wysuwane metalowe ostrze. Uszczelki dolna oraz górna pokryte dodatkowo warstwą teflonu zmniejszającą tarcie podczas aplikacji i ekstrakcji narzędzi o dużych średnicach (op./5 szt.). Możliwość oferowania samej auto-redukcji. | C14: op=5szt | D14: 2
A15: 10 | B15: Płaszcz trokara, jednorazowego użytku, karbowany, z uszczelką oraz kranikiem do insuflacji, o śr. 10mm i dł. 100mm, w komplecie z bezpiecznym gwoździem trokara w postaci płaskiego wysuwanego nożą w kształcie litery "V", aktywacja za pomocą oznaczonego kolorystycznie przycisku na rękojeści gwoździa, dedykowanym do płaszcza o śr. 10mm (op./5 szt.).do wyboru przy zakupie. Płaszcz wyposażony w autoredukcję do śr.5mm. Każdy płaszcz i gwóźdź znakowanie średnicy kaniuli. | C15: op=5szt | D15: 5
A16: 11 | B16: Płaszcz trokara, jednorazowego użytku, karbowany, z uszczelką oraz kranikiem do insuflacji, o śr. 12mm i dł. 100mm, w komplecie z bezpiecznym gwoździem trokara w postaci płaskiego wysuwanego noża w kształcie litery "V", aktywacja za pomocą oznaczonego kolorystycznie przycisku na rękojeści gwoździa, dedykowanym do płaszcza o śr. 12mm (op./5 szt.).do wyboru przy zakupie. Płaszcz wyposażony w autoredukcję do śr.5mm. Każdy płaszcz i gwóźdź znakowanie średnicy kaniuli. | C16: op=5szt | D16: 5
A17: 12 | B17: Płaszcz trokara, dedykowany do narzędzi o śr.5mm, wykonany z tworzywa sztucznego PEEK i PPSU, wielorazowego użytku, bez limitu cykli sterylizacji, 3-częściowy, z metalowym i rozbieralnym zaworem do insuflacji. Wyposażony w uszczelkę wewnętrzną silikonową w kształcie "kominka"4-ramiennego, kaniula skośna i gwintowana, dł.kaniuli 10cm. | C17: szt. | D17: 1
... A36: 31 | B36: Dren do jednorazowy do histeroskopii, napływowy z dwoma gwoździami, do pompy Multipompy PM304 | C36: szt. | D36: 520
B37: RAZEM | F37: =SUM(F6:F36) -> 0 | I37: =SUM(I6:I36) -> 0
B39: Data | H39: Podpis osoby/osób upoważnionej
B40: ……………………………………………. | H40: ……………………………….

Sheet Zad.80
B1: ZOZ/DZP/PN/24/23
B2: Załącznik Nr: 9
A3: Zadanie nr: 80 - Drut do migdałków i narzedzie
A4: Lp | B4: Nazwa produktu | C4: Jednostka | D4: Ilość | E4: Cena jednostkowa netto | F4: Wartość netto | G4: VAT | H4: Cena jednostkowa brutto | I4: Wartość brutto | J4: Producent/Nazwa handlowa/Numer katalogowy
A5: 1 | B5: Drut do migdałków do poliptomu, śr. 0,3mm | C5: zwój=10m | D5: 10
A6: 2 | B6: Drut do migdałków do poliptomu,Krauze śr. 0,4mm | C6: zwój=10m | D6: 10
A7: 3 | B7: Poliptom -pętla do polipów Krause, dł. 18,5cm | D7: 2
B8: RAZEM | F8: =SUM(F5:F7) -> 0 | I8: =SUM(I5:I7) -> 0
B11: Data | H11: Podpis osoby/osób upoważnionej
B12: ……………………………………………. | H12: ……………………………….

Sheet Zad.83
B1: ZOZ/DZP/PN/24/23
B2: Załącznik Nr: 9
A3: Zadanie nr: 83 – Laryngoskopy jednorazowe.
A4: Lp. | B4: Nazwa produktu | C4: Jednostka miary | D4: Ilość | E4: Cena jednostkowa[zł] netto | F4: Wartość [zł] netto | G4: VAT | H4: Cena jednostkowa [zł] brutto | I4: Wartość [zł] brutto | J4: Producent/Nazwa handlowa/Numer katalogowy
A5: 1 | B5: Jednorazowa łyżka do laryngoskopu, światłowodowa, typ Macintosh. Łyżka wykonana z chirurgicznej stali nierdzewnej, kompatybilna z rękojeściami w standardzie ISO 7376 (tzw. Zielony Standard). Antyrefleksyjna, satynowa powierzchnia. Końcówka łyżki od strony pacjenta atraumatyczna, zaokrąglona (przekrój w formie walca), pogrubiona. Światłowód osłonięty, zapewniający mocne skupienie światła. Stopka mocująca wykonana z tworzywa sztucznego w kolorze zielonym, połączona z łyżką wspawanym wewnątrz hakiem ze stali nierdzewnej widocznym na zewnątrz. Mocowanie łyżki w rękojeści sprężynowym zatrzaskiem kulkowym w postaci 2 kulek stabilizujących oraz metalowym hakiem wewnątrz stopki. Łyżka przetestowana pod kątem wytrzymałości w połączeniu z rękojeścią siłą nacisku 20 kg (Potwierdzić oświadczeniem producenta - załączyć do oferty) Na górnej części łyżki wyraźnie oznaczony: rozmiar i typ łyżki, symbol CE, numer katalogowy, symbol „nie do powtórnego użycia” (przekreślona cyfra 2). Na bocznej części łyżki logo z nazwą producenta. Rozmiar łyżki - kodowany kolorem na opakowaniu / dł. x szer.: #0 - czerwony / dł. 61.0 mm x szer. 8.5 mm #1 - biały / dł. 75 mm x szer. 11.5 mm #2 - niebieski / dł. 93.0 mm x szer. 12.5 mm #3 - żółty / dł. 110.0 mm x szer. 13.5 mm #4 - różowy / dł. 135.0 mm x szer. 14.0 mm #5 - zielony / dł. 156.0 mm x szer. 14.0 mm Opakowanie jednostkowe - podwójna folia. Łatwe do otwarcia saszetki, oznaczone symbolem strzałki, wskazującym miejsce otwarcia opakowania. Na opakowaniu jednostkowym etykieta zawierająca: rozmiar, długość i typ łyżki, nr katalogowy, nr seryjny (LOT) oraz w postaci kodu QR. Opakowanie oznaczone nazwą i logiem producenta. Produkt bez zawartości lateksu, czysty mikrobiologicznie. | C5: szt | D5: 500
A6: 2 | B6: Jednorazowa łyżka do laryngoskopu, światłowodowa, typ Miller. Łyżka wykonana z chirurgicznej stali nierdzewnej, kompatybilna z rękojeściami w standardzie ISO 7376 (tzw. zielony standard). Antyrefleksyjna, satynowa powierzchnia. Łyżka w kształcie rynienki. Końcówka łyżki od strony pacjenta atraumatyczna, płaska z zaokrągloną krawędzią. Światłowód osłonięty, zapewniający mocne skupienie światła. Stopka mocująca wykonana z tworzywa sztucznego w kolorze zielonym połączona z łyżką wspawanym wewnątrz hakiem ze stali nierdzewnej widocznym na zewnątrz. Mocowanie łyżki w rękojeści sprężynowym zatrzaskiem kulkowym w postaci 2 kulek stabilizujących oraz metalowym hakiem wewnątrz stopki. Łyżka przetestowana pod kątem wytrzymałości w połączeniu z rękojeścią siłą nacisku 20 kg. (Potwierdzić oświadczeniem producenta - załączyć do oferty) Na górnej części łyżki wyraźnie oznaczony: rozmiar i typ łyżki, symbol CE, numer katalogowy, symbol „nie do powtórnego użycia” (przekreślona cyfra 2), logo z nazwą producenta. Rozmiar łyżki - kodowany kolorem na opakowaniu / dł. x szer.: #00- morski / dł. 44.0 mm x szer. 10.5 mm #0 - fioletowy / dł. 55.0 mm x szer. 10.5 mm #1 - pomarańczowy / dł. 81.0 mm x szer. 10.5 mm #2 - szary / dł. 131.0 mm x szer. 13.0 mm #3 - łososiowy / dł. 171.0 mm x szer. 13.0 mm #4 - grafitowy / dł. 182.0 mm x szer. 17.0 mm Opakowanie jednostkowe - podwójna folia. Łatwe do otwarcia saszetki. Na opakowaniu jednostkowym oznaczony: rozmiar, długość i typ łyżki, nr katalogowy, nr seryjny (LOT), nazwa i logo producenta. Produkt bez zawartości lateksu, czysty mikrobiologicznie. | C6: szt | D6: 200
A7: 3 | B7: Jednorazowa łyżka do laryngoskopu, światłowodowa, do trudnych intubacji typ McCoy (ruchoma końcówka łyżki). Łyżka wykonana z chirurgicznej stali nierdzewnej, kompatybilna z rękojeściami w standardzie ISO 7376 (tzw. Zielony Standard). Antyrefleksyjna, satynowa powierzchnia. Końcówka łyżki od strony pacjenta atraumatyczna, zaokrąglona (przekrój w formie walca), pogrubiona. Światłowód osłonięty, zapewniający mocne skupienie światła. Stopka mocująca wykonana z tworzywa sztucznego w kolorze zielonym, połączona z łyżką wspawanym wewnątrz hakiem ze stali nierdzewnej widocznym na zewnątrz. Mocowanie łyżki w rękojeści sprężynowym zatrzaskiem kulkowym w postaci 2 kulek stabilizujących oraz metalowym hakiem wewnątrz stopki. Łyżka przetestowana pod kątem wytrzymałości w połączeniu z rękojeścią siłą nacisku 20 kg. (Potwierdzić oświadczeniem producenta - załączyć do oferty) Na górnej części łyżki wyraźnie oznaczony: rozmiar i typ łyżki, symbol CE, numer katalogowy, symbol „nie do powtórnego użycia” (przekreślona cyfra 2). Na bocznej krawędzi oznaczone logo z nazwą producenta. Rozmiar łyżki - kodowany kolorem na opakowaniu / dł. x szer.: #2 - niebieski / dł. 93.0 mm x szer. 12.5 mm #3 - żółty / dł. 110.0 mm x szer. 13.5 mm #4 - fioletowy / dł. 135.0 mm x szer. 14.0 mm Opakowanie jednostkowe - folia. Łatwe do otwarcia saszetki. Na opakowaniu jednostkowym podany: rozmiar, długość i typ łyżki, nr katalogowy, nr seryjny (LOT). Opakowanie oznaczone nazwą i logiem producenta. Produkt bez zawartości lateksu, czysty mikrobiologicznie. | C7: szt | D7: 25
A8: 4 | B8: Rękojeść do laryngoskopu, jednorazowa z zainstalowaną baterią o napięciu 6V oraz wbudowanym źródłem światła - LED, gotowa do użytku po wyjęciu z opakowania. Rękojeść metalowa z podłużnymi frezami zapewniającymi pewny chwyt, zakończona zakrętką z tworzywa sztucznego w kolorze zielonym, identyfikującą tzw. zielony standard ISO 7376. Rękojeść po użyciu umożliwiająca szybkie wyjęcie baterii w celu ich bezpiecznej utylizacji. Przetestowana pod kątem wytrzymałości w połączeniu z łyżką siłą nacisku 20 kg. (Potwierdzić oświadczeniem producenta - załączyć do oferty) Na bocznych ściankach rękojeści oznaczenia tj: symbol CE, numer katalogowy, symbol „nie do powtórnego użycia” (przekreślona cyfra 2), logo i nazwa producenta. # rozmiar standard , krótka, pediatryczna Opakowanie folia. Możliwość przetestowania działania rękojeści bez jej otwierania. Łatwe do otwarcia saszetki, oznaczone symbolem strzałki, wskazującym miejsce otwarcia opakowania. Na opakowaniu jednostkowym etykieta zawierająca: rozmiar, nr katalogowy, datę ważności, nr serii (LOT), kod QR. Opakowanie oznaczone nazwą i logiem producenta. Produkt bez zawartości lateksu, czysty mikrobiologicznie. | C8: szt | D8: 500
A9: 5 | B9: Jednorazowy zestaw laryngoskopowy, nierozłączalny (łyżka połączona z rękojeścią na stałe), gotowy do użytku po wyjęciu z opakowania, zgodny z normą ISO 7376. W skład zestawu wchodzi: łyżka typ Macintosh z chirurgicznej stali nierdzewnej oraz rękojeść z tworzywa sztucznego z poprzecznymi frezami w postaci okręgów oraz zainstalowaną baterią 6V. Możliwość szybkiego i bezdotykowego wyjęcia baterii po użyciu w celu ich bezpiecznej utylizacji. Łyżka z wbudowanym źródłem światła typu LED o oraz antyrefleksyjną, satynową powierzchnią. Końcówka od strony pacjenta atraumatyczna, zaokrąglona (przekrój w formie walca), pogrubiona. Zestaw przetestowany pod kątem wytrzymałości połączenia siłą nacisku 15 kg. (Potwierdzić oświadczeniem producenta - załączyć do oferty) Na górnej części łyżki podane informacje tj.: rozmiar i typ łyżki, symbol CE, numer katalogowy, symbol „nie do powtórnego użycia” (przekreślona cyfra 2). Na bocznej krawędzi łyżki logo i nazwa producenta. Rozmiar zestawu - kodowany kolorem na opakowaniu / dł. x szer. /typ rękojeści: #0 - czerwony / dł. 61.0 mm x szer. 8.5 mm rękojeść pediatryczna #1 - biały / dł. 75.0 mm x szer. 11.5 mm rękojeść pediatryczna #2 - niebieski / dł. 93.0 mm x szer. 12.5 mm rękojeść dla dorosłych #3 - żółty / dł. 110.0 mm x szer. 13.5 mm rękojeść dla dorosłych #4 - różowy / dł. 135.0 mm x szer. 14.0 mm rękojeść dla dorosłych #5 - zielony / dł. 156.0 mm x szer. 14.0 mm rękojeść dla dorosłych Możliwości sprawdzenia wszystkich elementów oraz poprawności działania zestawu w opakowaniu bez potrzeby jego otwierania. Opakowanie jednostkowe foliowe. Łatwe do otwarcia saszetki, oznaczone symbolem strzałki, wskazującym miejsce otwarcia opakowania. Na opakowaniu jednostkowym etykieta zawierająca: rozmiar, długość i typ łyżki, typ rękojeści, nr katalogowy, datę ważności, nr serii (LOT), kod QR. Opakowanie oznaczone nazwą i logiem producenta. Okres ważności 3 lata. Produkt czysty mikrobiologicznie. | C9: szt | D9: 200
A10: 6 | B10: Jednorazowy zestaw laryngoskopowy, nierozłączalny (łyżka połączona z rękojeścią na stałe), gotowy do użytku po wyjęciu z opakowania, zgodny z normą ISO 7376. W skład zestawu wchodzi: łyżka typu Miller z chirurgicznej stali nierdzewnej oraz rękojeść z tworzywa sztucznego z poprzecznymi frezami w postaci okręgów oraz z zainstalowaną baterią 6V. Możliwość szybkiego i bezdotykowego wyjęcia baterii po użyciu w celu ich bezpiecznej utylizacji. Łyżka z wbudowanym źródłem światła typu LED oraz antyrefleksyjną, satynową powierzchnią. Od strony pacjenta atraumatyczna, płaska. Zestaw przetestowany pod kątem wytrzymałości połączenia siłą nacisku 15 kg. (Potwierdzić oświadczeniem producenta - załączyć do oferty) Na górnej części łyżki podane informacje tj.: rozmiar i typ łyżki, symbol CE, numer katalogowy, symbol „nie do powtórnego użycia” (przekreślona cyfra 2), logo i nazwa producenta. Rozmiar zestawu - kodowany kolorem na opakowaniu / dł. x szer. / typ rękojeści : #00 - morski / dł. 44.0 mm x szer. 10.5 mm / rękojeść pediatryczna #0 - fioletowy / dł. 55.0 mm x szer. 10.5 mm / rękojeść pediatryczna #1 - pomarańczowy / dł. 81.0 mm x szer. 10.5 mm / rękojeść pediatryczna #2 - szary / dł. 131.0 mm x szer. 13.0 mm) / rękojeść dorosły #3 - łososiowy / dł. 171.0 mm x szer. 13.0 mm / rękojeść dorosły #4 - grafitowy / dł. 182.0 mm x szer. 17.0 mm / rękojeść dorosły Możliwości sprawdzenia wszystkich elementów oraz poprawności działania zestawu w opakowaniu bez potrzeby jego otwierania. Opakowanie jednostkowe foliowe. Łatwe do otwarcia saszetki, oznaczone symbolem strzałki, wskazującym miejsce otwarcia opakowania.. Na opakowaniu jednostkowym etykieta zawierająca: rozmiar, długość i typ łyżki, nr katalogowy, datę ważności, nr serii (LOT), kod QR. Opakowanie oznaczone nazwą i logiem producenta. Okres ważności 3 lata. Produkt czysty mikrobiologicznie. | C10: szt | D10: 150
A11: 7 | B11: Jednorazowy zestaw laryngoskopowy, nierozłączalny (łyżka połączona z rękojeścią na stałe), gotowy do użytku po wyjęciu z opakowania, zgodny z normą ISO 7376. W skład zestawu wchodzi: łyżka typu Macintosh z chirurgicznej stali nierdzewnej oraz metalowa rękojeść z zainstalowaną baterią 6V. Rękojeść metalowa z podłużnymi frezami zapewniającymi pewny chwyt, zakończona zakrętką z tworzywa sztucznego. Możliwość szybkiego wyjęcia baterii po użyciu w celu ich bezpiecznej utylizacji. Łyżka z wbudowanym źródłem światła typu LED oraz antyrefleksyjną, satynową powierzchnią. Od strony pacjenta atraumatyczna, zaokrąglona (przekrój w formie walca), pogrubiona. Stopka mocująca wykonana z tworzywa sztucznego połączona z łyżką wspawanym wewnątrz elementem ze stali nierdzewnej. Zestaw przetestowany pod kątem wytrzymałości połączenia siłą nacisku 20 kg. (Potwierdzić oświadczeniem producenta - załączyć do oferty) Na górnej krawędzi łyżki podane informacje tj.: rozmiar i typ łyżki, symbol CE, numer katalogowy, symbol „nie do powtórnego użycia” (przekreślona cyfra 2). Na bocznej krawędzi łyżki logo i nazwa producenta. Rozmiar zestawu - kodowany kolorem na opakowaniu / dł. x szer. / typ rękojeści: #0 - czerwony / dł. 61.0 mm x szer. 8.5 mm / rękojeść pediatryczna #1 - biały / dł. 75.0 mm x szer. 11.5 mm / rękojeść pediatryczna #2 - niebieski / dł. 93.0 mm x szer. 12.5 mm / rękojeść pediatryczna #2 - niebieski / dł. 93.0 mm x szer. 12.5 mm / rękojeść dorosły #3 - żółty / dł. 110.0 mm x szer. 13.5 mm / rękojeść dorośli #3 - żółty / dł. 110.0 mm x szer. 13.5 mm / rękojeść krótka #3.5 - żółty / dł. 122.0 mm x szer. 13.5 mm / rękojeść dorośli #4 - różowy / dł. 135.0 mm x szer. 14.0 mm / rękojeść dorośli #4 - różowy / dł. 131.0 mm x szer. 14.0 mm / rękojeść krótka #5 - zielony / dł. 156.0 mm x szer. 14.0 mm / rękojeść dorośli Opakowanie jednostkowe folia. Możliwości sprawdzenia wszystkich elementów oraz poprawności działania zestawu w opakowaniu bez potrzeby jego otwierania. Łatwe do otwarcia saszetki. Na opakowaniu jednostkowym etykieta zawierająca: rozmiar i typ łyżki, nr katalogowy, datę ważności, nr serii (LOT), kod QR. Opakowanie oznaczone nazwą i logiem producenta. Produkt bez zawartości lateksu, czysty mikrobiologicznie. | C11: szt | D11: 150
A12: 8 | B12: Jednorazowy zestaw laryngoskopowy, nierozłączalny (łyżka połączona z rękojeścią na stałe), gotowy do użytku po wyjęciu z opakowania, zgodny z normą ISO 7376. W skład zestawu wchodzi: łyżka typu Macintosh z chirurgicznej stali nierdzewnej oraz metalowa rękojeść z zainstalowaną baterią 6V. Rękojeść metalowa z podłużnymi frezami zapewniającymi pewny chwyt, zakończona zakrętką z tworzywa sztucznego. Możliwość szybkiego wyjęcia baterii po użyciu w celu ich bezpiecznej utylizacji. Łyżka z wbudowanym źródłem światła typu LED oraz antyrefleksyjną, satynową powierzchnią. Od strony pacjenta atraumatyczna, zaokrąglona (przekrój w formie walca), pogrubiona. Stopka mocująca wykonana z tworzywa sztucznego połączona z łyżką wspawanym wewnątrz elementem ze stali nierdzewnej. Zestaw przetestowany pod kątem wytrzymałości połączenia siłą nacisku 20 kg. (Potwierdzić oświadczeniem producenta - załączyć do oferty) Na górnej krawędzi łyżki podane informacje tj.: rozmiar i typ łyżki, symbol CE, numer katalogowy, symbol „nie do powtórnego użycia” (przekreślona cyfra 2). Na bocznej krawędzi łyżki logo i nazwa producenta. Rozmiar zestawu - kodowany kolorem na opakowaniu / dł. x szer. / typ rękojeści: #0 - czerwony / dł. 61.0 mm x szer. 8.5 mm / rękojeść pediatryczna #1 - biały / dł. 75.0 mm x szer. 11.5 mm / rękojeść pediatryczna #2 - niebieski / dł. 93.0 mm x szer. 12.5 mm / rękojeść pediatryczna #2 - niebieski / dł. 93.0 mm x szer. 12.5 mm / rękojeść dorosły #3 - żółty / dł. 110.0 mm x szer. 13.5 mm / rękojeść dorośli #3 - żółty / dł. 110.0 mm x szer. 13.5 mm / rękojeść krótka #3.5 - żółty / dł. 122.0 mm x szer. 13.5 mm / rękojeść dorośli #4 - różowy / dł. 135.0 mm x szer. 14.0 mm / rękojeść dorośli #4 - różowy / dł. 131.0 mm x szer. 14.0 mm / rękojeść krótka #5 - zielony / dł. 156.0 mm x szer. 14.0 mm / rękojeść dorośli Opakowanie jednostkowe folia. Możliwości sprawdzenia wszystkich elementów oraz poprawności działania zestawu w opakowaniu bez potrzeby jego otwierania. Łatwe do otwarcia saszetki. Na opakowaniu jednostkowym etykieta zawierająca: rozmiar i typ łyżki, nr katalogowy, datę ważności, nr serii (LOT), kod QR. Opakowanie oznaczone nazwą i logiem producenta. Produkt bez zawartości lateksu, czysty mikrobiologicznie. | C12: szt | D12: 150
A13: 9 | B13: Osłona na oczy służąca do całkowitego i bezpiecznego zamknięcia powiek pacjenta podczas znieczulenia ogólnego lub głębokiej sedacji np. na OIT. Zatrzymuje wilgoć, zapobiegając „wysychaniu” oka, zmniejsza ryzyko uszkodzenia rogówki i keratopatii ekspozycyjnej. Zabezpiecza także przed zabrudzeniem, otarciem oraz przedostaniem się płynów. Produkt posiada dwie strefy przylegania i ochrony powiek: - wewnętrzna, przezroczysta w formie foliowego okienka z delikatnym klejem, umożliwia stałą kontrolę zamknięcia powiek - zewnętrzna, biała z mocniejszym klejem do uszczelnienia osłony wokół oka Osłona posiada nieprzylepne, obustronne zakładki w celu łatwego naklejania i zdejmowania nawet w rękawiczkach. W opakowaniu dwie sztuki osłon o wymiarach 3.7cm x 9.3cm. Produkt sterylny. IVG-01 | C13: szt | D13: 50
F14: =SUM(F5:F13) -> 0 | I14: =SUM(I5:I13) -> 0
B17: Data | H17: Podpis osoby/osób upoważnionej
B18: ……………………………………………. | H18: ……………………………….

Sheet Zad.84
B1: ZOZ/DZP/PN/24/23
B2: Załącznik Nr: 9
A3: Zadanie nr: 84- Akcesoria jednorazowe do endoskopów.
A4: Lp. | B4: Nazwa produktu | C4: Jednostka | D4: Ilość | E4: Cena jednostkowa netto | F4: Wartość netto | G4: VAT | H4: Cena jednostkowa brutto | I4: Wartość brutto | J4: Producent/Nazwa handlowa/Numer katalogowy
A5: 1 | B5: Jednorazowa KRÓTKA podwójnie zakończona szczoteczka do zaworków biopsyjnych- średnica12mm/ długość 35mm oraz szczoteczka do kanału biopsyjnego- średnica 5mm/ długość 20mm. Całkowita długość szczoteczki 15cm. Pakowane indywidualnie. Nazwa producenta, data produkcji i nr serii na opakowaniu jednostkowym i zbiorczym w celu 100% identyfikacji produktu. Opakowanie typu dyspenser | C5: szt | D5: 350
A6: 2 | B6: Jednorazowa szczoteczka do czyszczenia endoskopu z CZYŚCIKIEM zamiast drugiej szczotki, z miękkiego, odpornego nylonu, do czyszczenia kanałów endoskopów, średnica cewnika 1,7mm, długość robocza 230 cm. Szczotka- średnica włosia 5mm, dł.20mm, z plastikową kulką zabezpieczającą przed uszkodzeniem kanału endoskopu, czyścik- średnica 5mm , dł.300mm. Pakowane indywidualnie. . Nazwa producenta, data produkcji i nr serii na opakowaniu jednostkowym i zbiorczym w celu 100% identyfikacji produktu. Opakowanie typu dyspenser | C6: szt. | D6: 300
A7: 3 | B7: Jednorazowa szczoteczka dwustronna czyszczenia endoskopu z miękkiego, odpornego nylonu, do czyszczenia kanałów endoskopów, średnica cewnika 1,7mm, długość robocza 230 cm. Szczotki- średnica włosia 6mm, dł.20mm, z plastikową kulką zabezpieczającą przed uszkodzeniem kanału endoskopu. Pakowane indywidualnie. Nazwa producenta, data produkcji i nr serii na opakowaniu jednostkowym i zbiorczym w celu 100% identyfikacji produktu. Opakowanie typu dyspenser | C7: szt. | D7: 420
A8: 4 | B8: Jednorazowe sterylne szczypce owalne z okienkiem do gastroskopii, powlekane PE, z igłą lub bez igły- do wyboru przez zamawiającego. Łyżeczki uchylne do biopsji stycznych, z dodatkowym szlifem, rozwarcie łyżeczek 6,5mm. Długość łyżeczki 4mm, głębokość 0,85mm, pojemność 5,374mm³, długość narzędzia 180cm, minimalna średnica kanału roboczego 2,5mm. Obszar zastosowania oznaczony graficznie i kolorystycznie na opakowaniu. Pakowane indywidualnie sterylne. Zawierające przyrząd do pobierania próbek, zapakowany łącznie (oryginalnie ) z kleszczykami oraz 3 etykiety samoprzylepne do dokumentacji z nr katalogowym, nr LOT, datę ważności oraz dane producenta/dystrybutora. | C8: op=10szt | D8: 160
A9: 5 | B9: Jednorazowe sterylne szczypce owalne z okienkiem do gastroskopii, powlekane PE, z igłą lub bez igły- do wyboru przez zamawiającego. Łyżeczki uchylne do biopsji stycznych z dodatkowym szlifem, rozwarcie łyżeczek 6,5mm. Długość łyżeczki 4mm, głębokość 0,85mm, pojemność 5,374mm³,długość narzędzia 230cm, minimalna średnica kanału roboczego 2,5mm. Obszar zastosowania oznaczony graficznie i kolorystycznie na opakowaniu. Pakowane indywidualnie sterylne. Zawierające przyrząd do pobierania próbek, zapakowany łącznie (oryginalnie ) z kleszczykami oraz 3 etykiety samoprzylepne do dokumentacji z nr katalogowym, nr LOT, datę ważności oraz dane producenta/dystrybutora. | C9: op=10szt | D9: 120
A10: 6 | B10: Jednorazowa sterylna pętla z siateczką do usuwania ciał obcych, brzegi pętli w ciemnym kolorze, wymiar 3 x 6cm, śr. zamkniętej pętli, 2,5mm, dł. całkowita 230cm. Zapakowana łącznie (oryginalnie) z pęsetą. | C10: szt | D10: 5
A11: 7 | B11: Pętla jednorazowa sterylna, z drutu plecionego 0,4mm do polipektomii, z pamięcią kształtu schowana w osłonce, rozmiar i kształt oznaczony na opakowaniu, średnica zamkniętej pętli 10mm, dł 230cm do kanału roboczego 2,8mm. Pakowana indywidualnie.3 etykiety samoprzylepne do dokumentacji z nr katalogowym, nr LOT, datę ważności oraz dane producenta/dystrybutora. | C11: op=10szt | D11: 25
A12: 8 | B12: Pętla jednorazowa sterylna, z drutu plecionego 0,4mm do polipektomii, z pamięcią kształtu schowana w osłonce, rozmiar i kształt oznaczony na opakowaniu, średnica zamkniętej pętli 15mm, dł 230cm do kanału roboczego 2,8mm. Pakowana indywidualnie.3 etykiety samoprzylepne do dokumentacji z nr katalogowym, nr LOT, datę ważności oraz dane producenta/dystrybutora. | C12: op=10szt | D12: 25
A13: 9 | B13: Pętla jednorazowa sterylna, z drutu plecionego 0,4mm do polipektomii, z pamięcią kształtu schowana w osłonce, rozmiar i kształt oznaczony na opakowaniu, średnica zamkniętej pętli 25mm, dł 230cm do kanału roboczego 2,8mm. Pakowana indywidualnie.3 etykiety samoprzylepne do dokumentacji z nr katalogowym, nr LOT, datę ważności oraz dane producenta/dystrybutora. | C13: op=10szt | D13: 24
A14: 10 | B14: Jednorazowe igły endoskopowe do ostrzykiwania o długości 230 cm; długość igły 4, 5, 6mm; średnica igły 22G lub 23G, z portem luer-lock, kodowane kolorystycznie na uchwycie. Do wyboru przy zakupie | C14: op=10szt | D14: 15
A15: 11 | B15: Klipsownica jednorazowa z funkcją rotacji 360 stopni w obu kierunkach, wielokrotne otwieranie i zamykanie klipsa, śr. 2,5, rozstaw ramion 9,12,16mm do wyboru przez zamawiającego, dł. robocza 230cm, klips w dodatkowej osłonce, chroniącej przed uszkodzeniem. | C15: op=5szt | D15: 20
A16: 12 | B16: Pułapka 1- komorowa na polipy, jednorazowego użytku, średnica zewnętrzna komory ok. 40 mm, długość drenu min. 14,5 cm. Pakowane indywiudualnie, opakowanie zbiorcze=50szt. | C16: OP.=50SZT. | D16: 2
... A30: 26 | B30: Żel endoskopowy- poślizgowy, przeznaczony do profesjonalnego stosowania w endoskopii. Fizjologicznie nieszkodliwy i dobrze przyswajalny dla błony śluzowej. Bez zawartości tłuszczu, parafiny i silikonu, dobrze rozpuszczalny w wodzie, nie pozostawia pozostałości, przezroczysty. Opakowanie tuba 200ml | C30: Op=12 szt. | D30: 3
B31: Razem | F31: =SUM(F5:F30) -> 0 | I31: =SUM(I5:I30) -> 0
B34: Data | H34: Podpis osoby/osób upoważnionej
B35: ……………………………………………. | H35: ……………………………….

Sheet Zad.85
B1: ZOZ/DZP/PN/24/23
B2: Załącznik Nr: 9
A3: Zadanie nr: 85 - Opaska 2
A4: Lp. | B4: Nazwa produktu | C4: Jednostka miary | D4: Ilość | E4: Cena jednostkowa netto | F4: Wartość netto | G4: VAT | H4: Cena jednostkowa brutto | I4: Wartość brutto | J4: Producent/Nazwa handlowa/Numer katalogowy
A5: 1 | B5: Opaska uciskowa jednorazowego użytku kolor jasnozielony ( seledynowy ) szerokość 10 cm dł.10m | C5: szt. | D5: 20
B6: RAZEM | F6: =SUM(F5) -> 0 | I6: =SUM(I5) -> 0
B9: Data | H9: Podpis osoby/osób upoważnionej
B10: ……………………………………………. | H10: ……………………………….

Sheet Zad.86
B1: ZOZ/DZP/PN/24/23
B2: Załącznik Nr: 9
A3: Zadanie nr 86: Worki jednorazowe do resuscytacji
A4: Lp. | B4: Nazwa produktu | C4: Jednostka | D4: Ilość | E4: Cena jednostkowa netto | F4: Wartość Netto | G4: VAT | H4: Cena jednostkowa brutto | I4: Wartość brutto | J4: Producent/Nazwa handlowa/Numer katalogowy
A5: 1 | B5: Resuscytator jednorazowy dla dorosłych z maską oraz drenem tlenowym minimum 2m, wykonany z materiału SEBS (tworzywo sztuczne bardziej przyjazne dla środowiska niż PCV, ponieważ zapewnia mniejszą emisja szkodliwych substancji podczas utylizacji - spalania). - Zawór pacjenta z pojedynczą membraną dla niezawodnego działania - Zintegrowany pasek dla komfortu stosowania i wyrównania siły uciśnięć. - Cienkościenny samorozprężalny worek ułatwiający ocenę oporów i podatności płuc, specjalna faktura powierzchni worka gwarantująca pewny uchwyt. - Łatwe podłączenie manometru oraz zaworu PEEP bez potrzeby stosowania dodatkowych złączek, - Dostarczana objętość: jedną ręką 600 ml oburącz 1000 ml - Objętość resuscytatora: 1547 m - Wymiary (długość x średnica): 295 x 127 mm, ciężar (z maską, rezerwuarem i drenem): 314g. - Zawór ograniczający ciśnienie: 4,0 kPa (40 cm H2O). - Opór wdechowy bez O2: Maks. 0.50 kPa (5.0 cm H2O) przy przepływie 50 l/min; opór wydechowy Maks. 0.27 kPa (2.7 cm H2O) przy przepływie 50 l/min; - Objętość rezerwuaru w postaci worka: 2600 ml. - Złącze pacjenta: Ø zewnętrzna: 22 mm męskie ) Ø wewnętrzna: 15 mm żeńskie , złącze wydechowe (do podłączenia zaworu PEEP):30 mm męskie - Przeciek (w obu kierunkach): Niemierzalny; Złącze M-Port (opcja): standardowe Luer LS 6. - Zalecana temperatura stosowania: -18ºC do +50ºC; składowanie testowano przy -40ºC i + 60ºC zgodnie z EN ISO 10651-4 -Warunkowo dopuszczone do stosowania w środowisku MR. Nie zawiera ftalanów (w tym DEHP), bezpieczny pod względem zawartości BPA. | C5: szt | D5: 400
A6: 2 | B6: Resuscytator jednorazowy dla noworodków z maską oraz drenem tlenowym minimum 2m, wykonany z materiału SEBS (tworzywo sztuczne bardziej przyjazne dla środowiska niż PCV, ponieważ zapewnia mniejszą emisja szkodliwych substancji podczas utylizacji - spalania). - Zawór pacjenta z pojedynczą membraną dla niezawodnego działania - Zintegrowany pasek dla komfortu stosowania i wyrównania siły uciśnięć. - Cienkościenny samorozprężalny worek ułatwiający ocenę oporów i podatności płuc, specjalna faktura powierzchni worka gwarantująca pewny uchwyt. - Łatwe podłączenie manometru oraz zaworu PEEP bez potrzeby stosowania dodatkowych złączek, - Dostarczana objętość: 150 ml - Objętość resuscytatora: 234 ml - Wymiary (długość x średnica): 168 x 71mm, ciężar (z maską, rezerwuarem i drenem): 140 g - Zawór ograniczający ciśnienie: 4,0 kPa (40 cm H2O). - Opór wdechowy bez O2: Max. 0.10 kPa (1.0 cm H2O) przy przepływie 5 l/min; opór wydechowy Maks. 0.2 kPa (2.0 cm H O) przy przepływie 5 l/min - Objętość rezerwuaru w postaci worka: 300 ml - Złącze pacjenta: Ø zewnętrzna: 22 mm męskie ) Ø wewnętrzna: 15 mm żeńskie ), złącze wydechowe (do podłączenia zaworu PEEP):30 mm męskie - Przeciek (w obu kierunkach): Niemierzalny; Złącze M-Port (opcja): standardowe Luer LS 6. - Zalecana temperatura stosowania: -18ºC do +50ºC; -Warunkowo dopuszczone do stosowania w środowisku MR. Nie zawiera ftalanów (w tym DEHP), bezpieczny pod względem zawartości BPA. | C6: szt | D6: 50
A7: 3 | B7: Resuscytator jenorazowy dla dzieci z maską oraz drenem tlenowym minimum 2m, wykonany z materiału SEBS (tworzywo sztuczne bardziej przyjazne dla środowiska niż PCV, ponieważ zapewnia mniejszą emisja szkodliwych substancji podczas utylizacji - spalania). - Zawór pacjenta z pojedynczą membraną dla niezawodnego działania - Zintegrowany pasek dla komfortu stosowania i wyrównania siły uciśnięć. - Cienkościenny samorozprężalny worek ułatwiający ocenę oporów i podatności płuc, specjalna faktura powierzchni worka gwarantująca pewny uchwyt. - Łatwe podłączenie manometru oraz zaworu PEEP bez potrzeby stosowania dodatkowych złączek, - Dostarczana objętość: 450 ml - Objętość resuscytatora: 683 ml - Wymiary (długość x średnica): 234 x 99 mm, ciężar (z maską, rezerwuarem i drenem): 215 g. - Zawór ograniczający ciśnienie: 4,0 kPa (40 cm H2O). - Opór wdechowy bez O2: Maks. 0.50 kPa (5.0 cm H2O) przy przepływie 50 l/min; opór wydechowy Maks. 0.27 kPa (2.7 cm H2O) przy przepływie 50 l/min; - Objętość rezerwuaru w postaci worka: 2600 ml. - Złącze pacjenta: Ø zewnętrzna: 22 mm męskie )) Ø wewnętrzna: 15 mm żeńskie ), złącze wydechowe (do podłączenia zaworu PEEP):30 mm męskie ). - Przeciek (w obu kierunkach): Niemierzalny; Złącze M-Port (opcja): standardowe Luer LS 6. - Zalecana temperatura stosowania: -18ºC do +50ºC;Warunkowo dopuszczone do stosowania w środowisku MR. Nie zawiera ftalanów (w tym DEHP), bezpieczny pod względem zawartości BPA. | C7: szt | D7: 50
B8: RAZEM | F8: =SUM(F5:F7) -> 0 | I8: =SUM(I5:I7) -> 0
B11: Data | H11: Podpis osoby/osób upoważnionej
B12: ……………………………………………. | H12: ……………………………….

Sheet Zad.87
B2: ZOZ/DZP/PN/24/23
B3: Załącznik Nr: 9
A4: Zadanie nr: 87 – Klipsy do klipsownicy z nabojem CO2
A5: Lp. | B5: Nazwa produktu | C5: Jednostka miary | D5: Ilość | E5: Cena jednostkowa netto | F5: Wartość netto | G5: VAT | H5: Cena jednostkowa brutto | I5: Wartość brutto | J5: Producent/Nazwa handlowa/Numer katalogowy
A6: 1 | B6: Klipsy, rozmiar średnio-duży (ML) 8 klipsów tytanowych i nabój z CO2 w sterylnym magazynku, ostatni klips oznaczony kolorem, rozmiar 7,9 x 8,1mm, rowkowanie wewnętrzne zapewniające atraumatyczne zamknięcie. | C6: op.=12 x 8 + naboje | D6: 10
B7: RAZEM | F7: =SUM(F6) -> 0 | I7: =SUM(I6) -> 0
B11: Data | H11: Podpis osoby/osób upoważnionej
B12: ……………………………………………. | I12: ……………………………….

Sheet Zad.88
B2: ZOZ/DZP/PN/24/23
B3: Załącznik Nr: 9
A4: Zadanie nr: 88 – Gąbka do FESS-u
A5: Lp. | B5: Nazwa produktu | C5: Jednostka miary | D5: Ilość | E5: Cena jednostkowa netto | F5: Wartość netto | G5: VAT | H5: Cena jednostkowa brutto | I5: Wartość brutto | J5: Producent/Nazwa handlowa/Numer katalogowy
A6: 1 | B6: Biodegradowalny syntetyczny opatrunek 4cm x 8cm, do zabiegów chirurgii endoskopowej zatok przynosowych(FESS), czas wchłaniania 7-10 dni | C6: op=8szt | D6: 35
F7: =SUM(F6) -> 0 | I7: =SUM(I6) -> 0
B9: Data | H9: Podpis osoby/osób upoważnionej
B10: ……………………………………………. | I10: ……………………………….

Sheet Zad.89
B1: ZOZ/DZP/PN/24/23
B2: Załącznik Nr: 9
A3: Zadanie nr: 89 – Akcesoria neonatologiczne
A4: Lp. | B4: Nazwa produktu | C4: Jednostka miary | D4: Ilość | E4: Cena jednostkowa netto | F4: Wartość netto | G4: VAT | H4: Cena jednostkowa brutto | I4: Wartość brutto | J4: Producent/Nazwa handlowa/Numer katalogowy
A5: 1 | B5: Filtr do inkubatora Atom V-2100G/2200 i V85 typu F6-E i V5-E | C5: szt. | D5: 10
A6: 2 | B6: Mankiety irysowe do inkubatora Atom Dutchmed | C6: szt. | D6: 10
A7: 3 | B7: Mankiety semi-irysowe do inkubatora Atom | C7: szt. | D7: 10
A8: 4 | B8: Komora nawilżacza z automatyczną regulacją poziomu wody o konstrukcji zapobiegającej nadmiernemu gromadzeniu kondensatu w obwodzie oddechowym, dren do podaży wody dł. 1,2 m | C8: szt. | D8: 50
A9: 5 | B9: Czepiec do terapii wymiennych do stosowania w nieinwazyjnym wspomaganiu oddechu (NIV) umożliwiający zamocowanie generatora w mocowaniu kołyskowym za pomocą dwóch krótkich dwustronnych rzepów oraz w terapii tlenowej wysokimi przepływami (HFOT) umożliwiający zamocowanie kaniuli nosowej za pomocą dwóch długich rzepów (posiadających dodatkowo warstwę klejącą). Dostępne rozmiary: - obwód głowy do 24 cm, rozm. XXS - obwód głowy 24-28 cm, rozm. XS - obwód głowy 28-31 cm, rozm. S - obwód głowy 31-34cm, rozm. M - obwód głowy 34-38 cm, rozm. L - obwód głowy 38-42 cm, rozm. XL do wyboru przy zamówieniu | C9: szt. | D9: 50
A10: 6 | B10: Maska nosowa rozm. S Maska nosowa rozm. M Maska nosowa rozm. L Maska nosowa rozm. XL do wyboru przy zamówieniu | C10: szt. | D10: 50
A11: 7 | B11: Układ oddechowy noworodkowy z generatorem IF, jednorazowego użytku (mikrobiologicznie czysty), z zabezpieczeniem przeciwdrobnoustrojowym opartym na działaniu jonów srebra W skład zestawu wchodzi: - odcinek wdechowy podgrzewany dł. 1,2 m,  wew. 10 mm, - odcinek wydechowy niepodgrzewany z perforacją w postaci regularnych otworów zabezpieczających przed okluzją, umiejscowionych na wierzchołkach karbowań, na całej długości odcinka, - odcinek łączący nawilżacz z respiratorem dł. 0,6 m, - końcówka donosowa o zróżnicowanej grubości ramion donosowych w rozm. S, M, L, - odcinek do pomiaru ciśnienia dł. 2,1 m, - generator IF z elastycznymi i miękkimi paskami mocującymi z pętelkami do zaczepienia rzepów z jednej strony, paski zakończone usztywnianymi, karbowanymi końcami, które ułatwiają montaż generatora do czapeczki, - kołyska do zamocowania generatora na czepcu, wykonana z elastycznego tworzywa w kształcie litery T, z rzepem mocującym. Do wyboru przy zamówieniu | C11: szt. | D11: 50
C12: RAZEM | F12: =SUM(F5:F11) -> 0 | I12: =SUM(I5:I11) -> 0
B14: Data | H14: Podpis osoby/osób upoważnionej
B15: ……………………………………………. | I15: ……………………………….

Sheet Zad.91
B1: ZOZ/DZP/PN/24/23
B2: Załącznik Nr: 9
A3: Zadanie nr: 91 – Klipsy laparoskopowe.
A4: Lp. | B4: Nazwa produktu | C4: Jednostka miary | D4: Ilość | E4: Cena jednostkowa netto | F4: Wartość netto | G4: VAT | H4: Cena jednostkowa brutto | I4: Wartość brutto | J4: Producent/Nazwa handlowa/Numer katalogowy
A5: 1 | B5: Klipsy tytanowe średnio-duże o wymiarach przed zamknięciem 5,5mm i 8,7mm po zamknięciu, pakowane w magazynki po 6 klipsów w magazynku i 18 magazynków w opakowaniu, posiadające zewnętrzne rowkowanie zabezpieczające przed zsunięciem się z naczynia i wysunięciem z klipsownicy | C5: op. =108szt. | D5: 3
B6: suma | F6: =SUM(F5) -> 0 | I6: =SUM(I5) -> 0
B10: Data …………………………………………. ………………………………………………...
H11: Podpis osoby/osób uprawnionej

Sheet Zad.92
B1: ZOZ/DZP/PN/24/23
B2: Załącznik Nr: 9
A4: Zadanie nr: 92- Kaczki i baseny do myjni dezynfektora.
A5: Lp. | B5: Nazwa produktu | C5: Jednostka miary | D5: Ilość | E5: Cena jednostkowa netto | F5: Wartość netto | G5: VAT | H5: Cena jednostkowa brutto | I5: Wartość brutto | J5: Producent/Nazwa handlowa/Numer katalogowy
A6: 1 | B6: Kaczka wielorazowego użytku z pokrywką, wykonana z polietylenu w kolorze zielonym. Wymiary: 30 x 13,5 x 10 x 14m. Kompatybilna z płuczko dezynfektorem Clinox 3A | C6: szt. | D6: 20
A7: 2 | B7: Basen wielorazowego użytku z pokrywą, w kolorze białym, wykonany z polipropyleny, autoklaw owalny, z rączką ułatwiającą użytkowanie (niewystająca). Max. długość z rączka 50cm. Kompatybilny z płuczko dezynfektorem Clinox 3A | C7: szt. | D7: 20
F8: =SUM(F6:F7) -> 0 | I8: =SUM(I6:I7) -> 0
B11: Data …………………………………………. ………………………………………………...
H12: Podpis osoby/osób uprawnionej

Sheet Zad.93
B2: ZOZ/DZP/PN/24/23
B3: Załącznik Nr: 9
A4: Zadanie nr 93: Pęseta
A5: Lp. | B5: Nazwa produktu | C5: Jednostka miary | D5: Ilość | E5: Cena jednostkowa[zł] netto | F5: Wartość [zł] netto | G5: VAT | H5: Cena jednostkowa [zł] brutto | I5: Wartość [zł] brutto | J5: Producent/Nazwa handlowa/Numer katalogowy
A6: 1 | B6: Jednorazowa, sterylnie pakowana pęseta ILM 23g, aktywowana 360° Siła uścisku 25g, Długość części roboczej 32 mm. | C6: Op.=6szt. | D6: 8
B7: RAZEM | F7: =F6 -> 0 | I7: =SUM(I6) -> 0
B10: ………………………………………………….. | F10: ……………………………………………
B11: Data | F11: Podpis osoby/osób uprawnionej

Sheet Zad.94
B2: ZOZ/DZP/PN/24/23
B3: Załącznik Nr: 9
A5: Zadanie nr: 94 – Akcesoria do kardiomonitorów Nihon Kohden
A6: Lp. | B6: Nazwa produktu | C6: Jednostka miary | D6: Ilość | E6: Cena jednostkowa[zł] netto | F6: Wartość [zł] netto | G6: VAT | H6: Cena jednostkowa [zł] brutto | I6: Wartość [zł] brutto | J6: Producent/Nazwa handlowa/Numer katalogowy
A7: 1 | B7: Czujnik SpO2 (typ Y z opaską silikonową lub silikonowy na palec dla dzieci do wyboru przez zamawiającego) wielorazowego użytku, nierozłączny o długości min. 3 m, kompatybilny z kardiomonitorem Nihon Kohden | C7: szt. | D7: 4
A8: 2 | B8: Przewód EKG (3 odprowadzenia - typ klamra lub zatrzask, do wyboru przez zamawiającego) nierozłączny, wielorazowego użytku, kompatybilny z kardiomonitorem Nihon Kohden | C8: szt. | D8: 5
A9: 3 | B9: Kabel 12 odprowadzeń Ekg do Kardiomonitora Nihon Kohden BSM-3763 | C9: szt. | D9: 2
A10: 4 | B10: Czujnik SPO2 na palec z miękkiej gumy Kardiomonitora Nihon Kohden BSM-3763 dla dorosłych | C10: szt. | D10: 30
A11: 5 | B11: Czujnik SPO2 na palec z miękkiej gumy Kardiomonitora Nihon Kohden BSM-3763 pediatryczny | C11: szt. | D11: 5
A12: 6 | B12: Czujnik SPO2 na ucho Kardiomonitora Nihon Kohden BSM-3763 | C12: szt. | D12: 8
A13: 7 | B13: Mankiet do mierzenia ciśnienia standardowy Kardiomonitora Nihon Kohden rozmiar 13 | C13: szt. | D13: 20
A14: 8 | B14: Mankiet do mierzenia ciśnienia standardowy Kardiomonitora Nihon Kohden rozmiar 16 | D14: 8
A15: 9 | B15: Mankiet do mierzenia ciśnienia mały Kardiomonitora Nihon Kohden | C15: szt. | D15: 5
A16: 10 | B16: Mankiet do mierzenia ciśnienia na udo Kardiomonitora Nihon Kohden | C16: szt. | D16: 6
A17: 11 | B17: Czujnik do pomiaru temperatury na skórę do kardiomonitora Nihon Kohden | C17: szt. | D17: 8
A18: 12 | B18: Kabel zbiorczy do czujnika SPO2 do kardiomonitora Nihon Kohden | C18: szt. | D18: 8
A19: 13 | B19: Kuweta do pomiaru CO2 w strumieniu głównym do kardiomonitora Nihon Kohden. | C19: op=50szt. | D19: 10
A20: 14 | B20: Zastawka wydechowa jednorazowa do respiratora Monnal T60 | C20: szt. | D20: 20
A21: 15 | B21: Zastawka wydechowa wielorazowa do respiratora Monnal T60 | C21: szt. | D21: 8
A22: 16 | B22: Czujnik przepływu jednorazowy do respiratora Monnal T60 | C22: szt. | D22: 20
A23: 17 | B23: Czujnik przepływu wielorazowy do respiratora Monnal T60 | C23: szt. | D23: 10
A24: 18 | B24: Kabel zbiorczy z czujnikiem do pomiaru CO2 w strumieniu głównym , kompratybilny z kardiomonitorem Nihon Kohden | C24: kpl | D24: 2
A25: 19 | B25: Kabel do przetwornika IBP do JP-920P | C25: szt. | D25: 2
A26: 20 | B26: Kabel NIBP dla dorosłych | C26: szt. | D26: 2
... A28: 22 | B28: Przewód do hemodynamiki typu K962 | C28: szt. | D28: 1
B29: Razem | F29: =SUM(F7:F28) -> 0 | I29: =SUM(I7:I28) -> 0
B31: Data | H31: Podpis osoby/osób upoważnionej
