Workbook
Name Excel_BuiltIn_Print_Area_14_1: #REF!
Name Excel_BuiltIn_Print_Area_16_1: #REF!
Name Excel_BuiltIn_Print_Area_17_1: #REF!
Name Excel_BuiltIn_Print_Area_18_1: #REF!
Name Excel_BuiltIn_Print_Area_19_1: #REF!
Name Excel_BuiltIn_Print_Area_2_1: #REF!
Name Excel_BuiltIn_Print_Area_22_1: #REF!
Name Excel_BuiltIn_Print_Area_22_1_1: #REF!
Name Excel_BuiltIn_Print_Area_24_1: #REF!
Name Excel_BuiltIn_Print_Area_3_1: #REF!
Name Excel_BuiltIn_Print_Area_3_1_1: #REF!
Name Excel_BuiltIn_Print_Area_3_1_1_1: #REF!
Name Excel_BuiltIn_Print_Area_4_1: #REF!
Name Excel_BuiltIn_Print_Area_5_1: #REF!
Name Excel_BuiltIn_Print_Area_6_1: #REF!
Name Excel_BuiltIn_Print_Area_7_1: #REF!
Name Excel_BuiltIn_Print_Titles_17: #REF!

Sheet Zadanie nr 1
A1: Załącznik nr 9 | G1: ZOZ/DZP/PN/22/24
A3: Zadanie nr 1- Leki różne
A4: Lp. | B4: Nazwa produktu | C4: Jednostka miary | D4: Ilość | E4: Cena jednostkowa[zł] netto | F4: Wartość [zł] netto | G4: VAT | H4: Cena jednostkowa [zł] brutto | I4: Wartość [zł] brutto | J4: EAN
A5: 1 | B5: Acarbosum 50 mg | C5: op. 30 tabl | D5: 8
A6: 2 | B6: Acetylcysteinum inj. iv. lub dooskrzelowo (roztwór) 300 mg/3 ml | C6: porcja po 5 amp. 3 ml | D6: 80
A7: 3 | B7: Acetylcysteinum tabl musujące. 200 mg | C7: porcja po 20 szt. | D7: 25
A8: 4 | B8: Acetylcysteinum tabl. musujące 600 mg | C8: porcja po 10 tabl. | D8: 200
A9: 5 | B9: Aciclovirum 800mg | C9: porcja po 30 szt | D9: 17
A10: 6 | B10: Aciclovir 250mg inj | C10: porcja po 5 fiol. | D10: 25
A11: 7 | B11: Acidum aceticym + Delphinum consolida | C11: butelka po 100ml | D11: 8
A12: 8 | B12: Acidum acetylsalicylicum tabl. 100 mg tabl dojelitowe | C12: op. 28 tabl | D12: 3
A13: 9 | B13: Acidum acetylsalicylicum tabl. 75 mg | C13: porcja po 60 tabl. | D13: 160
A14: 10 | B14: Acidum acetylsalicylicum tabl. powl. dojelitowe 150 mg | C14: porcja po 60 tabl. | D14: 30
A15: 11 | B15: Acidum acetylsalicylicum tabl 300 mg | C15: porcja po 20tabl | D15: 2
A16: 12 | B16: Acidum acetylsalicylicum tabl 500 mg | C16: porcja po 10 tabl. | D16: 2
... A392: 392 | B392: Zuclopenthixol 50 mg / 1 ml inj roztw.d/wstrz | C392: op. 5 amp | D392: 3
B393: RAZEM
B395: ………………………………………………….. | E395: ……………………………………………
B396: Data | E396: Podpis osoby/osób uprawnionej

Sheet Zadanie nr 27
A1: Załącznik nr 9 | G1: ZOZ/DZP/PN/22/24
A3: Zadanie nr 27 - Propofolum
A4: Lp. | B4: Nazwa produktu | C4: Jednostka miary | D4: Ilość | E4: Cena jednostkowa[zł] netto | F4: Wartość [zł] netto | G4: VAT | H4: Cena jednostkowa [zł] brutto | I4: Wartość [zł] brutto | J4: Producent/Nazwa handlowa | K4: EAN
A5: 1 | B5: Propofolum inj. 10mg/1ml – 20ml fiolki | C5: porcja po 5 fiol. 20 ml | D5: 2500
A6: 2 | B6: Propofolum inj. 5mg/ml, 20ml fiol emulsja | C6: porcja po 5 amp. 20 ml | D6: 200
A7: 3 | B7: Propofol 2% fiol 50ml | C7: porcja po 1/fiol | D7: 200
B8: RAZEM
B11: Data …………………………………………. ………………………………………………...
H12: Podpis osoby/osób uprawnionej

Sheet Zadanie nr 42
A1: Załącznik nr 9 | G1: ZOZ/DZP/PN/22/24
A3: Zadanie nr 42 -Leki okulistyczne
A4: Lp. | B4: Nazwa produktu | C4: Jednostka miary | D4: Ilość | E4: Cena jednostkowa[zł] netto | F4: Wartość [zł] netto | G4: VAT | H4: Cena jednostkowa [zł] brutto | I4: Wartość [zł] brutto | J4: Producent/Nazwa handlowa | K4: EAN
A5: 1 | B5: Acidum polyacrylicum 2 mg/1g żel do oczu | C5: porcja po 10g | D5: 10
A6: 2 | B6: Alcohol polivinylicus krople do oczu 14 mg/ml | C6: porcja po 2 but. Po 5 ml | D6: 10
A7: 3 | B7: Bimatoprost 0,3 mg/1 ml krople do oczu | C7: op 3ml | D7: 10
A8: 4 | B8: Brimonidinum 2mg/ml+5mg/ml krople do oczu | C8: porcja po 5ml | D8: 10
A9: 5 | B9: Cyclopetolate krople do oczu 1% | C9: op 5ml | D9: 3
A10: 6 | B10: Dexamethasonum 0,1% krople do oczu | C10: porcja po 5ml | D10: 5
A11: 7 | B11: Dexpanthenolum żel do oczu 50 mg/g | C11: porcja po 1 tuba 10 g | D11: 35
A12: 8 | B12: Dorzolamid 20mg/ml krople do oczu | C12: porcja po 5ml | D12: 3
A13: 9 | B13: Karbachol r-r do stosowania wewnątrzgałkowego 0,1mg/1,5ml fiol | C13: Op=12 fiol | D13: 6
A14: 10 | B14: Tropicamidum 1% krople oczne | C14: op. =2x5ml | D14: 100
A15: 11 | B15: Travaprostum 40mcg+ Timololum maleas 5mg krople do oczu | C15: porcja po 2,5ml | D15: 4
A16: 12 | B16: Tropicamidum krople do oczu 5 mg/ml | C16: porcja po 1 zestaw: 2 poj. po 5 ml | D16: 6
... A31: 28 | B31: Maść dso oczu z wit. A 250IE/g sterylna | C31: porcja po 5g | D31: 5
B32: Razem
B35: …………….., dnia ………………… ……………………………………
B36: Podpis
B37: osoby upoważnionej

Sheet Zadanie nr 50.
A1: Załącznik nr 9 | F1: ZOZ/DZP/PN/22/24
A3: Zadanie nr 50 - Dostawa płynów i akcesoriów wraz z dzierżawą aparatu do ciągłych zabiegów nerkozastępczych i plazmaforezy
A4: Lp. | B4: Nazwa produktu | C4: Jednostka miary | D4: Ilość | E4: Cena jednostkowa[zł] netto | F4: Wartość [zł] netto | G4: VAT | H4: Cena jednostkowa [zł] brutto | I4: Wartość [zł] brutto | J4: Producent/Nazwa handlowa/Model
A5: 1 | B5: CRRT i ciągła płynoterapia prowadzone u pacjentów z ostrą niewydolnością nerek, nadmiernym obciążeniem płynami lub w obu wymienionych stanach. Zestaw- wielkość filtra 1,5m² | C5: zestaw | D5: 400
A6: 2 | B6: Roztwór do hemofiltracji/hemodializy stosowanay jako płyn substytucyjny i dializacyjny, w skład którego wchodzą: Na+ 140 mmol/l; K+ 4 mmol/l; Ca2+ 0 mmol/l; Mg2+ 0,75 mmol/l; Cl- 122 mmol/l; HCO3- 22 mmol/l; HP042- 1 mmol/l; osmolarność 290 mOsm/l; opakowanie: worek 5l, dwukomorowy, wyposażony w port luer oraz port iniekcyjny - oznakowany kolorowym kapslem | C6: szt | D6: 4000
A7: 3 | B7: Roztwór do hemofiltracji skład: cytrynian 18 mmol/l, Na+ 140 mmol/l, Cl- 86 mmol/l; teoretyczna osmolarność: 244 mOsm/l; opakowanie: worek 5l wyposażony w port luer oraz port iniekcyjny - oznakowany kolorowym kapslem | C7: szt | D7: 4000
A8: 4 | B8: Linia wapnia do przeprowadzania zabiegów cytrynianowo-wapniowych metodą antykoagulacji | C8: szt | D8: 400
A9: 5 | B9: Pozaustrojowy obwód jednorazowego użytku przeznaczony do stosowania w CRRT. Zestaw składający się z filtra kapilarnego do hemodializy/dializatora, z powierzchnią wewnętrzną trwale powleczoną wysoce oczyszczoną heparyną wieprzową oraz drenów. Zestaw umożliwiający usuwanie różnych mediatorów zapalnych, w tym: cytokin i endotoksyn, metodą dyfuzji, konwekcji i adsorpcji. | C9: zestaw | D9: 50
A10: 6 | B10: Worek ściekowy do prismaflex 5 i 9 litrów do wyboru przy zakupie | D10: 60
A11: 7 | B11: Zestaw do plazmaferezy z filtrem typu TPE 2000 | C11: 1 zestaw | D11: 48
A12: 8 | B12: Zestaw składa się z następujących komponentów: 1. Wysokoprzepływowego dializatora specjalnie przystosowanego do eliminacji toksyn zwiazanych z białkami krwi pacjenta do dializatu zawierajacego albuminy surowicy ludzkiej (HSA). 2. Niskoprzepływowego dializatora stosowanego do usuwania toksyn rozpuszczalnych w wodzie z dializatu albuminy surowicy ludzkiej (HSA) obwodu MARS. 3. Kolumny adsorpcyjnej wypełnionej weglem aktywowanym parą, słuzacej do oczyszczania roztworu ludzkich albumin (HSA) wypełniajacego obwód zestawu MARS. Czasteczki wegla sa odsłoniete i wykazuja szczególną zdolność do adsorpcji niskoczasteczkowych, niepolarnych substancji, jak np. aromatyczne policykliczne weglowodory i kwasy. 4. Kolumny adsorpcyjnej wypełnionej zywicą jonowymienna, słuzacej do oczyszczania dializatu z HSA w obwodzie zestawuMARS. Kolumna jest przeznaczona szczególnie do usuwania czasteczek jonowych, jak bilirubina. | C12: 1 zestaw | D12: 32
A13: 9 | B13: Wymiennik krew-gaz, zestaw do usuwania dwutlenku węgla | C13: 1 zestaw | D13: 4
A14: 10 | B14: Dzierżawa 2 aparatów do zabiegów nerkozastępczych zgodnych z opisem w załączniku nr 2-50 poz 1 | C14: 1 miesiąc | D14: 24
A15: 11 | B15: Dzierżawa 1 aparatu do zabiegów nerkozastępczych zgodnych z opisem w załączniku nr 2-50 poz 2 | C15: 1 miesiąc | D15: 24
B16: Razem
A19: 1. Wykonawca powinien podać wszystkie akcesoria, płyny, odczynniki i inne niewymienione materiały niezbędne do wykonania podanej ilości zabiegów oraz dokonać ich wyceny.
A20: 2. Oferowane płyny powinny posiadać aktualne karty charakterystyk, które winny być dostarczone wraz z pierwszą dostawą.
A21: 3. Termin przydatności do użycia powinien być nie krótszy niż 6 miesięcy od daty dostawy.
A22: 4. Wielkość opakowania zbiorczego zamawianego jednorazowo nie może być większa niż zestaw dla ilości zabiegów w przeliczeniu wykonanych w ciągu trzech miesięcy.
A23: 5. Płyny i akcesoria powinny pochodzić od jednego producenta.
A24: 6. Zamawiający wymaga aby zaoferowane płyny, akcesoria i inne materiały zużywalne do zabiegu były wskazane w instrukcji producenta aparatu.
B28: …………….., dnia ………………… ……………………………………
B29: Podpis
B30: osoby upoważnionej

Sheet podsumowanie
C7: L.p. | D7: Przedmiot zamówienia | E7: wartość netto | F7: wartość brutto | G7: netto euro | H7: euro brutto
C8: 1 | D8: Zadanie nr 1 - Leki różne | E8: ='Zadanie nr 1'!F393 -> 0 | F8: ='Zadanie nr 1'!I393 -> 0 | G8: =E8/$J$8 -> 0 | H8: =F8/$J$8 -> 0 | J8: 4.4536
C9: 2 | D9: Zadanie nr 2 - Płyny infuzyjne pojemnikach stojących | E9: =#REF! -> #REF! | F9: =#REF! -> #REF! | G9: =E9/$J$8 -> #REF! | H9: =F9/$J$8 -> #REF!
C10: 3 | D10: Zadanie nr 3 - Płyny infuzyjne | E10: =#REF! -> #REF! | F10: =#REF! -> #REF! | G10: =E10/$J$8 -> #REF! | H10: =F10/$J$8 -> #REF!
C11: 4 | D11: Zadanie nr 4 - Enoxaparinum | E11: =#REF! -> #REF! | F11: =#REF! -> #REF! | G11: =E11/$J$8 -> #REF! | H11: =F11/$J$8 -> #REF!
C12: 5 | D12: Zadanie nr 5 - Nadroparinum | E12: =#REF! -> #REF! | F12: =#REF! -> #REF! | G12: =E12/$J$8 -> #REF! | H12: =F12/$J$8 -> #REF!
C13: 6 | D13: Zadanie nr 6 - Leki różne 2 | E13: =#REF! -> #REF! | F13: =#REF! -> #REF! | G13: =E13/$J$8 -> #REF! | H13: =F13/$J$8 -> #REF!
C14: 7 | D14: Zadanie nr 7 - Albuminy | E14: =#REF! -> #REF! | F14: =#REF! -> #REF! | G14: =E14/$J$8 -> #REF! | H14: =F14/$J$8 -> #REF!
C15: 8 | D15: Zadanie nr 8 - Leki różne 14 | E15: =#REF! -> #REF! | F15: =#REF! -> #REF! | G15: =E15/$J$8 -> #REF! | H15: =F15/$J$8 -> #REF!
C16: 9 | D16: Zadanie nr 9 - Leki anestezjologiczne | E16: =#REF! -> #REF! | F16: =#REF! -> #REF! | G16: =E16/$J$8 -> #REF! | H16: =F16/$J$8 -> #REF!
C17: 10 | D17: Zadanie nr 10 - Sevofluran | E17: =#REF! -> #REF! | F17: =#REF! -> #REF! | G17: =E17/$J$8 -> #REF! | H17: =F17/$J$8 -> #REF!
C18: 11 | D18: Zadanie nr 11 - Mleko + preparaty dietetyczne | E18: =#REF! -> #REF! | F18: =#REF! -> #REF! | G18: =E18/$J$8 -> #REF! | H18: =F18/$J$8 -> #REF!
C19: 12 | D19: Zadanie nr 12 – Leki ZOL | E19: =#REF! -> #REF! | F19: =#REF! -> #REF! | G19: =E19/$J$8 -> #REF! | H19: =F19/$J$8 -> #REF!
C20: 13 | D20: Zadanie nr 13 – Amoxycylina z inhibitorem | E20: =#REF! -> #REF! | F20: =#REF! -> #REF! | G20: =E20/$J$8 -> #REF! | H20: =F20/$J$8 -> #REF!
... C33: 26 | D33: Zadanie nr 26 – Terapia nerkozastępcza do aparatu OMNI | E33: =#REF! -> #REF! | F33: =#REF! -> #REF! | G33: =E33/$J$8 -> #REF! | H33: =F33/$J$8 -> #REF!
C34: 27 | D34: Zadanie nr 27 - Propofolum | E34: ='Zadanie nr 27'!F8 -> 0 | F34: ='Zadanie nr 27'!I8 -> 0 | G34: =E34/$J$8 -> 0 | H34: =F34/$J$8 -> 0
C35: 28 | D35: Zadanie nr 28 - Leki Hospicjum | E35: =#REF! -> #REF! | F35: =#REF! -> #REF! | G35: =E35/$J$8 -> #REF! | H35: =F35/$J$8 -> #REF!
C36: 29 | D36: Zadanie nr 29 - Leki przeciwbólowe | E36: =#REF! -> #REF! | F36: =#REF! -> #REF! | G36: =E36/$J$8 -> #REF! | H36: =F36/$J$8 -> #REF!
C37: 30 | D37: Zadanie nr 30 -Leki okulistyczne 2 | E37: =#REF! -> #REF! | F37: =#REF! -> #REF! | G37: =E37/$J$8 -> #REF! | H37: =F37/$J$8 -> #REF!
C38: 31 | D38: Zadanie nr 31 - Kontrasty jodowe | E38: =#REF! -> #REF! | F38: =#REF! -> #REF! | G38: =E38/$J$8 -> #REF! | H38: =F38/$J$8 -> #REF!
C39: 32 | D39: Zadanie nr 32 - Acidum ibandronicum | E39: =#REF! -> #REF! | F39: =#REF! -> #REF! | G39: =E39/$J$8 -> #REF! | H39: =F39/$J$8 -> #REF!
C40: 33 | D40: Zadanie nr 33 - Imigluceraza i eliglustat | E40: =#REF! -> #REF! | F40: =#REF! -> #REF! | G40: =E40/$J$8 -> #REF! | H40: =F40/$J$8 -> #REF!
C41: 34 | D41: Zadanie nr: 34- Ferrum | E41: =#REF! -> #REF! | F41: =#REF! -> #REF! | G41: =E41/$J$8 -> #REF! | H41: =F41/$J$8 -> #REF!
C42: 35 | D42: Zadanie nr 35 - Glikokotykosteroidy | E42: =#REF! -> #REF! | F42: =#REF! -> #REF! | G42: =E42/$J$8 -> #REF! | H42: =F42/$J$8 -> #REF!
C43: 36 | D43: Zadanie nr: 36 - Desfluran | E43: =#REF! -> #REF! | F43: =#REF! -> #REF! | G43: =E43/$J$8 -> #REF! | H43: =F43/$J$8 -> #REF!
C44: 37 | D44: Zadanie nr: 37 – Metamizolum | E44: =#REF! -> #REF! | F44: =#REF! -> #REF! | G44: =E44/$J$8 -> #REF! | H44: =F44/$J$8 -> #REF!
C45: 38 | D45: Zadanie nr 39 - Długo i krótko działające analogi insuliny i barbituran | E45: =#REF! -> #REF! | F45: =#REF! -> #REF! | G45: =E45/$J$8 -> #REF! | H45: =F45/$J$8 -> #REF!
C46: 39 | D46: Zadanie nr 40 – Preaparat RTU | E46: =#REF! -> #REF! | F46: =#REF! -> #REF! | G46: =E46/$J$8 -> #REF! | H46: =F46/$J$8 -> #REF!
... C54: 47 | D54: Zadanie nr 50 - Dostawa płynów i akcesoriów wraz z dzierżawą aparatu do ciągłych zabiegów nerkozastępczych i plazmaforezy | E54: =#REF! -> #REF! | F54: =#REF! -> #REF! | G54: =E54/$J$8 -> #REF! | H54: =F54/$J$8 -> #REF!
C55: 48 | D55: Zadanie nr 51 -Leki okulistyczne | E55: ='Zadanie nr 42'!F32 -> 0 | F55: ='Zadanie nr 42'!I32 -> 0 | G55: =E55/$J$8 -> 0 | H55: =F55/$J$8 -> 0
C56: 49 | D56: Zadanie nr 52 - Butelki do receptury | E56: =#REF! -> #REF! | F56: =#REF! -> #REF! | G56: =E56/$J$8 -> #REF! | H56: =F56/$J$8 -> #REF!
C57: 50 | D57: Zadanie nr – 53 Smoczki i butelki | E57: =#REF! -> #REF! | F57: =#REF! -> #REF! | G57: =E57/$J$8 -> #REF! | H57: =F57/$J$8 -> #REF!
C58: 51 | D58: Zadanie 54 Układ oddechowy SOR | E58: =#REF! -> #REF! | F58: =#REF! -> #REF! | G58: =E58/$J$8 -> #REF! | H58: =F58/$J$8 -> #REF!
C59: 52 | D59: Zadanie nr: 59 - Strzykawki do gazometrii. | E59: =#REF! -> #REF! | F59: =#REF! -> #REF! | G59: =E59/$J$8 -> #REF! | H59: =F59/$J$8 -> #REF!
C60: 53 | D60: Zadanie nr: 85 - Opaska 2 | E60: =#REF! -> #REF! | F60: =#REF! -> #REF! | G60: =E60/$J$8 -> #REF! | H60: =F60/$J$8 -> #REF!
C61: 54 | D61: Zadanie nr: 88 – Gąbka do FESS-u | E61: =#REF! -> #REF! | F61: =#REF! -> #REF! | G61: =E61/$J$8 -> #REF! | H61: =F61/$J$8 -> #REF!
C62: 55 | D62: Zadanie nr: 96 - Karty chipowe do monitora hemodynamicznego Lidco Rapid | E62: =#REF! -> #REF! | F62: =#REF! -> #REF! | G62: =E62/$J$8 -> #REF! | H62: =F62/$J$8 -> #REF!
C63: 56 | D63: Zadanie nr 97: Akcesoria do kardiomonitora BleaseSirius firmy Spacelabs Medical USA | E63: =#REF! -> #REF! | F63: =#REF! -> #REF! | G63: =E63/$J$8 -> #REF! | H63: =F63/$J$8 -> #REF!
C64: 57 | D64: Zadanie nr: 115 – Tracheotomia metodą Ciaglia dodatkowe | E64: =#REF! -> #REF! | F64: =#REF! -> #REF! | G64: =E64/$J$8 -> #REF! | H64: =F64/$J$8 -> #REF!
C65: 58 | D65: Zadanie nr 129 - Odczynniki i testy, probówki | E65: =#REF! -> #REF! | F65: =#REF! -> #REF! | G65: =E65/$J$8 -> #REF! | H65: =F65/$J$8 -> #REF!
C66: 59 | D66: Zadanie nr 132 - Parawany na kółkach | E66: =#REF! -> #REF! | F66: =#REF! -> #REF! | G66: =E66/$J$8 -> #REF! | H66: =F66/$J$8 -> #REF!
C67: 60 | D67: Zadanie nr 133 - Akcesoria rehabilitacyjne | E67: =#REF! -> #REF! | F67: =#REF! -> #REF! | G67: =E67/$J$8 -> #REF! | H67: =F67/$J$8 -> #REF!
... C70: 63 | D70: Zadanie nr 154 Kable do elektrod BTL 5000 | E70: =#REF! -> #REF! | F70: =#REF! -> #REF! | G70: =E70/$J$8 -> #REF! | H70: =F70/$J$8 -> #REF!
E71: =SUM(E8:E70) -> #REF! | F71: =SUM(F8:F70) -> #REF! | G71: =E71/$J$8 -> #REF! | H71: =F71/$J$8 -> #REF!
