Workbook
Name Excel_BuiltIn_Print_Area_14_1: #REF!
Name Excel_BuiltIn_Print_Area_16_1: #REF!
Name Excel_BuiltIn_Print_Area_17_1: #REF!
Name Excel_BuiltIn_Print_Area_18_1: #REF!
Name Excel_BuiltIn_Print_Area_19_1: #REF!
Name Excel_BuiltIn_Print_Area_2_1: 'Zadanie nr 2'!$A$3:$I$8
Name Excel_BuiltIn_Print_Area_22_1: #REF!
Name Excel_BuiltIn_Print_Area_22_1_1: #REF!
Name Excel_BuiltIn_Print_Area_24_1: #REF!
Name Excel_BuiltIn_Print_Area_3_1: #REF!
Name Excel_BuiltIn_Print_Area_3_1_1: #REF!
Name Excel_BuiltIn_Print_Area_3_1_1_1: #REF!
Name Excel_BuiltIn_Print_Area_4_1: 'Zadanie nr 3'!$A$3:$J$13
Name Excel_BuiltIn_Print_Area_5_1: #REF!
Name Excel_BuiltIn_Print_Area_6_1: #REF!
Name Excel_BuiltIn_Print_Area_7_1: #REF!
Name Excel_BuiltIn_Print_Titles_17: #REF!

Sheet Zadanie nr 1
A1: Załącznik nr 9 | G1: ZOZ/DZP/PN/25/24
A3: Zadanie nr 1- Leki różne (1)
A4: Lp. | B4: Nazwa produktu | C4: Jednostka miary | D4: Ilość | E4: Cena jednostkowa[zł] netto | F4: Wartość [zł] netto | G4: VAT | H4: Cena jednostkowa [zł] brutto | I4: Wartość [zł] brutto | J4: Producent/Nazwa handlowa | K4: EAN
A5: 1 | B5: Acarbosum 50 mg | C5: op. 30 tabl | D5: 7
A6: 2 | B6: Acetylcysteinum inj. iv. lub dooskrzelowo (roztwór) 300 mg/3 ml | C6: porcja po 5 amp. 3 ml | D6: 72
A7: 3 | B7: Acetylcysteinum tabl musujące. 200 mg | C7: porcja po 20 szt. | D7: 23
A8: 4 | B8: Acetylcysteinum tabl. musujące 600 mg | C8: porcja po 10 tabl. | D8: 180
A9: 5 | B9: Aciclovirum 800mg | C9: porcja po 30 szt | D9: 16
A10: 6 | B10: Aciclovir 250mg inj | C10: porcja po 5 fiol. | D10: 23
A11: 7 | B11: Acidum aceticym + Delphinum consolida | C11: butelka po 100ml | D11: 7
A12: 8 | B12: Acidum acetylsalicylicum tabl. 100 mg tabl dojelitowe | C12: op. 30 tabl | D12: 3
A13: 9 | B13: Acidum acetylsalicylicum tabl. 75 mg | C13: porcja po 60 tabl. | D13: 144
A14: 10 | B14: Acidum acetylsalicylicum tabl. powl. dojelitowe 150 mg | C14: porcja po 60 tabl. | D14: 27
A15: 11 | B15: Acidum acetylsalicylicum tabl 300 mg | C15: porcja po 20tabl | D15: 2
A16: 12 | B16: Acidum acetylsalicylicum tabl 500 mg | C16: porcja po 10 tabl. | D16: 2
... A392: 392 | B392: Zuclopenthixol 50 mg / 1 ml inj roztw.d/wstrz | C392: op. 5 amp | D392: 3
B393: RAZEM
B395: ………………………………………………….. | E395: ……………………………………………
B396: Data | E396: Podpis osoby/osób uprawnionej

Sheet Zadanie nr 2
A1: Załącznik nr 9 | G1: ZOZ/DZP/PN/25/24
A3: Zadanie nr 2 - Płyny infuzyjne 1 (2)
A4: Lp. | B4: Nazwa produktu | C4: Jednostka miary | D4: Ilość | E4: Cena jednostkowa[zł] netto | F4: Wartość [zł] netto | G4: VAT | H4: Cena jednostkowa [zł] brutto | I4: Wartość [zł] brutto | J4: Producent/Nazwa handlowa | K4: EAN
A5: 1 | B5: Glucosum + Natrii chloridum inj. iv. (roztwór) 2 : 1 | C5: porcja po 1 op. 250 ml | D5: 200
A6: 2 | B6: Glucosum + Natrii chloridum inj. iv. (roztwór) 2 : 1 | C6: porcja po 1 op. 500 ml | D6: 1500
A7: 3 | B7: Glucosum inj. iv. (roztwór) 100 mg/ml | C7: porcja po 1 op. 100 ml | D7: 500
A8: 4 | B8: Glucosum inj. iv. (roztwór) 50 mg/ml | C8: porcja po 1 op. 100 ml | D8: 600
A9: 5 | B9: Płyn wieloelektrolitowy o zawartości:5,75 g/1000ml chlorku sodu,4,62g/1000ml sodu ostran trójwodny,0,9g/1000ml sodu cytrynian dwuwodny,0,26g/1000ml wapnia chlorek dwuwodny,0,38g/1000ml chlorku potasu, 0,2g/1000ml magnezu chlorek sześciowodny.Osmolarność roztworu 295mOsmol/l | C9: op=250ml | D9: 1000
A10: 6 | B10: Płyn wieloelektrolitowy o zawartości:5,75 g/1000ml chlorku sodu,4,62g/1000ml sodu ostran trójwodny,0,9g/1000ml sodu cytrynian dwuwodny,0,26g/1000ml wapnia chlorek dwuwodny,0,38g/1000ml chlorku potasu, 0,2g/1000ml magnezu chlorek sześciowodny.Osmolarność roztworu 295mOsmol/l | C10: op= 500ml | D10: 1800
A11: 7 | B11: Natrii chloridum płyn 0,9 %- worek | C11: porcja po 1 szt.3000ml | D11: 300
A12: 8 | B12: Aqua rozpuszczalnik do iniekcji | C12: porcja po 500 ml | D12: 2000
A13: 9 | B13: Aqua rozpuszczalnik do iniekcji | C13: worek porcja po 100ml | D13: 800
A14: 10 | B14: Mannitol 15%worek | C14: Worek 250ml | D14: 60
B15: RAZEM
B18: ………………………………………………….. | F18: ……………………………………………
B19: Data | F19: Podpis osoby/osób uprawnionej

Sheet Zadanie nr 3
A1: Załącznik nr 9 | G1: ZOZ/DZP/PN/25/24
A3: Zadanie nr 3 - Enoxaparinum (4)
A4: Lp. | B4: Nazwa produktu | C4: Jednostka miary | D4: Ilość | E4: Cena jednostkowa[zł] netto | F4: Wartość [zł] netto | G4: VAT | H4: Cena jednostkowa [zł] brutto | I4: Wartość [zł] brutto | J4: Producent/Nazwa handlowa | K4: EAN
A5: 1 | B5: HDCz 2000 j.m. Anty Xa /20 mg | C5: op. 10 szt | D5: 20
A6: 2 | B6: HDCz 4000 j.m. anty Xa/ 40mg | C6: op. 10 szt | D6: 1200
A7: 3 | B7: HDCz 6000 j.m. anty Xa/ 60mg | C7: op. 10 szt | D7: 150
A8: 4 | B8: HDCz 8000 j.m. anty Xa /80 mg | C8: op. 10 szt | D8: 10
A9: 5 | B9: HDCz 10000 j.m. anty Xa 100 mg | C9: op. 10 szt | D9: 1
A10: 6 | B10: HDCz 30000 j.m. anty Xa 300 mg/3ml | C10: fiol. | D10: 1
A11: 7 | B11: HDCz 15000 j.m.anty Xa 150mg/ml | C11: op. 10 szt | D11: 1
A12: 8 | B12: HDCz 12000 j.m.anty Xa 120mg/0,8ml | C12: op. 10 szt | D12: 1
B13: RAZEM
B16: ………………………………………………….. | F16: ……………………………………………
B17: Data | F17: Podpis osoby/osób uprawnionej

Sheet Zadanie nr 4
A1: Załącznik nr 9 | G1: ZOZ/DZP/PN/25/24
A3: Zadanie nr 4 – Leki różne 14 (8)
A4: Lp. | B4: Nazwa produktu | C4: Jednostka miary | D4: Ilość | E4: Cena jednostkowa[zł] netto | F4: Wartość [zł] netto | G4: VAT | H4: Cena jednostkowa [zł] brutto | I4: Wartość [zł] brutto | J4: Producent/Nazwa handlowa | K4: EAN
A5: 2 | B5: Aluminii acetas żel do użytku zewnętrznego 75g | C5: porcja po 1 op. | D5: 100
A6: 3 | B6: Bisoprololum tabl. powl. 5 mg | C6: porcja po 30 tabl. | D6: 200
A7: 4 | B7: Bisoprololum tabl. powl. 2,5 mg | C7: porcja po 30 tabl. vel 28 | D7: 160
A8: 5 | B8: Bisoprololum tabl. powl. 1,25 mg | C8: porcja po 30 tabl. vel 28 | D8: 30
A9: 6 | B9: Ketoprofenum inj. (roztwór) 100 mg/2 ml i.v./i.m | C9: porcja po 10 amp. 2 ml | D9: 400
A10: 7 | B10: Ketoprofenum tabl. powl. 100 mg | C10: porcja po 30 tabl. | D10: 160
A11: 8 | B11: Ferrosi oxidum dextranum complexum inj. im. (roztwór) 50 mg Fe+++/ml | C11: porcja po 50 amp. 2 ml | D11: 1
A12: 9 | B12: Ferrum hydroxide 50 mg/5ml syrop | C12: Porcja po 100 ml | D12: 2
A13: 10 | B13: Ferrum oxydatum saccharatum inj. iv. (roztwór) 20 mg Fe+++/ml | C13: porcja po 5 amp. 5 ml | D13: 20
A14: 11 | B14: Metoprololi sucinate 23,75 mg o spowolnionym uwalnianiu | C14: porcja po 30 tabl. o przed. uw. | D14: 40
A15: 12 | B15: Metoprololi sucinate 47,5 mg o przedłużonym uwalnianiu | C15: porcja po 30 tabl. o przed. uw. | D15: 40
A16: 13 | B16: Metoprololi sucinate 95 mg o przedłużonym uwalnianiu | C16: porcja po 30 tabl. o przed. uw. | D16: 40
... A20: 17 | B20: Piperacillinum + Tazobactamum 4g+0,5g | C20: porcja po 10fiol | D20: 15
B21: RAZEM
B25: ………………………………………………….. | F25: ……………………………………………
B26: Data | F26: Podpis osoby/osób uprawnionej

Sheet Zadanie nr 5
A1: Załącznik nr 9 | G1: ZOZ/DZP/PN/25/24
A3: Zadanie nr 5 - Immunoglobuliny anty D (22)
A4: Lp. | B4: Nazwa produktu | C4: Jednostka miary | D4: Ilość | E4: Cena jednostkowa[zł] netto | F4: Wartość [zł] netto | G4: VAT | H4: Cena jednostkowa [zł] brutto | I4: Wartość [zł] brutto | J4: Producent/Nazwa handlowa | K4: EAN
A5: 1 | B5: Immunoglobulina anty D 50j.m. inj. | C5: 1 szt. | D5: 50
A6: 2 | B6: Immunoglobulina anty D 150j.m. inj. | C6: 1 szt. | D6: 80
A7: 3 | B7: Immunoglobulina Anty D 300j.m amp-strzyk | C7: 1 szt. | D7: 90
B8: Razem
B11: Data | G11: Podpis osoby/osób upoważnionej
B12: ……………………………………………. | G12: ……………………………….

Sheet Zadanie nr 6
A1: Załącznik nr 9 | G1: ZOZ/DZP/PN/25/24
A3: Zadanie nr 6 - Antybiotyki (41)
A4: Lp. | B4: Nazwa produktu | C4: Jednostka miary | D4: Ilość | E4: Cena jednostkowa[zł] netto | F4: Wartość [zł] netto | G4: VAT | H4: Cena jednostkowa [zł] brutto | I4: Wartość [zł] brutto | J4: Producent/Nazwa handlowa | K4: EAN
A5: 1 | B5: Vancomycinym 1000 mg/5ml inj. i.v., p.o. | C5: porcja po 5 szt. | D5: 250
A6: 2 | B6: Clindamycin 150 mg/ml | C6: Porcja po 4ml w 5 amp | D6: 220
A7: 3 | B7: Clindamycin 600 mg | C7: porcja po 12 kaps. | D7: 10
A8: 4 | B8: Clindamycin 300mg | C8: porcja po 16 kaps. | D8: 30
B9: RAZEM
B12: Data | H12: Podpis osoby/osób upoważnionej
B13: ……………………………………………. | I13: ……………………………….

Sheet Zadanie nr 7
A1: Załącznik nr 9 | G1: ZOZ/DZP/PN/25/24
A3: Zadanie nr 7 -Diety w proszku (47)
A4: Lp. | B4: Nazwa produktu | C4: Jednostka miary | D4: Ilość | E4: Cena jednostkowa[zł] netto | F4: Wartość [zł] netto | G4: VAT | H4: Cena jednostkowa [zł] brutto | I4: Wartość [zł] brutto | J4: Producent/Nazwa handlowa | K4: EAN
A5: 1 | B5: Doustny preparat skład:z L -arginina 5 g na porcję, hydorlizat kolagenu, witaminy A i C oraz chelat cynku. Dla pacjenów z odleżynami i trudno gojącymi się ranami. | C5: Op=10x25g | D5: 50
A6: 2 | B6: Dieta kompletna do żywienia drogą doustną, wysokokaloryczna, wysokobiałkowa doustgna na bazie hydrolizatu drobiowego HBD, 22g białka 100g, hiperkaloryczna 400kcal/100g, zawiera L argininę 1,7g/100g, 13 witamin, oraz 13 składników mineralnych. | C6: op.= 4x100g | D6: 50
A7: 3 | B7: Wysokobiałkowy doustny przeparat żywieniowy w postaci proszku, do stosowania w hipoproteinemii, stanowiący dodatkowe źródło białka dla pacjentów,zaeartośc białka 5g w porcji. | C7: op. 260g | D7: 100
B8: RAZEM
B12: Data | H12: Podpis osoby/osób upoważnionej
B13: ……………………………………………. | I13: ……………………………….

Sheet podsumowanie
C7: L.p. | D7: Przedmiot zamówienia | E7: wartość netto | F7: wartość brutto | G7: netto euro | H7: euro brutto
C8: 1 | D8: Zadanie nr 1 - Leki różne | E8: ='Zadanie nr 1'!F393 -> 0 | F8: ='Zadanie nr 1'!I393 -> 0 | G8: =E8/$J$8 -> 0 | H8: =F8/$J$8 -> 0 | J8: 4.4536
C9: 2 | D9: Zadanie nr 2 - Płyny infuzyjne pojemnikach stojących | E9: ='Zadanie nr 2'!F15 -> 0 | F9: ='Zadanie nr 2'!I15 -> 0 | G9: =E9/$J$8 -> 0 | H9: =F9/$J$8 -> 0
C10: 3 | D10: Zadanie nr 3 - Płyny infuzyjne | E10: =#REF! -> #REF! | F10: =#REF! -> #REF! | G10: =E10/$J$8 -> #REF! | H10: =F10/$J$8 -> #REF!
C11: 4 | D11: Zadanie nr 4 - Enoxaparinum | E11: ='Zadanie nr 3'!F13 -> 0 | F11: ='Zadanie nr 3'!I13 -> 0 | G11: =E11/$J$8 -> 0 | H11: =F11/$J$8 -> 0
C12: 5 | D12: Zadanie nr 5 - Nadroparinum | E12: =#REF! -> #REF! | F12: =#REF! -> #REF! | G12: =E12/$J$8 -> #REF! | H12: =F12/$J$8 -> #REF!
C13: 6 | D13: Zadanie nr 6 - Leki różne 2 | E13: =#REF! -> #REF! | F13: =#REF! -> #REF! | G13: =E13/$J$8 -> #REF! | H13: =F13/$J$8 -> #REF!
C14: 7 | D14: Zadanie nr 7 - Albuminy | E14: =#REF! -> #REF! | F14: =#REF! -> #REF! | G14: =E14/$J$8 -> #REF! | H14: =F14/$J$8 -> #REF!
C15: 8 | D15: Zadanie nr 8 - Leki różne 14 | E15: ='Zadanie nr 4'!F21 -> 0 | F15: ='Zadanie nr 4'!I21 -> 0 | G15: =E15/$J$8 -> 0 | H15: =F15/$J$8 -> 0
C16: 9 | D16: Zadanie nr 9 - Leki anestezjologiczne | E16: =#REF! -> #REF! | F16: =#REF! -> #REF! | G16: =E16/$J$8 -> #REF! | H16: =F16/$J$8 -> #REF!
C17: 10 | D17: Zadanie nr 10 - Sevofluran | E17: =#REF! -> #REF! | F17: =#REF! -> #REF! | G17: =E17/$J$8 -> #REF! | H17: =F17/$J$8 -> #REF!
C18: 11 | D18: Zadanie nr 11 - Mleko + preparaty dietetyczne | E18: =#REF! -> #REF! | F18: =#REF! -> #REF! | G18: =E18/$J$8 -> #REF! | H18: =F18/$J$8 -> #REF!
C19: 12 | D19: Zadanie nr 12 – Leki ZOL | E19: =#REF! -> #REF! | F19: =#REF! -> #REF! | G19: =E19/$J$8 -> #REF! | H19: =F19/$J$8 -> #REF!
C20: 13 | D20: Zadanie nr 13 – Amoxycylina z inhibitorem | E20: =#REF! -> #REF! | F20: =#REF! -> #REF! | G20: =E20/$J$8 -> #REF! | H20: =F20/$J$8 -> #REF!
C21: 14 | D21: Zadanie Nr 14 - Heparinum | E21: =#REF! -> #REF! | F21: =#REF! -> #REF! | G21: =E21/$J$8 -> #REF! | H21: =F21/$J$8 -> #REF!
C22: 15 | D22: Zadanie Nr 15 - Omeprazol | E22: =#REF! -> #REF! | F22: =#REF! -> #REF! | G22: =E22/$J$8 -> #REF! | H22: =F22/$J$8 -> #REF!
C23: 16 | D23: Zadanie nr 16 - Antybiotyki różne | E23: =#REF! -> #REF! | F23: =#REF! -> #REF! | G23: =E23/$J$8 -> #REF! | H23: =F23/$J$8 -> #REF!
C24: 17 | D24: Zadanie nr 17 – Antybiotyki 5 | E24: =#REF! -> #REF! | F24: =#REF! -> #REF! | G24: =E24/$J$8 -> #REF! | H24: =F24/$J$8 -> #REF!
C25: 18 | D25: Zadanie nr 18 - Żel do cewnikowania | E25: =#REF! -> #REF! | F25: =#REF! -> #REF! | G25: =E25/$J$8 -> #REF! | H25: =F25/$J$8 -> #REF!
C26: 19 | D26: Zadanie nr 19 - Dalteparinum | E26: =#REF! -> #REF! | F26: =#REF! -> #REF! | G26: =E26/$J$8 -> #REF! | H26: =F26/$J$8 -> #REF!
C27: 20 | D27: Zadanie nr 20 - Preparaty do żywienia pozajelitowego | E27: =#REF! -> #REF! | F27: =#REF! -> #REF! | G27: =E27/$J$8 -> #REF! | H27: =F27/$J$8 -> #REF!
C28: 21 | D28: Zadanie nr 21 - Preparaty do żywienia dojelitowego | E28: =#REF! -> #REF! | F28: =#REF! -> #REF! | G28: =E28/$J$8 -> #REF! | H28: =F28/$J$8 -> #REF!
C29: 22 | D29: Zadanie nr 22 - Immunoglobuliny anty D | E29: ='Zadanie nr 5'!F8 -> 0 | F29: ='Zadanie nr 5'!I8 -> 0 | G29: =E29/$J$8 -> 0 | H29: =F29/$J$8 -> 0
C30: 23 | D30: Zadanie nr 23 Fidaxomycinum | E30: =#REF! -> #REF! | F30: =#REF! -> #REF! | G30: =E30/$J$8 -> #REF! | H30: =F30/$J$8 -> #REF!
C31: 24 | D31: Zadanie nr 24 - Żywienie pozajelitowe 2 | E31: =#REF! -> #REF! | F31: =#REF! -> #REF! | G31: =E31/$J$8 -> #REF! | H31: =F31/$J$8 -> #REF!
C32: 25 | D32: Zadanie nr 25 - Leki OAIiT | E32: =#REF! -> #REF! | F32: =#REF! -> #REF! | G32: =E32/$J$8 -> #REF! | H32: =F32/$J$8 -> #REF!
C33: 26 | D33: Zadanie nr 26 – Terapia nerkozastępcza do aparatu OMNI | E33: =#REF! -> #REF! | F33: =#REF! -> #REF! | G33: =E33/$J$8 -> #REF! | H33: =F33/$J$8 -> #REF!
C34: 27 | D34: Zadanie nr 27 - Propofolum | E34: =#REF! -> #REF! | F34: =#REF! -> #REF! | G34: =E34/$J$8 -> #REF! | H34: =F34/$J$8 -> #REF!
C35: 28 | D35: Zadanie nr 28 - Leki Hospicjum | E35: =#REF! -> #REF! | F35: =#REF! -> #REF! | G35: =E35/$J$8 -> #REF! | H35: =F35/$J$8 -> #REF!
C36: 29 | D36: Zadanie nr 29 - Leki przeciwbólowe | E36: =#REF! -> #REF! | F36: =#REF! -> #REF! | G36: =E36/$J$8 -> #REF! | H36: =F36/$J$8 -> #REF!
C37: 30 | D37: Zadanie nr 30 -Leki okulistyczne 2 | E37: =#REF! -> #REF! | F37: =#REF! -> #REF! | G37: =E37/$J$8 -> #REF! | H37: =F37/$J$8 -> #REF!
C38: 31 | D38: Zadanie nr 31 - Kontrasty jodowe | E38: =#REF! -> #REF! | F38: =#REF! -> #REF! | G38: =E38/$J$8 -> #REF! | H38: =F38/$J$8 -> #REF!
C39: 32 | D39: Zadanie nr 32 - Acidum ibandronicum | E39: =#REF! -> #REF! | F39: =#REF! -> #REF! | G39: =E39/$J$8 -> #REF! | H39: =F39/$J$8 -> #REF!
C40: 33 | D40: Zadanie nr 33 - Imigluceraza i eliglustat | E40: =#REF! -> #REF! | F40: =#REF! -> #REF! | G40: =E40/$J$8 -> #REF! | H40: =F40/$J$8 -> #REF!
C41: 34 | D41: Zadanie nr: 34- Ferrum | E41: =#REF! -> #REF! | F41: =#REF! -> #REF! | G41: =E41/$J$8 -> #REF! | H41: =F41/$J$8 -> #REF!
... C46: 39 | D46: Zadanie nr 40 – Preaparat RTU | E46: =#REF! -> #REF! | F46: =#REF! -> #REF! | G46: =E46/$J$8 -> #REF! | H46: =F46/$J$8 -> #REF!
C47: 40 | D47: Zadanie nr 41 - Antybiotyki | E47: ='Zadanie nr 6'!F9 -> 0 | F47: ='Zadanie nr 6'!I9 -> 0 | G47: =E47/$J$8 -> 0 | H47: =F47/$J$8 -> 0
C48: 41 | D48: Zadanie nr 43 - Witamina K1 | E48: =#REF! -> #REF! | F48: =#REF! -> #REF! | G48: =E48/$J$8 -> #REF! | H48: =F48/$J$8 -> #REF!
C49: 42 | D49: Zadania nr 44 - Imipenem, piperacillinum | E49: =#REF! -> #REF! | F49: =#REF! -> #REF! | G49: =E49/$J$8 -> #REF! | H49: =F49/$J$8 -> #REF!
C50: 43 | D50: Zadanie nr 45 - Insuliny i analogi | E50: =#REF! -> #REF! | F50: =#REF! -> #REF! | G50: =E50/$J$8 -> #REF! | H50: =F50/$J$8 -> #REF!
C51: 44 | D51: Zadanie nr 46 - Budesonidum | E51: =#REF! -> #REF! | F51: =#REF! -> #REF! | G51: =E51/$J$8 -> #REF! | H51: =F51/$J$8 -> #REF!
C52: 45 | D52: Zadanie nr 48 - Preparaty przeczyszczające | E52: =#REF! -> #REF! | F52: =#REF! -> #REF! | G52: =E52/$J$8 -> #REF! | H52: =F52/$J$8 -> #REF!
C53: 46 | D53: Zadanie nr 49 Immunoglobuliny. | E53: =#REF! -> #REF! | F53: =#REF! -> #REF! | G53: =E53/$J$8 -> #REF! | H53: =F53/$J$8 -> #REF!
C54: 47 | D54: Zadanie nr 50 - Dostawa płynów i akcesoriów wraz z dzierżawą aparatu do ciągłych zabiegów nerkozastępczych i plazmaforezy | E54: =#REF! -> #REF! | F54: =#REF! -> #REF! | G54: =E54/$J$8 -> #REF! | H54: =F54/$J$8 -> #REF!
C55: 48 | D55: Zadanie nr 51 -Leki okulistyczne | E55: =#REF! -> #REF! | F55: =#REF! -> #REF! | G55: =E55/$J$8 -> #REF! | H55: =F55/$J$8 -> #REF!
C56: 49 | D56: Zadanie nr 52 - Butelki do receptury | E56: =#REF! -> #REF! | F56: =#REF! -> #REF! | G56: =E56/$J$8 -> #REF! | H56: =F56/$J$8 -> #REF!
C57: 50 | D57: Zadanie nr – 53 Smoczki i butelki | E57: =#REF! -> #REF! | F57: =#REF! -> #REF! | G57: =E57/$J$8 -> #REF! | H57: =F57/$J$8 -> #REF!
C58: 51 | D58: Zadanie 54 Układ oddechowy SOR | E58: =#REF! -> #REF! | F58: =#REF! -> #REF! | G58: =E58/$J$8 -> #REF! | H58: =F58/$J$8 -> #REF!
C59: 52 | D59: Zadanie nr: 59 - Strzykawki do gazometrii. | E59: =#REF! -> #REF! | F59: =#REF! -> #REF! | G59: =E59/$J$8 -> #REF! | H59: =F59/$J$8 -> #REF!
... C62: 55 | D62: Zadanie nr: 96 - Karty chipowe do monitora hemodynamicznego Lidco Rapid | E62: =#REF! -> #REF! | F62: =#REF! -> #REF! | G62: =E62/$J$8 -> #REF! | H62: =F62/$J$8 -> #REF!
C63: 56 | D63: Zadanie nr 97: Akcesoria do kardiomonitora BleaseSirius firmy Spacelabs Medical USA | E63: ='[1]zadanie 38'!#REF! -> #REF! | F63: =#REF! -> #REF! | G63: =E63/$J$8 -> #REF! | H63: =F63/$J$8 -> #REF!
C64: 57 | D64: Zadanie nr: 115 – Tracheotomia metodą Ciaglia dodatkowe | E64: =#REF! -> #REF! | F64: =#REF! -> #REF! | G64: =E64/$J$8 -> #REF! | H64: =F64/$J$8 -> #REF!
C65: 58 | D65: Zadanie nr 129 - Odczynniki i testy, probówki | E65: =#REF! -> #REF! | F65: =#REF! -> #REF! | G65: =E65/$J$8 -> #REF! | H65: =F65/$J$8 -> #REF!
C66: 59 | D66: Zadanie nr 132 - Parawany na kółkach | E66: =#REF! -> #REF! | F66: =#REF! -> #REF! | G66: =E66/$J$8 -> #REF! | H66: =F66/$J$8 -> #REF!
C67: 60 | D67: Zadanie nr 133 - Akcesoria rehabilitacyjne | E67: =#REF! -> #REF! | F67: =#REF! -> #REF! | G67: =E67/$J$8 -> #REF! | H67: =F67/$J$8 -> #REF!
C68: 61 | D68: Zadanie nr 134 osłonki na zęby | E68: =#REF! -> #REF! | F68: =#REF! -> #REF! | G68: =E68/$J$8 -> #REF! | H68: =F68/$J$8 -> #REF!
C69: 62 | D69: Zadanie nr:142 Laktator elektryczny z akcesoriami. | E69: =#REF! -> #REF! | F69: =#REF! -> #REF! | G69: =E69/$J$8 -> #REF! | H69: =F69/$J$8 -> #REF!
C70: 63 | D70: Zadanie nr 154 Kable do elektrod BTL 5000 | E70: =#REF! -> #REF! | F70: =#REF! -> #REF! | G70: =E70/$J$8 -> #REF! | H70: =F70/$J$8 -> #REF!
E71: =SUM(E8:E70) -> #REF! | F71: =SUM(F8:F70) -> #REF! | G71: =E71/$J$8 -> #REF! | H71: =F71/$J$8 -> #REF!
