Workbook
Name Excel_BuiltIn_Print_Area: 'zad. 1'!$A$1:$J$19

Sheet zad. 1
B1: Załacznik nr 9 do SWZ
B2: ZOZ/DZP/PN/12/25 | D2: FORMULARZ CENOWY
A3: Zadania nr: 1 Kompresy operacyjne z nitką radiacyjną
A4: Lp. | B4: Nazwa produktu | C4: Jednostka miary | D4: Ilość | E4: Cena jednostkowa netto | F4: Wartość netto | G4: VAT | H4: Cena jednostkowa brutto | I4: Wartość brutto | J4: Producent/ Nazwa handlowa/ Numer katalogowy
A5: 1 | B5: Kompresy jałowe z gazy bawełnianej z wszytą na całej długości nitką radiacyjną 17nit.16warstw. 10x10cm,pakowane a'20szt. w opakowaniu z podwójnym systemem etykiet kontrolnych na opakowaniu wewnętrznym i zewnętrznym | C5: op.=20 szt. | D5: 600
A6: 2 | B6: Kompresy jałowe z gazy bawełnianej z wszytą na całej długości nitką radiacyjną 17nit.12warstw. 10x10cm,pakowane a'40szt. w opakowaniu z podwójnym systemem etykiet kontrolnych na opakowaniu wewnętrznym i zewnętrznym | C6: op.=40 szt. | D6: 400
A7: 3 | B7: Kompresy jałowe z gazy bawełnianej z wszytą na całej długości nitką radiacyjną 17nit.16warstw. 10x10cm,pakowane a'10szt. w opakowaniu z podwójnym systemem etykiet kontrolnych na opakowaniu wewnętrznym i zewnętrznym | C7: op.=10 szt. | D7: 1200
A8: 4 | B8: Kompresy jałowe z gazy bawełnianej z wszytą na całej długości nitką radiacyjną 17nit.12warstw. 10x20 cm pakowane a'10szt. w opakowaniu z podwójnym systemem etykiet kontrolnych na opakowaniu wewnętrznym i zewnętrznym | C8: op=10 szt. | D8: 650
A9: 5 | B9: Kompresy jałowe, operacyjne 20nit. 6warstw, po wstępnym technologicznym praniu, zielone 50x60cmcm pakowane a'2szt. z wszytym chipem radiacyjnym. Opakowanie z podwójnym systemem etykiet kontrolnych na opakowaniu wewnętrznym i zewnętrznym | C9: op.a'2szt. | D9: 750
A10: 6 | B10: Kompres włókninowy 10 x 10cm, 6w. z wycięciem Y sterylny a 2 szt. | C10: op=25szt po 2 szt | D10: 150
A11: 7 | B11: Kompres włókninowy 7,5 x 7,5cm, 6w. z wycięciem Y sterylny a 2 szt. | C11: op=25szt po 2 szt | D11: 150
A12: 8 | B12: Jałowe tampony z 24 nitkowej gazy w kształcie fasolki z wplecioną nitką RTG, wymiar gotowego produktu 25,4 mm x 13,2 mm, pakowane w kartonik ; 5 przegródek po 2 szt. (a'10 szt.). Podwójna karta kontrolna w postaci naklejki. Opakowanie papierowe pudełko + blister. Sterylizowane parą wodną, pakowane po 10szt. | C12: op.=10szt po 2 szt. | D12: 100
A13: 9 | B13: Tampony z gazy 20 nitkowej w kształcie kuli niejałowe nr 4 ( 24x24cm) pakowane po 4 x250szt. | C13: op.=4 x250 | D13: 10
B14: RAZEM
B16: Oferowany asortyment jest wyrobem medycznym.
B17: Oświadczam, że oferowany przedmiot zamówienia jest zgodny z opisem i spełnia wymagane parametry techniczne
B19: data ………………………………. | G19: podpis ……………………………………….

Sheet zad. 2
B1: Załacznik nr 9 do SWZ
B2: ZOZ/DZP/PN/12/25 | D2: FORMULARZ CENOWY
A3: Zadanie nr: 2 Różne.
A4: Lp. | B4: Nazwa produktu | C4: Jednostka miary | D4: Ilość | E4: Cena jednostkowa netto | F4: Wartość netto | G4: VAT | H4: Cena jednostkowa brutto | I4: Wartość brutto | J4: Producent/Nazwa handlowa/Numer katalogowy
A5: 1 | B5: Opatrunek typu Seton 1 cm x 2 m jałowy pakowany w blister z etykietą typu TAG | C5: Op=240 szt | D5: 28
A6: 2 | B6: Tupfery kule z nitka radiacyjną 20 x 20 cm jałowe pakowany w blister z etykietą identyfikacyjnymi typu TAG | C6: Opakowanie zbiorcze=100 blistrów, w blistrze po 5 szt. | D6: 30
A7: 3 | B7: Tupfery kule bez nitki 20 x 20 cm jałowe pakowane w blister z etykietą identyfikacyjnymi typu TAG | C7: Opakowanie zbiorcze=100 blistrów, w blistrze po 5 szt. | D7: 20
A8: 4 | B8: Chusta trójkątna bawełniana 134 x95 x95cm | C8: szt. | D8: 2000
A9: 5 | B9: Opatrunek poiniekcyjny pakowany pojedynczo min. wymiar 2,5cm x 7,6cm. | C9: op=100szt | D9: 150
A10: 6 | B10: Bandaż elastyczny samoprzylepny 8cm x 4m | C10: szt. | D10: 120
A11: 7 | B11: Serweta niesterylna 45x75 cm celulozowa, podfoliowana | C11: op=50szt | D11: 25
A12: 8 | B12: Serweta operacyjna gazowa z tasiemką i nitką radiacyjną 45 x 70 cm minimum 17 nitek, 4 warstw o gramaturze minimum 23g/m2, czas tonięcia max 1,01s. Zgodnie z normą PN-EN14079 sterylna pakowana pojedynczo w opakowanie typu folia-papier posiadające 4 naklejki tag z informacją nazwa producenta, LOT, data ważności, indeks wyrobu, ilość, rozmiar, nazwa grupy wyrobów, rodzaj wyrobu na etykiecie głownej informacja w postaci piktogramu i jeśli dotyczy to: nitkowość lub gramatura (KW), warstwowość, piktogram informujacy o znaczniku rtg. Dodatkowo na opakowaniach torebki papierowo-foliowej na 2 naklejkach tag kod kreskowy. W kodzie informacje: GTIN(EAN), data ważności, LOT. Z widocznym, czytelnym kolorystycznym wskaźniikiem sterylizacji. | C12: szt. | D12: 3000
A13: 9 | B13: Gaza bawełniana wyjałowiona 17 nitkowa 1 m2, sterylizowana parą wodną, opakowanie blister z TAG | C13: szt. | D13: 16000
A14: 10 | B14: Taśma przylepna do serwet 9 x 50 cm sterylna | C14: op. 70 szt. | D14: 24
B15: RAZEM
B17: Wszystki oferowany asortyment jest wyrobem medycznym.
B18: Oświadczam, że oferowany przedmiot zamówienia jest zgodny z opisem i spełnia wymagane parametry techniczne
B20: data ………………………………. | G20: podpis ……………………………………….

Sheet zad. 3
B1: Załacznik nr 9 do SWZ
B2: ZOZ/DZP/PN/12/25 | D2: FORMULARZ CENOWY
A3: Zadanie nr: 3 Lignina, wata
A4: Lp. | B4: Nazwa produktu | C4: Jednostka miary | D4: Ilość | E4: Cena jednostkowa netto | F4: Wartość netto | G4: VAT | H4: Cena jednostkowa brutto | I4: Wartość brutto | J4: Producent/ Nazwa handlowa/ Numer katalogowy
A5: 1 | B5: Lignina bielona bez użycia związków chloru 40x60cm ,płaty a'5kg gramatura min. 24 g/m2 , zdolność absorbcji min. 6 g/g Opakowanie folia+karton | C5: op=5kg | D5: 360
A6: 2 | B6: Wata opatrunkowa bawełniana składana 500 g, skład:100% bawełna, | C6: szt. | D6: 150
B7: RAZEM
B9: Oświadczam, że oferowany przedmiot zamówienia jest zgodny z opisem i spełnia wymagane parametry techniczne
B11: data ………………………………. | G11: podpis ……………………………………….

Sheet zad. 4
B1: Załacznik nr 9 do SWZ
B2: ZOZ/DZP/PN/12/25 | D2: FORMULARZ CENOWY
A3: Zadanie nr: 4 Opaski, plastry, opatrunki.
A4: Lp. | B4: Nazwa produktu | C4: Jednostka miary | D4: Ilość | E4: Cena jednostkowa netto | F4: Wartość netto | G4: VAT | H4: Cena jednostkowa brutto | I4: Wartość brutto | J4: Producent/Nazwa handlowa/Numer katalogowy
A5: 1 | B5: Opaska dziana podtrzym. 10 cm x 4 pakowana pojedynczo | C5: szt. | D5: 22000
A6: 2 | B6: Opaska dziana podtrzym. 15 cm x 4 m ,pakowana pojedynczo | C6: szt. | D6: 17000
A7: 3 | B7: Opaska dziana podtrzym. 5 cm x 4 m ,pakowana pojedynczo | C7: szt. | D7: 220
A8: 4 | B8: Opaska elastyczna pakowana pojedynczo z zapinką 10cmx5m | C8: szt. | D8: 600
A9: 5 | B9: Opaska elastyczna pakowana pojedynczo z dwoma zapinkami 15cmx5m | C9: szt. | D9: 1600
A10: 6 | B10: Opaska na tubusie tekturowym, o czasie wiazania 2-4 minut(+/- 0,5minuty) 10cm, wykonana z gazy 17 - nitkowej, min. 92 % (+/-3%) gips naturalny, czas zanurzenia 1,5-4,5 sekundy) | C10: op=2szt | D10: 800
A11: 7 | B11: Opaska na tubusie tekturowym, o czasie wiazania 2-4 minut(+/- 0,5minuty) 12cm, wykonana z gazy 17 - nitkowej, min. 92 % (+/-3%) gips naturalny, czas zanurzenia 1,5-4,5 sekundy) | C11: op=2szt | D11: 900
A12: 8 | B12: Opaska na tubusie tekturowym, o czasie wiazania 2-4 minut(+/- 0,5minuty) 14cm, wykonana z gazy 17 - nitkowej, min. 92 % (+/-3%) gips naturalny, czas zanurzenia 1,5-4,5 sekundy) | C12: op=2szt | D12: 1600
A13: 9 | B13: Opaska podgipsowa 10cm x 3 m | C13: szt. | D13: 1800
A14: 10 | B14: Opaska podgipsowa 15cm x 3 m | C14: szt. | D14: 2300
A15: 11 | B15: Opaska podgipsowa 12cm x 3 m | D15: 600
A16: 12 | B16: Przylepiec z białej włókniny, z hypoalergicznym klejem kauczukowym, 2,5cmx9,2m | C16: szt. | D16: 10000
A17: 13 | B17: Przylepiec z białej włókniny, z hypoalergicznym klejem kauczukowym, 2,5cmx5m | C17: szt. | D17: 500
A18: 14 | B18: Przylepiec z białej tkaniny wiskozowej, z hypoalergicznym klejem kauczukowym 5 cm x 5 m | C18: szt. | D18: 26
A19: 15 | B19: Plaster opatrunkowy z włókniny, z hypoalergicznym klejem kauczukowym, 8cmx5m | C19: szt. | D19: 33
A20: 16 | B20: Samoprzylepny opatrunek włókninowy, jałowy z hypoalergicznym klejem kauczukowym 6 x 10cm | C20: szt. | D20: 9000
A21: 17 | B21: Samoprzylepny opatrunek włókninowy, jałowy z hipoalergicznym klejem kauczukowym 7,2 x 5cm | C21: szt. | D21: 19000
A22: 18 | B22: Samoprzylepny opatrunek włókninowy ,jałowy z hipoalergicznym klejem kauczukowym 10x 8cm | C22: szt. | D22: 12000
A23: 19 | B23: Samoprzylepny opatrunek włókninowy, jałowy z hypoalergicznym klejem kauczukowym 15 x 8cm | C23: szt. | D23: 18000
A24: 20 | B24: Samoprzylepny opatrunek włókninowy, jałowy z hypoalergicznym klejem kauczukowym 20 x 10cm | C24: szt. | D24: 12000
A25: 21 | B25: Samoprzylepny opatrunek włókninowy, jałowy z hypoalergicznym klejem kauczukowym 25 x 10cm | C25: szt. | D25: 7500
A26: 22 | B26: Samoprzylepny opatrunek włókninowy, jałowy z hypoalergicznym klejem kauczukowym 35 x 10cm | C26: szt. | D26: 2500
A27: 23 | B27: Opatrunek chłonny 4 warstwy o różnych wartościowościach do silnie sączących się ran 10 x 10 cm jałowy | C27: szt. | D27: 4600
... A80: 76 | B80: Opaska z pastą cynkową z wysokim stopniem rozciągiwości, w terapii kompresyjnej do wywoływania bardzo mocnego ucisku; do stosowania m.in. w przypadku zapalenia żył głębokich i powierzchownych , w stanach zespołu pozakrzepowego. Może pozostawać założona przez 7dni. 10cm x 7m | C80: 1szt. | D80: 30
B81: RAZEM
B83: Wszystki oferowany asortyment jest wyrobem medycznym.
B84: Oświadczam, że oferowany przedmiot zamówienia jest zgodny z opisem i spełnia wymagane parametry techniczne
B86: data ………………………………. | G86: podpis ……………………………………….

Sheet zad. 5
B1: Załacznik nr 9 do SWZ
B2: ZOZ/DZP/PN/12/25 | D2: FORMULARZ CENOWY
A3: Zadanie nr: 5 Zabezpieczenia opatrunków
A4: Lp. | B4: Nazwa produktu | C4: Jednostka miary | D4: Ilość | E4: Cena jednostkowa netto | F4: Wartość netto | G4: VAT | H4: Cena jednostkowa brutto | I4: Wartość brutto | J4: Producent/Nazwa handlowa/Numer katalogowy
A5: 1 | B5: Siatka do opatrunków, (palce) rozmiar 1 | C5: Szt=10m w stanie luźnym | D5: 50
A6: 2 | B6: Siatka do opatrunków, (dłoń, palec ) rozmiar 2 | C6: Szt=10 m w stanie luźnym | D6: 150
A7: 3 | B7: Siatka do opatrunków, ( dłoń, stopa ) rozmiar 3 | C7: Szt=10 m w stanie luźnym | D7: 200
A8: 4 | B8: Siatka do opatrunków, (podudzie, kolano, ramię ) rzomiar 4 | C8: Szt=10 m w stanie luźnym | D8: 200
A9: 5 | B9: Siatka do opatrunków,(stopa, łokieć ) rozmiar 6 | C9: Szt=10 m w stanie luźnym | D9: 100
A10: 6 | B10: Siatka do opatrunków, ( głowa, ramię, podudzie ) rozmiar 8 | C10: Szt=10 m w stanie luźnym | D10: 100
A11: 7 | B11: Siatka do opatrunków, ( kolano ) rozmiar 10 | C11: Szt=10 m w stanie luźnym | D11: 60
A12: 8 | B12: Siatka do opatrunków, ( udo, głowa, biodro, brzuch, klatka piersiowa ) rozmiar 14 | C12: Szt=10 m w stanie luźnym | D12: 50
B13: RAZEM
B16: Wszystki oferowany asortyment jest wyrobem medycznym.
B17: Oświadczam, że oferowany przedmiot zamówienia jest zgodny z opisem i spełnia wymagane parametry techniczne
B19: data ………………………………. | G19: podpis ……………………………………….

Sheet zad. 6
B1: Załacznik nr 9 do SWZ
B2: ZOZ/DZP/PN/12/25 | D2: FORMULARZ CENOWY
A3: Zadanie nr: 6 Plastry do cewników donaczyniowych
A4: Lp. | B4: Nazwa produktu | C4: Jednostka miary | D4: Ilość | E4: Cena jednostkowa netto | F4: Wartość netto | G4: VAT | H4: Cena jednostkowa brutto | I4: Wartość brutto | J4: Producent/ Nazwa handlowa/ Numer katalogowy
A5: 1 | B5: Sterylny przezroczysty półprzepuszczalny opatrunek do mocowania cewników centralnych o wysokiej przylepności i przepuszczalności dla pary wodnej, podwójny klej na części włókninowej i foliowej ( Potwierdzenie bariery folii dla wirusów =>27nm przez niezależne laboratorium) klej typu diamond patern o wysokiej przepuszczalności dla pary wodnej, wzmocnienie włókniną obrzeża opatrunku ponacinane poprzecznie z 4 stron, ramka ułatwiająca aplikację, proste wycięcie na port pionowy, zaokrąglone brzegi, 2 włókninowe paski mocujące łatwo odklejalne od opatrunku i cewnika, metka do oznaczenia, rozmiar 8,5x11,5cm, przezroczyste okno 5,2x5,5cm, odporny na działanie środków dezynfekcyjnych zawierających alkohol, wyrób medyczny, niepylące, nierwące się w kierunku otwarcia opakowanie z polietylenu o wysokiej gęstości, zapewniające sterylną powierzchnię dla odłożenia opatrunku po otwarciu opakowania. | C5: szt. | D5: 3000
A6: 2 | B6: Przylepiec do mocowania sondy nosowo- żołądkowej, hypoalergiczny z klejem silikonowym bez lateksu, kauczuku i tlenku cynku. Wyrób medyczny pakowany pojedyńczo, Unikalna budowa z częścią pozbawioną kleju powodującą, że sonda wzisa swobodnie nie kontaktując się z nozdrzem. Nie przukleja się do rękawiczek, rozmiar 5,7cmx7,3cm. | C6: szt. | D6: 600
A7: 3 | B7: Sterylny przezroczysty półprzepuszczalny opatrunek z folii poliuretanowej ( Potwierdzenie bariery folii dla wirusów =>27nm przez niezależne laboratorium.), do mocowania kaniul obwodowych, z wycięciem na port, ramka otaczająca cały opatrunek, zaokrąglone brzegi, metka do oznaczenia, rozmiar 6x7 cm, odporny na działanie środków dezynfekcyjnych zawierających alkohol, klej akrylowy równomiernie rozprowadzony na całej powierzchni przylepnej, wyrób medyczny, niepylące, nierwące się w kierunku otwarcia opakowanie typu folia-folia z polietylenu o wysokiej gęstości, zapewniające sterylną powierzchnię dla odłożenia opatrunku po otwarciu opakowania | C7: szt. | D7: 1500
A8: 4 | B8: Sterylny przezroczysty półprzepuszczalny opatrunek z folii poliuretanowej ( Potwierdzenie bariery folii dla wirusów =>27nm przez niezależne laboratorium), do mocowania kaniul obwodowych u dzieci, wzmocnienie włókniną w części obejmującej kaniulę, ramka ułatwiająca aplikację, proste wycięcie na port pionowy, zaokrąglone brzegi, 2 włókninowe paski mocujące, rozmiar 4,5-5x5,7 cm, odporny na działanie środków dezynfekcyjnych zawierających alkohol, klej akrylowy równomiernie naniesiony na całej powierzchni przylepnej, wyrób medyczny klasy IIa, niepylące, nierwące się w kierunku otwarcia opakowanie typu folia-folia z polietylenu o wysokiej gęstości, zapewniające sterylną powierzchnię dla odłożenia opatrunku po otwarciu opakowania | C8: szt. | D8: 100
A9: 5 | B9: Sterylny włókninowy opatrunek do wkłuć obwodowych z dodatkową podkładką, z wycięciem na port pionowy, rozmiar 5,1x7,6cm | C9: szt. | D9: 2000
A10: 6 | B10: Przylepiec chirurgiczny, w 100% z włókniny poliestrowej, hypoalergiczny, perforowany na całej powierzchni umożliwiającej precyzyjne dzielenie bez nożyczek wzdłuż i w poprzek, oddychający, z klejem akrylowym bez zawartości uczulającego tlenku cynku, Rozmiar 2,5cm x 9,1 m. | C10: szt. | D10: 8000
A11: 7 | B11: Piankowy przylepiec chirurgiczny, 2.5 cm x 5 m,, elastyczny przylepiec piankowy. Miękki materiał zwiększa komfort pacjenta. Dobrze dopasowuje się do kształtu ciała, stawów i fałdów skórnych. Zapewnia ochronę wyniosłości kostnych i amortyzację w przypadku urazu, przyleganie przylepca w przypadku obrzęków oraz nad powierzchniami stawowymi. | C11: szt. | D11: 96
A12: 8 | B12: Sterylny, opatrunek z folii poliuretanowe ( Potwierdzenie bariery folii dla wirusów =>27nm przez niezależne laboratorium), bez wycięcia do żelu znieczulającego, odporny na działanie środków dezynfekcyjnych zawierających alkohol, opakowanie foliowo-foliowe. Wyrób medyczny klasy min. Ila., 6x7cm | C12: szt. | D12: 600
A13: 9 | B13: Mikroporowaty przylepiec chirurgiczny, 2.5 cm x 9.1 m. Przylepiec chirurgiczny, hypoalergiczny, z mikroporowatej włókniny, z wodoodpornym równomiernie naniesionym na całej powierzchni klejem akrylowym, bez lateksu, kauczuku i tlenku cynku, wybitnie delikatny dla skóry. | C13: szt. | D13: 200
A14: 10 | B14: Przylepiec chirurgiczny, hypoalergiczny, z przezroczystego mikroporowatego polietylenu, perforowany na całej powierzchni umożliwiającej dzielenie bez nożyczek wzdłuż i w poprzek, elastyczny z wodoodpornym klejem akrylowym bez zawartości uczulającego tlenku cynku 2,5cmx5m | C14: szt. | D14: 50
A15: 11 | B15: Skoncentrowany trójpolimerowy krem z silikonem do ochrony skóry przed działaniem płynów oraz nietrzymaniem moczu/kału, nawilżający, bez zawartości tlenku cynku i alkoholu, działanie przez 24 godziny, | C15: 92g tuba | D15: 50
A16: 12 | B16: Sterylny bezalkoholowy trójpolimerowy preparat z silikonem do ochrony skóry zdrowej i uszkodzonej, dodatek plastycyzera zapewnia niepękającą barierę na skórze. działanie ochronne przez 72 godziny, | C16: 28ml atomizer | D16: 60
... A22: 18 | B22: Sterylny przeżroczysty opatrunek do mocowania podskórnych portów naczyniowych wykonany z folii poliuretanowej rozmiar 12x12cm. Przeżroczysta folia nie zawiera kleju. Obrzeża opatrunku wmocnione laminowaną włókniną zawierającą klej aktylowy z nacięciami na brzgach oraz wycięciem. Ramka ułatiająca aplikację, duży pasek włókninowy, laminowany do mocowania oraz metka do oznaczenia. | C22: Op=25 | D22: 10
B23: RAZEM
B26: Wszystki oferowany asortyment jest wyrobem medycznym.
B27: Oświadczam, że oferowany przedmiot zamówienia jest zgodny z opisem i spełnia wymagane parametry techniczne
B29: data ………………………………. | G29: podpis ……………………………………….

Sheet zad. 7
B1: Załacznik nr 9 do SWZ
B2: ZOZ/DZP/PN/12/25 | D2: FORMULARZ CENOWY
A3: Zadanie nr 7: Obłożenie C
A4: Lp. | B4: Nazwa produktu | C4: Jednostka miary | D4: Ilość | E4: Cena jednostkowa netto | F4: Wartość netto | G4: VAT | H4: Cena jednostkowa brutto | I4: Wartość brutto | J4: Producent/Nazwa handlowa/Numer katalogowy
A5: 1 | B5: Zestaw do cięcia cesarskiego z akcesoriami | C5: szt. | D5: 1000
A6: 2 | B6: Zestaw ginekologiczny | C6: szt. | D6: 250
A7: 3 | B7: Zestaw do barku | C7: szt. | D7: 250
A8: 4 | B8: Zestaw do szyi. | C8: szt. | D8: 100
A9: 5 | B9: Zestaw laryngologiczny. | C9: szt. | D9: 500
A10: 6 | B10: Zestaw do migdałków. | C10: szt. | D10: 250
A11: 7 | B11: Osłona na kończynę | C11: szt | D11: 425
B12: RAZEM
A14: Ad.1 | B14: Zestaw do cięcia cesarskiego z akcesoriami Wymagania: Materiał obłożenia spełnia wymagania wysokie normy EN PN 13795 : 2019 . Całość zawinięta w serwetę instrumentariuszki. Zestaw powinien być wyposażony w minimum 4 samoprzylepne etykiety( dwie z kodem QR i dwie z kodem EAN), z nr katalogowym, datą ważności i numerem serii, służące do archiwizacji danych. Zawartość zestawu opisana w języku polskim na etykiecie produktowej naklejonej na opakowaniu. Opakowanie - torba z przezroczystej foli polietylenowej z klapką zgrzewaną z folią, w celu zminimalizowania ryzyka rozjałowienia zawartości podczas wyjmowania z opakowania, przy zgrzewie powinien znajdować się sterylny margines. Okres ważności minimum 12 miesięcy od daty dostawy Skład: Serweta na stolik instrumentariuszki 150 x 190 cm stanowiąca owinięcie zestawu - serweta wykonana z laminatu dwuwarstwowego: włóknina polipropylenowa i folia polietylenowa. Serweta posiada w części środkowej wzmocnienie - łatę chłonną (75 cm x 100 cm) wykonaną z laminatu dwuwarstwowego: włóknina polipropylenowa i folia polietylenowa. Gramatura materiału w obszarze wzmocnionym min. 80 g/m2 - 1szt. Ręcznik 30x40cm - 2 szt. Sterylny fartuch chirurgiczny wykonany z miękkiej, przewiewnej włókniny SMMS o gramaturze min. 35 g/m2. Fartuch z zakładanymi połami złożony w sposób zapewniający aseptyczną aplikację i zachowujący sterylny obszar na plecach (złożenie typu book folded). Długość mankietu min 8 cm. Mankiety wykonane z poliestru. Wiązany na troki wewnętrzne oraz troki zewnętrzne z kartonikiem; z tyłu, w okolicach szyi, zapięcie na rzep. Posiada oznakowanie rozmiaru w postaci naklejki, naklejonej na fartuchu, pozwalające na identyfikację przed rozłożeniem. Rozmiar fartucha oznaczony na dwa sposoby: w centymetrach oznaczających jego długość - 130 cm (+/- 5 cm) oraz literowo L - 1szt. Serweta na stolik Mayo 80x145cm (+/- 2 cm) w kształcie worka, złożona w sposób umożliwiający aseptyczną aplikację, wykonana z folii polietylenowej. Obszar wzmocniony wykonany z włókniny polipropylenowej. Gramatura materiału w obszarze wzmocnionym 85 (+/- 0,5) g/m2, wielkość wzmocnienia 75 cm x 90 cm ( +/- 2cm) - 1 szt. Fartuch chirurgiczny SMMS 150cm - Sterylny fartuch chirurgiczny wykonany z miękkiej, przewiewnej włókniny SMMS o gramaturze 35 g/m2 w kolorze turkusowym. Fartuch posiada nieprzemakalne wzmocnienia wykonane z laminatu dwuwarstwowego: włóknina polipropylenowa i folia polietylenowa. Wzmocnienia znajdują się w części przedniej i na rękawach. Gramatura wzmocnienia w części przedniej fartucha i na rękawach: min. 40 g/m2. Fartuch z zakładanymi połami złożony w sposób zapewniający aseptyczną aplikację i zachowujący sterylny obszar na plecach (złożenie typu book folded). Wiązany na troki wewnętrzne oraz troki zewnętrzne z kartonikiem; z tyłu, w okolicach szyi, zapięcie na rzep min. 3 cm x 6 cm i 3 cm x 13 cm, mankiety o długości 8 cm ( + 2 cm ), wykonane z poliestru. Taśma poliestrowa zabezpieczająca łączenie materiału wzmocnienia wzdłuż rękawów. Posiada oznakowanie rozmiaru w postaci naklejki naklejone na fartuchu, pozwalające na identyfikację przed rozłożeniem. Rozmiar fartucha oznaczony na dwa sposoby: w centymetrach oznaczających jego długość - 150 cm (+/- 5 cm) oraz literowo XL - 2 szt. Miska okrągła ze skalą o pojemności 250ml - 2 szt. Tupfery z gazy 20 nitkowej wielkości jajka - 5 szt. Zacisk tupfera z tworzywa sztucznego niebieski min. 24 cm - 1 szt. Zestaw do odsysania typu Yankauer, boczne otwory, nasadka lejkowa, CH 30, fo 8 mm, długość drenu 200 cm - 1 szt. Licznik igieł transparentny - magnetyczny, 1,5 cm h - 1 szt. Skalpel bezpieczny nr 20 -2 szt. Zacisk do pępowiny - 2 szt. Kompresy gazowe 10x10cm, 16 warstwowe,17 nitkowe z nitką RTG – 20 szt. Serweta do laparotomii ze znacznikiem RTG, 50x60cm, 6-warstwowa, biała - 2 szt. Opatrunek chirurgiczny 10x25cm - 1 szt. Kieszeń na ssaki 1 komorowa, foliowa o wymiarach 38x40cm - 1 szt. Serweta dla dziecka 90x100cm - 1 szt. Serweta do cesarskiego cięcia w kształcie litery T 260/200x335cm, wykonana z laminatu 2-warstwowego składającego się z hydrofilowej włókniny polipropylenowej i dwukolorowej (niebiesko-zielono/białej) folii polietylenowej o gramaturze 57(+/-0,5 g/m2) , okno 35x37cm, otoczone folią 46x50cm - 1 szt.
A27: Ad.2 | B27: Zetstaw ginekologiczny Wymagania: Materiał obłożenia spełnia wymagania wysokie normy EN PN 13795 : 2019 .Całość zawinięta w serwetę instrumentariuszki. Zestaw powinien być wyposażony w miniumum 4 samoprzylepne etykiety( dwie z kodem QR i dwie z kodem EAN), z nr katalogowym, datą ważności i numerem serii, służące do archiwizacji danych. Zawartość zestawu opisana w języku polskim na etykiecie produktowej naklejonej na opakowaniu. Opakowanie - torba z przezroczystej foli polietylenowej z klapką zgrzewaną z folią, w celu zminimalizowania ryzyka rozjałowienia zawartości podczas wyjmowania z opakowania, przy zgrzewie powinien znajdować się sterylny margines. Okres ważności minimum 12 miesięcy od daty dostawy Skład: Serweta na stolik instrumentariuszki 150 x 190 cm, stanowiąca owinięcie zestawu-serweta wykonana z laminatu dwuwarstwowego: włóknina polipropylenowa i folia polietylenowa. Serweta posiada w części środkowej wzmocnienie - łatę chłonną (75 cm x 100 cm) wykonaną z laminatu dwuwarstwowego: włóknina polipropylenowa i folia polietylenowa. Gramatura materiału w obszarze wzmocnionym min. 80 g/m2 - 1szt. Sterylny fartuch chirurgiczny wykonany z miękkiej, przewiewnej włókniny SMMS o gramaturze min. 35 g/m2.Fartuch z zakładanymi połami złożony w sposób zapewniający aseptyczną aplikację i zachowujący sterylny obszar na plecach (złożenie typu book folded).Długość mankietu min 8 cm. Mankiety wykonane z poliestru. Wiązany na troki wewnętrzne oraz troki zewnętrzne z kartonikiem; z tyłu, w okolicach szyi, zapięcie na rzep. Posiada oznakowanie rozmiaru w postaci naklejki, naklejonej na fartuchu, pozwalające na identyfikację przed rozłożeniem. Rozmiar fartucha oznaczony na dwa sposoby: w centymetrach oznaczających jego długość - 130 cm (+/- 5 cm) oraz literowo L - 1szt. Fartuch chirurgiczny SMMS 150cm- Sterylny fartuch chirurgiczny wykonany z miękkiej, przewiewnej włókniny SMMS o gramaturze 35 g/m2 w kolorze turkusowym. Fartuch posiada nieprzemakalne wzmocnienia wykonane z laminatu dwuwarstwowego: włóknina polipropylenowa i folia polietylenowa. Wzmocnienia znajdują się w części przedniej i na rękawach. Gramatura wzmocnienia w części przedniej fartucha i na rękawach: min. 40 g/m2. Fartuch z zakładanymi połami złożony w sposób zapewniający aseptyczną aplikację i zachowujący sterylny obszar na plecach (złożenie typu book folded). Wiązany na troki wewnętrzne oraz troki zewnętrzne z kartonikiem; z tyłu, w okolicach szyi, zapięcie na rzep min. 3 cm x 6 cm i 3 cm x 13 cm, mankiety o długości 8 cm ( + 2 cm ), wykonane z poliestru. Taśma poliestrowa zabezpieczająca łączenie materiału wzmocnienia wzdłuż rękawów. Posiada oznakowanie rozmiaru w postaci naklejki naklejone na fartuchu, pozwalające na identyfikację przed rozłożeniem. Fartuch zaprojektowany dla operatorów o dużych gabarytach. Rozmiar fartucha oznaczony na dwa sposoby: w centymetrach oznaczających jego długość - 150 cm large (+/- 5 cm) oraz literowo XXL – 1 szt. Zacisk tupfera z tworzywa sztucznego niebieski min. 24 cm - 1 szt. Skalpel bezpieczny nr 10 - 1 szt. Miska bezbarwna okrągła ze skalą o pojemności 250ml - 2 szt. Tupfery z gazy 20 nitkowej wielkości jajka - 5 szt. Kompresy gazowe 10x10cm, 16 warstwowe,17 nitkowe z nitką RTG - 10 szt. Serweta wykonana z materiału dwuwarstwowego o wymiarach min. 37,5 x 45cm. Gramatura laminatu min 40g/m2 - 1 szt. Serweta ginekologiczna wzmocniona 230 cm x 240/260 cm ze zintegrowanymi osłonami na kończyny dolne, z otworem na krocze 10 cm x 15 cm, ze zintegrowaną torbą na płyny z sitkiem i zaworem. Wykonana z laminatu dwuwarstwowego: włóknina polipropylenowa i folia polietylenowa. Gramatura laminatu podstawowego 57 g/m2 (+/-0,5g/m2). Wokół pola operacyjnego polipropylenowa łata chłonna. Całkowita gramatura laminatu podstawowego i łaty chłonnej 109 g/m2 (+/-0,5g/m2) - 1 szt. Serweta o wymiarach 45x75 cm, wykonana z laminatu dwuwarstwowego włóknina polipropylenowa i folia polietylenowa. Gramatura laminatu min. 40g/m2 - 1 szt.
A44: Ad 3 | B44: Zestaw do barku Wymagania: Materiał obłożenia spełnia wymagania wysokie normy EN PN 13795 : 2019 . Wszystkie składowe ułożone w kolejności umożliwiającej sprawną aplikację zgodnie z zasadami aseptyki. Całość zawinięta w serwetę instrumentariuszki. Zestaw powinien być wyposażony w miniumum 4 samoprzylepne etykiety( dwie z kodem QR i dwie z kodem EAN), z nr katalogowym, datą ważności i numerem serii, służące do archiwizacji danych. Zawartość zestawu opisana w języku polskim na etykiecie produktowej naklejonej na opakowaniu. Opakowanie - torba z przezroczystej foli polietylenowej z klapką zgrzewaną z folią, w celu zminimalizowania ryzyka rozjałowienia zawartości podczas wyjmowania z opakowania, przy zgrzewie powinien znajdować się sterylny margines. Okres ważności minimum 12 miesięcy od daty dostawy. Skład: Serweta na stolik instrumentariuszki 150 cm x 190 cm, stanowiąca owinięcie zestawu-serweta wykonana z laminatu dwuwarstwowego: włóknina polipropylenowa i folia polietylenowa. Serweta posiada w części środkowej wzmocnienie - łatę chłonną (75 cm x 100 cm) wykonaną z laminatu dwuwarstwowego: włóknina polipropylenowa i folia polietylenowa. Gramatura materiału w obszarze wzmocnionym min. 80 g/m2 - 1szt. Sterylny fartuch chirurgiczny wykonany z miękkiej, przewiewnej włókniny SMMS o gramaturze min. 35 g/m2.Fartuch z zakładanymi połami złożony w sposób zapewniający aseptyczną aplikację i zachowujący sterylny obszar na plecach (złożenie typu book folded). Długość mankietu min 8 cm. Mankiety wykonane z poliestru. Wiązany na troki wewnętrzne oraz troki zewnętrzne z kartonikiem; z tyłu, w okolicach szyi, zapięcie na rzep. Posiada oznakowanie rozmiaru w postaci naklejki, naklejonej na fartuchu, pozwalające na identyfikację przed rozłożeniem. Rozmiar fartucha oznaczony na dwa sposoby: w centymetrach oznaczających jego długość – 130 cm (+/- 5 cm) oraz literowo L - 1szt. Serweta na stolik Mayo 80x145cm (+/- 2 cm) w kształcie worka, złożona w sposób umożliwiający aseptyczną aplikację, wykonana z folii polietylenowej. Obszar wzmocniony wykonany z włókniny polipropylenowej. Gramatura materiału w obszarze wzmocnionym 85 (+/- 0,5) g/m2, wielkość wzmocnienia 75 cm x 90 cm ( +/- 2cm) - 1 szt. Fartuch chirurgiczny SMMS 170cm- Sterylny fartuch chirurgiczny wykonany z miękkiej, przewiewnej włókniny SMMS o gramaturze 35 g/m2 w kolorze turkusowym. Fartuch posiada nieprzemakalne wzmocnienia wykonane z laminatu dwuwarstwowego: włóknina polipropylenowa i folia polietylenowa. Wzmocnienia znajdują się w części przedniej i na rękawach. Gramatura wzmocnienia w części przedniej fartucha i na rękawach: min. 40 g/m2. Fartuch z zakładanymi połami złożony w sposób zapewniający aseptyczną aplikację i zachowujący sterylny obszar na plecach (złożenie typu book folded). Wiązany na troki wewnętrzne oraz troki zewnętrzne z kartonikiem; z tyłu, w okolicach szyi, zapięcie na rzep min. 3 cm x 6 cm i 3 cm x 13 cm, mankiety o długości 8 cm ( + 2 cm ), wykonane z poliestru. Taśma poliestrowa zabezpieczająca łączenie materiału wzmocnienia wzdłuż rękawów. Posiada oznakowanie rozmiaru w postaci naklejki naklejone na fartuchu, pozwalające na identyfikację przed rozłożeniem. Fartuch zaprojektowany dla operatorów o dużych gabarytach. Rozmiar fartucha oznaczony na dwa sposoby: w centymetrach oznaczających jego długość - 170 cm (+/- 5 cm) oraz literowo XL Long - 1 szt. Zacisk niebieski 24cm – 1 szt. Miska 250ml – 1 szt. Miska niebieska 250ml - 1 szt. Tupfer gazowy z elementem kontrastującym rozm.6 – 5 szt. Skalpel bezpieczny Fig. 11 – 1 szt. Kaniula jednorazowa 0,80x40mm – 1 szt. Osłona na kamerę składana teleskopowo 13x250cm – 1 szt. Kompresy gazowe z nitką RTG 12-warstwowe 10x10cm – 20 szt. Taśma samoprzylepna włókninowa 9x50cm – 1 szt. Dren ssący Ch.25 300cm lejek/lejek – 1 szt. Osłona ortopedyczna 33x55cm z 1 foliowym paskiem samoprzylepnym – 1 szt. Serweta 2-warstwowa 100x150cm- 1 szt Samoprzylepna serweta do artroskopii stawu barkowego 225x380cm z samouszczelniającym się otworem w kształcie gruszki 11,5x12,5 cm, ze zintegrowaną torbą do zbiórki płynów posiadającą sztywnik z zaworem do podłączenia drenu, z trzema uchwytami do mocowania przewodów i drenów typu rzep. Obłożenie pacjenta wykonane z laminatu dwuwarstwowego włóknina polipropylenowa i folia polietylenowa. Gramatura laminatu 57 g/m2 (+/-0,5g/m2). Odporność na przenikanie cieczy na sucho/mokro 175/185 (+/-1) kPa. -1 szt
A45: Ad.4 | B45: Zestaw do szyi . Wymagania: Materiał obłożenia spełnia wymagania wysokie normy EN PN 13795 : 2019 . Wszystkie składowe ułożone w kolejności umożliwiającej sprawną aplikację zgodnie z zasadami aseptyki. Całość zawinięta w serwetę instrumentariuszki. Zestaw powinien być wyposażony w miniumum 4 samoprzylepne etykiety( dwie z kodem QR i dwie z kodem EAN), z nr katalogowym, datą ważności i numerem serii, służące do archiwizacji danych. Zawartość zestawu opisana w języku polskim na etykiecie produktowej naklejonej na opakowaniu. Opakowanie - torba z przezroczystej foli polietylenowej z klapką zgrzewaną z folią, w celu zminimalizowania ryzyka rozjałowienia zawartości podczas wyjmowania z opakowania, przy zgrzewie powinien znajdować się sterylny margines. Okres ważności minimum 12 miesięcy od daty dostawy. Skład: Serweta na stolik instrumentariuszki 150 cm x 190 cm, stanowiąca owinięcie zestawu-serweta wykonana z laminatu dwuwarstwowego: włóknina polipropylenowa i folia polietylenowa. Serweta posiada w części środkowej wzmocnienie - łatę chłonną (75 cm x 100 cm) wykonaną z laminatu dwuwarstwowego: włóknina polipropylenowa i folia polietylenowa. Gramatura materiału w obszarze wzmocnionym min. 80 g/m2 - 1szt. Sterylny fartuch chirurgiczny wykonany z miękkiej, przewiewnej włókniny SMMS o gramaturze min. 35 g/m2.Fartuch z zakładanymi połami złożony w sposób zapewniający aseptyczną aplikację i zachowujący sterylny obszar na plecach (złożenie typu book folded). Długość mankietu min 8 cm. Mankiety wykonane z poliestru. Wiązany na troki wewnętrzne oraz troki zewnętrzne z kartonikiem; z tyłu, w okolicach szyi, zapięcie na rzep. Posiada oznakowanie rozmiaru w postaci naklejki, naklejonej na fartuchu, pozwalające na identyfikację przed rozłożeniem. Rozmiar fartucha oznaczony na dwa sposoby: w centymetrach oznaczających jego długość – 130 cm (+/- 5 cm) oraz literowo L – 3 szt. Serweta na stolik Mayo 80x145cm (+/- 2 cm) w kształcie worka, złożona w sposób umożliwiający aseptyczną aplikację, wykonana z folii polietylenowej. Obszar wzmocniony wykonany z włókniny polipropylenowej. Gramatura materiału w obszarze wzmocnionym 85 (+/- 0,5) g/m2, wielkość wzmocnienia 75 cm x 90 cm ( +/- 2cm) - 1 szt. Zacisk niebieski 24 cm – 1 szt. Miska 250ml – 1 szt. Miska niebieska 250ml - 1 szt. Tupfer gazowy z elementem kontrastującym rozm.6– 3 szt. Skalpel bezpieczny Fig. 15 – 1 szt. Kompresy gazowe z nitką RTG 12-warstwowe 10x10cm – 30 szt. Dren ssący Ch.25 300cm lejek/lejek – 1 szt. Końcówka do odsysania standardowa fi. 6 mm – 1 szt. Końcówka do odsysania metalowa typu Ferg 4x150mm – 1 szt. Serweta 2-warstwowa wzmocniona 225x240cm wycięcie 20x20cm. Odporność na przenikanie cieczy w obszarze wzmocnionym na sucho/mokro 283/273 (+/-1) kPa. – 1 szt. Serweta 2–warstwowa 150x260cm wycięcie 60x20cm. Odporność na przenikanie cieczy na sucho/mokro 175/185 (+/-1) kPa. – 1 szt.
A46: Ad.5 | B46: Zestaw laryngologiczny Wymagania: Materiał obłożenia spełnia wymagania wysokie normy EN PN 13795 : 2019 . Wszystkie składowe ułożone w kolejności umożliwiającej sprawną aplikację zgodnie z zasadami aseptyki. Całość zawinięta w serwetę instrumentariuszki. Zestaw powinien być wyposażony w miniumum 4 samoprzylepne etykiety( dwie z kodem QR i dwie z kodem EAN), z nr katalogowym, datą ważności i numerem serii, służące do archiwizacji danych. Zawartość zestawu opisana w języku polskim na etykiecie produktowej naklejonej na opakowaniu. Opakowanie - torba z przezroczystej foli polietylenowej z klapką zgrzewaną z folią, w celu zminimalizowania ryzyka rozjałowienia zawartości podczas wyjmowania z opakowania, przy zgrzewie powinien znajdować się sterylny margines. Okres ważności minimum 12 miesięcy od daty dostawy. Skład: Serweta na stolik instrumentariuszki 150 cm x 190 cm, stanowiąca owinięcie zestawu-serweta wykonana z laminatu dwuwarstwowego: włóknina polipropylenowa i folia polietylenowa. Serweta posiada w części środkowej wzmocnienie - łatę chłonną (75 cm x 100 cm) wykonaną z laminatu dwuwarstwowego: włóknina polipropylenowa i folia polietylenowa. Gramatura materiału w obszarze wzmocnionym min. 80 g/m2 - 1szt. Sterylny fartuch chirurgiczny wykonany z miękkiej, przewiewnej włókniny SMMS o gramaturze min. 35 g/m2.Fartuch z zakładanymi połami złożony w sposób zapewniający aseptyczną aplikację i zachowujący sterylny obszar na plecach (złożenie typu book folded). Długość mankietu min 8 cm. Mankiety wykonane z poliestru. Wiązany na troki wewnętrzne oraz troki zewnętrzne z kartonikiem; z tyłu, w okolicach szyi, zapięcie na rzep. Posiada oznakowanie rozmiaru w postaci naklejki, naklejonej na fartuchu, pozwalające na identyfikację przed rozłożeniem. Rozmiar fartucha oznaczony na dwa sposoby: w centymetrach oznaczających jego długość – 130 cm (+/- 5 cm) oraz literowo L – 2 szt. Serweta na stolik Mayo 80x145cm (+/- 2 cm) w kształcie worka, złożona w sposób umożliwiający aseptyczną aplikację, wykonana z folii polietylenowej. Obszar wzmocniony wykonany z włókniny polipropylenowej. Gramatura materiału w obszarze wzmocnionym 85 (+/- 0,5) g/m2, wielkość wzmocnienia 75 cm x 90 cm ( +/- 2cm) - 1 szt. Zacisk niebieski 24cm – 1 szt. Miska bezbarwna 250ml - 1 szt. Miska niebieska 120 ml- 2 szt Tupfer gazowy z elementem kontrastującym rozm.4 – 3 szt. Skalpel bezpieczny Fig. 15- 1 szt Kaniula 20 Gx 90 mm- 1 szt Kaniula 21G x40 mm- 1 szt Kaniula 18Gx40mm- 1 szt Strzykawka dwuczęściowa 5 ml- 1 szt Strzykawka dwuczęściowa 10 ml- 1 szt Końcówka do odsysania typu Ferg 4x150 mm- 1 szt Końcówka do odsysania typu Frazier 3x150 mm- 1 szt Dren lejek/lejek Ch 25, 300 cm- 1 szt Tupfer gazowy z elementem kontrastującym rozm.2– 10szt. Kompresy gazowe z nitką RTG 12-warstwowe 10x10cm – 10 szt. Serweta przylepna 2-warstwowa 150x250cm, wycięcie 10x80 cm. Gramatura laminatu 57 g/m2 (+/-0,5 g/m2).Odporność na przenikanie cieczy na sucho/mokro 175/185 (+/-1) kPa.- 1 szt Serweta przylepna 2-warstwowa 150x240cm. Gramatura laminatu 57 g/m2 (+/-0,5 g/m2).Odporność na przenikanie cieczy na sucho/mokro 175/185 (+/-1) kPa.- 1 szt
A47: Ad.6 | B47: Zestaw do migdałków Wymagania: Materiał obłożenia spełnia wymagania wysokie normy EN PN 13795 : 2019 . Wszystkie składowe ułożone w kolejności umożliwiającej sprawną aplikację zgodnie z zasadami aseptyki. Całość zawinięta w serwetę instrumentariuszki. Zestaw powinien być wyposażony w miniumum 4 samoprzylepne etykiety( dwie z kodem QR i dwie z kodem EAN), z nr katalogowym, datą ważności i numerem serii, służące do archiwizacji danych. Zawartość zestawu opisana w języku polskim na etykiecie produktowej naklejonej na opakowaniu. Opakowanie - torba z przezroczystej foli polietylenowej z klapką zgrzewaną z folią, w celu zminimalizowania ryzyka rozjałowienia zawartości podczas wyjmowania z opakowania, przy zgrzewie powinien znajdować się sterylny margines. Okres ważności minimum 12 miesięcy od daty dostawy. Skład: Serweta na stolik instrumentariuszki 150 cm x 190 cm, stanowiąca owinięcie zestawu-serweta wykonana z laminatu dwuwarstwowego: włóknina polipropylenowa i folia polietylenowa. Serweta posiada w części środkowej wzmocnienie - łatę chłonną (75 cm x 100 cm) wykonaną z laminatu dwuwarstwowego: włóknina polipropylenowa i folia polietylenowa. Gramatura materiału w obszarze wzmocnionym min. 80 g/m2 - 1szt. Sterylny fartuch chirurgiczny wykonany z miękkiej, przewiewnej włókniny SMMS o gramaturze min. 35 g/m2.Fartuch z zakładanymi połami złożony w sposób zapewniający aseptyczną aplikację i zachowujący sterylny obszar na plecach (złożenie typu book folded). Długość mankietu min 8 cm. Mankiety wykonane z poliestru. Wiązany na troki wewnętrzne oraz troki zewnętrzne z kartonikiem; z tyłu, w okolicach szyi, zapięcie na rzep. Posiada oznakowanie rozmiaru w postaci naklejki, naklejonej na fartuchu, pozwalające na identyfikację przed rozłożeniem. Rozmiar fartucha oznaczony na dwa sposoby: w centymetrach oznaczających jego długość – 130 cm (+/- 5 cm) oraz literowo L – 2 szt. Serweta na stolik Mayo 80x145cm (+/- 2 cm) w kształcie worka, złożona w sposób umożliwiający aseptyczną aplikację, wykonana z folii polietylenowej. Obszar wzmocniony wykonany z włókniny polipropylenowej. Gramatura materiału w obszarze wzmocnionym 85 (+/- 0,5) g/m2, wielkość wzmocnienia 75 cm x 90 cm ( +/- 2cm) - 1 szt. Zacisk niebieski 24cm – 1 szt. Miska bezbarwna 250ml - 1 szt. Miska niebieska 250 ml- 1szt Tupfer gazowy z elementem kontrastującym rozm.4 – 3 szt. Skalpel bezpieczny Fig. 15- 1 szt Kaniula 20 Gx 90 mm- 1 szt Kaniula 21G x40 mm- 1 szt Kaniula 18Gx40mm- 1 szt Strzykawka dwuczęściowa 5 ml- 1 szt Strzykawka dwuczęściowa 10 ml- 1 szt Końcówka do odsysania typu Ferg 4x150 mm- 1 szt Końcówka do odsysania typu Frazier 3x150 mm- 1 szt Dren lejek/lejek Ch 25, 300 cm- 1 szt Tupfer gazowy z elementem kontrastującym rozm.2– 10szt. Kompresy gazowe z nitką RTG 12-warstwowe 7,5x7,5cm – 10 szt. Miska bezbarwna 60 ml- 1 szt Serweta dwuwarstwowa 112x150 cm, otwór 10x14 cm w kształcie rombu, umieszczony decentralnie. , Gramatura laminatu 57 g/m2 (+/-0,5 g/m2).Odporność na przenikanie cieczy na sucho/mokro 175/185 (+/-1) kPa.- 1 szt Serweta przylepna 2-warstwowa 175x180cm, Gramatura laminatu 57 g/m2 (+/-0,5 g/m2).Odporność na przenikanie cieczy na sucho/mokro 175/185 (+/-1) kPa.- 1 szt
A48: Ad. 7 | B48: Osłona na kończynę Osłona na kończynę o wymiarach 24 x 80 cm z 1 foliową taśmą samoprzylepną 10 cm x 50 cm ( krótka ) Osłona na kończynę wykonana z termoplastycznej folii elastomerowej oraz elastycznej bielonej dzianiny. Materiał obłożenia spełnia wymagania normy EN PN 13795. Opakowanie jednostkowe posiada min. 2 etykiety samoprzylepne zawierające dane producenta, nr katalogowy, LOT i datę ważności. Osłona na kończynę wykonana z termoplastycznej folii elastomerowej ( na zewnątrz ) oraz elastycznej bielonej dzianiny ( od wewnątrz ) pakowana a' 1 szt z 1 polietylenową taśmą samoprzylepną 10 x 50 cm. Opakowanie zbiorcze 17 szt w formie kartonowego podajnika/ dyspensera, do transportu pakowane dodatkowo w karton zewnętrzny.
B49: Wszystki oferowany asortyment jest wyrobem medycznym.
B50: Oświadczam, że oferowany przedmiot zamówienia jest zgodny z opisem i spełnia wymagane parametry techniczne
B52: data ………………………………. | G52: podpis ……………………………………….

Sheet zad. 8
B1: Załacznik nr 9 do SWZ
B2: ZOZ/DZP/PN/12/25 | D2: FORMULARZ CENOWY
A3: Zadanie nr 8: Gąbka hemostatyczna 2
A4: Lp. | B4: Nazwa produktu | C4: Jednostka miary | D4: Ilość | E4: Cena jednostkowa[zł] netto | F4: Wartość [zł] netto | G4: VAT | H4: Cena jednostkowa [zł] brutto | I4: Wartość [zł] brutto | J4: Producent/ Nazwa handlowa/ Numer katalogowy
A5: 1 | B5: Gąbka hemostatyczna, wytwarzaną z wysokooczyszczonej obojętnej żelatyny wieprzowej do zastosowania w różnych procedurach chirurgicznych, w których uzyskanie hemostazy w sposób konwencjonalny jest trudne lub niewykonalne i nie zaleca się zastosowania innych niewchłanialnych materiałów. Produkt dostępny jest w różnych wygodnych rozmiarach w postaci sterylizowanej promieniami gamma w odpowiednim podwójnym jałowym opakowaniu typu blister lub w torebkach przeznaczonych do specjalnych wymiarów. Gąbka wchłania w przybliżeniu 40-50-krotność wody w stosunku do swojej wagi i łatwo przylega do miejsca krwawienia. Jednorodna porowatość, zapewnia łatwą hemostazę. Przy implantacji in vivo ulega całkowitemu wchłonięciu w ciągu 3-4 tygodni. Produkt jest nietoksyczny, niealergizujący, nieimmunogenny, apirogenny . Rozmiar: tampon analny w rozmiarze 80x30mm | C5: Op=5 szt | D5: 20
A6: 2 | B6: Gąbka hemostatyczna, wytwarzaną z wysokooczyszczonej obojętnej żelatyny wieprzowej do zastosowania w różnych procedurach chirurgicznych, w których uzyskanie hemostazy w sposób konwencjonalny jest trudne lub niewykonalne i nie zaleca się zastosowania innych niewchłanialnych materiałów. Produkt dostępny jest w różnych wygodnych rozmiarach w postaci sterylizowanej promieniami gamma w odpowiednim podwójnym jałowym opakowaniu typu blister lub w torebkach przeznaczonych do specjalnych wymiarów. Gąbka wchłania w przybliżeniu 40-50-krotność wody w stosunku do swojej wagi i łatwo przylega do miejsca krwawienia. Jednorodna porowatość, zapewnia łatwą hemostazę. Przy implantacji in vivo ulega całkowitemu wchłonięciu w ciągu 3-4 tygodni. Produkt jest nietoksyczny, niealergizujący, nieimmunogenny, apirogenny . Rozmiar: 8x5x1cm | C6: Op=10 szt. | D6: 50
B7: RAZEM
B9: umowa na okres 24 miesięcy, w tym realizacja dostaw od 11.03.2026-01.08.2027;
B10: Data | G10: Podpis osoby/osób upoważnionej
B11: ……………………………………………. | G11: ……………………………….

Sheet zad. 9
B2: Załacznik nr 9 do SWZ
B3: ZOZ/DZP/PN/12/25 | D3: FORMULARZ CENOWY
A4: Zadanie nr: 9 Obłożenia operacyjne A
A5: Lp. | B5: Nazwa produktu | C5: Jednostka miary | D5: Ilość | E5: Cena jednostkowa netto | F5: Wartość netto | G5: VAT | H5: Cena jednostkowa brutto | I5: Wartość brutto | J5: Producent/Nazwa handlowa/Numer katalogowy
A6: 1 | B6: Sterylny zestaw serwet uniwersalnych z akcesorium | C6: 1 zestaw | D6: 1100
A7: 2 | B7: Sterylny zestaw do laparoskopii brzusznej z akcesorium | C7: 1 zestaw | D7: 800
A8: 3 | B8: Sterylny zestaw serwet do zabiegów ginekologicznych z akcesoriami | C8: 1 zestaw | D8: 155
A9: 4 | B9: Zestaw do artroskopii z akcesorium | C9: 1 zestaw | D9: 500
A10: 5 | B10: Obłożenie do chirurgii biodra z akcesorium | C10: 1 zestaw | D10: 200
A11: 6 | B11: Jałowy zestaw do wkłucia centralnego | C11: 1zestaw | D11: 250
A12: 7 | B12: Jałowy zestaw do znieczuleń przewodowych. | C12: 1 zestaw | D12: 3400
A13: 8 | B13: Zestaw chirurgiczny do ropnia. | C13: 1 zestaw | D13: 220
A14: 9 | B14: Zestaw do porodu naturalnego | C14: 1 zestaw | D14: 1100
A15: 10 | B15: Zestaw do żylaków kończyn dolnych | C15: 1 zestaw | D15: 650
A16: 11 | B16: Zestaw do drenażu opłucnej | C16: 1 zestaw | D16: 100
A17: 12 | B17: Zestaw do operacji dłoń/stopa z akcesorium | C17: 1 zestaw | D17: 1400
... A25: 20 | B25: Sterylny fartuch chirurgiczny typu SMS, pełnobarierowy, wykonany z włókniny typu SMS, o gramaturze min. 42 g/m2 oraz wzmocnienia min. 42 g/m2 z laminatu w części przedniej i w rękawach. Szwy wykonane techniką ultradźwiękową. rękawy o kroju reglan. Zapięcie w obrębie szyi w formie taśmy wielokrotnego użytku przytwierdzonej do jednej poły fartucha, umożliwiającej zapięcie w dowolnym miejscu w górnej części fartucha i jego dopasowanie. Rękaw zakończony miękkim poliestrowym mankietem nie powodującym ucisku na skórę. Tylne części fartucha zachodzą na siebie, troki łączone kartonikiem, sposób i konstrukcja pozwalająca założenie. W rozmiarach M-XXL. Produkt musi posiadać informacje o dacie ważności i numerze serii w postaci naklejki do umieszczenia na karcie pacjenta. | C25: szt. | D25: 1500
B26: RAZEM
B30: SZCZEGÓŁOWY OPIS ODŁOŻEŃ OPERACYJNYCH A
A31: Ad.1 | B31: Sterylny zestaw serwet uniwersalnych z akcesorium o składzie: 1 x serweta na stół narzędziowy 150 x 190 cm, ze wzmocnieniem 78 x 190 cm, min 90 g/m2 (owinięcie zestawu) 1 x serweta na stolik Mayo 80 x 145 cm, ze wzmocnieniem 65 x 145 cm, min 90 g/m2, składana teleskopowo do środka 1 x serweta 2-warstwowa przylepna 240 x 150 cm z dodatkowym padem chłonnym w obszarze krytycznym min, 50 x 75 cm 2 x serweta 2-warstwowa przylepna 90 x 75 cm z dodatkowym padem chłonnym w obszarze krytycznym min, 35 x 90 cm 1 x serweta 2-warstwowa przylepna 175 x 170 cm z dodatkowym padem chłonnym w obszarze krytycznym min. 50 x 75 cm 1 x fartuch chirurgiczny typu SMS o długości 127 cm, pełnobarierowy, wykonany z włókniny typu SMS, o gramaturze min. 42 g/m2 oraz wzmocnienia min. 42 g/m2 z laminatu w części przedniej i w rękawach. Szwy wykonane techniką ultradźwiękową, rękawy o kroju reglan. Zapięcie w obrębie szyi w formie taśmy wielokrotnego użytku przytwierdzonej do jednej poły fartucha, umożliwiającej zapięcie w dowolnym miejscu w górnej części fartucha i jego dopasowanie. Rękaw zakończony miękkim poliestrowym mankietem nie powodującym ucisku na skórę. Tylne części fartucha zachodzą na siebie, troki łączone kartonikiem, sposób i konstrukcja pozwalająca założenie fartucha z zachowaniem jałowości zarówno z przodu jak i z tyłu operatora. 2 x fartuch chirurgiczny typu SMS o długości 147 cm, pełnobarierowy, wykonany z włókniny typu SMS, o gramaturze min. 42 g/m2 oraz wzmocnienia min. 42 g/m2 z laminatu w części przedniej i w rękawach. Szwy wykonane techniką ultradźwiękową. rękawy o kroju reglan. Zapięcie w obrębie szyi w formie taśmy wielokrotnego użytku przytwierdzonej do jednej poły fartucha, umożliwiającej zapięcie w dowolnym miejscu w górnej części fartucha i jego dopasowanie. Rękaw zakończony miękkim poliestrowym mankietem nie powodującym ucisku na skórę. Tylne części fartucha zachodzą na siebie, troki łączone kartonikiem, sposób i konstrukcja pozwalająca założenie fartucha z zachowaniem jałowości zarówno z przodu jak i z tyłu operatora 2 x skalpel bezpieczny z wysuwanym ostrzem nr 20 1 x skalpel bezpieczny z wysuwanym ostrzem nr 11 1 x kieszeń przylepna 2 sekcje 46 x 40 cm, PE 1 x kabel elektrody czynnej monopolarnej z nożem płąskim 320 cm, 3 bolce 1 x czyścik do koagulacji 5 x 5 cm, kontrastujący w RTG, z RTG 20 x kompres z gazy RTG 10 x 10 cm, 16 w 17 n wiązane 10 sztuk 6 x tupfer z gazy 30 x 30 cm, 20 nitek 1 x pojemnik plastikowy 250 ml z podziałką, przeźroczysty 1 x pojemnik plastikowy 500 ml z podziałką, niebieski 1 x pojemnik na zużyte igły i ostrza skalpeli 10 miejsc magnetyczny 1 x kleszczyki plastikowe proste do mycia pola operacyjnego typu korcang 24 cm 1 x taśma przylepna min. 10 x 50 cm 4 x ręcznik celulozowy min. 30 x 33 cm 1 x pudełko stabilizacyjne Zestawy zgodne z EN 13795-1:2019. Serwety 2-warstwowe PP+PE o gramaturze 55g/m2, bez zawartości wiskozy, celulozy i lateksu, Wysoka odporność na penetrację płynów (zgodnie z EN 20811) min. 210cm H2O, odporność na rozerwanie na sucho i mokro min. 170 kPa. Chłonność włókniny badana wg EN ISO 9073-6: min. 210 ml/m2. a w miejscu padów chłonnych włóknina polipropylenowa o gramaturze min. 120g/m2. Pady chłonne o wysokiej odporności na penetrację płynów (zgodnie z EN 20811) min. 250cm H2O oraz odporności na rozerwanie na sucho min. 370 kPa i na mokro min. 390 kPa. Chłonność włókniny w obszarze wzmocnionym badana wg EN ISO 9073-6: min. 425 ml/m2I. Każdy zestaw zawiera 4 naklejki zientgrowane z 4 kodami kreskowymi oraz Ref, Lot, datę produkcji, datę ważnosci i producenta. Sterylizacjia tlenkiem etylenu.
A32: Ad.2 | B32: Jałowy zestaw do laparoskopii o składzie: 1 x serweta na stół narzędziowy 150 x 190 cm, ze wzmocnieniem 78 x 190 cm, min 90 g/m2 (owinięcie zestawu) 1 x serweta 2-warstwowa do laparoskopii z nogawicami 250/260 x 280 cm, otwór przylepny 32 x 28 cm wykończony folią chirurgiczną; obustronnie zintegrowane Kieszenie 2-sekcyjne oraz pad chłonny w obszarze krytycznym 1 x serweta na stolik Mayo 80 x 145 cm, ze wzmocnieniem 65 x 145 cm,min 90 g/m2, składana teleskopowo do środka 1 x kleszczyki plastikowe do mycia pola operacyjnego typu korcang 24 cm 20 x kompres z gazy RTG 10 x 10 cm, 12 warstw 17 nitek wiązane a 10 sztuk 3 x tupfer z gazy 30 x 30 cm 20 nitek 1 x pojemnik plastikowy 250 ml przeźroczysty, z podziałką 1 x pojemnik plastikowy 250 ml niebieski, z podziałką 3 x opatrunek chłonny przylepny 10 x 8 cm 2 x osłona na kable video 12,5 x 230 cm PE, kartonowa prowadnica, teleskopowo złożona, taśma do mocowania 1 x fartuch chirurgiczny typu SMS o długości 127 cm, pełnobarierowy, wykonany z włókniny typu SMS, o gramaturze min. 42 g/m2. Szwy wykonane techniką ultradźwiękową, rękawy o kroju reglan. Zapięcie w obrębie szyi w formie taśmy wielokrotnego użytku przytwierdzonej do jednej poły fartucha, umożliwiającej zapięcie w dowolnym miejscu w górnej części fartucha i jego dopasowanie. Rękaw zakończony miękkim poliestrowym mankietem nie powodującym ucisku na skórę. Tylne części fartucha zachodzą na siebie, troki łączone kartonikiem, sposób i konstrukcja pozwalająca założenie fartucha z zachowaniem jałowości zarówno z przodu jak i z tyłu operatora. 2 x fartuch chirurgiczny typu SMS o długości 147 cm, pełnobarierowy, wykonany z włókniny typu SMS, o gramaturze min. 42 g/m2. Szwy wykonane techniką ultradźwiękową. rękawy o kroju reglan. Zapięcie w obrębie szyi w formie taśmy wielokrotnego użytku przytwierdzonej do jednej poły fartucha, umożliwiającej zapięcie w dowolnym miejscu w górnej części fartucha i jego dopasowanie. Rękaw zakończony miękkim poliestrowym mankietem nie powodującym ucisku na skórę. Tylne części fartucha zachodzą na siebie, troki łączone kartonikiem, sposób i konstrukcja pozwalająca założenie fartucha z zachowaniem jałowości zarówno z przodu jak i z tyłu operatora 1 x taśma przylepna min. 10 x 50 cm 1 x skalpel bezpieczny z wysuwanym ostrzem nr 11 4 x ręcznik celulozowy min. 30 x 33 cm 1 x zestaw do drenażu pasywnego z drenem silikonowym 100 cm 16 CH oraz workiem 350 ml i dwoma zapinkami 1 x pudełko stabilizacyjne Zestawy zgodne z EN 13795-1:2019. Serwety 2-warstwowe PP+PE o gramaturze 55g/m2, bez zawartości wiskozy, celulozy i lateksu, Wysoka odporność na penetrację płynów (zgodnie z EN 20811) min. 210cm H2O, odporność na rozerwanie na sucho i mokro min. 170 kPa. Chłonność włókniny badana wg EN ISO 9073-6: min. 210 ml/m2. a w miejscu padów chłonnych włóknina polipropylenowa o gramaturze min. 120g/m2. Pady chłonne o wysokiej odporności na penetrację płynów (zgodnie z EN 20811) min. 250cm H2O oraz odporności na rozerwanie na sucho min. 370 kPa i na mokro min. 390 kPa. Chłonność włókniny w obszarze wzmocnionym badana wg EN ISO 9073-6: min. 425 ml/m2I. Każdy zestaw zawiera 4 naklejki zientgrowane z 4 kodami kreskowymi oraz Ref, Lot, datę produkcji, datę ważnosci i producenta. Sterylizacjia tlenkiem etylenu.
A33: Ad.3 | B33: Jałowy zestaw ginekologiczny z akcesoriami o składzie: 1 x serweta ginekologiczna 250/280 x 280 cm, otwór przylepny 9 x 12 cm. Wbudowane osłony na kończyny, zintegrowany worek do zbiórki pynów ze sztywnikiem, sitem i zaworem oraz taśma przylepna do mocowania fartucha 1 x serweta na stolik Mayo 80 x 145 cm, ze wzmocnieniem 65 x 145 cm,min 90 g/m2, składana teleskopowo do środka 1 x serweta 2-warstwowa nieprzylepna 90 x 75 cm 1 x serweta na stół narzędziowy 150 x 190 cm, ze wzmocnieniem 78 x 190 cm, min 90 g/m2 (owinięcie zestawu) 1 x cewnik Foleya 16/5,33 CH/mm, 40 cm ( 5-15 ml ) 1 x strzykawka 10 ml Luer, 2 części 2 x skalpel bezpieczny nr 10 1 x worek na mocz 2000 ml 1 x kleszczyki plastikowe proste do mycia pola operacyjnego typu korcang 24 cm 1 x fartuch chirurgiczny typu SMS o długości 127 cm, pełnobarierowy, wykonany z włókniny typu SMS, o gramaturze min. 42 g/m2. Szwy wykonane techniką ultradźwiękową, rękawy o kroju reglan. Zapięcie w obrębie szyi w formie taśmy wielokrotnego użytku przytwierdzonej do jednej poły fartucha, umożliwiającej zapięcie w dowolnym miejscu w górnej części fartucha i jego dopasowanie. Rękaw zakończony miękkim poliestrowym mankietem nie powodującym ucisku na skórę. Tylne części fartucha zachodzą na siebie, troki łączone kartonikiem, sposób i konstrukcja pozwalająca założenie fartucha z zachowaniem jałowości zarówno z przodu jak i z tyłu operatora. 2 x fartuch chirurgiczny urologiczny typu SMS o długości 150 cm, rękawy o kroju reglan, szwy wykonane techniką ultradźwiękową, wiązany na dwa troki. 20 x tupfer z gazy RTG 20 x 20 cm ,20 nitek 20 x kompres z gazy RTG 10 x 10 cm, 16 warstw 17 nitek, wiązane a 10 sztuk 5 x tupfer z gazy 30 x 30 cm, 20 nitek 1 x taśma przylepna min. 10 x 50 cm 1 x igła injekcyjna bezpieczna 18 G, 1,20 x 40 mm 1 x opatrunek wysokochłonny nieprzylepny 10 x 10 cm 1 x pojemnik plastikowy 250 ml, przeźroczysty z podziałką 1 x pojemnik plastikowy 250 ml, niebieski z podziałką 1 x pojemnik na ostrza i igły 10 miejsc magnetyczny 4 x ręcznik celulozowy min. 30 x 33 cm 1 x kabel elektrody czynnej monopolarnej z nożem płaskim, 3 bolce 1 x czyścik do koagulacji 5 x 5 cm, kontrastujący w RTG, przylepny 1 x pudełko stabilizacyjne Zestawy zgodne z EN 13795-1:2019. Serwety 2-warstwowe PP+PE o gramaturze 55g/m2, bez zawartości wiskozy, celulozy i lateksu, Wysoka odporność na penetrację płynów (zgodnie z EN 20811) min. 210cm H2O, odporność na rozerwanie na sucho i mokro min. 170 kPa. Chłonność włókniny badana wg EN ISO 9073-6: min. 210 ml/m2. Każdy zestaw zawiera 4 naklejki zientgrowane z 4 kodami kreskowymi oraz Ref, Lot, datę produkcji, datę ważnosci i producenta. Sterylizacjia tlenkiem etylenu.
A34: Ad.4 | B34: Jałowy zestaw do artroskopii o składzie: 1 x serweta na stół narzędziowy 150 x 190 cm, ze wzmocnieniem 78 x 190 cm, min 90 g/m2 (owinięcie zestawu) 1 x serweta na stolik Mayo 80 x 145 cm, ze wzmocnieniem 65 x 145 cm, min 90 g/m2, składana teleskopowo do środka 1 x serweta 2-warstwowa do artroskopii 200 x 320 cm z uchwytem typu rzep i workiem na płyny otwór 5 x 7 cm 1 x serweta 2-warstwowa nieprzylepna 175 x 150 cm 1 x kleszczyki plastikowe do mycia pola operacyjnego typu korcang 24 cm 10 x kompres z gazy RTG 10 x 10 cm 12 warstw 17 nitek, wiązane po 10 sztuk 3 x tupfer z gazy 30 x 30 cm, 20 nitek 1 x opaska elastyczna 15 cm x 5 m z dwiema zapinkami, biała (umiarkowana kompresja) 1 x pojemnik plastikowy 250 ml przeźroczysty, z podziałką 1 x pojemnik plastikowy 250 ml niebieski, z podziałką 1 x fartuch chirurgiczny typu SMS o długości 127 cm, pełnobarierowy, wykonany z włókniny typu SMS, o gramaturze min. 42 g/m2 oraz wzmocnienia min. 42 g/m2 z laminatu w części przedniej i w rękawach. Szwy wykonane techniką ultradźwiękową, rękawy o kroju reglan. Zapięcie w obrębie szyi w formie taśmy wielokrotnego użytku przytwierdzonej do jednej poły fartucha, umożliwiającej zapięcie w dowolnym miejscu w górnej części fartucha i jego dopasowanie. Rękaw zakończony miękkim poliestrowym mankietem nie powodującym ucisku na skórę. Tylne części fartucha zachodzą na siebie, troki łączone kartonikiem, sposób i konstrukcja pozwalająca założenie fartucha z zachowaniem jałowości zarówno z przodu jak i z tyłu operatora. 1 x fartuch chirurgiczny typu SMS o długości 147 cm, pełnobarierowy, wykonany z włókniny typu SMS, o gramaturze min. 42 g/m2 oraz wzmocnienia min. 42 g/m2 z laminatu w części przedniej i w rękawach. Szwy wykonane techniką ultradźwiękową. rękawy o kroju reglan. Zapięcie w obrębie szyi w formie taśmy wielokrotnego użytku przytwierdzonej do jednej poły fartucha, umożliwiającej zapięcie w dowolnym miejscu w górnej części fartucha i jego dopasowanie. Rękaw zakończony miękkim poliestrowym mankietem nie powodującym ucisku na skórę. Tylne części fartucha zachodzą na siebie, troki łączone kartonikiem, sposób i konstrukcja pozwalająca założenie fartucha z zachowaniem jałowości zarówno z przodu jak i z tyłu operatora 1 x osłona 2-warstwowa na kończynę 25 x 80 cm 1 x igła kulkowa zagięta.1,5 x 80 mm 1 x osłona na kable video 12,5 x 230 cm PE, kartonowa prowadnica, teleskopowo złożona, taśma do mocowania 1 x taśma przylepna min. 10 x 50 1 x pudełko stabilizacyjne Zestawy zgodne z EN 13795-1:2019. Serwety 2-warstwowe PP+PE o gramaturze 55g/m2, bez zawartości wiskozy, celulozy i lateksu, Wysoka odporność na penetrację płynów (zgodnie z EN 20811) min. 210cm H2O, odporność na rozerwanie na sucho i mokro min. 170 kPa. Chłonność włókniny badana wg EN ISO 9073-6: min. 210 ml/m2. Każdy zestaw zawiera 4 naklejki zientgrowane z 4 kodami kreskowymi oraz Ref, Lot, datę produkcji, datę ważnosci i producenta. Sterylizacjia tlenkiem etylenu.
A35: Ad.5 | B35: Jałowy zestaw do chirurgii biodra o składzie: 1 x serweta na stół narzędziowy 150 x 190 cm, ze wzmocnieniem 78 x 190 cm, min 90 g/m2 (owinięcie zestawu) 1 x serweta na stolik Mayo 80 x 145 cm, ze wzmocnieniem 65 x 145 cm, min 90 g/m2, składana teleskopowo do środka 1 x serweta 2-warstwowa przylepna 300 x 170 cm z padem chłonnym w obszarze krytycznym 1 x serweta 2-warstwowa 200 x 260 cm z przylepnym wycięciem "U" 6,5 x 95 cm i dodatkowym padem chłonnym w obszarze krytycznym 1 x serweta 2-warstwowa nieprzylepna 150 x 150 cm 1 x fartuch chirurgiczny typu SMS o długości 127 cm, pełnobarierowy, wykonany z włókniny typu SMS, o gramaturze min. 42 g/m2 oraz wzmocnienia min. 42 g/m2 z laminatu w części przedniej i w rękawach. Szwy wykonane techniką ultradźwiękową, rękawy o kroju reglan. Zapięcie w obrębie szyi w formie taśmy wielokrotnego użytku przytwierdzonej do jednej poły fartucha, umożliwiającej zapięcie w dowolnym miejscu w górnej części fartucha i jego dopasowanie. Rękaw zakończony miękkim poliestrowym mankietem nie powodującym ucisku na skórę. Tylne części fartucha zachodzą na siebie, troki łączone kartonikiem, sposób i konstrukcja pozwalająca założenie fartucha z zachowaniem jałowości zarówno z przodu jak i z tyłu operatora. 1 x fartuch chirurgiczny typu SMS o długości 147 cm, pełnobarierowy, wykonany z włókniny typu SMS, o gramaturze min. 42 g/m2 oraz wzmocnienia min. 42 g/m2 z laminatu w części przedniej i w rękawach. Szwy wykonane techniką ultradźwiękową. rękawy o kroju reglan. Zapięcie w obrębie szyi w formie taśmy wielokrotnego użytku przytwierdzonej do jednej poły fartucha, umożliwiającej zapięcie w dowolnym miejscu w górnej części fartucha i jego dopasowanie. Rękaw zakończony miękkim poliestrowym mankietem nie powodującym ucisku na skórę. Tylne części fartucha zachodzą na siebie, troki łączone kartonikiem, sposób i konstrukcja pozwalająca założenie fartucha z zachowaniem jałowości zarówno z przodu jak i z tyłu operatora 20 x kompres z gazy RTG 10 x 10 cm, 16 w 17 n, wiązane a 10 sztuk 1 x opatrunek wysokochłonny nieprzylepny 10 x 20 cm 1 x opatrunek wysokochonny nieprzylepny 10 x 10 cm 6 x tupfer z gazy 30 x 30 cm, 20 nitek 1 x pojemnik na zużyte igły i ostrza skalpeli 10 miejsc, magnetyczny 1 x worek do gromadzenia płynów 70 x 47 cm, PE 2 x pojemnik plastikowy 250 ml (przezroczysty i niebieski) 1 x pojemnik plastikowy 500 ml z podziałką, przeźroczysty 1 x kleszczyki plastikowe do mycia pola operacyjnego typu korcang 24 cm 1 x folia operacyjna antybakteryjna 46 x 60 cm (52 x 60 cm) 2 x skalpel bezpieczny nr 22 1 x igła kulkowa zagięta.1,5 x 80 mm 4 x ręcznik celulozowy min. 30 x 33 cm 1 x opatrunek z folii poliuretanowej 20 x 30 cm 1 x pudełko stabilizacyjne Zestawy zgodne z EN 13795-1:2019. Serwety 2-warstwowe PP+PE o gramaturze 55g/m2, bez zawartości wiskozy, celulozy i lateksu, Wysoka odporność na penetrację płynów (zgodnie z EN 20811) min. 210cm H2O, odporność na rozerwanie na sucho i mokro min. 170 kPa. Chłonność włókniny badana wg EN ISO 9073-6: min. 210 ml/m2. a w miejscu padów chłonnych włóknina polipropylenowa o gramaturze min. 120g/m2. Pady chłonne o wysokiej odporności na penetrację płynów (zgodnie z EN 20811) min. 250cm H2O oraz odporności na rozerwanie na sucho min. 370 kPa i na mokro min. 390 kPa. Chłonność włókniny w obszarze wzmocnionym badana wg EN ISO 9073-6: min. 425 ml/m2I. Każdy zestaw zawiera 4 naklejki zientgrowane z 4 kodami kreskowymi oraz Ref, Lot, datę produkcji, datę ważnosci i producenta. Sterylizacjia tlenkiem etylenu.
A36: Ad.6 | B36: Zestaw do dożylnego wkłucia centralnego o składzie: 4 x tupfery gazowe, wielkości śliwki ze 100% bawełnianej gazy, 20 nitkowej – rozmiar po rozwinięciu około 20 x 20 cm 1 x plastikowe kleszczyki Kocher 14 cm 1 x plastikowa pęseta 12,5 cm 1 x strzykawka Luer Lock 10 ml, 3 częściowa 1 x igła podskóra zielona 21 G 1 1/2 (0,8 x 40 mm) 1 x ostrze - skalpel 6,5 cm – zakrzywiony- zapakowany 1 x samoprzylepny, przezroczysty opatrunek 10 cm x 15 cm 6 x kompresy gazowe 7,5 cm x 7,5 cm, 17n 8w ze 100 % 1 x metalowy uchwyt do igły Derf 13 cm 1 x nieprzylepna, barierowa serweta z włókniny PP + PE ,w rozmiarze 45 cm x 75 cm, o gramaturze - 55 g/m², 1 x dwuwarstwowa, barierowa serweta z włókniny PP + PE, w rozmiarze 45 cm x 75 cm, z regulowanym otworem . Gramatura 55 g/m², 1 x igła podskórna, różowa, 18 G 1 1/2 (1,2 x 40 mm) Zestawy zgodne z EN 13795-1:2019. Serwety 2-warstwowe PP+PE o gramaturze 55g/m2, bez zawartości wiskozy, celulozy i lateksu, Wysoka odporność na penetrację płynów (zgodnie z EN 20811) min. 210cm H2O, odporność na rozerwanie na sucho i mokro min. 170 kPa. Chłonność włókniny badana wg EN ISO 9073-6: min. 210 ml/m2. Każdy zestaw zawiera 4 naklejki zientgrowane z 4 kodami kreskowymi oraz Ref, Lot, datę produkcji, datę ważnosci i producenta. Sterylizacjia tlenkiem etylenu.
A37: Ad.7 | B37: Jałowy zestaw do znieczulenia przewodowego o składzie: 1 x serweta 2-warstwowa na stół narzędziowy 75 x 75 cm (opakowanie zestawu) 1 x serweta epiduralna przylepna 60 x 75 cm, otwór przylepny romb 10 x 10 cm decentralnie 1 x igła injekcyjna 25 G, 0,50 x 38 mm 1 x igła injekcyjna 18 G, 1,20 x 38 mm 1 x strzykawka 2 ml Luer, 2 części 1 x strzykawka 5 ml Luer, 2 części 1 x opatrunek chłonny przylepny 7,2 x 5 cm 1 x kleszczyki plastikowe proste do mycia pola operacyjnego 19 cm typu korcang 3 x kompres z włókniny 10 x 10 cm, 6 warstw 6 x tupfer z gazy 30 x 30 cm, 20 nitek 1 x pojemnik plastikowy 120 ml z podziałką Zestawy zgodne z EN 13795-1:2019. Serwety 2-warstwowe PP+PE o gramaturze 55g/m2, bez zawartości wiskozy, celulozy i lateksu, Wysoka odporność na penetrację płynów (zgodnie z EN 20811) min. 210cm H2O, odporność na rozerwanie na sucho i mokro min. 170 kPa. Chłonność włókniny badana wg EN ISO 9073-6: min. 210 ml/m2. Każdy zestaw zawiera 4 naklejki zientgrowane z 4 kodami kreskowymi oraz Ref, Lot, datę produkcji, datę ważnosci i producenta. Sterylizacjia tlenkiem etylenu.
A38: Ad.8 | B38: Zestaw chirurgiczny do ropnia o składzie: 1 x serweta na stół narzędziowy 2-warstwowa (owinięcie pakietu) 90 x 75 cm 1 x serweta przylepna 2-warstwowa 2-częściowa z regulacją otworu 75 x 90 cm 1 x skalpel bezpieczny z wysuwanym ostrzem nr 10 1 x nożyczki zagięte typu Metzenbaum tępo tępe 14,5 cm stal nierdzewna 1 x imadło chirurgiczne typu Mayo-Hegar 14 cm stal nierdzewna 1 x pęseta chirurgiczna standardowa prosta 14 cm stal nierdzewna 1 x kleszczyki anatomiczne zagięte typu Halsted-Mosquito 12,5 cm stal nierdzewna 1 x kleszczyki plastikowe proste typu pean 14 cm 1 x pojemnik plastikowy 250 ml z podziałką, przeźroczysty 5 x kompresów włókninowych 5 x 5 cm 6 warstw 10 x kompresów z gazy 7,5 x 7,5 cm 12 warstw, 17 nitek 3 x tupfery z gazy 30 x 30 cm, 20 nitek Zestawy zgodne z EN 13795-1:2019. Serwety 2-warstwowe PP+PE o gramaturze 55g/m2, bez zawartości wiskozy, celulozy i lateksu, Wysoka odporność na penetrację płynów (zgodnie z EN 20811) min. 210cm H2O, odporność na rozerwanie na sucho i mokro min. 170 kPa. Chłonność włókniny badana wg EN ISO 9073-6: min. 210 ml/m2. Każdy zestaw zawiera 4 naklejki zientgrowane z 4 kodami kreskowymi oraz Ref, Lot, datę produkcji, datę ważnosci i producenta. Sterylizacjia tlenkiem etylenu.
A39: Ad.9 | B39: Jałowy zestaw do porodu o składzie: 1 x serweta 2-warstwowa 90 x 90 cm z podwójnym workiem do gromadzenia płynów. Worek 87 x 62 cm/80 x 68 cm 1 x serweta 2-warstwowa na stół narzędziowy 100 x 150 cm (opakowanie zestawu) 1 x fartuch chirurgiczny typu SMS o długości 147 cm, pełnobarierowy, wykonany z włókniny typu SMS, o gramaturze min. 42 g/m2 oraz wzmocnienia min. 42 g/m2 z laminatu w części przedniej i w rękawach. Szwy wykonane techniką ultradźwiękową. rękawy o kroju reglan. Zapięcie w obrębie szyi w formie taśmy wielokrotnego użytku przytwierdzonej do jednej poły fartucha, umożliwiającej zapięcie w dowolnym miejscu w górnej części fartucha i jego dopasowanie. Rękaw zakończony miękkim poliestrowym mankietem nie powodującym ucisku na skórę. Tylne części fartucha zachodzą na siebie, troki łączone kartonikiem, sposób i konstrukcja pozwalająca założenie fartucha z zachowaniem jałowości zarówno z przodu jak i z tyłu operatora 2 x zacisk do pępowiny 53 mm plastikowy, biały 2 x serweta dla noworodka 87 x 90 cm, biała 1 x serweta z gazy RTG 45 x 45 cm, 4 warstwy, 20 nitek z tasiemką 10 x kompres z włókniny 10 x 10 cm, 6 warstw, 30 g/m2 1 x miska nerkowata plastikowa 700 ml, 25 x 11,5 x 5 cm, niebieska 1 x pojemnik na łożysko plastikowy 3000 ml z pokrywą, 29 x 22 x 7,5 cm, niebieski 10 x tupfer włókninowy okrągły z nitka RTG 7,5 x 9 cm 30 g/m2 1 x czapeczka na noworodka 1 x kocyk dla noworodka 75 x 103 cm 1 x gruszka 60 ml Zestawy zgodne z EN 13795-1:2019. Serwety 2-warstwowe PP+PE o gramaturze 55g/m2, bez zawartości wiskozy, celulozy i lateksu, Wysoka odporność na penetrację płynów (zgodnie z EN 20811) min. 210cm H2O, odporność na rozerwanie na sucho i mokro min. 170 kPa. Chłonność włókniny badana wg EN ISO 9073-6: min. 210 ml/m2. Każdy zestaw zawiera 4 naklejki zientgrowane z 4 kodami kreskowymi oraz Ref, Lot, datę produkcji, datę ważnosci i producenta. Sterylizacjia tlenkiem etylenu.
A40: Ad.10 | B40: Jałowy zestaw do żylaków kończyn dolnych o składzie: 1 x serweta na stół narzędziowy 150 x 190 cm, ze wzmocnieniem 78 x 190 cm, min 90 g/m2, (owinięcie zestawu) 1 x serweta na stolik Mayo 80 x 145 cm, ze wzmocnieniem 65 x 145 cm,min 90 g/m2, składana teleskopowo do środka 1 x serweta 2-warstwowa 200 x 260 cm z przylepnym wycięciem "U" 6,5 x 95 cm i padem chłonnym w obszarze krytycznym min. 150 x 160 cm 1 x serweta 2-warstwowa przylepna 200 x 170 cm 1 x serweta 2-warstwowa nieprzylepna 90 x 75 cm 1 x kleszczyki plastikowe do mycia pola operacyjnego typu korcang 24 cm 1 x pojemnik plastikowy 250 ml niebieski, z podziałką 1 x pojemnik plastikowy 250 mlprzeźroczysty, z podziałką 10 x kompres z gazy 10 x 10 cm, 16 warstw 17 nitek, wiązane a'10 sztuk 20 x kompres z gazy 10 x 20 cm, 12 warstw 17 nitek, wiązane a'10 sztuk 4 x tupfer z gazy 30 x 30 cm, 20 nitek 1 x opatrunek chłonny przylepny 10 x 8 cm 1 x fartuch chirurgiczny typu SMS o długości 127 cm, pełnobarierowy, wykonany z włókniny typu SMS, o gramaturze min. 42 g/m2 oraz wzmocnienia min. 42 g/m2 z laminatu w części przedniej i w rękawach. Szwy wykonane techniką ultradźwiękową. rękawy o kroju reglan. Zapięcie w obrębie szyi w formie taśmy wielokrotnego użytku przytwierdzonej do jednej poły fartucha, umożliwiającej zapięcie w dowolnym miejscu w górnej części fartucha i jego dopasowanie. Rękaw zakończony miękkim poliestrowym mankietem nie powodującym ucisku na skórę. Tylne części fartucha zachodzą na siebie, troki łączone kartonikiem, sposób i konstrukcja pozwalająca założenie fartucha z zachowaniem jałowości zarówno z przodu jak i z tyłu operatora 1 x fartuch chirurgiczny typu SMS o długości 147 cm, pełnobarierowy, wykonany z włókniny typu SMS, o gramaturze min. 42 g/m2 oraz wzmocnienia min. 42 g/m2 z laminatu w części przedniej i w rękawach. Szwy wykonane techniką ultradźwiękową. rękawy o kroju reglan. Zapięcie w obrębie szyi w formie taśmy wielokrotnego użytku przytwierdzonej do jednej poły fartucha, umożliwiającej zapięcie w dowolnym miejscu w górnej części fartucha i jego dopasowanie. Rękaw zakończony miękkim poliestrowym mankietem nie powodującym ucisku na skórę. Tylne części fartucha zachodzą na siebie, troki łączone kartonikiem, sposób i konstrukcja pozwalająca założenie fartucha z zachowaniem jałowości zarówno z przodu jak i z tyłu operatora 2 x rękawica diagnostyczna nitrylowa L 1 x skalpel bezpieczny z wysuwanym ostrzem nr 11 1 x skalpel bezpieczny z wysuwanym ostrzem nr 10 3 x ręcznik celulozowy min. 30 x 33 cm 1 x pudełko stabilizacyjne Zestawy zgodne z EN 13795-1:2019. Serwety 2-warstwowe PP+PE o gramaturze 55g/m2, bez zawartości wiskozy, celulozy i lateksu, Wysoka odporność na penetrację płynów (zgodnie z EN 20811) min. 210cm H2O, odporność na rozerwanie na sucho i mokro min. 170 kPa. Chłonność włókniny badana wg EN ISO 9073-6: min. 210 ml/m2. a w miejscu padów chłonnych włóknina polipropylenowa o gramaturze min. 120g/m2. Pady chłonne o wysokiej odporności na penetrację płynów (zgodnie z EN 20811) min. 250cm H2O oraz odporności na rozerwanie na sucho min. 370 kPa i na mokro min. 390 kPa. Chłonność włókniny w obszarze wzmocnionym badana wg EN ISO 9073-6: min. 425 ml/m2I. Każdy zestaw zawiera 4 naklejki zientgrowane z 4 kodami kreskowymi oraz Ref, Lot, datę produkcji, datę ważnosci i producenta. Sterylizacjia tlenkiem etylenu.
A41: Ad.11 | B41: Jałowy zestaw do drenażu opłucnej o składzie: 1 x serweta na stół narzędziowy 90 x 75 cm (owinięcie zestawu) 1 x serweta przylepna 2-częściowa 75 x 90 cm 1 x strzykawka Luer 20 ml (2-częściowa) 1 x igła injekcyjna 0,80 x 50 mm 1 x skalpel jednorazowy Nr 10 1 x opatrunek do wenflonu I.V. 8 x 6 cm 15 x komprez z gazy z nitką RTG 10 x 10 cm, 8 warstw 17 nitek 1 x pojemnik plastikowy 60 ml (5 x 5 cm) z podziałką; okrągły, kolor niebieski 1 x pojemnik plastikowy 150 ml (9,2 x 2,96 cm) z podziałką; okrągły, kolor: czerwony 1 x kleszczyki anatomiczne proste Pean 20 cm 1 x kleszczyki anatomiczne zagięte Halstead-Mosquito 12,5 cm 1 x Imadło chirurgiczne Mayo-Hegar 14 cm 1 x pęseta chirurgiczna standardowa prosta 14 cm 1 x nożyczki chirurgiczne proste ostro tępe 14,5 cm 1 x kleszczyki plastikowe do mycia pola operacyjnego 14 cm 1 x pudełko stabilizacyjne Zestawy zgodne z EN 13795-1:2019. Serwety 2-warstwowe PP+PE o gramaturze 55g/m2, bez zawartości wiskozy, celulozy i lateksu, Wysoka odporność na penetrację płynów (zgodnie z EN 20811) min. 210cm H2O, odporność na rozerwanie na sucho i mokro min. 170 kPa. Chłonność włókniny badana wg EN ISO 9073-6: min. 210 ml/m2. Każdy zestaw zawiera 4 naklejki zientgrowane z 4 kodami kreskowymi oraz Ref, Lot, datę produkcji, datę ważnosci i producenta. Sterylizacjia tlenkiem etylenu.
A42: Ad.12 | B42: Zestaw do operacji dłoni/stopy o składzie: 1 x serweta na stół narzędziowy 150 x 190 cm, ze wzmocnieniem 78 x 190 cm, min 90 g/m2, (owinięcie zestawu) 1 x serweta na stolik Mayo 80 x 145 cm, ze wzmocnieniem 65 x 145 cm,min 90 g/m2, składana teleskopowo do środka 1 x serweta 2-warstwowa 200 x 300 cm z przylepnym wycięciem "U" 6,5 x 55 cm oraz padem chłonnym w obszarze krytycznym 1 x serweta 2-warstwowa przylepna 175 x 150 cm 1 x skalpel bezpieczny z wysuwanym ostrzem nr 10 1 x skalpel bezpieczny z wysuwanym ostrzem nr 11 1 x fartuch chirurgiczny typu SMS o długości 127 cm, pełnobarierowy, wykonany z włókniny typu SMS, o gramaturze min. 42 g/m2. Szwy wykonane techniką ultradźwiękową, rękawy o kroju reglan. Zapięcie w obrębie szyi w formie taśmy wielokrotnego użytku przytwierdzonej do jednej poły fartucha, umożliwiającej zapięcie w dowolnym miejscu w górnej części fartucha i jego dopasowanie. Rękaw zakończony miękkim poliestrowym mankietem nie powodującym ucisku na skórę. Tylne części fartucha zachodzą na siebie, troki łączone kartonikiem, sposób i konstrukcja pozwalająca założenie fartucha z zachowaniem jałowości zarówno z przodu jak i z tyłu operatora. 1 x fartuch chirurgiczny typu SMS o długości 147 cm, pełnobarierowy, wykonany z włókniny typu SMS, o gramaturze min. 42 g/m2 oraz wzmocnienia min. 42 g/m2 z laminatu w części przedniej i w rękawach. Szwy wykonane techniką ultradźwiękową. rękawy o kroju reglan. Zapięcie w obrębie szyi w formie taśmy wielokrotnego użytku przytwierdzonej do jednej poły fartucha, umożliwiającej zapięcie w dowolnym miejscu w górnej części fartucha i jego dopasowanie. Rękaw zakończony miękkim poliestrowym mankietem nie powodującym ucisku na skórę. Tylne części fartucha zachodzą na siebie, troki łączone kartonikiem, sposób i konstrukcja pozwalająca założenie fartucha z zachowaniem jałowości zarówno z przodu jak i z tyłu operatora 1 x kleszczyki plastikowe proste do mycia pola operacyjnego 24 cm 20 x kompres z gazy 10 x 10 cm, 12 warstw 17 nitek 3 x tupfer z gazy 30 x 30 cm, 20 nitek 1 x pojemnik plastikowy 250 ml przeźroczysty z podziałką 1 x pudełko stabilizacyjne Zestawy zgodne z EN 13795-1:2019. Serwety 2-warstwowe PP+PE o gramaturze 55g/m2, bez zawartości wiskozy, celulozy i lateksu, Wysoka odporność na penetrację płynów (zgodnie z EN 20811) min. 210cm H2O, odporność na rozerwanie na sucho i mokro min. 170 kPa. Chłonność włókniny badana wg EN ISO 9073-6: min. 210 ml/m2. a w miejscu padów chłonnych włóknina polipropylenowa o gramaturze min. 120g/m2. Pady chłonne o wysokiej odporności na penetrację płynów (zgodnie z EN 20811) min. 250cm H2O oraz odporności na rozerwanie na sucho min. 370 kPa i na mokro min. 390 kPa. Chłonność włókniny w obszarze wzmocnionym badana wg EN ISO 9073-6: min. 425 ml/m2I. Każdy zestaw zawiera 4 naklejki zientgrowane z 4 kodami kreskowymi oraz Ref, Lot, datę produkcji, datę ważnosci i producenta. Sterylizacjia tlenkiem etylenu.
... A48: Ad.18 | B48: Sterylny zestaw serwet uniwersalnych z serweta U mały o składzie: 1 x serweta na stół narzędziowy 150 x 190 cm, ze wzmocnieniem 78 x 190 cm, min 90 g/m2, (owinięcie zestawu) 1 x serweta na stolik Mayo 80 x 145 cm, ze wzmocnieniem 65 x 145 cm,min 90 g/m2, składana teleskopowo do środka 1 x serweta 2-warstwowa przylepna 150 x 240 cm 1 x serweta 2-warstwowa 160 x 220 cm z przylepnym wycięciem „U” 10 x 50 cm 1 x fartuch chirurgiczny typu SMS o długości 155 cm, pełnobarierowy, wykonany z włókniny typu SMS, o gramaturze min 42 g/m2 oraz wzmocnienia min 42 g/m2 z laminatu w części przedniej i w rękawach. Szwy wykonane techniką ultradźwiękową, rękawy o kroju reglan. Zapięcie w obrębie szyi w formie taśmy wielokrotnego użytku przytwierdzonej do jednej poły fartucha, umożliwiającej zapięcie w dowolnym miejscu w górnej części fartucha i jego dopasowanie. Rękaw zakończony miękkim poliestrowym mankietem nie powodującym ucisku na skórę. Tylne części fartucha zachodzą na siebie, troki łączone kartonikiem, sposób i konstrukcja pozwalająca założenie fartucha z zachowaniem jałowości zarówno z przodu jak i z tyłu operatora. 1 x fartuch chirurgiczny typu SMS o długości 155 cm, pełnobarierowy, wykonany z włókniny typu SMS, o gramaturze min 42 g/m2, szwy wykonane techniką ultradźwiękową. rękawy o kroju reglan. Zapięcie w obrębie szyi w formie taśmy wielokrotnego użytku przytwierdzonej do jednej poły fartucha, umożliwiającej zapięcie w dowolnym miejscu w górnej części fartucha i jego dopasowanie. Rękaw zakończony miękkim poliestrowym mankietem nie powodującym ucisku na skórę. Tylne części fartucha zachodzą na siebie, troki łączone kartonikiem, sposób i konstrukcja pozwalająca założenie fartucha z zachowaniem jałowości zarówno z przodu jak i z tyłu operatora. 1 x fartuch chirurgiczny typu SMS o długości 127 cm, pełnobarierowy, wykonany z włókniny typu SMS, o gramaturze min 42 g/m2, szwy wykonane techniką ultradźwiękową. rękawy o kroju reglan. Zapięcie w obrębie szyi w formie taśmy wielokrotnego użytku przytwierdzonej do jednej poły fartucha, umożliwiającej zapięcie w dowolnym miejscu w górnej części fartucha i jego dopasowanie. Rękaw zakończony miękkim poliestrowym mankietem nie powodującym ucisku na skórę. Tylne części fartucha zachodzą na siebie, troki łączone kartonikiem, sposób i konstrukcja pozwalająca założenie fartucha z zachowaniem jałowości zarówno z przodu jak i z tyłu operatora. 1 x pudełko magnetyczne na igły i ostrza 10 miejsc 2 x pojemnik plastikowy 250 ml z podziałką niebieski 3 x tupfer z gazy rozmiar 30 x 30 cm 1 x kleszczyki do mycia pola operacyjnego 24 cm 1 x skalpel bezpieczny z wysuwanym ostrzem nr 10 1 x skalpel bezpieczny z wysuwanym ostrzem nr 21 1 x elektroda czynna monopolarna z końcówką, długość 320 cm 1 x taśma przylepna 10 x 50 cm 10 x kompres gazowy 17-nitek 16-warstw z nitką RTG, 10 x 10 cm 1 x czyscik do koagulacji 5 x 5 cm 1 x pudełko stabilizacyjne Zestawy zgodne z EN 13795-1:2019. Serwety 2-warstwowe PP+PE o gramaturze 55g/m2, bez zawartości wiskozy, celulozy i lateksu, Wysoka odporność na penetrację płynów (zgodnie z EN 20811) min. 210cm H2O, odporność na rozerwanie na sucho i mokro min. 170 kPa. Chłonność włókniny badana wg EN ISO 9073-6: min. 210 ml/m2. Zestawy bezpiecznie pakowane do transportu w 2 opakowania transportowe. Każdy zestaw zawiera 4 naklejki zientgrowane z 4 kodami kreskowymi oraz Ref, Lot, datę produkcji, datę ważnosci i producenta. Sterylizacjia tlenkiem etylenu.
B50: Wszystki oferowany asortyment jest wyrobem medycznym.
B51: Oświadczam, że oferowany przedmiot zamówienia jest zgodny z opisem i spełnia wymagane parametry techniczne
B53: data ………………………………. | G53: podpis ……………………………………….

Sheet zad. 10
B1: Załacznik nr 9 do SWZ
B2: ZOZ/DZP/PN/12/25 | D2: FORMULARZ CENOWY
A3: Zadanie nr 10: Ubrania i fartuchy medyczne i foliowe niesterylne, przescieradła, podkłady.
A4: Lp. | B4: Nazwa produktu | C4: Jednostka miary | D4: Ilość | E4: Cena jednostkowa netto | F4: Wartość netto | G4: VAT | H4: Cena jednostkowa brutto | I4: Wartość brutto | J4: Producent/ Nazwa handlowa/ Numer katalogowy
A5: 1 | B5: Jednorazowy, niejałowy, pełnobarierowy, fartuch chirurgiczny wykonany z włókniny polipropylenowej, podfoliowanej na całej powierzchni fartucha o łącznej gramaturze 35 g/m². Rękaw zakończony elastycznym mankietem z dzianiny. Tylne części fartucha zachodzą na siebie. Posiada 2 wszywane troki o długości min.45 cm. Dodatkowo zapięcie w okolicy karku na rzep. Szwy wykonane techniką ultradźwiękową. Odporność na przenikanie cieczy >100 cm H2O. Opakowanie typu worek foliowy, pakowany po 10 sztuk. Spełnia wymagania aktualnej normy PN-EN 13795-1:2019 oraz EN 14126. Fartuch zgodny z poziomem 2 AAMI. Rozmiar: L, XL. | C5: szt. | D5: 1200
A6: 2 | B6: Fartuch medyczny jednorazowy. Rozm XL z włókniny o gramaturze min 28g/m2 do 35g/m2 | C6: szt. | D6: 43000
A7: 3 | B7: Ochraniacze na obuwie z folii PE | C7: Op=100 szt | D7: 130
A8: 4 | B8: Ubranie dwuczęściowe bluza + spodnie z włókniny SMS min 35g/m2 , niesterylna. Krótki rękaw. XS-4XL Ubranie nieprześwitujące, antystatyczne, oddychające. Bluza z krótkim rękawem, posiada wycięcie "V" zakończone obszyciem w kolorze ubrania, 3 kieszenie (2 w dolnej części oraz jedna mniejsza w części górnej). Spodnie z trokami w pasie. Zgodne z EN 13795-2:2019 Odzież i obłożenia chirurgiczne Wymagania i metody badań Część 2: Odzież dla bloków operacyjnych (przenikanie bakterii na sucho maksymalnie 37 CFU zgodnie z EN ISO 22612, pylenie 1,15 log 10 zgodnie z EN ISO 9073-10, wypychanie na sucho 48 kPA zgodnie z EN ISO 13938-1 siła zrywająca 43,7N kierunek wzdłużny/66,3N kierunek poprzeczny zgodnie z EN 29073-3 Wyniki potwierdzone załączeniem raportu z badań wykonananych na gotowym wyrobie (ubraniu operacyjnym) wykonanych w niezależnym laboratorium. | C8: szt. | D8: 13000
A9: 5 | B9: Bluza z krótkim rękawem wykonana z miękkiej włókniny bawełnopodobnej o gramaturze 47g/m² w kolorze niebieskim. Rękawy krótkie zakończone obszyciem. Bluza wyposażona w 3 duże kieszenie (2 na dole bluzy, 1 na piersi). Dekolt wyposażony z przodu w zapięcie na biały nap. Rozmiary S- XXL, wszyta metka informująca o rozmiarze. Dół bluzy obszyty. Wytrzymałość na wypychanie – na sucho 106 kPa , wytrzymałość na rozciąganie- na sucho 44,3 N, czystość pod względem cząstek stałych 2,0 IPM, poziom pylenia 2,1 Log10. Bluza pakowana jednostkowo z etykietą zawierającą informacje z nazwą, nr kat. Produktu, producentem, datą produkcji, ważności. | C9: szt. | D9: 15000
A10: 6 | B10: Spodnie wykonane z miękkiej włókniny bawełnopodobnej o gramaturze 47g/m² w kolorze niebieskim. Wiązane na troki w pasie. Wyposażone w 1 dużą kieszeń zapinaną na nap. Rozmiary S- XXL, wszyta metka informująca o rozmiarze. Nogawki obszyte. Wytrzymałość na wypychanie – na sucho 106 kPa , wytrzymałość na rozciąganie- na sucho 44,3 N, czystość pod względem cząstek stałych 2,0 IPM, poziom pylenia 2,1 Log10. Spodnie pakowane jednostkowo z etykietą zawierającą informacje z nazwą, nr kat. Produktu, producentem, datą produkcji, ważności. | C10: szt. | D10: 15000
A11: 7 | B11: Ubranie operacyjne, bluza z krótkim rękawem plus spodnie, wykonane z miękkiej włókniny bawełnopodobnej o gramaturze 47g/m² w kolorze niebieskim S-XXL | C11: szt. | D11: 13000
A12: 8 | B12: Bluza z długim rękawem wykonana z miękkiej włókniny bawełnopodobnej o gramaturze 47g/m² w kolorze niebieskim. Rękawy długie zakończone białymi, elastycznymi mankietami. Bluza wyposażona w 2 duże kieszenie na dole bluzy. Wyposażona w biały elastyczny kołnierzyk pod szyją. Zapinana na białe napy. Rozmiary S- XXL, wszyta metka informująca o rozmiarze. Dół bluzy obszyty. Wytrzymałość na wypychanie – na sucho 106 kPa , wytrzymałość na rozciąganie- na sucho 44,3 N, czystość pod względem cząstek stałych 2,0 IPM, poziom pylenia 2,1 Log10. Bluza pakowana jednostkowo z etykietą zawierającą informacje z nazwą, nr kat. Produktu, producentem, datą produkcji, ważności. | C12: szt. | D12: 700
A13: 9 | B13: Prześcieradło jednorazowe z włókniny polipropylenowej 150 x 210 o gramaturze minimum 25g/m2 do 35 g/m2 | C13: szt. | D13: 25000
A14: 10 | B14: Prześcieradło jednorazowe z włókniny polipropylenowej 160 x 250 o gramaturze minimum 60 g/m2 | C14: szt. | D14: 5000
A15: 11 | B15: Podkład chłonny oddychający na stół operacyjny w rozmiarze 80 x 210 cm z wkładem chłonnym 60 x 200cm ±2,5 cm; wykonany z pięciu warstw tj. włókniny polipropylenowej 26,88 g, dwóch watrstw celulozy 32,76 g, pulpy celulozowej 113,76 g z superabsorbentem SAP 30,24 g , warstwa zewnętrzna (spodnia) 87,36 g. Zapewnia trwałe zatrzymanie bakterii: MRSA, E.Coli. Podkład umożliwia przenoszenie pacjenta do 190 kg. Waga całkowita podkładu 295 g ±5g, chłonność 4372,1 g; Opakowanie posiada uchwyt umożliwiający przenoszenie. | C15: szt. | D15: 1200
A16: 12 | B16: Podkład chłonny oddychający na stół operacyjny w rozmiarze 100 x 225 cm z wkładem chłonnym 60 x 203cm ±2,5 cm; wykonany z pięciu warstw tj. włókniny polipropylenowej 36 g, dwóch watrstw celulozy 33,25 g, pulpy celulozowej 249,3 g z superabsorbentem SAP 30,45 g , warstwa zewnętrzna (spodnia) 117 g. Zapewnia trwałe zatrzymanie bakterii: MRSA, E.Coli. Podkład umożliwia przenoszenie pacjenta do 230 kg. Waga całkowita podkładu 470 g ±5g, chłonność 5267,5 g; opakowanie 5 szt. Opakowanie posiada uchwyt umożliwiający przenoszenie. | C16: szt. | D16: 1200
... A23: 19 | B23: Osłona na przewody/kamerę 14x250cm wyposażona z jednej strony w końcówkę z perforacją umożliwiającą wysunięcie przewodu, a z drugiej wyposażony w kartonik z oznakowaniem kierunku rozwijania osłony oraz 2 taśmy przylepne o wymiarach 2,5cm x 17cm. Osłona z przeźroczystej folii polietylenowej 0.05 mm. Składana teleskopowo.Opakowanie folia-papier wyposażone w informację o kierunku o twierania oraz 4 etykiety samoprzylepne typu TAG służące do archiwizacji danych. Na każdej etykiecie samoprzylepnej, znajdują się następujące informacje : numer ref., data ważności, nr serii, dane wytwórcy oraz kod kreskowy. Osłona pakowana podwójnie, poprzez dodatkowe zapakowanie w woreczek foliowy. | C23: szt. | D23: 320
B24: RAZEM
B27: Wszystki oferowany asortyment jest wyrobem medycznym.
B28: Oświadczamy, że wyroby z włókniny spełniają normę EN 13795-1,2,3 lub równoważną
B29: Oświadczam, że oferowany przedmiot zamówienia jest zgodny z opisem i spełnia wymagane parametry techniczne
B31: data ………………………………. | G31: podpis ……………………………………….

Sheet zad. 11
B1: Załacznik nr 9 do SWZ
B2: ZOZ/DZP/PN/12/25 | D2: FORMULARZ CENOWY
A3: Zadanie nr 11: Zestawy opatrunkowe 1
A4: Lp. | B4: Nazwa produktu | C4: Jednostka miary | D4: Ilość | E4: Cena jednostkowa netto | F4: Wartość netto | G4: VAT | H4: Cena jednostkowa brutto | I4: Wartość brutto | J4: Producent/Nazwa handlowa/ Numer katalogowy
A5: 1 | B5: Zestaw do zakładania szwów. Skład zestawu: 1 x plastikowe kleszczyki typu Kocher 14 cm 1 x metalowa pęseta Adson 12 cm 6 x tupfery gazowe, wielkości śliwki ze 100% bawełnianej gazy, 20 nitkowej – rozmiar po rozwinięciu około 20 x 20 cm 1 x metalowy igłotrzymacz 12 cm 1 x metalowe nożyczki ostre/ostre 11 cm 1 x serweta z włókniny 50 cm x 50 cm, z przylepnym otworem 10 cm x 5 cm, o gramaturze 50 g/m² 1 x nieprzylepna serweta z włókniny 60 cm x 60 cm, o gramaturze 50 g/m² 1 x igła podskórna, zielona, 21 G 1 1/2 (0,8 x 40 mm) ( zapakowana) 1 x igła podskórna, różowa, 18 G 1 1/2 (1,2 x 40 mm) ( zapakowana) 1 x strzykawka Luer Lock 10 ml ( zapakowana)Zestaw zapakowany w opakowanie typu blister w kształcie tacki z trzema wgłębieniami ( o przybliżonej pojemności 150 ml; 150 ml ; 300 ml) , która może służyć jako nerka. Każdy zestaw zawiera 4 naklejki zientgrowane z 4 kodami kreskowymi oraz Ref, Lot, datę produkcji, datę ważnosci i producenta. Sterylizacjia tlenkiem etylenu. | C5: szt. | D5: 600
A6: 2 | B6: Zestaw do cewnikowania pęcherza moczowego Skład zestawu: 1 x serweta, nieprzylepna, barierowa z włókniny PP+PE w rozmiarze 45 cm x 75 cm, o gramaturze 55g/m2 , stanowiąca owinięcie zestawu 4 x tupfery gazowe, wielkości śliwki ze 100% bawełnianej gazy, 20 nitkowej – rozmiar po rozwinięciu około 20 x 20 cm 1 x żel nawilżający 2,7 g- niemineralny - obojętny - nietłusty - hydrofilny oraz płynny - 2,7 g - sterylizacja za pomocą promieniowania gamma 1 x strzykawka z wodą destylowaną i gliceryną 10 ml (zapakowana ) , przeznaczona do napełnienia balonika cewnika urologicznego 5 x kompresy gazowe 7,5 cm x 7,5 cm, 17n 8w ze 100 % bawełnianej gazy higroskopijnej 1 x serweta nieprzylepna, barierowa z włókniny PP+PE w rozmiarze 60 cm x 60 cm z centralnym otworem nieprzylepnym o srednicy 5 cm i rozcięciem , o gramaturze 55g/m2 1 x plastikowe kleszczyki Kocher 14 cm 1 x plastikowa pęseta do opatrunków 12,5 cm 1 x para nitrylowych rękawic diagnostycznych, rozmiar M – ( nieopakowane) , z wywiniętym mankietem . Zestaw zapakowany w opakowanie typu blister , w kształcie tacki z 1 wgłębieniem, która może służyć jako nerka. Każdy zestaw zawiera 4 naklejki zientgrowane z 4 kodami kreskowymi oraz Ref, Lot, datę produkcji, datę ważnosci i producenta. | C6: szt. | D6: 1000
A7: 3 | B7: Nożyczki do obcinania paznokci zagięte. Rozmiar 9,5cm Jednorazowe, sterylne narzędzie, wykonane ze stali nierdzewnej, wyrób medyczny klasy IIa. Symbol graficzny "do jednorazowego użycia" umieszczony w sposób trwały na obu stronach narzędzia oraz dodatkowo narzędzie oznaczone kolorystycznie dla odróżnienia jako jednorazowe. Każde narzędzie musi posiadać min. dwie karty kontrolne w postaci naklejek do przeklejenia do dokumentacji medycznej oraz dokumentacji pacjenta zawierające min. następujące dane: data produkcji, data ważności, nazwa narzędzia, numer LOT, numer REF, producenta. Opakowanie jednostkowe typu papier-folia, opakowanie zbiorcze typu dyspenser. | C7: op.a'25szt. | D7: 10
A8: 4 | B8: Nożyczki zagiete typu Metzenbaum. Rozmiar 14,5cm Jednorazowe, sterylne narzędzie, wykonane ze stali nierdzewnej, wyrób medyczny klasy IIa. Symbol graficzny "do jednorazowego użycia" umieszczony w sposób trwały na obu stronach narzędzia oraz dodatkowo narzędzie oznaczone kolorystycznie dla odróżnienia jako jednorazowe. Każde narzędzie musi posiadać min. dwie karty kontrolne w postaci naklejek do przeklejenia do dokumentacji medycznej oraz dokumentacji pacjenta zawierające min. następujące dane: data produkcji, data ważności, nazwa narzędzia, numer LOT, numer REF, producenta. Opakowanie jednostkowe typu papier-folia, opakowanie zbiorcze typu dyspenser. | C8: op.a'25szt. | D8: 40
A9: 5 | B9: Kleszczyki chirurgiczne proste typu Kocher. Rozmiar 14cm Jednorazowe, sterylne narzędzie, wykonane ze stali nierdzewnej, wyrób medyczny klasy IIa. Symbol graficzny "do jednorazowego użycia" umieszczony w sposób trwały na obu stronach narzędzia oraz dodatkowo narzędzie oznaczone kolorystycznie dla odróżnienia jako jednorazowe. Każde narzędzie musi posiadać min. dwie karty kontrolne w postaci naklejek do przeklejenia do dokumentacji medycznej oraz dokumentacji pacjenta zawierające min. następujące dane: data produkcji, data ważności, nazwa narzędzia, numer LOT, numer REF, producenta. Opakowanie jednostkowe typu papier-folia, opakowanie zbiorcze typu dyspenser. | C9: op.a'25szt. | D9: 15
A10: 6 | B10: Kleszczyki anatomiczne zagięte typu Halsted-Mosquito. Romiar 12,5 cm. Jednorazowe, sterylne narzędzie, wykonane ze stali nierdzewnej, wyrób medyczny klasy IIa. Symbol graficzny "do jednorazowego użycia" umieszczony w sposób trwały na obu stronach narzędzia oraz dodatkowo narzędzie oznaczone kolorystycznie dla odróżnienia jako jednorazowe. Każde narzędzie musi posiadać min. dwie karty kontrolne w postaci naklejek do przeklejenia do dokumentacji medycznej oraz dokumentacji pacjenta zawierające min. następujące dane: data produkcji, data ważności, nazwa narzędzia, numer LOT, numer REF, producenta. Opakowanie jednostkowe typu papier-folia, opakowanie zbiorcze typu dyspenser. | C10: op.a'25szt. | D10: 25
A11: 7 | B11: Pęseta chirurgiczna standartowa prosta. Romiar 14cm. Jednorazowe, sterylne narzędzie, wykonane ze stali nierdzewnej, wyrób medyczny klasy IIa. Symbol graficzny "do jednorazowego użycia" umieszczony w sposób trwały na obu stronach narzędzia oraz dodatkowo narzędzie oznaczone kolorystycznie dla odróżnienia jako jednorazowe. Każde narzędzie musi posiadać min. dwie karty kontrolne w postaci naklejek do przeklejenia do dokumentacji medycznej oraz dokumentacji pacjenta zawierające min. następujące dane: data produkcji, data ważności, nazwa narzędzia, numer LOT, numer REF, producenta. Opakowanie jednostkowe typu papier-folia, opakowanie zbiorcze typu dyspenser. | C11: op.a'25szt. | D11: 50
A12: 8 | B12: Imadło chirurgiczne typu Mayo-Hegar. Rozmiar 16cm. Jednorazowe, sterylne narzędzie, wykonane ze stali nierdzewnej, wyrób medyczny klasy IIa. Symbol graficzny "do jednorazowego użycia" umieszczony w sposób trwały na obu stronach narzędzia oraz dodatkowo narzędzie oznaczone kolorystycznie dla odróżnienia jako jednorazowe. Każde narzędzie musi posiadać min. dwie karty kontrolne w postaci naklejek do przeklejenia do dokumentacji medycznej oraz dokumentacji pacjenta zawierające min. następujące dane: data produkcji, data ważności, nazwa narzędzia, numer LOT, numer REF, producenta. Opakowanie jednostkowe typu papier-folia, opakowanie zbiorcze typu dyspenser. | C12: op.a'25szt. | D12: 20
A13: 9 | B13: Igła kulkowa zagięta. Rozmiar 1,5 x 80mm i 2,0 x 80 mm. Do wyboru przy zakupie. Jednorazowe, sterylne narzędzie, wykonane ze stali nierdzewnej, wyrób medyczny klasy IIa. Symbol graficzny "do jednorazowego użycia" umieszczony w sposób trwały na obu stronach narzędzia oraz dodatkowo narzędzie oznaczone kolorystycznie dla odróżnienia jako jednorazowe. Każde narzędzie musi posiadać min. dwie karty kontrolne w postaci naklejek do przeklejenia do dokumentacji medycznej oraz dokumentacji pacjenta zawierające min. następujące dane: data produkcji, data ważności, nazwa narzędzia, numer LOT, numer REF, producenta. Opakowanie jednostkowe typu papier-folia, opakowanie zbiorcze typu dyspenser. | C13: op.a'25szt. | D13: 20
A14: 10 | B14: Jednorazowa końcówka mikrochirurgiczna ze stali nierdzewnej zagięta CH 9 z kontrolą siły ssania rączka kodowana kolorystycznie. Opakowanie jerdnostkowe trypu papier-folia | C14: op. 60 szt
A15: 11 | B15: Igła irygacyjna naczyniowa rozmiar od 1 do 4mm do wyboru przy zakupie. Jednorazowe, sterylne narzędzie, wykonane ze stali nierdzewnej, wyrób medyczny klasy IIa. Symbol graficzny "do jednorazowego użycia" umieszczony w sposób trwały na obu stronach narzędzia oraz dodatkowo narzędzie oznaczone kolorystycznie dla odróżnienia jako jednorazowe. Każde narzędzie musi posiadać min. dwie karty kontrolne w postaci naklejek do przeklejenia do dokumentacji medycznej oraz dokumentacji pacjenta zawierające min. następujące dane: data produkcji, data ważności, nazwa narzędzia, numer LOT, numer REF, producenta. Opakowanie jednostkowe typu papier-folia, opakowanie zbiorcze typu dyspenser. | C15: op.a'25szt. | D15: 5
B16: RAZEM
B18: Wszystki oferowany asortyment jest wyrobem medycznym.
B19: Wszystkie pozycje od 1-4 muszą musi posiadać informacje o dacie ważności i numerze serii w postaci naklejki do umieszczenia na karcie pacjenta.
B20: Oświadczam, że oferowany przedmiot zamówienia jest zgodny z opisem i spełnia wymagane parametry techniczne
B23: data ………………………………. | G23: podpis ……………………………………….

Sheet zad. 12
B1: Załacznik nr 9 do SWZ
B2: ZOZ/DZP/PN/12/25 | D2: FORMULARZ CENOWY
A3: Zadanie nr: 12 Serwety operacyjne
A4: Lp. | B4: Nazwa produktu | C4: Jednostka miary | D4: Ilość | E4: Cena jednostkowa netto | F4: Wartość netto | G4: VAT | H4: Cena jednostkowa brutto | I4: Wartość brutto | J4: Producent/Nazwa handlowa/Numer katalogowy
A5: 1 | B5: Sterylna serweta chirurgiczna samoprzylepna z wycięciem U o wym. min 10 x 95cm wykonana z dwuwarstwowej pełnobarierowej włókniny z padem chłonnym o gramaturze min. 55g/m², o wymiarze min 240cm x 280cm | C5: Op=8 szt | D5: 15
A6: 2 | B6: Sterylna serweta chirurgiczna samoprzylepna z wycięciem U o wym. min 10 x 100cm wykonana z dwuwarstwowej pełnobarierowej włókniny o gramaturze min. 54g/m², o wymiarze min 180x250cm | C6: op=20szt | D6: 6
A7: 3 | B7: Serweta sterylna o wymiarach min. 45 x 75cm, wykonana z dwuwarstwowej pełnobarierowej włókniny o gramaturze min. 55g/m², | C7: Op=70 szt | D7: 3
A8: 4 | B8: Sterylna jednorazowa serweta operacyjna 100x150cm wykonana z dwuwarstwowej pełnobarierowej włókniny o gramaturze min. 55g/m², | C8: op=35szt | D8: 85
A9: 5 | B9: Sterylna jednorazowa serweta operacyjna 150x200cm wykonana z dwuwarstwowej pełnobarierowej włókniny o gramaturze min. 55g/m², | C9: op=30szt | D9: 37
A10: 6 | B10: Sterylna jednorazowa serweta operacyjna 150x240cm wykonana z dwuwarstwowej pełnobarierowej włókniny o gramaturze min. 55g/m², z taśmą lepną | C10: op=17szt | D10: 24
A11: 7 | B11: Serweta sterylna o wymiarach 45 x 75cm samoprzylepna wykonana z dwuwarstwowej pełnobarierowej włókniny o gramaturze min. 55g/m², | C11: op=70szt | D11: 5
A12: 8 | B12: Serweta chirurgiczna 75x90cm samoprzylepna wykonana z dwuwarstwowej pełnobarierowej włókniny o gramaturze min. 55g/m² | C12: op=50szt | D12: 16
A13: 9 | B13: Serweta chirurgiczna o wym. 75x90cm wykonana z dwuwarstwowej pełnobarierowej włókniny o gramaturze min. 55g/m² | C13: Op=50 szt | D13: 260
A14: 10 | B14: Sterylna serweta o wymiarach min 50 x 60 cm, do stosowania podczas drobnych interwencji chirurgicznych z otworem owal min. 8x6 cm samoprzylepnym wykonana z dwuwarstwowej włókniny o gramaturze min. 55g/m², | C14: op=50szt | D14: 60
A15: 11 | B15: Sterylna serweta na stolik Mayo składana teleskopowo o wymiarach 80cm x 145cm | C15: op=60szt | D15: 4
A16: 12 | B16: Sterylna serweta chirurgiczna o wymiarach min. 45 x 45 cm wykonana z włókniny dwuwarstwowej o gramaturze minimum 55g/m² | C16: op=130szt | D16: 100
... A20: 16 | B20: Ręcznik 30 x30 cm a 2 szt.Gramatura 40g/m², pakowane sterylnie. | C20: Op=75 x2 | D20: 80
B21: RAZEM
B23: Wszystki oferowany asortyment jest wyrobem medycznym.
B24: Wszystkie pozycje od 1-15 muszą posiadać informacje w postaci naklejki typu TAG w ilości 4 szt. w tym: nazwa producenta, LOT, DATA PRODUKCJI,data ważności, indeks wyrobu, Ilość, rozmiar, nazwa handlowa wyrobu. Produkty bezpiecznie pakowane: zawartość pakowana w karton i drugi karton transportowy.
B25: Parametry ogólne poz. od 1 do 15: Laminat wykonany z włókniny polipropylenowej i folii polietylenowo-polipropylenowej o gramaturze 55 g/m2. Pad chłonne w obszarach krtyczntch – gramatura 60 g/m2 – łazcna gramatura laminatu Laminat o odporności na przenikanie cieczy na poziomie min. 300 cm H2O, odporności wytrzymałości na wypychanie - na sucho na poziomie min. 247 Kpa, o odporności wytrzymałości na wypychanie - na mokro na poziomie min. 241 Kpa, o chłonności badanej wg. PN-EN ISO 9073-6 na poziomie min. 481,7 % lub 481,7 ml/m2. Laminat o nasiąkliwości (metodą run off) wg. PN-EN ISO 9073-11 na poziomie min. 19,07 %, o sile delaminacji (włóknina/folia) na poziomie min. 1,95 N/25mm. Powyższe parametry w zakresie normy PN-EN 13795 potwierdzone raportem badań z niezależnego laboratorium, pozostałe parametry KDT wystawioną przez producenta wyrobu gotowego. Laminat spełnia wymagania normy PN-EN 13795-1:2019 dla obłożeń chirurgicznych- potwierdzone raportem badań wykonanym w akredytowanym, niezależnym Laboratorium.
B26: Oświadczamy, że wyroby z włókniny spełniają normę EN 13795-1,2,3 lub równoważną
B27: Oświadczam, że oferowany przedmiot zamówienia jest zgodny z opisem i spełnia wymagane parametry techniczne
B29: data ………………………………. | G29: podpis ……………………………………….

Sheet zad. 13
B1: Załacznik nr 9 do SWZ
B2: ZOZ/DZP/PN/12/25 | D2: FORMULARZ CENOWY
A3: Zadanie nr: 13 Zestawy ambulatoryjne.
A4: Lp. | B4: Nazwa produktu | C4: Jednostka miary | D4: Ilość | E4: Cena jednostkowa netto | F4: Wartość netto | G4: VAT | H4: Cena jednostkowa brutto | I4: Wartość brutto | J4: Producent/Nazwa handlowa/Numer katalogowy
A5: 1 | B5: Zestaw do usuwania zszywek skórnych: 2 x kompres włókninowy 7,5x7,5 cm, 4 warstwy, 30 g 2 x tupfer włókninowy (po rozłożeniu 25x20,5 cm), śr. 60 mm, 30 g. 1 x serweta 2-warstwowa 50x50 cm, (celuloza, folia polietylenowa), gram. 40 g/m2 +/-4%. Serweta stanowi owiniecie zestawu. 1 x pęseta zielona 13 cm, 1 x urządzenie do usuwania zszywek 12,5 cm wykonane z polimeru o wysokiej jakości. 1 x transparentna taca. Opakowanie typu blister. Wyrób medyczny zgodny z (EU) 2017/745. | C5: szt. | D5: 300
A6: 2 | B6: Zestaw do zmiany opatrunku: 8 x kompres gazowy 7,5x7,5 cm, 8W, 17N 5 x tupfer z gazy Ø 50mm (wym. po rozłożeniu 20x20 cm), 20 nitek 1 x pęseta zielona 13cm 1 x kleszczyki Kocher 13cm, niebieskie 1 x serweta 2- warstwowa 40x45cm, (celuloza i folia polietylenowa), gram. 40 g/m2 +/-4%. Serweta stanowi owinięcie zestawu. Opakowanie typu bister z trzema wgłębieniami. Wyrób zgodny z (EU) 2017/745. | C6: szt. | D6: 200
A7: 3 | B7: Zestaw do zmiany opatrunku: 1 x penseta plastikowa zielona 12-13 cm, 1 x kleszczyki plastikowe niebiesk 12-13 cm, 5 x tampon włókninowy wielkości o ś. 35 mm 5 x kompres włłokninowy 7,5 x 7,5 cm Komponenty umieszczone w twardym blisterze z 3 wgłębieniami Wyrób medyczny klasy I, zgodny z (EU) 2017/745. | C7: szt. | D7: 200
A8: 4 | B8: Zestaw do usuwania szwów: 3 x tupfer włókninowy Ø 60 mm, (wymiar po rozłożeniu 25 x20,5 cm) 30 g. 1 x ostrze z uchwytem 6,5 cm 1 x zielona pęseta 13 cm 1 x pęseta chirurgiczna 15,5 cm wykonana z polimeru o wysokiej jakości. Opakowanie typu bister z trzema wgłębieniami. Wyrób medyczny klasy I, zgodny z (EU) 2017/745. | C8: szt. | D8: 2000
A9: 5 | B9: Zestaw do zakładania szwów ze znieczuleniem: 1 x serweta 2-warstwowa, wym. 50 x 60 cm (celuloza i folia polietylenowa), gram. 40 g/m2 +/-4%. Serweta stanowi owinięcie zestawu. 1 x pojemnik na narzędzia 19.6 x 10.3 x 2.2 cm 1 x pęseta chirurgiczna 15,5 cm wykonana z polimeru o wysokiej jakości. 1 x imadło Mayo-Hegar,15 cm wykonane z polimeru o wysokiej jakości. 1 x nożyczki 14.5 cm ostro/ostre 1 x taca transparentna 18 x 9,5 x 2,5 cm 6 x tupfer z gazy Ø 40 mm, (wym . po rozłożeniu 17x20 cm), 17 nitek 1 x strzykawka Luer Lock 10 ml, 3-częściowa 1 x igła podskórna 21Gx1 1/2" 1 x igła podskórna 18Gx1 1/2" 1 x kleszczyki Kocher 13 cm, niebieskie 1 x serweta samoprzylepna 50 x 50 cm, 2 - warstwowa (włóknina wiskozowa i folia polietylenowa) z samoprzylepnym otworem 6 x 9 cm, gram. 65 g/m2 +/-10%. Opakowanie folia-papier. Wyrób medyczny klasy I, zgodny z (EU) 2017/745. | C9: szt. | D9: 500
A10: 6 | B10: Zestwa do drobnych zabiegów chirurgicznych: o składzie: 5 x kompres włókninowy 7,5x7,5 cm 1 x Kleszcze Halstead Mosquito proste 1 x pęseta Adson anatomiczna 12 cm 1 x pęseta Adson chirurgiczna 12 cm 1 x skalpel z rączką nr 3 1 x Nożyczki do opatrunków ostro-tępe 14,5 cm 1 x imadło Mayo-Hegar 15 cm 1 x tacka prostokątna o wym. 9,8 x 3,4 x 1,4 cm Komponenty umieszczone w zamykanym na zatrzask transparentnym pojemniku o wym. 19,6 x10,3 x 2,2cm. Narzędzia wykonane z wysokiej jakości polimeru odpornego na odkształcenia i dedykowanego do narzędzi chirurgicznych o dużym poziomie precyzji. Wyrób medyczny klasy I, zgodny z (EU) 2017/745. | C10: szt. | D10: 800
A11: 7 | B11: Jałowy zestaw do dezynfekcji pola operacyjnego o składzie: 1 x miska okrągła żółta 250 ml, 1 x miska okrągła czerwona 250 ml, 1 x korcang 24 cm, 6 x tupfery włłokninowe śr. 60 mm Komponenty umieszczone w twardym blisterze o wym. 20x32 cm. Wyrób medyczny klasy I, zgodny z (EU) 2017/745. | C11: szt. | D11: 250
A12: 8 | B12: Jednorazowe narzędzie do usuwania tytanowych zszywek skórnych, wykonane z wysokiej jakości polimeru, 12,5 cm, a'1 szt. Wyrób medyczny zgodny z (EU) 2017/745. | C12: szt. | D12: 400
B13: RAZEM
B14: Wszystki oferowany asortyment jest wyrobem medycznym.
B15: Oświadczamy, że wyroby z włókniny spełniają normę EN 13795-1,2,3 lub równoważną
B16: Oświadczam, że oferowany przedmiot zamówienia jest zgodny z opisem i spełnia wymagane parametry techniczne
B18: data ………………………………. | G18: podpis ……………………………………….

Sheet zad. 14
B1: Załacznik nr 9 do SWZ
B2: ZOZ/DZP/PN/12/25 | D2: FORMULARZ CENOWY
A3: Zadanie nr: 14 Czepki, maski, majtki do zabiegów ambulatoryjnych.
A4: Lp. | B4: Nazwa produktu | C4: Jednostka miary | D4: Ilość | E4: Cena jednostkowa netto | F4: Wartość netto | G4: VAT | H4: Cena jednostkowa brutto | I4: Wartość brutto | J4: Producent/Nazwa handlowa/Numer katalogowy
A5: 1 | B5: Spodenki do badania endoskopowego z otworem w kroczu wykonane z włókniny polipropylenowej w rozmiarze uniwersalnym | C5: Op=10 szt | D5: 250
A6: 2 | B6: Spódnica dla pacjentek rozmiar dł. min. 50 cm , szerokość min. 150 cm ściągnięta gumką, rozmiar uniwersalny, grubość min. 40 g/m2 | C6: Op=10 szt | D6: 180
A7: 3 | B7: Majtki jednorazowe dla pacjenów. Min. 40g/m2 | C7: Op=25 szt. | D7: 205
A8: 4 | B8: Czepek chirurgiczny uniwersalny o kroju furażerki wykonany w części bocznej z włókniny typu spunlace 45g/m2 pochłaniającej pot, zaś w części górnej z włókniny perforowanej, ściągnięty z tyłu gumką. O gramaturze min. 26g/m2 Sposób pakowania w kartoniki gwarantujący higieniczne przechowywanie i wyjmowanie, kolor niebieski rozmiar uniwersalny nieprześwitujący. | C8: Op=100 szt | D8: 60
A9: 5 | B9: Okrągły czepek chirurgiczny tzw. „ beret” wykonany z włókniny wiskozowej pochłaniającej pot o gramaturze nie mniejszej niż 26g/m2, z tyłu ściągnięty lekką, nie uciskającą gumką. | C9: Op=100 szt | D9: 120
A10: 6 | B10: Maska medyczna z gumkami_Typ_II, niejałowa_niebieska_A50, Maska medyczna mocowana na gumki, wykonana z trzech warstw niepylącej włókniny (25 g/m²+ 25 g/m²+ 25 g/m²), wymiary maski 17,5cm x 9,5cm. Wymiary gumek 16,5 cm . Długość sztywnika do formowania maski na nosie 10,5cm. Zgodna z normą PN-EN 14683:2019 + AC:2019 typ II– poziom filtracji bakterii BFE 98,24%, ciśnienie różnicowe 34,67 Pa/cm² , czystość mikrobiologiczna 1,11 cfu/g. | C10: Op=50 szt | D10: 1800
A11: 7 | B11: Maska medyczna z trokami_Typ_II, niejałowa_zielona_A50, Maska medyczna wiązana na troki, wykonana z trzech warstw niepylącej włókniny (25g/m2+ 25g/m2 + 25g/m2), wymiary maski 17,5cm x 9,5cm. Długość troków 40 cm. Długość sztywnika do formowania maski na nosie 10,5cm . Zgodna z normą PN-EN 14683:2019 + AC:2019 typ II– poziom filtracji bakterii BFE 98,24%, ciśnienie różnicowe 34,67 Pa/cm² , czystość mikrobiologiczna 1,11 cfu/g. | C11: Op =50 szt | D11: 500
B12: RAZEM
B14: Wszystki oferowany asortyment jest wyrobem medycznym.
B15: Oświadczam, że oferowany przedmiot zamówienia jest zgodny z opisem i spełnia wymagane parametry techniczne
B19: data ………………………………. | G19: podpis ……………………………………….

Sheet zad. 15
B1: Załacznik nr 9 do SWZ
B2: ZOZ/DZP/PN/12/25 | D2: FORMULARZ CENOWY
A3: Zadanie nr 15: Zestaw do podciśnieniowej terapii leczenia ran
A4: Lp. | B4: Nazwa produktu | C4: Jednostka miary | D4: Ilość | E4: Cena jednostkowa netto | F4: Wartość netto | G4: VAT | H4: Cena jednostkowa brutto | I4: Wartość brutto | J4: Producent/Nazwa handlowa/Numer katalogowy
A5: 1 | B5: Jałowy zestaw opatrunkowy mały do podciśnieniowej terapii leczenia ran składający się z: a. opatrunku piankowego z elastycznej czarnej pianki hydrofobowej o wymiarach 10cm x 7,5cm x 3,3cm b. samoprzylepnej podkładki z portem o wys. 5 mm i wym. 8x8 cm połączonej z dwuświatłowym drenem z silikonu c. 2 x samoprzylepnej, transparentnej folii poliuretanowej 15cmx20 cm. Całość jałowo pakowana, umieszczona na polipropylenowej tacce. | C5: op. 3 kpl | D5: 10
A6: 2 | B6: Jałowy zbiornik na wydzielinę 300 ml z filtrami powietrznym i węglowym wbudowanymi w zbiornik, połączony z dwuświatłowym drenem z silikonu o długości 180 cm. | C6: op.3 kpl | D6: 20
A7: 3 | B7: Jałowy zestaw opatrunkowy XL do podciśnieniowej terapii leczenia ran składający się z: a) 2 x opatrunku piankowego z elastycznej,czarnej pianki hydrofobowej o wymiarach 30 cm x 30 cm x 1,5 cm b) samoprzylepnej podkładki z portem o wys 5 mm o wym. 12 x12 cm połączonej z dwuświatłowym drenem z silikonu c) 6 x samoprzylepnej, transparentnej folii poliuretanowej 20cmx30 cm. Całość jałowo pakowana, umieszczona na polipropylenowej tacce. | C7: op 3szt, | D7: 8
A8: 4 | B8: Jałowy zestaw opatrunkowy do leczenia ran brzucha w podciśnieniowej terapii leczenia ran składający się z: a). 1 x folia ochronna do zabezpieczania organów o śr 65 cm z wbudowanymi kieszeniami ułatwiajacymi zakladanie opatrunku b) 2 x opatrunku piankowego z elastycznej,czarnej pianki hydrofobowej o wymiarach 38cm x 25cm x 1,6cm. Opatrunek piankowy z nacięciami. c) samoprzylepnej podkładki z portem o wys 5 mm o wym. 12 x12 cm połączonej z dwuświatłowym drenem z silikonu c) 6 x samoprzylepnej, transparentnej folii poliuretanowej 20cmx30 cm. Całość jałowo pakowana, umieszczona na polipropylenowj tacce. | C8: szt. | D8: 12
A9: 5 | B9: Jałowy zestaw opatrunkowy mały do podciśnieniowej terapii leczenia ran składający się z: a. opatrunku piankowego z elastycznej czarnej pianki hydrofobowej o wymiarach 18cm x 12,5cm x 3,3cm b. samoprzylepnej podkładki z portem o wys. 5 mm i wym. 8x8 cm połączonej z dwuświatłowym drenem z silikonu c. 2 x samoprzylepnej, transparentnej folii poliuretanowej 15cmx20 cm. Całość jałowo pakowana, umieszczona na polipropylenowej tacce. | C9: op.3 kpl | D9: 10
A10: 6 | B10: Jałowy zestaw opatrunkowy duży do podciśnieniowej terapii leczenia ran składający się z: a. opatrunku piankowego z elastycznej czarnej pianki hydrofobowej o wymiarach 25x15cm x 3,3cm b. samoprzylepnej podkładki z portem o wys. 5 mm i wym. 8x8 cm połączonej z dwuświatłowym drenem z silikonu c. 3 x samoprzylepnej, transparentnej folii poliuretanowej 15cmx20 cm. Całość jałowo pakowana, umieszczona na polipropylenowej tacce. | C10: Op=3 szt | D10: 10
A11: 7 | B11: Jałowy zbiornik na wydzielinę 800 ml z filtrami powietrznym i węglowym wbudowanymi w zbiornik, połączony z dwuświatłowym drenem z silikonu o długości 180 cm. | C11: op.3 kpl | D11: 20
A12: 8 | B12: Złącze Y | C12: op. 3 szt. | D12: 3
A13: 9 | B13: Port | C13: op. 3 szt. | D13: 3
A14: 10 | B14: Opatrunek silikonowy 7,5x10 cm | C14: op. 5 szt | D14: 3
A15: 11 | B15: Opatrunek silikonowy 10x20 cm | C15: op. 5 szt | D15: 3
A16: 12 | B16: Opatrunek silikonowy 20x30 cm | C16: op. 5 szt | D16: 3
... A22: 18 | B22: White Foam S 7,5 x 10cm | C22: op. 10 szt | D22: 1
B23: RAZEM
B24: Wszystki oferowany asortyment jest wyrobem medycznym.
B25: Oświadczam, że oferowany przedmiot zamówienia jest zgodny z opisem i spełnia wymagane parametry techniczne
B28: data ………………………………. | G28: podpis ……………………………………….

Sheet zad. 16
B1: Załacznik nr 9 do SWZ
B2: ZOZ/DZP/PN/12/25 | D2: FORMULARZ CENOWY
A3: Zadanie nr 16: Opatrunki chłodzące na twarz.
A4: Lp. | B4: Nazwa produktu | C4: Jednostka miary | D4: Ilość | E4: Cena jednostkowa netto | F4: Wartość netto | G4: VAT | H4: Cena jednostkowa brutto | I4: Wartość brutto | J4: Producent/ Nazwa handlowa/ Numer katalogowy
A5: 1 | B5: Opatrunek z płata hydrożelu o grubości min. 3,5mm zawierający 92% wody, zawierający w składzie poliwinylopirolidon, glikol polietylenowy, oraz agar usieciowany elektronowo, wzmocniony włókniną. Do zastosowania na twarz z otworami na oczy , usta, nos, produkt sterylny. Rozmiar: 25cm x 25cm | C5: szt. | D5: 24
A6: 2 | B6: Opatrunek z płata hydrożelu o grubości min. 3,5mm zawierający 92% wody, zawierający w składzie poliwinylopirolidon, glikol polietylenowy, oraz agar usieciowany elektronowo, wzmocniony włókniną. Do zastosowania na twarz z otworami na oczy , usta, nos, produkt sterylny. Rozmiar: 30cm x 40cm | C6: szt. | D6: 24
A7: 3 | B7: Opatrunek z płata hydrożelu o grubości min. 3,5mm zawierający 92% wody, zawierający w składzie poliwinylopirolidon, glikol polietylenowy, oraz agar usieciowany elektronowo, wzmocniony włókniną. Do zastosowania na skórę, produkt sterylny. Rozmiar: 12cm x 12cm | C7: szt. | D7: 12
A8: 4 | B8: Opatrunek z płata hydrożelu o grubości min. 3,5mm zawierający 92% wody, zawierający w składzie poliwinylopirolidon, glikol polietylenowy, oraz agar usieciowany elektronowo, wzmocniony włókniną. Do zastosowania na skórę, produkt sterylny. Rozmiar: 20cm x 20cm | C8: szt. | D8: 30
A9: 5 | B9: Opatrunek z płata hydrożelu o grubości min. 3,5mm zawierający 92% wody, zawierający w składzie poliwinylopirolidon, glikol polietylenowy, oraz agar usieciowany elektronowo, wzmocniony włókniną. Do zastosowania na skórę, produkt sterylny. Rozmiar: 12cm x 24cm. | C9: szt. | D9: 24
B10: RAZEM
B11: Wszystki oferowany asortyment jest wyrobem medycznym.
B12: Oświadczam, że oferowany przedmiot zamówienia jest zgodny z opisem i spełnia wymagane parametry techniczne
B14: data ………………………………. | G14: podpis ……………………………………….

Sheet zad. 17
B1: Załacznik nr 9 do SWZ
B2: ZOZ/DZP/PN/12/25 | D2: FORMULARZ CENOWY
A3: Zadanie nr 17 – Opatrunki trójhydrokoloidowe
A4: Lp. | B4: Nazwa produktu | C4: Jednostka miary | D4: Ilość | E4: Cena jednostkowa[zł] netto | F4: Wartość [zł] netto | G4: VAT | H4: Cena jednostkowa [zł] brutto | I4: Wartość [zł] brutto | J4: Producent/Nazwa handlowa/Numer katalogowy
A5: 1 | B5: Opatrunek hydrokoloidowy składający się z trzech rodzajów hydrokoloidu: pektyny, żelatyny i karboksymetylocelulozy sodowej. Przeznaczony do ran do ran z niewielką ilością wysięku, wodoodporny, 10X10cm . | C5: op=10szt | D5: 120
A6: 2 | B6: Opatrunek hydrokoloidowy cienki i erlastyczny składający się z trzech rodzajów hydrokoloidu: pektyny, żelatyny i karboksymetylocelulozy sodowej. Przeznaczony do ran do ran z niewielką ilością wysięku, wodoodporny 10X10cm . | C6: op=5szt | D6: 20
A7: 3 | B7: Jałowy opatrunek wykonany w technologi hydrofiber z nietkanych włókien karboksymetylocelulozy, zawierający w składzie srebro w postaci jonowej, kwas edytynowy(EDTA) i chlorek benzetoniowy (BeCl), opatrunek do ran mocno sączących zwalczających biofilm. 10 x10cm | C7: op=10szt | D7: 150
A8: 4 | B8: Jałowy opatrunek wykonany w technologi hydrofiber z nietkanych włókien karboksymetylocelulozy, zawierający w składzie srebro w postaci jonowej, kwas edytynowy(EDTA) i chlorek benzetoniowy (BeCl), opatrunek do ran mocno sączących zwalczających biofilm. 15 x15cm | C8: op.=5szt | D8: 10
A9: 5 | B9: Opatrunek hydrowlónisty, absorbcyjny wykonany w technologii hydrofiber, wykonany z włókien karboksymetylocelulozy z dodatkiem srebra jonowej 1,2% wagi opatrunku, 2x 45cm | C9: Op=5 szt | D9: 15
A10: 6 | B10: Opatrunek hydrokoloidowy w postaci żelu składający się z trzech różnych rodzajów hydrokoloidów: pektyny, żelatyny i karboksymetylocelulozy sodowej. 15 g tuba. | C10: op.10 szt | D10: 30
A11: 7 | B11: Jałowy opatrunek piankowy wykonany w technologii hydrofiber,impregnowany srebrem w postaci jonowej ,przeznaczony do ran sączących, zbudowany z trzech warstw, silikonowe obramowanie chroniące brzegi rany przed podrażnieniem, opatrunek regulujący poziom wilgoci w ranie. Rozm. 10 x 10 cm. | C11: op=10szt. | D11: 15
A12: 8 | B12: Jałowy opatrunek piankowy wykonany w technologii hydrofiber,impregnowany srebrem w postaci jonowej ,przeznaczony do ran sączących, zbudowany z trzech warstw, silikonowe obramowanie chroniące brzegi rany przed podrażnieniem, opatrunek regulujący poziom wilgoci w ranie. Rozm. 12,5 x 12,5 cm | C12: op=10szt. | D12: 50
A13: 9 | B13: Jałowy opatrunek piankowy wykonany w technologii hydrofiber,impregnowany srebrem w postaci jonowej ,przeznaczony do ran sączących, zbudowany z trzech warstw, silikonowe obramowanie chroniące brzegi rany przed podrażnieniem, opatrunek regulujący poziom wilgoci w ranie. Rozm. 17,5 x 17,5 cm. | C13: op=10szt. | D13: 5
A14: 10 | B14: Jałowy opatrunek piankowy wykonany w technologii hydrofiber,impregnowany srebrem w postaci jonowej ,przeznaczony do ran sączących, zbudowany z trzech warstw, silikonowe obramowanie chroniące brzegi rany przed podrażnieniem, opatrunek regulujący poziom wilgoci w ranie. Rozm. 21 x 21 cm | C14: Op=5 szt. | D14: 5
A15: 11 | B15: Jałowy opatrunek piankowy wykonany w technologii hydrofiber,impregnowany srebrem w postaci jonowej ,przeznaczony do ran sączących, zbudowany z trzech warstw, silikonowe obramowanie chroniące brzegi rany przed podrażnieniem, opatrunek regulujący poziom wilgoci w ranie. Rozm. 19,8 x 14 cm | C15: Op=5 szt. | D15: 10
A16: 12 | B16: Jałowy opatrunek piankowy wykonany w technologii hydrofiber,impregnowany srebrem w postaci jonowej ,przeznaczony do ran sączących, zbudowany z trzech warstw, silikonowe obramowanie chroniące brzegi rany przed podrażnieniem, opatrunek regulujący poziom wilgoci w ranie. Rozm. 20 x 16,9 cm. | C16: Op=5 szt. | D16: 10
... A22: 18 | B22: Aerozol przenaczony do bezbolesnego i szybkiego usuwania przylepca ze skóry wokół stomii, 100% silikonowa formuła bez butanu, obojętny gaz rozpylający 50 ml | C22: op.= 1szt. | D22: 50
B23: RAZEM
B24: Wszystki oferowany asortyment jest wyrobem medycznym.
B25: Oświadczam, że oferowany przedmiot zamówienia jest zgodny z opisem i spełnia wymagane parametry techniczne
B27: data ………………………………. | G27: podpis ……………………………………….

Sheet zad. 18
B1: Załacznik nr 9 do SWZ
B2: ZOZ/DZP/PN/12/25 | D2: FORMULARZ CENOWY
A3: Zadanie nr 18: Pieluchomajtki duże.
A4: Lp. | B4: Nazwa produktu | C4: Jednostka miary | D4: Ilość | E4: Cena jednostkowa[zł] netto | F4: Wartość [zł] netto | G4: VAT | H4: Cena jednostkowa [zł] brutto | I4: Wartość [zł] brutto | J4: Producent /Nazwa handlowa /Numer katalogowy
A5: 1 | B5: Pielucho majtki dla dorosłych z pochłaniaczem zapachów w których obwód wynosi 130 -170 cm, chłonność 2500 g. Pieluchomajtki są oddychające na całej powierzchni, pozwalają skórze osoby pieluchowanej przez cały czas swobodnie oddychać. Dzięki temu niebezpieczeństwo powstania podrażnień skóry i odparzeń zredukowane jest do minimum. Stosowanie pieluchomajtek oddychających w znacznym stopniu podnosi komfort chorego i pozwala utrzymać skórę w dobrym stanie.cztery przylepcorzepy – idealne dopasowanie oraz możliwość wielokrotnego użytkowania; Cechy: podwójny wkład chłonny – większe poczucie suchości; wewnętrzne hydrofobowe falbanki boczne oraz osłonki boczne wzdłuż wkładu chłonnego skierowane na zewnątrz zapobiegają wyciekom – większe bezpieczeństwo; warstwa paroprzepuszczalna w części centralnej, włóknina w obszarze bioder; brak elementów lateksowych – minimalizacja ryzyka reakcji alergicznych; podwójny indykator wilgotności – lepsza informacja o konieczności zmiany wyrobu: klejowy - dwa żółte paski zmieniające barwę pod wpływem cieczy oraz tuszowy nadruk – rozmywający się pod wpływem cieczy; | C5: Op=30 szt | D5: 50
B6: Razem
B8: Oświadczam, że oferowany przedmiot zamówienia jest zgodny z opisem i spełnia wymagane parametry techniczne
B10: data ………………………………. | F10: podpis ……………………………………….

Sheet zad. 19
B1: Załacznik nr 9 do SWZ
B2: ZOZ/DZP/PN/12/25 | D2: FORMULARZ CENOWY
A3: Zadanie nr 19: Prześcieradła
A4: Lp. | B4: Nazwa produktu | C4: Jednostka miary | D4: Ilość | E4: Cena jednostkowa netto | F4: Wartość netto | G4: VAT | H4: Cena jednostkowa brutto | I4: Wartość brutto | J4: Producent/Nazwa handlowa/ Numer katalogowy
A5: 1 | B5: Prześcieradła ochronne jednorazowego użytku z przetwarzanej dwuwarstwowej bibuły ze spodem wykonanym z foli. Szybko wchłaniające wodę i chroniące przed wilgocią, wzmocnione włóknem zapewniającym większą trwałość. Rozmiar 80x210cm. | C5: op= 100szt | D5: 50
A6: 2 | B6: Prześcieradła ochronne jednorazowego użytku z przetwarzanej dwuwarstwowej bibuły ze spodem wykonanym z foli. Szybko wchłaniające wodę i chroniące przed wilgocią, wzmocnione włóknem zapewniającym większą trwałość. Rozmiar 80 x 170cm. | C6: op= 100szt | D6: 50
B7: RAZEM
B10: Oświadczam, że oferowany przedmiot zamówienia jest zgodny z opisem i spełnia wymagane parametry techniczne
B13: data ………………………………. | G13: podpis ……………………………………….

Sheet zad. 20
B1: Załacznik nr 9 do SWZ
B2: ZOZ/DZP/PN/12/25 | D2: FORMULARZ CENOWY
A3: Zadanie nr 20: Pościel jednorazowa
A5: Lp. | B5: Nazwa produktu | C5: Jednostka miary | D5: Ilość | E5: Cena jednostkowa netto | F5: Wartość netto | G5: VAT | H5: Cena jednostkowa brutto | I5: Wartość brutto | J5: Producent /Nazwa handlowa/Nr katalogowy
A6: 1 | B6: Komplet pościeli, jednorazowy, niejałowy, wykonany z włókniny polipropylenowej w kolorze zielonym lub niebieskim (włóknina 25g/m2). Wymiary: poszwy na kołdrę – 210x160 cm, poszwy na poduszkę 70x80 cm, prześcieradło – 210x150cm; +/-2 cm. Miękka i wygodna, odporna na przemakanie. Pakowana pojedynczo w opakowaniu foliowym. Wyrób medyczny klasy I, zgodny z (EU) 2017/745. | C6: komplet | D6: 300
A7: 2 | B7: Koc ogrzewający jednorazowego użytku, o bardzo dobrych właściwościach termicznych, niejałowy, bezlateksowy, wykonany: wypełnienie 100% bawełna 200g/m2 + zewnętrzne warstwy włókniny PP o gramaturze 20g/m2, odporności termicznej >0,24m²K/W (zgodny z EN ISO 11092-2014). Koc z przeszyciami na całej powierzchni w celu zabezpieczenia przemieszczenia się wypełnienia koca, szyty szwami ultradźwiękowymi, kolor granatowy, materiał oddychający, przyjazny dla ciała, waga 500 g, dla zapewnienia zachowania higieny każda sztuka pakowana osobno w próżniowym opakowaniu. Wymiary: 110 x 190 cm. Produkty zarejestrowane jako wyrób medyczny klasy I, zgodny z (EU) 2017/745. | C7: szt. | D7: 1200
A8: 3 | B8: Poduszka jednorazowego użytku, niejałowa z zewnętrzną powłoką wykonaną z warstwy włókninowej PP o gramaturze 35g/m2 z poliestrowym wypełnieniem o gramaturze 62g/m2, waga 210 g, Pakowana osobno w próżniowym opakowaniu. Rozmiar 40 x 40 cm. Wyrób medyczny klasy I, zgodny z (EU) 2017/745. | C8: szt. | D8: 2000
A9: 4 | B9: Jednorazowe, niejałowe prześcieradło medyczne wykonane z włókniny polipropylenowej w kolorze białym, gramatura 25 g/m2, wymiary: 150 x 240 cm, białe, pakowane pojedynczo. Wyrób medyczny klasy I, zgodny z (EU) 2017/745. | C9: szt. | D9: 1000
A10: 5 | B10: Jednorazowa poszewka na poduszkę, niejałowa, wykonany z włókniny polipropylenowej w kolorze zielonym (włóknina min. 20g/m2). Wyrób medyczny. Rozmiar 70cm (tol.+10 cm) x 80cm. | C10: szt. | D10: 1300
A11: 6 | B11: Jednorazowe prześcieradło z wkładem chłonnym, wykonane z włókniny PP 50g/m2 + PE 25g/m2, rdzeń chłonny zbudowany z warstwy celulozy 18g/m2, superchłonnego polimeru (SAP) 27g oraz puszystej pulpy typu Fluff Pulp 92g, chłonność min. 4000 ml NaCl 0,9% ( roztwór soli fizjologicznej), wg normy ISO 11948-1, z możliwością do przesuwania pacjenta (wytrzymałość do 150 kg). Wymiary 100 x 220cm ( wkład chłonny 60 x 210cm) +/- 1 cm. Wyrób medyczny klasy I, zgodny z (EU) 2017/745. Pakowany pojedynczo w torebkę z foli PE. | C11: szt. | D11: 2000
A12: 7 | B12: Podkład chłonny z taśmą lepną wykonwny z pulpy celulozowej z superabsorbentem (SAP), minimalizujący nieprzyjemny zapach, włókniny, bibułki i foli PE, o wymiarach 75x90cm, chłonności 1800 ml, taśma lepną do mocowania prześcieradła z uszczelnieniami na krawędziach. Wyrób medyczny klasy I, zgodny z (EU) 2017/745. | C12: szt. | D12: 1000
A13: 8 | B13: Koc ogrzewający jednorazowego użytku, o bardzo dobrych właściwościach termicznych, niejałowy, bezlateksowy, wykonany: wypełnienie 100% Polyester 85g/m2 + zewnętrzne warstwy włókniny PP o gramaturze 30g/m2, odporność termiczna >0,03m²K/W (zgodny z EN ISO 11092-2014) z przeszyciami w kształcie rombów na całej powierzchni w celu zabezpieczenia przemieszczenia się wypełnienia koca, szyty wzdłuż i wszerz szwami ultradźwiękowymi, kolor granatowy, przyjazny dla ciała, waga 300g, dla zapewnienia zachowania higieny każda sztuka pakowana osobno w próżniowym opakowaniu. Wymiary:110 x 190 cm. Produkt zarejestrowany jako wyrób medyczny klasy I, zgodny z (EU) 2017/745. | C13: szt. | D13: 2000
B14: RAZEM
B15: Oferowany asortyment w poz.2, 3,8, nie musi być wyrobem medycznym.
B16: Oświadczam, że oferowany przedmiot zamówienia jest zgodny z opisem i spełnia wymagane parametry techniczne
B18: data ………………………………. | G18: podpis ……………………………………….

Sheet zad. 21
B1: Załacznik nr 9 do SWZ
B2: ZOZ/DZP/PN/12/25 | D2: FORMULARZ CENOWY
A4: Zadanie nr 21 - Opatrunki aktywne
A5: Lp. | B5: Nazwa produktu | C5: Rozmiar | D5: Jednostka miary | E5: Ilość | F5: Cena jednostkowa[zł] netto | G5: Wartość [zł] netto | H5: VAT | I5: Cena jednostkowa [zł] brutto | J5: Wartość [zł] brutto | K5: Producent/ Nazwa handlowa/ Numer katalogowy
A6: 1 | B6: Jałowy kombinowany opatrunek zawierający węgiel aktywowany /pochłaniający nieprzyjemny zapach/ i jony srebra działające na MRSA i VRE. Opatrunek składający się z: - nieprzywierającej do rany poliestrowej saszetki włókninowej łączonej termicznie z dwóch stron, od strony przeciwległej do rany klejonej za pomocą zielono-niebieskiego kleju topliwego, - warstwy filcu z węgla aktywowanego impregnowanego 0,3% solą srebra, Borax, - kilku warstw siarczanu celulozy, - warstwy chroniącej odzież składającej się z włókien polipropylenowych. Do ran z bardzo dużym wysiękiem. | C6: 10x10cm | D6: op=10szt | E6: 6
A7: 2 | B7: Jałowy opatrunek z alginianami wapnia i jonami srebra. Opatrunek do ran z bardzo dużym wysiękiem, musi wiązać wysięk z rany w swojej strukturze. musi wykazywać działanie bakteriobójcze również musi działać przeciw MRSA i VRE. Opatrunek o dużej zawartości kwasu mannuronowego. Impregnowane srebrem włókna alginianu wapnia reagują z wysiękiem z rany lub krwią, tworząc żel, który tworzy wilgotne środowisko rany. | C7: 10x10cm | D7: op=10szt | E7: 90
A8: 3 | B8: Antybakteryjna tamponada z alginianu wapnia o dużej zawartości kwasu mannuronowego.Opatrunek w formie tamponada o długości 30cm i wadze 2g. Impregnowane srebrem włókna alginianu wapnia reagujące z wysiękiem z rany lub krwią, tworzące żel. Srebro zawarte w opatrunku ma szerokie działanie przeciwdrobnoustrojowe, w tym przeciwko MRSA i VRE (spektrum patogenów in vitro). In vitro z włókien alginianu srebra (1,5%) w ciągu 24 godzin uwalnia się 5,5 ppm/10 cm” (opatrunek) srebra jonowego. | C8: 30cm, 2g | D8: op=5szt | E8: 16
A9: 4 | B9: Sterylny wysokochłonny, wodoodporny, 5-warstwowy opatrunek z silikonową warstwą kontaktową, warstwą pianki poliuretanowej, warstwą włókninową, warstwą superabsorbentu oraz warstwą ochronną przeznaczony do ran ze średnim i dużym wysiękiem, dopasowany swym kształtem na piętę. Rozmiar: 23,5cmx25cm | C9: 23,5cmx25cm | D9: szt | E9: 20
A10: 5 | B10: Sterylny wysokochłonny, wodoodporny, 5-warstwowy opatrunek z silikonową warstwą kontaktową, warstwą pianki poliuretanowej, warstwą włókninową, warstwą superabsorbentu oraz warstwą ochronną przeznaczony do ran ze średnim i dużym wysiękiem, dopasowany swym kształtem do kości krzyżowej. Rozmiar 17cmx17,5cm | C10: 17cmx17,5cm | D10: szt | E10: 20
A11: 6 | B11: Sterylny wysokochłonny, wodoodporny, 5-warstwowy opatrunek z silikonową warstwą kontaktową, warstwą pianki poliuretanowej, warstwą włókninową, warstwą superabsorbentu oraz warstwą ochronną przeznaczony do ran ze średnim i dużym wysiękiem, dopasowany swym kształtem do miejsc trudno dostępnych. Rozmiar 12cmx15cm | C11: 12cmx15cm | D11: szt | E11: 20
A12: 7 | B12: Sterylny wysokochłonny, wodoodporny, 5-warstwowy opatrunek z silikonową warstwą kontaktową, warstwą pianki poliuretanowej, warstwą włókninową, warstwą superabsorbentu oraz warstwą ochronną przeznaczony do ran ze średnim i dużym wysiękiem | C12: 7,5cmx8,5cm | D12: szt | E12: 20
A13: 8 | B13: Sterylny wysokochłonny, wodoodporny, 5-warstwowy opatrunek z silikonową warstwą kontaktową, warstwą pianki poliuretanowej, warstwą włókninową, warstwą superabsorbentu oraz warstwą ochronną przeznaczony do ran ze średnim i dużym wysiękiem | C13: 10cmx10cm | D13: szt | E13: 20
A14: 9 | B14: Sterylny wysokochłonny, wodoodporny, 5-warstwowy opatrunek z silikonową warstwą kontaktową, warstwą pianki poliuretanowej, warstwą włókninową, warstwą superabsorbentu oraz warstwą ochronną przeznaczony do ran ze średnim i dużym wysiękiem | C14: 12,5cmx12,cm | D14: szt | E14: 20
A15: 10 | B15: Sterylny wysokochłonny, wodoodporny, 5-warstwowy opatrunek z silikonową warstwą kontaktową, warstwą pianki poliuretanowej, warstwą włókninową, warstwą superabsorbentu oraz warstwą ochronną przeznaczony do ran ze średnim i dużym wysiękiem | C15: 15cmx15cm | D15: szt | E15: 20
A16: 11 | B16: Sterylny wysokochłonny, wodoodporny, 5-warstwowy opatrunek z silikonową warstwą kontaktową, warstwą pianki poliuretanowej, warstwą włókninową, warstwą superabsorbentu oraz warstwą ochronną przeznaczony do ran ze średnim i dużym wysiękiem | C16: 20cmx20cm | D16: szt | E16: 20
A17: 12 | B17: Opatrunek jałowy, pakowany pojedynczo składający się z 18 mln pochylonych włókien monofilamentowych, gęsty i miękki zapewniający delikatne opracowanie rany( przygotowanie łożyska rany) umożliwiający zmniejszenie liczby patogenów, uwalnianie rany od strupa i pozostałości po martwych komórkach, wchłanianie nadmiernego wysięku. Krawędź opatrunku zszyta i wzmocniona spodnia warstwa. | C17: 10x10cm | D17: op=5szt | E17: 15
A18: 13 | B18: Dwustronny, kwadratowy opatrunek z przeszytymi krawędziami, do użytku jednorazowego. Opatrunek zbudowany z jednej strony z białych, miekkich, monofilamentowych włókien poliestrowych, strona odwrotna składa się z pętelek z poliestru i polyamidu w kolorze beżowym. Produkt sterylizowany parą. Służy do szybkiego, efektywnego, skutecznego i niebolesnego opracowania ran powierzchownych i skóry otaczającej brzegi rany Rozmiar 10x10 | C18: 10x10cm | D18: op 5 szt | E18: 20
A19: 14 | B19: Jednorazowy, biały, cylindryczny opatrunek zbudowany z monofilamentowych włókien poliestrowych wewnętrznie pokryty poliakrylanem, zszywany niebieską nitką radiacyjną. Zamocowany za pomocą przędzy poliestrowej na poliproyplenowej rączce. Sterylizowany tlenkiem etylenu. | D19: op 5 szt | E19: 20
A20: 15 | B20: Opatrunek do zaopatrywania ran wokół drenów i przewodów infuzyjnych, składający się z miękkiej, włókniny przepuszczający powietrze i parę wodną. Opatrunek pokryty jednostronnie warstwą aluminium co stanowi warstwę kontaktową z raną, opatrunek wykonany z włókniny wiskozowej i kleju akrylowego. | C20: 8x9cm | D20: op=50szt | E20: 20
A21: 16 | B21: Biały, elastyczny, nieprzywierający do rany opatrunek składający się z siatki tiulowej (PET - politereftalan etylenu) o szerokich oczkach całkowicie impregnowanej polimerową matrycą zawierająca tłuszcze (wazelina, biały olej medyczny) i hydrokoloid (karboksymetyloceluloza sodowa, guma syntetyczna)oraz przeciwutleniający pentaerytrytol Tetrakis (3- (3,5-di-tert-butylo-4-hydroksyfenylo) propionat) stanowiąca hydrofobową, elastomerową powłoką. Opatrunek jest obustronnie pokryty jednostronnie silikonowana folią PET. | C21: 10cmx10cm | D21: szt | E21: 20
A22: 17 | B22: Prostokątny, całkowicie zamknięty opatrunek z warstwą kontaktową z perforowanej folii polietylenowej, warstwą rozprowadzającej wysięk hydrofilnej włókniny z termicznie łączonych włókien polipropylenowych, rdzeniem chłonnym z celulozy z superabsorberem z polikarylanu sodu i hydrofobową, niebieską, włókninową warstwą ochronną z termicznie łączonych włókien polipropylenowych; warstwa kontaktowa z raną oraz niebieska warstwa ochronna całkowicie otaczają warstwę włókniny oraz rdzeń chłonny a ich wszystkie krawędzie są złączone za pomocą kleju topliwego. Rozmiar 10cmx10cm | C22: 10cmx10cm | D22: szt | E22: 20
A23: 18 | B23: Opatrunek z wbudowanym superabsorbentem wykonanym z poliakrylanu sodu. składa się z włókninowej warstwy zewnętrznej, włókninowej warstwy rozprowadzającej, chłonnego rdzenia z pulpy celulozowej i warstwy airlaid oraz włókninowej warstwy ochronnej. Rozmiar 20x25 | C23: 20cmx25cm | D23: szt | E23: 20
A24: 19 | B24: Samoprzylepny, paroprzepuszczalny, wodoodporny i transparentny opatrunek składający się:opatrunek foliowy: folia poliuretanowa, pokryta klejem poliakrylowym, folia nośna: polietylen,papier zabezpieczający: papier pokryty silikonem,paski samoprzylepne: folia poliestrowa i klej poliakrylowy,skrzydełka do aplikacji: biały, wybielany papier silikonowy,koniec rolki mocowany jest za pomocą kleju termotopliwego, w rolce, 10cmx10m | C24: 10cmx10m | D24: szt | E24: 20
B25: Razem
B27: Wszystki oferowany asortyment jest wyrobem medycznym.
B28: Oświadczam, że oferowany przedmiot zamówienia jest zgodny z opisem i spełnia wymagane parametry techniczne
B31: data ………………………………. | G31: podpis ……………………………………….

Sheet zad. 22
B1: Załacznik nr 9 do SWZ
B2: ZOZ/DZP/PN/12/25 | D2: FORMULARZ CENOWY
A4: Zadanie nr 22: Mata chłonna
A5: Lp. | B5: Nazwa produktu | C5: Jednostka miary | D5: Ilość | E5: Cena jednostkowa netto | F5: Wartość netto | G5: VAT | H5: Cena jednostkowa brutto | I5: Wartość brutto | J5: Producent /Nazwa handlowa/Nr katalogowy
A6: 1 | B6: Antypoślizgowa, podłogowa mata chłonna, może być stosowana zarówno na suchych jak i mokrych podłogach, bez super chłonnych proszków, dzięki czemu mata nie pęcznieje i jest równa na powierzchni, odpowiednia kapilarność utrzymuje matę na mokrej podłodze. Rozmiar 84cm x 30m na roli, pomarańczowa/biała, absorbcja -5L /m2 | C6: rolka | D6: 8
B7: RAZEM
B10: Oświadczam, że oferowany przedmiot zamówienia jest zgodny z opisem i spełnia wymagane parametry techniczne
B13: data ………………………………. | G13: podpis ……………………………………….

Sheet zad. 23
B1: Załacznik nr 9 do SWZ
B2: ZOZ/DZP/PN/12/25 | D2: FORMULARZ CENOWY
A3: Zadanie nr: 23 preparaty do pielęgnacji skóry
A4: Lp. | B4: Nazwa produktu | C4: Jednostka miary | D4: Ilość | E4: Cena jednostkowa netto | F4: Wartość netto | G4: VAT | H4: Cena jednostkowa brutto | I4: Wartość brutto | J4: Producent/ Nazwa handlowa/ Numer katalogowy
A5: 1 | B5: Lotion myjąco-natłuszczający do ciała | C5: op=500ml | D5: 20
A6: 2 | B6: Pianka myjąco-pielęgnująca z sinodorem | C6: op=500ml | D6: 170
A7: 3 | B7: Krem myjący do ciała 3 w 1 z sinodorem i mocznikiem 3 % | C7: op=1000ml | D7: 140
A8: 4 | B8: Balsam regenerujący do ciała do skóry suchej | C8: op=200ml | D8: 70
A9: 5 | B9: Żel aktywizujący do ciała | C9: op=200ml | D9: 20
A10: 6 | B10: Krem do suchej zrogowaciałej skóry | C10: op=100ml | D10: 20
A11: 7 | B11: Krem ochronny z tlenkiem cynku i sinodorem | C11: op=100ml | D11: 20
A12: 8 | B12: Krem ochronny z argininą i sinodorem | C12: op=200ml | D12: 20
A13: 9 | B13: Neutralizator zapachu ze spryskiwaczem | C13: op=500ml | D13: 48
B14: RAZEM
B16: Oświadczam, że oferowany przedmiot zamówienia jest zgodny z opisem i spełnia wymagane parametry techniczne
B18: data ………………………………. | G18: podpis ……………………………………….

Sheet Zestawienie CPV
A1: okres umowy
A2: data przydatności min 12 miesięcy
A3: Reklamacja 24 godziny w dni robocze
A4: kryterium oceny dostawa: 24-48-72 h
A5: oraz cena
E7: okres umowy 24 miesiące
A8: Zadanie | B8: 1 | C8: Zadania nr: 1 Kompresy | D8: 33141110-4 | E8: okres umowy 24 miesiące | G8: kryterium oceny dostawa: 24-48-72 h
A9: Zadanie | B9: 2 | C9: Zadanie nr: 2 Różne. | D9: 33141110-4 | E9: okres umowy 24 miesiące | G9: kryterium oceny dostawa: 24-48-72 h
A10: Zadanie | B10: 3 | C10: Zadanie nr: 3 Lignina, wata | D10: 33141110-4 | E10: okres umowy 24 miesiące | G10: kryterium oceny dostawa: 24-48-72 h
A11: Zadanie | B11: 4 | C11: Zadanie nr: 4 Opaski, plastry, opatrunki. | D11: 33141110-4 | E11: okres umowy 24 miesiące | G11: kryterium oceny dostawa: 24-48-72 h
A12: Zadanie | B12: 5 | C12: Zadanie nr: 5 Zabezpieczenia opatrunków | D12: 33141000-0 | E12: okres umowy 24 miesiące | G12: kryterium oceny dostawa: 24-48-72 h
A13: Zadanie | B13: 6 | C13: Zadanie nr: 6 Plastry do cewników donaczyniowych | D13: 33141110-4 | E13: okres umowy 24 miesiące | G13: kryterium oceny dostawa: 24-48-72 h
A14: Zadanie | B14: 7 | C14: Zadanie nr 7: Obłożenie C | D14: 33141000-0 | E14: okres umowy 24 miesiące | G14: kryterium oceny dostawa: 24-48-72 h
A15: Zadanie | B15: 8 | C15: Zadanie nr 8 – Bielizna osobista dla pacjentek | D15: 39518000-6 | E15: okres umowy 24 miesiące | G15: kryterium oceny dostawa: 24-48-72 h
A16: Zadanie | B16: 9 | C16: Zadanie nr: 9 Obłożenia operacyjne A | D16: 33141000-0 | E16: okres umowy 24 miesiące | G16: kryterium oceny dostawa: 24-48-72 h
A17: Zadanie | B17: 10 | C17: Zadanie nr 10 Ubrania i fartuchy medyczne i foliowe niesterylne | D17: 39518000-6 | E17: okres umowy 24 miesiące | G17: kryterium oceny dostawa: 24-48-72 h
A18: Zadanie | B18: 11 | C18: Zadanie nr 11: Zestawy opatrunkowe | D18: 33141000-0 | E18: okres umowy 24 miesiące | G18: kryterium oceny dostawa: 24-48-72 h
A19: Zadanie | B19: 12 | C19: Zadanie nr: 12 Serwety operacyjne | D19: 39518200-8 | E19: okres umowy 24 miesiące | G19: kryterium oceny dostawa: 24-48-72 h
... A41: Zadanie | B41: 34 | C41: Zadanie nr:34 Trokar | D41: 33162200-5 | E41: okres umowy 7 miesiące | G41: kryterium oceny dostawa: 24-48-72 h

Sheet podsumowanie
C3: l.P. | D3: nazwa zadania | E3: wartośc netto | F3: wartośc brutto
C4: 1 | D4: Zadania nr: 1 Kompresy | E4: ='zad. 1'!F14 -> 0 | F4: ='zad. 1'!I14 -> 0
C5: 2 | D5: Zadanie nr: 2 Różne. | E5: ='zad. 2'!F15 -> 0 | F5: ='zad. 2'!I15 -> 0
C6: 3 | D6: Zadanie nr: 3 Lignina, wata | E6: ='zad. 3'!F7 -> 0 | F6: ='zad. 3'!I7 -> 0
C7: 4 | D7: Zadanie nr: 4 Opaski, plastry, opatrunki. | E7: ='zad. 4'!F81 -> 0 | F7: ='zad. 4'!I81 -> 0
C8: 5 | D8: Zadanie nr: 5 Zabezpieczenia opatrunków | E8: ='zad. 5'!#REF! -> #REF! | F8: ='zad. 5'!#REF! -> #REF!
C9: 6 | D9: Zadanie nr: 6 Plastry do cewników donaczyniowych | E9: ='zad. 6'!F23 -> 0 | F9: ='zad. 6'!I23 -> 0
C10: 7 | D10: Zadanie nr: 7Obłożenie C | E10: ='zad. 7'!F12 -> 0 | F10: ='zad. 7'!I12 -> 0
C11: 8 | D11: Zadanie nr: 8 Bielizna osobista dla pacjentek | E11: ='zad. 8'!G7 -> 0 | F11: ='zad. 8'!J7 -> 0
C12: 9 | D12: Zadanie nr: 9 Obłożenia operacyjne A | E12: ='zad. 9'!F26 -> 0 | F12: ='zad. 9'!I26 -> 0
C13: 10 | D13: Zadanie nr: 10 Ubrania i fartuchy medyczne i foliowe niesterylne | E13: ='zad. 10'!F24 -> 0 | F13: ='zad. 10'!I24 -> 0
C14: 11 | D14: Zadanie nr: 11 Zestawy opatrunkowe | E14: ='zad. 11'!F16 -> 0 | F14: ='zad. 11'!I16 -> 0
C15: 12 | D15: Zadanie nr: 12 Serwety operacyjne | E15: ='zad. 12'!F21 -> 0 | F15: ='zad. 12'!I21 -> 0
C16: 13 | D16: Zadanie nr: 13 Ubrania i fartuchy chirurgiczne do zabiegów operacyjnych | E16: ='zad. 13'!F13 -> 0 | F16: ='zad. 13'!I13 -> 0
C17: 14 | D17: Zadanie nr: 14 Czepki, maski, majtki do zabiegów ambulatoryjnych. | E17: ='zad. 14'!F12 -> 0 | F17: ='zad. 14'!I12 -> 0
C18: 15 | D18: Zadanie nr: 15 Zestaw do podciśnieniowej terapii leczenia ran | E18: ='zad. 15'!F19 -> 0 | F18: ='zad. 15'!I19 -> 0
C19: 16 | D19: Zadanie nr: 16 Opatrunki chłodzące na twarz. | E19: ='zad. 16'!F10 -> 0 | F19: ='zad. 16'!I10 -> 0
C20: 17 | D20: Zadanie nr: 17 Opatrunki trójhydrokoloidowe | E20: ='zad. 17'!F23 -> 0 | F20: ='zad. 17'!I23 -> 0
C21: 18 | D21: Zadanie nr: 18 Pieluchomajtki duże. | E21: ='zad. 18'!F6 -> 0 | F21: ='zad. 18'!I6 -> 0
C22: 19 | D22: Zadanie nr: 19 Prześcieradła | E22: ='zad. 19'!F7 -> 0 | F22: ='zad. 19'!I7 -> 0
C23: 20 | D23: Zadanie nr: 20 Pościel jednorazowa | E23: ='zad. 20'!#REF! -> #REF! | F23: ='zad. 20'!#REF! -> #REF!
C24: 21 | D24: Zadanie nr: 21 Opatrunki aktywne | E24: ='zad. 21'!G25 -> 0 | F24: ='zad. 21'!J25 -> 0
C25: 22 | D25: Zadania nr: 22 Produkty ŚOI | E25: ='zad. 22'!E8 -> 0 | F25: ='zad. 22'!H8 -> 0
C26: 23 | D26: Zadanie nr: 23 preparaty do pielęgnacji skóry | E26: ='zad. 23'!F14 -> 0 | F26: ='zad. 23'!I14 -> 0
C27: 24 | D27: Zadanie nr: 24 Testy alergologiczne | E27: =#REF! -> #REF! | F27: =#REF! -> #REF!
C28: 25 | D28: Zadanie nr: 25 Testy alergologiczne płatkowe | E28: =#REF! -> #REF! | F28: =#REF! -> #REF!
C29: 26 | D29: Zadanie nr: 26 Preparat do dezynfekcji. | E29: =#REF! -> #REF! | F29: =#REF! -> #REF!
C30: 27 | D30: Zadanie nr: 27 Autoczytnik do inkubacji | E30: =#REF! -> #REF! | F30: =#REF! -> #REF!
C31: 28 | D31: Zadanie nr: 28 Worki do stomii | E31: =#REF! -> #REF! | F31: =#REF! -> #REF!
C32: 29 | D32: Zadanie nr: 29 System HFNC | E32: =#REF! -> #REF! | F32: =#REF! -> #REF!
C33: 30 | D33: Zadanie nr: 30 Stabilizatory ułożenia pacjenta. | E33: =#REF! -> #REF! | F33: =#REF! -> #REF!
C34: 31 | D34: Zadanie nr: 31 Eliglustat | E34: =#REF! -> #REF! | F34: =#REF! -> #REF!
C35: 32 | D35: Zadanie nr: 32 Glucosum 30%ampułki. | E35: =#REF! -> #REF! | F35: =#REF! -> #REF!
C36: 33 | D36: Zadanie nr: 33 Łyżki do wideolaryngoskopu. | E36: =#REF! -> #REF! | F36: =#REF! -> #REF!
C37: 34 | D37: Zadanie nr: 34 Trokar | E37: =#REF! -> #REF! | F37: =#REF! -> #REF!
C38: 35 | D38: Zadanie nr:35 Laktator elektryczny z akcesoriami. | E38: =#REF! -> #REF! | F38: =#REF! -> #REF!
D39: RAZEM | E39: =SUM(E4:E38) -> #REF! | F39: =SUM(F4:F38) -> #REF!

Sheet zad. 24
B1: Załacznik nr 9 do SWZ
B2: ZOZ/DZP/PN/12/25 | D2: FORMULARZ CENOWY
A4: Zadanie nr: 24 - Podkłady
A5: Lp. | B5: Nazwa produktu | C5: Jednostka miary | D5: Ilość | E5: Cena jednostkowa netto | F5: Wartość netto | G5: VAT | H5: Cena jednostkowa brutto | I5: Wartość brutto | J5: Producent/Model/Nr katalogowy
A6: 1 | B6: 3-4 warstwowy, nieprzepuszczalny podkład chłonny z możliwością cięcia, jednorazowy, rozmiar 80 x 200cm.Warstwa chłonna min50cmx200cm zmieniająca się w żel utrzymujący skórę pacjenta suchą po 1min od zmoczenia. Warstwa wierzchnia PE/PP, Warstwa pośrednia średnią gęstość 65 ± 5 g/m2, niebieska dolna warstwa PE 35g/m2 .Niesterylny klasy 1,zgodny z normą EN 13795.Możliwość przenoszenia do 150kg.Grubość 0,5mm.Chłonność 2000ml/m2. | C6: szt | D6: 50
A7: 2 | B7: 3-4 warstwowy ,nieprzepuszczalny podkład chłonny z możliwością cięcia, jednorazowy ,rozmiar 80 x 200cm.Warstwa chłonna min50cmx200cm zmieniająca się w żel utrzymujący skórę pacjenta suchą po 1min od zmoczenia. Warstwa wierzchnia PE/PP, Warstwa pośrednia średnią gęstość 65 ± 5 g/m2, fioletowa dolna warstwa PE 42g/m2 .Niesterylny klasy 1,zgodny z normą EN 13795.Warstwa zabezpieczająca stół odporna na rozdarcia bez zawartości latexu .Niesterylny. Możliwość przenoszenia min 150kg.Grubość 0,5mm.Chłonność płynów 2600ml/m2. | C7: szt | D7: 50
A8: 3 | B8: 3-4 warstwowy, nieprzepuszczalny podkład chłonny z możliwością cięcia, jednorazowy, rozmiar 140x 230cm.Warstwa chłonna min50cmx230cm zmieniająca się w żel utrzymujący skórę pacjenta suchą po 1min od zmoczenia. Warstwa wierzchnia hydrofilowy PP, Warstwa pośrednia średnią gęstość 65 ± 5 g/m2, dolna warstwa złoto-srebrna PET 20g/m2 izolująca termicznie i elektrycznie o grubości12 µm. Niesterylny klasy 1,zgodny z normą EN 13795.Możliwość przenoszenia do 150kg.Chłonność 2000ml/m2. | C8: szt | D8: 50
A9: 4 | B9: 3-4 warstwowy, nieprzepuszczalny podkład chłonny z możliwością cięcia ,utrzymujący płyny nawet pod naciskiem, jednorazowy, rozmiar 140cm x 200cm.Warstwa chłonna min70cmx200cm zmieniająca się w żel utrzymujący skórę pacjenta suchą po 1min od zmoczenia. Warstwa wierzchnia PE/PP, Warstwa pośrednia średnią gęstość 85 ± 5 g/m2, niebieska dolna warstwa PE 35g/m2 .Niesterylny klasy 1,zgodny z normą EN 13795.Możliwość przenoszenia do 150kg.Grubość 0,5mm.Chłonność 4000ml/m2. | C9: szt | D9: 50
B10: Razem
B12: Wszystki oferowany asortyment jest wyrobem medycznym.
B13: Oświadczam, że oferowany przedmiot zamówienia jest zgodny z opisem i spełnia wymagane parametry techniczne
B16: data ………………………………. | G16: podpis ……………………………………….

Sheet zad. 25
B1: Załacznik nr 9 do SWZ
B2: ZOZ/DZP/PN/12/25 | D2: FORMULARZ CENOWY
A3: Zadania nr: 25 Kompresy
A4: Lp. | B4: Nazwa produktu | C4: Jednostka miary | D4: Ilość | E4: Cena jednostkowa netto | F4: Wartość netto | G4: VAT | H4: Cena jednostkowa brutto | I4: Wartość brutto | J4: Producent/Nazwa handlowa/Numer katalogowy
A5: 1 | B5: Kompresy jałowe 5 x 5 cm 17 nitek, 8 warstw, sterylizowane parą wodną op. 25 szt. po 2 kompresy | C5: op=50 a 2 szt. | D5: 11000
A6: 2 | B6: Kompresy jałowe 10x10cm, 17nitek, 8warstw, sterylizowane parą wodną op. 25 szt. po 2 kompresy | C6: Op=50 a 2 szt. | D6: 4000
A7: 3 | B7: Kompresy jałowe 10x10cm, 17nitek, 8warstw, sterylizowane parą wodną, op. 5 szt. | C7: op. a 5szt. | D7: 34700
A8: 4 | B8: Kompresy jałowe 10x10cm, 17nitek, 8warstw, sterylizowane parą wodną op. 10szt. | C8: op. a 10szt. | D8: 1100
A9: 5 | B9: Kompresy niejałowe 13 nitkowe, 8 warstw 10 x 10 cm op.a'100szt. | C9: op.100szt. | D9: 5060
A10: 6 | B10: Kompresy niejałowe 17 nitek, 12 warstw 10 x 10 cm, op.a'100szt. | C10: op. 100 szt | D10: 340
B11: RAZEM
B13: Opisy:
A14: Poz. 1 – 4 | B14: Kompresy jałowe 17-nitkowe Kompresy jałowe, z podwijanymi brzegami, pakowane w papierowo-foliowe torebki typu peel pouch lub blister, konfekcjonowane zgodnie z normą EN 14079 lub równoważną, bielone bez użycia chloru o splocie płóciennym 1/1, o gęstości nici: 100/10 cm (osnowa), 70/10 cm (wątek)masie powierzchniowej >=23 g/m2, wytrzymałości na rozciąganie w stanie suchym dla osnowy >=50 N/50 mm a dla wątku/ >=30 N/50 mm, niezawierające wybielaczy optycznych, substancji koloryzujących, skrobi i dekstryny, o udziale w składzie substancji rozpuszczalnych w eterze i w wodzie zgodnie z EN 14079 lub równoważną ≤ 0,5 %, średnim czasie tonięcia dla materiału bazowego (wg. EN 14079 lub równoważną) ≤ 4 sek, sterylizowane parą wodną kompresy klasa II, reg. 7.
A15: Poz. 5. | B15: Kompresy niejałowe Kompresy niejałowe ze 100% gazy bawełnianej 13-nitkowej, z podwijanymi brzegami, pakowane po 100 sztuk w opakowaniach do sterylizacji, konfekcjonowane zgodnie z normą EN 14079 lub równoważną, bielone bez użycia chloru o splocie płóciennym 1/1, o gęstości nici: 70/10 cm (wątek), 60/10 cm (osnowa), o masie powierzchniowej >=17 g/m2, wytrzymałości na rozciąganie w stanie suchym dla osnowy >=35 N/50 mm a dla wątku/ >=20 N/50 mm, niezawierające wybielaczy optycznych, substancji koloryzujących, skrobi i dekstryny, o udziale w składzie substancji rozpuszczalnych w eterze i w wodzie zgodnie z EN 14079 lub równoważną ≤ 0,5 %, o średnim czasie tonięcia dla materiału bazowego (wg. EN 14079 lub równoważną) ≤ 4 sek.
A16: Poz. 6. | B16: Kompresy niejałowe ze 100% gazy bawełnianej 17-nitkowej , z podwijanymi brzegami, pakowane po 100 sztuk w opakowaniach do sterylizacji, konfekcjonowane zgodnie z normą EN 14079 lub równoważną, bielone bez użycia chloru o splocie płóciennym 1/1, o gęstości nici: 100/10 cm (wątek), 70/10 cm (osnowa)masie powierzchniowej >=23 g/m2, wytrzymałości na rozciąganie w stanie suchym dla osnowy >=50 N/50 mm a dla wątku/ >=30 N/50 mm, niezawierające wybielaczy optycznych, substancji koloryzujących, skrobi i dekstryny, o udziale w składzie substancji rozpuszczalnych w eterze i w wodzie zgodnie z EN 14079 lub równoważną ≤ 0,5 %, średnim czasie tonięcia dla materiału bazowego (wg. EN 14079 lub równoważnej) ≤ 4 sek.
B19: Oferowany asortyment jest wyrobem medycznym.
B20: Oświadczam, że oferowany przedmiot zamówienia jest zgodny z opisem i spełnia wymagane parametry techniczne
B22: data ………………………………. | G22: podpis ……………………………………….

Sheet zad. 26
B1: Załacznik nr 9 do SWZ
B2: ZOZ/DZP/PN/12/25 | D2: FORMULARZ CENOWY
A3: Zadanie nr: 26 Akcesoria laryngologiczne
A4: Lp. | B4: Nazwa produktu | C4: Jednostka miary | D4: Ilość | E4: Cena jednostkowa[zł] netto | F4: Wartość [zł] netto | G4: VAT | H4: Cena jednostkowa [zł] brutto | I4: Wartość [zł] brutto | J4: Producent/Model/Nr katalogowy
A5: 1 | B5: Kateter balonowy do tamponady przedniej i tylnej z balonem przednim poj. 30ml i tylnym poj. 10ml wykonany z silikonu i polipropylenu ,sterylny, pakowany pojedyńczo | C5: szt | D5: 50
A6: 2 | B6: Termoplastyczne zewnętrzne stabilizatory nosa 56x38x30mm, grubość 2,4mm, w formie trapezu z 3 gąbkami chłonnymi. | C6: op. 10szt | D6: 10
A7: 3 | B7: Termoplastyczne zewnętrzne stabilizatory nosa 64x40x36mm, grubość 2,4mm, w formie trapezu z 3 gąbkami chłonnymi. | C7: op. 10szt | D7: 10
A8: 4 | B8: Jednorazowe kaniule ssące do rynochirurgii z atraumatyczną zaokrągloną końcówką, z uchwytem z kontrolą siły ssania, długość 160mm średnica 3,0mm. Pakowane pojedynczo, sterylne | C8: op. 50 szt. | D8: 6
A9: 5 | B9: Jednorazowe kaniule ssące do otochirurgii ze złączem luer- zagięte ze stali nierdzewnej, atraumatyczna zakorąglona końcówka, długość 70mm, średnica 2,0mm. Pakowane pojedynczo, sterylne | C9: op. 50 szt. | D9: 2
A10: 6 | B10: Rączka do jednorazowych kaniul ssących | C10: op. 50 szt. | D10: 2
A11: 7 | B11: Haczyki uszne 0,3cm, nylonowe z włókien węglowych, długość 13,5cm niesterylne | C11: op. 100 szt | D11: 1
A12: 8 | B12: Kiureta uszna z watotrzymaczem, końcówka 1,1cm, nylonowe z włókien węglowych, długość 15cm | C12: op. 100 szt | D12: 1
A13: 9 | B13: Wewnętrzne stabilizatory nosa, silikonowe, bez kanału powietrznego 2 wykonane z miękkiego materiału 2 nie przywierają do tkanek 2 otwory do przyszycia stabilizatora 2 powierzchnia z efektem lotosu 2 sterylne, pakowane parami | C13: op. 5 par | D13: 10
A14: 10 | B14: Wewnętrzne stabilizatory nosa, silikonowe, z kanałem powietrznym 2 wykonane z miękkiego materiału 2 kanał powietrzny ułatwiający oddychanie 2 nie przywierają do tkanek 2 otwory do przyszycia stabilizatora 2 powierzchnia z efektem lotosu 2 sterylne, pakowane parami | C14: op. 5 par | D14: 5
A15: 11 | B15: Tampony szpiczaste bez nici 6cm | C15: op. 250 szt | D15: 1
A16: 12 | B16: Tampony szpiczaste bez nici 8cm | C16: op. 250 szt | D16: 1
B17: RAZEM
B20: Oferowany asortyment jest wyrobem medycznym.
B21: Oświadczam, że oferowany przedmiot zamówienia jest zgodny z opisem i spełnia wymagane parametry techniczne
B24: data ………………………………. | G24: podpis ……………………………………….

Sheet zad. 27
B1: Załacznik nr 9 do SWZ
B2: ZOZ/DZP/PN/12/25 | D2: FORMULARZ CENOWY
A4: Zadanie nr 27: Opatrunki specjalistyczne.
A5: Lp. | B5: Nazwa produktu | C5: rozmiar pada w (cm) | D5: rozmiar zewnętrzny w (cm) | E5: Jednostka miary | F5: Ilość | G5: Cena jednostkowa[zł] netto | H5: Wartość [zł] netto | I5: VAT | J5: Cena jednostkowa brutto | K5: Wartość brutto | L5: Producent/Nazwa handlowa/Numer katalogowy
A6: 1. | B6: Atraumatyczny- nie uszkadza tkanek. Niski odsetek alergii kontaktowych. Minimalizacja maceracji. Wykazuje wysoką retencję i absorbcję. Odbiera duże ilości wysięku- rzadsza zmiana opatrunków daje nam oszczędność ekonomiczną oraz czasu pracy personelu medycznego. Wysoka elastyczność- pracuje z ciałem pacjenta , nie odkleja się, szybsza mobilizacja pacjenta. Rany trudne do zaopatrzenia - zgięcia, doły pachowe i pachwiny. Profilaktyka przeciwodleżynowa. Opatrunek barierowy- zmniejszenie ryzyka powikłań. Możliwość łączenia z innymi preparatami stosowanymi miejscowo. Nie ma konieczności zmiany opatrunku po podstawowych czynnościach higienicznych. Działa amortyzująco na ciało pacjenta w punktach stycznych z podłożem. Może zostać na ciele pacjenta do 7 dni. | C6: 6,5 x 6,5 | D6: 10 x 10 | E6: 1 szt. | F6: 50
A7: 2. | C7: 5x15 | D7: 10 x 20 | E7: 1 szt. | F7: 50
A8: 3. | C8: 8,5x8,5 | D8: 12,5 x 12,5 | E8: 1 szt. | F8: 50
A9: 4. | C9: 4,5x4,5 | D9: 7,5 x 7,5 | E9: 1 szt. | F9: 50
A10: 5. | C10: 11x11 | D10: 15 x 15 | E10: 1 szt. | F10: 50
A11: 6. | B11: Atraumatyczny- nie uszkadza tkanek. Niski odsetek alergii kontaktowych. Minimalizacja maceracji. Do ran z małym i średnim wysiękiem. Wysoka elastyczność- pracuje z ciałem pacjenta , nie odkleja się, szybsza mobilizacja pacjenta. Rany trudne do zaopatrzenia - zgięcia, doły pachowe i pachwiny. Profilaktyka przeciwodleżynowa. Opatrunek barierowy- zmniejszenie ryzyka powikłań. Możliwość łączenia z innymi preparatami stosowanymi miejscowo. Nie ma konieczności zmiany opatrunku po podstawowych czynnościach higienicznych. Działa amortyzująco na ciało pacjenta w punktach stycznych z podłożem. Opatrunek może być także użyty jako ochrona delikatnej skóry. Może zostać na ciele pacjenta do 7 dni. | C11: 2x3 | D11: 4 x 5 | E11: 1 szt. | F11: 100
A12: 7. | C12: 2,5x8,5 | D12: 5 x 12,5 | E12: 1 szt. | F12: 50
A13: 8. | C13: 4,5x4,5 | D13: 7,5 x 7,5 | E13: 1 szt. | F13: 100
A14: 9. | C14: 6,5x6,5 | D14: 10 x 10 | E14: 1 szt. | F14: 100
A15: 10. | C15: 11x11 | D15: 15 x 15 | E15: 1 szt. | F15: 50
A16: 11. | B16: Atraumatyczny- nie uszkadza tkanek. Niski odsetek alergii kontaktowych. Minimalizacja maceracji. Wykazuje wysoką retencję i absorbcję. Odbiera duże ilości wysięku- rzadsza zmiana opatrunków daje nam oszczędność ekonomiczną oraz czasu pracy personelu medycznego. Wysoka elastyczność- pracuje z ciałem pacjenta , nie odkleja się, szybsza mobilizacja pacjenta. Rany trudne do zaopatrzenia - zgięcia, doły pachowe i pachwiny. Profilaktyka przeciwodleżynowa. Opatrunek barierowy- zmniejszenie ryzyka powikłań. Możliwość łączenia z innymi preparatami stosowanymi miejscowo. Nie ma konieczności zmiany opatrunku po podstawowych czynnościach higienicznych. Działa amortyzująco na ciało pacjenta w punktach stycznych z podłożem. Może zostać na ciele pacjenta do 7 dni. | C16: 15cm2 | D16: 7,8 x 10 | E16: 1 szt. | F16: 50
A17: 12. | C17: 85cm2 | D17: 13 x 16 | E17: 1 szt. | F17: 50
A18: 13. | C18: 134cm2 | D18: 15 x 19 | E18: 1 szt. | F18: 50
A19: 14. | B19: Atraumatyczny- nie uszkadza tkanek. Niski odsetek alergii kontaktowych. Minimalizacja maceracji. Do ran z dużym wysiękiem. Wykazuje wysoką retencję i absorbcję. Opatrunek barierowy- zmniejszenie ryzyka powikłań. Odbiera duże ilości wysięku- rzadsza zmiana opatrunków, daje nam oszczędność ekonomiczną oraz czasu pracy personelu medycznego. Możliwość łączenia z innymi preparatami stosowanymi miejscowo. Nie ma konieczności zmiany opatrunku po podstawowych czynnościach. higienicznych. Działa amortyzująco na ciało pacjenta w punktach stycznych z podłożem. Może zostać na ciele pacjenta do 7 dni. Możliwość łączenia z Granudacynem - potwierdzona badaniem. Skuteczność bójcza od 30 min. do 7 dni. Srebro uwalniane na tym samym poziomie od 30 min. | C19: 6,5x6,5 | D19: 10x10 | E19: 1 szt. | F19: 50
A20: 15. | C20: 5x15 | D20: 10x20 | E20: 1 szt. | F20: 25
A21: 16. | C21: 11x11 | D21: 15x15 | E21: 1 szt. | F21: 30
A22: 17. | C22: 8,5x8,5 | D22: 12,5x12,5 | E22: 1 szt. | F22: 50
A23: 18. | C23: 11x11 | D23: 17,5x17,5 | E23: 1 szt. | F23: 30
A24: 19. | B24: Atraumatyczny- nie uszkadza tkanek. Niski odsetek alergii kontaktowych. Minimalizacja maceracji. Do ran z dużym wysiękiem. Wykazuje wysoką retencję i absorbcję. Opatrunek barierowy- zmniejszenie ryzyka powikłań. Możliwość łączenia z innymi preparatami stosowanymi miejscowo. Nie ma konieczności zmiany opatrunku po podstawowych czynnościach higienicznych. Działa amortyzująco na ciało pacjenta w punktach stycznych z podłożem. Może zostać na ciele pacjenta do 7 dni. | C24: 71cm2 | D24: 15x15 | E24: 1 szt. | F24: 150
A25: 20. | C25: 120cm 2 | D25: 18x18 | E25: 1 szt. | F25: 100
A26: 21. | B26: Atraumatyczny- nie uszkadza tkanek. Niski odsetek alergii kontaktowych. Minimalizacja maceracji. Wykazuje wysoką retencję i absorbcję. Odbiera duże ilości wysięku- rzadsza zmiana opatrunków, daje nam oszczędność ekonomiczną oraz czasu pracy personelu medycznego. Wysoka elastyczność- pracuje z ciałem pacjenta , nie odkleja się, szybsza mobilizacja pacjenta. Rany trudne do zaopatrzenia - kość krzyżowa. Profilaktyka przeciwodleżynowa. Opatrunek barierowy- zmniejszenie ryzyka powikłań. Możliwość łączenia z innymi preparatami stosowanymi miejscowo. Nie ma konieczności zmiany opatrunku po podstawowych czynnościach higienicznych. Działa amortyzująco na ciało pacjenta w punktach stycznych z podłożem. Zastosowana technologia Deep Defence - pozwala rozkładać siły ścinające a tym samym zapewnia potwierdzone klinicznie 5 razy niższe ryzyko wystąpień odleżyn na OIT. Może zostać na ciele pacjenta do 7 dni | C26: 120cm2 | D26: 16x20 | E26: 1 szt. | F26: 50
A27: 22. | B27: Atraumatyczny- nie uszkadza tkanek. Niski odsetek alergii kontaktowych. Minimalizacja maceracji. Do ran z dużym wysiękiem. Wykazuje wysoką retencję i absorbcję. Opatrunek barierowy- zmniejszenie ryzyka powikłań. Odbiera duże ilości wysięku- rzadsza zmiana opatrunków daje nam oszczędność ekonomiczną oraz czasu pracy personelu medycznego. Możliwość łączenia z innymi preparatami stosowanymi miejscowo. Nie ma konieczności zmiany opatrunku po podstawowych aspektach higienicznych. Działa amortyzująco na ciało pacjenta w punktach stycznych z podłożem. Możliwość łączenia z Granudacynem - potwierdzona badaniem. Skuteczność bójcza od 30 min. do 7 dni. Srebro uwalniane na tym samym poziomie od 30 min. Może zostać na ciele pacjenta do 7 dni. | C27: 120cm2 | D27: 18x18 | E27: 1 szt. | F27: 25
A28: 23. | B28: Atraumatyczny- nie uszkadza tkanek. Niski odsetek alergii kontaktowych. Minimalizacja maceracji. Do ran wysiękiem małym do dużego. Wykazuje wysoką retencję i absorbcję. Wysoka elastyczność- pracuje z ciałem pacjenta , nie odkleja się, szybsza mobilizacja pacjenta. Rzadsza zmiana opatrunków- daje nam oszczędność ekonomiczną oraz czasu pracy personelu medycznego. Dedykowane na rany trudne do zaopatrzenia - zgięcia- kolano, bark, łokieć, doły pachowe i pachwiny, głowa, szyja. Opatrunek barierowy- zmniejszenie ryzyka powikłań. Możliwość łączenia z innymi preparatami stosowanymi miejscowo. Nie ma konieczności zmiany opatrunku po podstawowych aspektach higienicznych. Może pozostać na ranie do 7 dni. | C28: 3x5 | D28: 6x8 | E28: 1 szt. | F28: 150
A29: 24. | C29: 5x6 | D29: 9x10 | E29: 1 szt. | F29: 150
A30: 25. | C30: 5x10 | D30: 10x15 | E30: 1 szt. | F30: 150
A31: 26. | C31: 5x15 | D31: 10x20 | E31: 1 szt. | F31: 50
A32: 27. | B32: Atraumatyczny- nie uszkadza tkanek. Niski odsetek alergii kontaktowych. Minimalizacja maceracji. Do ran z małym wysiękiem do średniego. Opatrunek barierowy- zmniejszenie ryzyka powikłań. Możliwość łączenia z innymi preparatami stosowanymi miejscowo. Działa amortyzująco. Możliwość docinana pozwala na szeroki zakres zastosowań. Węgiel aktywowany neutralizuje zapachy rozpadu tkanek. Opatrunek wykazuje dużą elastyczność. Skuteczność bójcza od 30 min. do 7 dni. Srebro uwalniane na tym samym poziomie od 30 min. Możliwość łączenia z Granudacynem - potwierdzona badaniem. Niezwykle delikatny dla skór pergaminowych. Może był łączony z kopresjoterapią. | C32: 10x10 | D32: 10x10 | E32: 1 szt. | F32: 50
A33: 28. | C33: 15x15 | D33: 15x15 | E33: 1 szt. | F33: 50
A34: 29. | C34: 12,5x12,5 | D34: 12,5x12,5 | E34: 1 szt. | F34: 50
A35: 30. | B35: Atraumatyczny- nie uszkadza tkanek. Niski odsetek alergii kontaktowych. Minimalizacja maceracji. Do ran suchych aż do dużego wysięku (przy wysięku dużym konieczność zastosowania opatrunku chłonnego). Możliwość łączenia z innymi preparatami stosowanymi miejscowo. Możliwość docinana pozwala na szeroki zakres zastosowań. Opatrunek wykazuje dużą elastyczność. Niezwykle delikatny dla skór pergaminowych. Może był łączony z kopresjoterapią. Skuteczność bójcza od 30 min. do 14 dni. Srebro uwalniane na tym samym poziomie od 30 min. Badanie - redukcja cech infekcji w ZSC, otwarte wieloośrodkowe badanie. Liczba pacjentów włączonych do badania n=24. Redukcja cech infekcji o 96% już w 4 tygodniu terapii. | C35: 7,5x8,5 | D35: 7,5x8,5 | E35: 1 szt. | F35: 50
A36: 31. | C36: 10x12,5 | D36: 10x12,5 | E36: 1 szt. | F36: 50
A37: 32. | B37: Opatrunek żelujący, do wypełnień kieszeni i przetok. Wykazuje wysoką retencję i absorbcję. Nie rozrywa się przy usuwaniu z dna rany. Przekazuje wysięk do opatrunku wtórnego. Zmniejsza obciążenie białkowe w dnie rany, co przyspiesza gojenie rany. Zawiera srebro w postaci siarczanu 0,2 mg/cm2, równomiernie rozmieszczonego w strukturach opatrunku. | C37: 15x15 | D37: 15x15 | E37: 1 szt. | F37: 50
A38: 33. | C38: 5x5 | D38: 5x5 | E38: 1 szt. | F38: 50
A39: 34. | C39: 10x10 | D39: 10x10 | E39: 1 szt. | F39: 60
A40: 35. | B40: Opatrunek chłonny, cechuje go wysoka absorpcja i retencja. Jest w stanie odebrać i zatrzymać w swoich strukturach duże ilości wysięku- nie tylko surowiczego ale także dobrze sobie radzi z wysiękiem gęstym. Nie zwraca wysięku pod naciskiem ciężaru ciała pacjenta. Można go łączyć z innymi preparatami i opatrunkami pierwotnymi, stosowanymi miejscowo. Nie należy docinać. Wymaga mocowania w postaci opaski, bandaża lub przylepca. Zawiera hydrofobowy i oddychający materiał, który chroni przed przedostawaniem się płynów do środka. Folia nośna zapobiega przeciekaniu i pomaga chronić odzież i pościel. | D40: 10x10 | E40: 1 szt. | F40: 100
A41: 36. | B41: Opatrunek dopasowuje się do skóry bez przyklejania się do wilgotnego łożyska rany. Chroni nową tkankę i skórę, wspierając gojenie rany. Siatkowa struktura opatrunku zapewnia odpływ wysięku do chłonnego opatrunku wtórnego. Opatrunek można pozostawić w tym samym miejscu, zapewniając jednocześnie dostęp do leczenia miejscowego. Może być jedną z warstw, jeśli jest konieczność zastosowania kilku rozwiązań w jednej "kanapce". Integralność opatrunku umożliwia pozostawienie go na miejscu do 14 dni oraz zmianę opatrunku wtórnego bez zakłócania gojenia. Możliwość docinania. | C41: 5x7,5 | D41: 5x7,5 | E41: 1 szt. | F41: 50
A42: 37. | C42: 7,5x10 | D42: 7,5x10 | E42: 1 szt. | F42: 100
A43: 38. | C43: 10x18 | D43: 10x18 | E43: 1 szt. | F43: 180
A44: 39. | B44: Opatrunek dopasowuje się do skóry bez przyklejania się do wilgotnego łożyska rany. Chroni nową tkankę i skórę, wspierając gojenie rany. Siatkowa struktura opatrunku zapewnia odpływ wysięku do chłonnego opatrunku wtórnego. Opatrunek można pozostawić w tym samym miejscu, zapewniając jednocześnie dostęp do leczenia miejscowego. Może być jedną z warstw, jeśli jest konieczność zastosowania kilku rozwiązań w jednej "kanapce". Integralność opatrunku umożliwia pozostawienie go na miejscu do 14 dni oraz zmianę opatrunku wtórnego bez zakłócania gojenia. Możliwość docinania. | C44: 5x7,5 | D44: 5x7,5 | E44: 1 szt. | F44: 50
A45: 40. | B45: Opatrunek przeznaczony jest do ochrony delikatnej i wrażliwej skóry. Przezroczysty, oddychający i samoprzylepny opatrunek z miękkiej warstwy silikonowej. Minimalizuje ból i uszkodzenia skóry pacjenta podczas zmiany opatrunku. Może być stosowany jako opatrunek pierwotny lub wtórny. Łatwy do zastosowania dzięki systemowi aplikacji (papierowa ramka). Znaczne zmniejszenie nasilenia uszkodzeń skóry wywołanych radioterapią. | C45: 6x7 | D45: 6x7 | E45: 1 szt. | F45: 100
A46: 41. | C46: 10x12 | D46: 10x12 | E46: 1 szt. | F46: 100
A47: 42. | B47: Taśma typu rzep | C47: 2,5x30 | D47: 2,5x30 | E47: 1 szt. | F47: 600
B48: RAZEM
B51: Wszystki oferowany asortyment jest wyrobem medycznym.
B52: Oświadczam, że oferowany przedmiot zamówienia jest zgodny z opisem i spełnia wymagane parametry techniczne
B55: data ………………………………. | G55: podpis ……………………………………….

Sheet zad. 28
B1: Załacznik nr 9 do SWZ
B2: ZOZ/DZP/PN/12/25
A3: Zadanie nr: 28 – Gąbka do FESS-u
A4: Lp. | B4: Nazwa produktu | C4: Jednostka miary | D4: Ilość | E4: Cena jednostkowa netto | F4: Wartość netto | G4: VAT | H4: Cena jednostkowa brutto | I4: Wartość brutto | J4: Producent/Model/Nr katalogowy
A5: 1 | B5: Biodegradowalny syntetyczny opatrunek 40mm x 19mmx13mm, do zabiegów chirurgii endoskopowej zatok przynosowych(FESS), czas wchłaniania 7-10 dni | C5: op=8szt | D5: 35
A6: 2 | B6: Biodegradowalny syntetyczny opatrunek 80mm, do zabiegów chirurgii endoskopowej zatok przynosowych(FESS), czas wchłaniania 7-10 dni | C6: op=8szt | D6: 20
B7: RAZEM
B9: Data | H9: Podpis osoby/osób upoważnionej
B10: ……………………………………………. | I10: ……………………………….

Sheet zad. 29
B1: Załacznik nr 9 do SWZ
B2: ZOZ/DZP/PN/12/25
A4: Zadanie nr 29: Uchwyty do laparoskopii.
A5: Lp. | B5: Nazwa produktu | C5: Jednostka miary | D5: Ilość | E5: Cena jednostkowa[zł] netto | F5: Wartość [zł] netto | G5: VAT | H5: Cena jednostkowa [zł] brutto | I5: Wartość [zł] brutto | J5: Producent/Nazwa handlowa/Numer katalogowy
A6: 1 | B6: Uchwyt instrumentów ClickLine, monopolarny, obrotowy, plastikowy z przyłączem do koagulacji, bez zapinki, kompatybilny z tubusem i wkładem pracującym firmy Karl Storz. | C6: szt | D6: 5
A7: 2 | B7: Uchwyt instrumentów ClickLine, monopolarny, obrotowy, plastikowy z przyłączem do koagulacji, z zapinką, kompatybilny z tubusem i wkładem pracującym firmy Karl Storz. | C7: szt | D7: 5
B8: RAZEM
B15: data ………………………………. | G15: podpis ……………………………………….

Sheet zad. 30
B1: Załacznik nr 9 do SWZ
B2: ZOZ/DZP/PN/12/25
A4: Zadanie nr 30: Zestaw ssąco-płuczący.
A5: Lp. | B5: Nazwa produktu | C5: Jednostka miary | D5: Ilość | E5: Cena jednostkowa netto | F5: Wartość netto | G5: VAT | H5: Cena jednostkowa brutto | I5: Wartość brutto | J5: Producent/Nazwa handlowa/Numer katalogowy
A6: 1 | B6: Zestaw ssąco płuczący dł.33cm (kaniula 5mm), dren długości 3 metry, rączka typu pistolet z 2 przyciskami: ssanie- płukanie oraz Zestaw ssąco płuczący dł.33cm (kaniula 5mm), dren długości 3 metry, rączka typu trąbka z 2 przyciskami: ssanie- płukanie. Do wyboru przy zakupie | C6: szt. | D6: 500
B7: RAZEM
B10: 7 miesięcy
B13: data ………………………………. | G13: podpis ……………………………………….

Sheet zad. 31
B1: Załacznik nr 9 do SWZ
B2: ZOZ/DZP/PN/12/25
A3: Zadanie nr 31: – Akcesoria do pompy
A4: Lp. | B4: Nazwa produktu | C4: Jednostka miary | D4: Ilość | E4: Cena jednostkowa [zł] netto | F4: Wartość [zł] netto | G4: VAT | H4: Cena jednostkowa [zł] brutto | I4: Wartość [zł] brutto | J4: Producent/Nazwa handlowa/Numer katalogowy
A5: 1 | B5: Komora pomiarowa, autoklawow. z segmentem pompy firmy M.I.S.S. Erbe, model: Varioflow | C5: szt. | D5: 8
B6: RAZEM
B10: Data | G10: Podpis osoby/osób upoważnionej
B11: ……………………………………………. | G11: ……………………………….

Sheet zad. 32
B1: Załacznik nr 9 do SWZ
B2: ZOZ/DZP/PN/12/25
A3: Zadanie nr 32: Pęseta (93)
A4: Lp. | B4: Nazwa produktu | C4: Jednostka miary | D4: Ilość | E4: Cena jednostkowa[zł] netto | F4: Wartość [zł] netto | G4: VAT | H4: Cena jednostkowa [zł] brutto | I4: Wartość [zł] brutto | J4: Producent/Model/Nr katalogowy
A5: 1 | B5: Jednorazowa, sterylnie pakowana pęseta ILM 23g, aktywowana 360° Siła uścisku 25g, Długość części roboczej 32 mm. | C5: Op.=6szt. | D5: 8
B6: RAZEM
B9: ………………………………………………….. | F9: ……………………………………………
B10: Data | F10: Podpis osoby/osób uprawnionej

Sheet zad. 33
B1: Załacznik nr 9 do SWZ
B2: ZOZ/DZP/PN/12/25
A3: Zadanie nr 33: Szczoteczki do chirurgicznego mycia rąk
A4: Lp. | B4: Nazwa produktu | C4: Jednostka miary | D4: Ilość | E4: Cena jednostkowa netto | F4: Wartość netto | G4: VAT | H4: Cena jednostkowa brutto | I4: Wartość brutto | J4: Producent/Nazwa handlowa/Numer katalogowy
A5: 1 | B5: Szczoteczki do chirurgicznego mycia rąk, jednorazowego użytku. Produkt zaopatrzony jest z jednej strony w nylonową szczotkę, a z drugiej w miękką gąbkę. jego kształt zapewnia użytkownikowi wysoki komfort i łatwość posługiwania się. Każda szczoteczka zaopatrzona jest w szpatułkę do czyszczenia paznokci, szczoteczka jest sucha, gotowa do użycia bezpośrednio po wyjęciu z opakowania, wymiary:8x5x4cm, nasączone 4% chlorheksydyną pakowane zbiorczo w formie dyspensera | C5: szt. | D5: 4500
B6: RAZEM
B12: data ………………………………. | G12: podpis ……………………………………….

Sheet zad. 34
B1: Załacznik nr 9 do SWZ
B2: ZOZ/DZP/PN/12/25
A3: Zadanie nr 34: Akcesoria do kardiomonitorów
A4: Lp. | B4: Nazwa produktu | C4: Jednostka miary | D4: Ilość | E4: Cena jednostkowa netto | F4: Wartość netto | G4: VAT | H4: Cena jednostkowa brutto | I4: Wartość brutto | J4: Producent/Model/Nr katalogowy
A5: 1 | B5: Przewód EKG z 5 odprowadzeniami (typ klamra lub zatrzask do wyboru przez zamawiającego) wielorazowego użytku, kompatybilny ze złączem Mulitimed Draeger Delta | C5: szt. | D5: 2
A6: 2 | B6: Kabel EKG kompletny 3 -odprowadzeniowy, wtyk 12 pin, z rezystorem, typu Emtel FX3000, klamra. | C6: szt. | D6: 8
A7: 3 | B7: Kabel do pomiaru spoczynkowego EkG kompletny do BTL 08 ECG | C7: szt. | D7: 4
A8: 4 | B8: Czujnik SpO2 (typ Y z opaską silikonową lub silikonowy na palec dla dzieci do wyboru przez zamawiającego) wielorazowego użytku, nierozłączny o długości 3 m, kompatybilny z kardiomonitorem Nihon Kohden | C8: szt. | D8: 2
A9: 5 | B9: Przewód EKG (3 odprowadzenia - typ klamra lub zatrzask, do wyboru przez zamawiającego) nierozłączny, wielorazowego użytku, kompatybilny z kardiomonitorem Nihon Kohden | C9: szt. | D9: 2
A10: 6 | B10: Czujnik SpO2 w technologi Masimo, typ Y, nierozłączny, wielorazowego użytku, kompatybilny z kardiomonitorem Dash, długość 3m. | C10: szt. | D10: 3
A11: 7 | B11: Czujnik SpO2 w technologi Masimo LNOP, typ Y, wielorazowego użytku, długość 0,9m | C11: szt. | D11: 2
A12: 8 | B12: Czujnik SpO2 wielokrotnego użytku- silikonowy, dla dzieci, typu Masimo LNCS, długość 0,9m. | C12: szt. | D12: 2
A13: 9 | B13: Czujnik SpO2 wielokrotnego użytku- klips na palec, dla dzieci, typu Nellcor-Oximax, długość 0,9m. | C13: szt. | D13: 2
A14: 10 | B14: Czujnik SpO2 wielokrotnego użytku Y, typu Nellcor-Oximax, | C14: szt. | D14: 1
A15: 11 | B15: Konaktor męski typu MLDA szybkozłącze plastokowe do mankietów do nihon cohden | C15: szt. | D15: 40
A16: 12 | B16: Konaktor żeński typu MLDA szybkozłącze plastikowe do mankietów Nihon Cohden | C16: szt. | D16: 40
... A19: 15 | B19: Czujnik SPO2 na ucho gumowy z kablem 3 m, kompletny do kardiomonitora Nihon Kohden | C19: szt. | D19: 16
B20: RAZEM
B25: data ………………………………. | G25: podpis ……………………………………….

Sheet zad. 35
B1: Załacznik nr 9 do SWZ
B2: ZOZ/DZP/PN/12/25
A3: Zadanie nr 35: Włóknina do sterylizacji
A4: Lp. | B4: Nazwa produktu | C4: Jednostka miary | D4: Ilość | E4: Cena jednostkowa netto | F4: Wartość netto | G4: VAT | H4: Cena jednostkowa brutto | I4: Wartość brutto | J4: Producent/Nazwa handlowa/Numer katalogowy
A5: 1 | B5: Włóknina do sterylizacji z parą wodną i tlenkiem etylenu, niepyląca, antystatyczna, wytrzymałość na przesiąkanie wody, płynów, alkoholu zgodnie z PN EN 868-2, gramatura 55g/m2, kolor niebieski. Rozm. 1200X 1200mm. | C5: op.200szt | D5: 12
B6: RAZEM
B9: data ………………………………. | G9: podpis ……………………………………….

Sheet zad. 36
C1: Załacznik nr 9 do SWZ
C2: ZOZ/DZP/PN/12/25
B3: Zadanie nr 36: Plomby do kontenerów sterylizacyjnych
B4: Lp. | C4: Nazwa produktu | D4: Jednostka miary | E4: Ilość | F4: Cena jednostkowa netto | G4: Wartość netto | H4: VAT | I4: Cena jednostkowa brutto | J4: Wartość brutto | K4: Producent/Nazwa handlowa/Numer katalogowy
B5: 1 | C5: jednorazowe plomby plastikowe do kontenerów sterylizacyjnych | D5: op.100 szt. | E5: 30
C6: RAZEM
C10: data ………………………………. | H10: podpis ……………………………………….

Sheet zad. 37
B1: Załacznik nr 9 do SWZ
B2: ZOZ/DZP/PN/12/25
A3: Zadanie nr 37: Rękawice chirurgiczne specjalistyczne dla bloku operacyjnego
A4: Lp. | B4: Nazwa produktu | C4: Jednostka miary | D4: Ilość | E4: Cena jednostkowa[zł] netto | F4: Wartość [zł] netto | G4: VAT | H4: Cena jednostkowa [zł] brutto | I4: Wartość [zł] brutto | J4: Producent/Model/Nr katalogowy
A5: 1 | B5: rodzaj rękawicy: syntetyczna jałowa surowiec: elastomer kolor: biały środek pudrujący: brak opakowanie zbiorcze 50 par powierzchnia zewnętrzna: mikrotekstura powierzchnia wewnętrzna: polimeryzowana wykończenie mankietu: rolowany typowa wartość siły zrywu: przed starzeniem min : 14 N typowa wartość siły zrywu: po starzeniu: 13 N kształt: anatomiczny typowa grubość (palec/dłoń/mankiet): (0.22+/-0.02)/(0.18+/-0.02)/(0.17+/-0.02) mm długość: min. 280 mm rozmiary: 6,0 – 9.0 AQL: 0.10 potwierdzone niezależnym badaniem zgodność z normami produktowymi Rękawice zgodne z EN 455(1-4), EN ISO 374-1, EN 374-2, EN 16523-1, EN ISO 374-4, EN ISO 374-5, EN ISO 21420, EN 421. Rękawice odporne na przenikanie wirusów zgodnie z EN ISO 374-5. Potwierdzony badaniem z niezależnego laboratorium brak przebicia rękawicy dla min. 17 cytostatyków przez min. 240 min. wg ASTM D6978. Rękawice zapobiegające alergiom -wolne od szkodliwych akceleratorów chemicznych (potwierdzone niezależnym badaniem) rejestracja : Wyrób medyczny klasy IIa zgodnie z dyrektywą MDD 93/42/EWG & 2007/47/EWG oraz środek ochrony indywidualnej kat. III typ B zgodnie z Rozporządzeniem UE 2016/425 | C5: para | D5: 1500
B6: RAZEM
B12: data ………………………………. | G12: podpis ……………………………………….

Sheet zad. 38
B1: Załacznik nr 9 do SWZ
B2: ZOZ/DZP/PN/12/25
A3: Zadanie nr 38: Cewnik Nelatona i pęsety.
A4: Lp. | B4: Nazwa produktu | C4: Jednostka miary | D4: Ilość | E4: Cena jednostkowa netto | F4: Wartość netto | G4: VAT | H4: Cena jednostkowa brutto | I4: Wartość brutto | J4: Producent/Nazwa handlowa/Numer katalogowy
A5: 1 | B5: Cewnik Nelatona nr 6-20 do wyboru przy zakupie | C5: szt. | D5: 400
A6: 2 | B6: Pęsety jednorazowe plastikowa dł.13cm prosta | C6: szt. | D6: 2000
B7: RAZEM
B11: data ………………………………. | G11: podpis ……………………………………….

Sheet zad. 39
B1: Załacznik nr 9 do SWZ
B2: ZOZ/DZP/PN/12/25
A3: Zadanie nr 39: Płyn do przemywania ran
A4: Lp. | B4: Nazwa produktu | C4: Jednostka miary | D4: Ilość | E4: Cena jednostkowa netto | F4: Wartość netto | G4: VAT | H4: Cena jednostkowa brutto | I4: Wartość brutto | J4: Producent/Nazwa handlowa/Numer katalogowy
A5: 1 | B5: Płyn na rany to nowej generacji preparat do antyseptycznego oczyszczania, przemywania ran i oparzeń 1. i 2. stopnia.Płyn bezboleśnie oczyszcza rany i oparzenia, zapobiega zakażeniu rany i przyspiesza jej gojenie. Przeznaczony jest do oczyszczania oraz nawilżania ran zakażonych i niezakażonych. Zawiera jedyne na rynku połączenie 0,1% PHMB (Poliheksanid) i Poloksameru 188, niejonowego surfaktantu wspierającego leczenie ran1. Jest on także odpowiedni do antyseptycznego oczyszczania, zmiękczania i usuwania wyschniętych i przywierających do rany materiałów opatrunkowych, bez powodowania wtórnego urazu. | C5: op. 250ml | D5: 30
A6: 2 | B6: Płyn na rany to nowej generacji preparat do antyseptycznego oczyszczania, przemywania ran i oparzeń 1. i 2. stopnia.Płyn bezboleśnie oczyszcza rany i oparzenia, zapobiega zakażeniu rany i przyspiesza jej gojenie. Przeznaczony jest do oczyszczania oraz nawilżania ran zakażonych i niezakażonych. Zawiera jedyne na rynku połączenie 0,1% PHMB (Poliheksanid) i Poloksameru 188, niejonowego surfaktantu wspierającego leczenie ran1. Jest on także odpowiedni do antyseptycznego oczyszczania, zmiękczania i usuwania wyschniętych i przywierających do rany materiałów opatrunkowych, bez powodowania wtórnego urazu. | C6: op. 500ml | D6: 50
A7: 3 | B7: Płyn na rany to nowej generacji preparat do antyseptycznego oczyszczania, przemywania ran i oparzeń 1. i 2. stopnia.Płyn bezboleśnie oczyszcza rany i oparzenia, zapobiega zakażeniu rany i przyspiesza jej gojenie. Przeznaczony jest do oczyszczania oraz nawilżania ran zakażonych i niezakażonych. Zawiera jedyne na rynku połączenie 0,1% PHMB (Poliheksanid) i Poloksameru 188, niejonowego surfaktantu wspierającego leczenie ran1. Jest on także odpowiedni do antyseptycznego oczyszczania, zmiękczania i usuwania wyschniętych i przywierających do rany materiałów opatrunkowych, bez powodowania wtórnego urazu. | C7: op. 1000ml | D7: 40
A8: 4 | B8: Hydrożel na rany to nowej generacji preparat do antyseptycznego nawilżania, ochrony, pielęgnacji ran i oparzeń. Bezboleśnie oczyszcza rany i oparzenia, zapobiega zakażeniu rany i przyspiesza jej gojenie. Przeznaczony jest do pielęgnacji, ochrony i nawilżania ran zakażonych i niezakażonych. Zawiera jedyne na rynku połączenie 0,1% PHMB (Poliheksanid) i Poloksameru 188, niejonowego surfaktantu wspierającego leczenie ranHydrożel na rany tworzy w miejscu nałożenia warstwę ochronną i mechaniczne zapobiega przyleganiu mikroorganizmów do obszaru rany. Hydrożel nie wpływa na opóźnianie procesu gojenia się rany, dzięki czemu może być nałożony na dno rany na okres kilku dni. W tym czasie zapewnia odkażanie poprzez regularne oczyszczanie, nawilżanie i wytworzenie warstwy ochronnej na ranie. Ponadto utworzona cienka warstwa ochronna stanowi barierę pomiędzy powierzchnią rany a opatrunkiem, minimalizuje przywieranie opatrunku do powierzchni rany oraz ogranicza wzrost drobnoustrojów osiedlających się na powierzchni opatrunku. W ten sposób wzrasta skuteczność opatrunku. | C8: op. 100ml | D8: 30
A9: 5 | B9: 10% maść do gojenia zakażonych i niezakażonych ran bez antybiotyku. Poręczna tuba zapewnia odpowiednią ilość produktu na codzienne zranienia. 10% maść do gojenia ran z formułą kwasów żywicznych i lignanów na lipofilowym podłożu. Dodatek emolientów zapewnia nawilżenie i ochronę skóry wokół rany. Rekomendowana w leczeniu ran zakażonych i niezakażonych w celu zapewnienia terapii bez antybiotyku. Skład maści oparty jest na unikalnej formule kwasów żywicznych i lignanów. Podłoże maści: Wazelina, Parafina ciekła, Wosk mikrokrystaliczny, Wosk pszczeli | C9: op.30g | D9: 30
B10: RAZEM
B18: data ………………………………. | G18: podpis ……………………………………….

Sheet zad. 40
B1: Załacznik nr 9 do SWZ
B2: ZOZ/DZP/PN/12/25
A3: Zadanie nr 40: Gaziki nasączone alkoholem.
B4: Nazwa produktu | C4: Jednostka miary | D4: Ilość | E4: Cena jednostkowa netto | F4: Wartość netto | G4: VAT | H4: Cena jednostkowa brutto | I4: Wartość brutto | J4: Producent/ nazwa handlowa
A5: 1 | B5: Gazik do dezynfekcji skóry przed iniekcjami, nasączony alkoholem izopropylowym i chlorheksydyną, saszetka w rozmiarze 7cm x 7cm, gazik złożony trzykrotnie, 6 warstw włókniny, wielkość gazika po rozłożeniu w przedziale 8-9,5cz x 11-12cm, wykonany z wysokogatunkowej 70g włókniny , 100 szt w opakowaniu. Wyrób medyczny klasa I. | C5: Opakowanie 100szt | D5: 120
A6: 2 | B6: Gazik do dezynfekcji skóry przed iniekcjami, nasączony 70% alkoholem izopropylowym, saszetka w rozmiarze 7cm x 7cm, gazik złożony trzykrotnie, 6 warstw włókniny, wielkość gazika po rozłożeniu w przedziale 8-9,5cz x 11-12cm, wykonany z wysokogatunkowej 70g włókniny, 100 szt w opakowaniu. Wyrób medyczny klasa I. Dopuszczone do stosowania u dzieci i niemowląt przez ImiDZ. | C6: Opakowanie 100szt | D6: 170
B7: RAZEM
B12: data ………………………………. | G12: podpis ……………………………………….

Sheet zad. 41
B1: Załacznik nr 9 do SWZ
B2: ZOZ/DZP/PN/12/25
A3: Zadanie nr 41: Leki różne 1 A
A4: Lp. | B4: Nazwa produktu | C4: Jednostka miary | D4: Ilość | E4: Cena jednostkowa[zł] netto | F4: Wartość [zł] netto | G4: VAT | H4: Cena jednostkowa [zł] brutto | I4: Wartość [zł] brutto | J4: Producent/ Nazwa handlowa | K4: EAN
A5: 1 | B5: Acidum aceticum dilutum 3% | C5: porcja po 100ml | D5: 20
A6: 2 | B6: Adenosinum 3mg/ml | C6: porcja 2ml po 6amp lub fiol | D6: 27
A7: 3 | B7: Betahistinum 16 mg tabl. | C7: porcja po 60 tabl. | D7: 25
A8: 4 | B8: Betahistinum 24 mg tabl. | C8: porcja po 60 tabl. | D8: 25
A9: 5 | B9: Carbamazepina 300mg retard | C9: op=50tabl. O zmod. uw. | D9: 5
A10: 6 | B10: Dipropionian beclomethasonu + formoterol 100+ 6 mcg aerozol inhalacyjny | C10: porcja po 180 dawek | D10: 20
A11: 7 | B11: Dipropionian beclomethasonu + formoterol 200+ 6 mcg aerozol inhalacyjny | C11: porcja po 180 dawek | D11: 7
A12: 8 | B12: Dobutaminum 250 mg inj. | C12: 1 fiol. | D12: 120
A13: 9 | B13: Etomidatum inj. (roztwór) 20 mg/10 ml z dodatkiem emulsji tłuszczowej | C13: porcja po 10 amp. 10 ml | D13: 15
A14: 10 | B14: Fentanyl plastry 100mcg/h | C14: Op=5 plastrów | D14: 5
A15: 11 | B15: Fludrocortison 0,1 mg tabl | C15: op po 20 tabl. | D15: 20
A16: 12 | B16: Galantamini hydrobromidum inj. (roztwór) 2,5 mg/1 ml | C16: porcja po 10 amp. 1 ml | D16: 8
... A39: 35 | B39: Tiapridum 100mg | C39: porcjja po 20 tabl | D39: 25
B40: Razem
B47: data ………………………………. | G47: podpis ……………………………………….

Sheet zad. 42
B1: Załacznik nr 9 do SWZ
B2: ZOZ/DZP/PN/12/25
A3: Zadanie nr 42: Immunoglobuliny anty D
A4: Lp. | B4: Nazwa produktu | C4: Jednostka miary | D4: Ilość | E4: Cena jednostkowa[zł] netto | F4: Wartość [zł] netto | G4: VAT | H4: Cena jednostkowa [zł] brutto | I4: Wartość [zł] brutto | J4: Producent/Nazwa handlowa | K4: EAN
A5: 1 | B5: Immunoglobulina anty D 50j.m. inj. | C5: 1 szt. | D5: 20
A6: 2 | B6: Immunoglobulina anty D 150j.m. inj. | C6: 1 szt. | D6: 40
A7: 3 | B7: Immunoglobulina Anty D 300j.m amp-strzyk | C7: 1 szt. | D7: 35
B8: Razem
B11: Data | G11: Podpis osoby/osób upoważnionej
B12: ……………………………………………. | G12: ……………………………….

Sheet zad. 43
B1: Załacznik nr 9 do SWZ
B2: ZOZ/DZP/PN/12/25
A3: Zadanie nr 43: Pas do platformy
B4: Nazwa produktu | C4: Jednostka miary | D4: Ilość | E4: Cena jednostkowa netto | F4: Wartość netto | G4: VAT | H4: Cena jednostkowa brutto | I4: Wartość brutto | J4: Producent/Nazwa handlowa/Numer katalogowy
A5: 1 | B5: Pas piersiowy do platformy Autopulse 100 | C5: op. 3szt | D5: 3
B6: RAZEM
B8: Data | G8: Podpis osoby/osób upoważnionej
B9: ……………………………………………. | G9: ……………………………….

Sheet zad. 44
B1: Załacznik nr 9 do SWZ
B2: ZOZ/DZP/PN/12/25
A3: Zadanie nr 44: Cewnik do tlenu
A4: Lp. | B4: Nazwa produktu | C4: Jednostka miary | D4: Ilość | E4: Cena jednostkowa netto | F4: Wartość netto | G4: VAT | H4: Cena jednostkowa brutto | I4: Wartość brutto | J4: Producent/ Nazwa handlowa/ Numer katalogowy
A5: 1 | B5: Cewnik do podawania tlenu dla dorosłych dł. 500cm | C5: szt. | D5: 1000
B6: RAZEM
B8: Data | G8: Podpis osoby/osób upoważnionej
B9: ……………………………………………. | G9: ……………………………….

Sheet zad. 45
B1: Załacznik nr 9 do SWZ
B2: ZOZ/DZP/PN/12/25
A3: Zadanie nr 45: Łyżki do videolaryngoskopu
A4: Lp. | B4: Nazwa produktu | C4: Jednostka miary | D4: Ilość | E4: Cena jednostkowa netto | F4: Wartość netto | G4: VAT | H4: Cena jednostkowa brutto | I4: Wartość brutto | J4: Producent/ Nazwa handlowa/ Numer katalogowy
A5: 1 | B5: Łyżki do urządzenia do intubacji Provu nowej generacji, łączące nowoczesną technologię wizualizacji z unikalnym systemem naprowadzania ETT rozmiar MAC 1-4 do wyboru przy zakupie | C5: szt. | D5: 10
A6: 2 | B6: Łyżki do urządzenia do intubacji Provu nowej generacji, łączące nowoczesną technologię wizualizacji z unikalnym systemem naprowadzania ETT rozmiar Mill 00, 0, 1 do wyboru przy zakupie | C6: szt. | D6: 10
B7: RAZEM
B9: Data | G9: Podpis osoby/osób upoważnionej
B10: ……………………………………………. | G10: ……………………………….
