Workbook
Name Excel_BuiltIn_Print_Area: 'zad. 1'!$A$1:$J$19

Sheet zad. 1
B1: Załacznik nr 9 do SWZ
B2: ZOZ/DZP/PN/12/25 | D2: FORMULARZ CENOWY
A3: Zadania nr: 1 Kompresy operacyjne z nitką radiacyjną
A4: Lp. | B4: Nazwa produktu | C4: Jednostka miary | D4: Ilość | E4: Cena jednostkowa netto | F4: Wartość netto | G4: VAT | H4: Cena jednostkowa brutto | I4: Wartość brutto | J4: Producent/ Nazwa handlowa/ Numer katalogowy
A5: 1 | B5: Kompresy jałowe z gazy bawełnianej z wszytą na całej długości nitką radiacyjną 17nit.16warstw. 10x10cm,pakowane a'20szt. w opakowaniu z podwójnym systemem etykiet kontrolnych na opakowaniu wewnętrznym i zewnętrznym | C5: op.=20 szt. | D5: 600
A6: 2 | B6: Kompresy jałowe z gazy bawełnianej z wszytą na całej długości nitką radiacyjną 17nit.12warstw. 10x10cm,pakowane a'40szt. w opakowaniu z podwójnym systemem etykiet kontrolnych na opakowaniu wewnętrznym i zewnętrznym | C6: op.=40 szt. | D6: 400
A7: 3 | B7: Kompresy jałowe z gazy bawełnianej z wszytą na całej długości nitką radiacyjną 17nit.16warstw. 10x10cm,pakowane a'10szt. w opakowaniu z podwójnym systemem etykiet kontrolnych na opakowaniu wewnętrznym i zewnętrznym | C7: op.=10 szt. | D7: 1200
A8: 4 | B8: Kompresy jałowe z gazy bawełnianej z wszytą na całej długości nitką radiacyjną 17nit.12warstw. 10x20 cm pakowane a'10szt. w opakowaniu z podwójnym systemem etykiet kontrolnych na opakowaniu wewnętrznym i zewnętrznym | C8: op=10 szt. | D8: 650
A9: 5 | B9: Kompresy jałowe, operacyjne 20nit. 6warstw, po wstępnym technologicznym praniu, zielone 50x60cmcm pakowane a'2szt. z wszytym chipem radiacyjnym. Opakowanie z podwójnym systemem etykiet kontrolnych na opakowaniu wewnętrznym i zewnętrznym | C9: op.a'2szt. | D9: 750
A10: 6 | B10: Kompres włókninowy 10 x 10cm, 6w. z wycięciem Y sterylny a 2 szt. | C10: op=25szt po 2 szt | D10: 150
A11: 7 | B11: Kompres włókninowy 7,5 x 7,5cm, 6w. z wycięciem Y sterylny a 2 szt. | C11: op=25szt po 2 szt | D11: 150
A12: 8 | B12: Jałowe tampony z 24 nitkowej gazy w kształcie fasolki z wplecioną nitką RTG, wymiar gotowego produktu 25,4 mm x 13,2 mm, pakowane w kartonik ; 5 przegródek po 2 szt. (a'10 szt.). Podwójna karta kontrolna w postaci naklejki. Opakowanie papierowe pudełko + blister. Sterylizowane parą wodną, pakowane po 10szt. | C12: op.=10szt po 2 szt. | D12: 100
A13: 9 | B13: Tampony z gazy 20 nitkowej w kształcie kuli niejałowe nr 4 ( 24x24cm) pakowane po 4 x250szt. | C13: op.=4 x250 | D13: 10
B14: RAZEM
B16: Oferowany asortyment jest wyrobem medycznym.
B17: Oświadczam, że oferowany przedmiot zamówienia jest zgodny z opisem i spełnia wymagane parametry techniczne
B19: data ………………………………. | G19: podpis ……………………………………….

Sheet zad. 2
B1: Załacznik nr 9 do SWZ
B2: ZOZ/DZP/PN/12/25 | D2: FORMULARZ CENOWY
A3: Zadanie nr: 2 Różne.
A4: Lp. | B4: Nazwa produktu | C4: Jednostka miary | D4: Ilość | E4: Cena jednostkowa netto | F4: Wartość netto | G4: VAT | H4: Cena jednostkowa brutto | I4: Wartość brutto | J4: Producent/Nazwa handlowa/Numer katalogowy
A5: 1 | B5: Opatrunek typu Seton 1 cm x 2 m jałowy pakowany w blister z etykietą typu TAG | C5: Op=240 szt | D5: 28
A6: 2 | B6: Tupfery kule z nitka radiacyjną 20 x 20 cm jałowe pakowany w blister z etykietą identyfikacyjnymi typu TAG | C6: Opakowanie zbiorcze=100 blistrów, w blistrze po 5 szt. | D6: 30
A7: 3 | B7: Tupfery kule bez nitki 20 x 20 cm jałowe pakowane w blister z etykietą identyfikacyjnymi typu TAG | C7: Opakowanie zbiorcze=100 blistrów, w blistrze po 5 szt. | D7: 20
A8: 4 | B8: Chusta trójkątna bawełniana 134 x95 x95cm | C8: szt. | D8: 2000
A9: 5 | B9: Opatrunek poiniekcyjny pakowany pojedynczo min. wymiar 2,5cm x 7,6cm. | C9: op=100szt | D9: 150
A10: 6 | B10: Bandaż elastyczny samoprzylepny 8cm x 4m | C10: szt. | D10: 120
A11: 7 | B11: Serweta niesterylna 45x75 cm celulozowa, podfoliowana | C11: op=50szt | D11: 25
A12: 8 | B12: Serweta operacyjna gazowa z tasiemką i nitką radiacyjną 45 x 70 cm minimum 17 nitek, 4 warstw o gramaturze minimum 23g/m2, czas tonięcia max 1,01s. Zgodnie z normą PN-EN14079 sterylna pakowana pojedynczo w opakowanie typu folia-papier posiadające 4 naklejki tag z informacją nazwa producenta, LOT, data ważności, indeks wyrobu, ilość, rozmiar, nazwa grupy wyrobów, rodzaj wyrobu na etykiecie głownej informacja w postaci piktogramu i jeśli dotyczy to: nitkowość lub gramatura (KW), warstwowość, piktogram informujacy o znaczniku rtg. Dodatkowo na opakowaniach torebki papierowo-foliowej na 2 naklejkach tag kod kreskowy. W kodzie informacje: GTIN(EAN), data ważności, LOT. Z widocznym, czytelnym kolorystycznym wskaźniikiem sterylizacji. | C12: szt. | D12: 3000
A13: 9 | B13: Gaza bawełniana wyjałowiona 17 nitkowa 1 m2, sterylizowana parą wodną, opakowanie blister z TAG | C13: szt. | D13: 16000
A14: 10 | B14: Taśma przylepna do serwet 9 x 50 cm sterylna | C14: op. 70 szt. | D14: 24
B15: RAZEM
B17: Wszystki oferowany asortyment jest wyrobem medycznym.
B18: Oświadczam, że oferowany przedmiot zamówienia jest zgodny z opisem i spełnia wymagane parametry techniczne
B20: data ………………………………. | G20: podpis ……………………………………….

Sheet zad. 3
B1: Załacznik nr 9 do SWZ
B2: ZOZ/DZP/PN/12/25 | D2: FORMULARZ CENOWY
A3: Zadanie nr: 3 Lignina, wata
A4: Lp. | B4: Nazwa produktu | C4: Jednostka miary | D4: Ilość | E4: Cena jednostkowa netto | F4: Wartość netto | G4: VAT | H4: Cena jednostkowa brutto | I4: Wartość brutto | J4: Producent/ Nazwa handlowa/ Numer katalogowy
A5: 1 | B5: Lignina bielona bez użycia związków chloru 40x60cm ,płaty a'5kg gramatura min. 24 g/m2 , zdolność absorbcji min. 6 g/g Opakowanie folia+karton | C5: op=5kg | D5: 360
A6: 2 | B6: Wata opatrunkowa bawełniana składana 500 g, skład:100% bawełna, | C6: szt. | D6: 150
B7: RAZEM
B9: Oświadczam, że oferowany przedmiot zamówienia jest zgodny z opisem i spełnia wymagane parametry techniczne
B11: data ………………………………. | G11: podpis ……………………………………….

Sheet zad. 4
B1: Załacznik nr 9 do SWZ
B2: ZOZ/DZP/PN/12/25 | D2: FORMULARZ CENOWY
A3: Zadanie nr: 4 Opaski, plastry, opatrunki.
A4: Lp. | B4: Nazwa produktu | C4: Jednostka miary | D4: Ilość | E4: Cena jednostkowa netto | F4: Wartość netto | G4: VAT | H4: Cena jednostkowa brutto | I4: Wartość brutto | J4: Producent/Nazwa handlowa/Numer katalogowy
A5: 1 | B5: Opaska dziana podtrzym. 10 cm x 4 pakowana pojedynczo | C5: szt. | D5: 22000
A6: 2 | B6: Opaska dziana podtrzym. 15 cm x 4 m ,pakowana pojedynczo | C6: szt. | D6: 17000
A7: 3 | B7: Opaska dziana podtrzym. 5 cm x 4 m ,pakowana pojedynczo | C7: szt. | D7: 220
A8: 4 | B8: Opaska elastyczna pakowana pojedynczo z zapinką 10cmx5m | C8: szt. | D8: 600
A9: 5 | B9: Opaska elastyczna pakowana pojedynczo z dwoma zapinkami 15cmx5m | C9: szt. | D9: 1600
A10: 6 | B10: Opaska na tubusie tekturowym, o czasie wiazania 2-4 minut(+/- 0,5minuty) 10cm, wykonana z gazy 17 - nitkowej, min. 92 % (+/-3%) gips naturalny, czas zanurzenia 1,5-4,5 sekundy) | C10: op=2szt | D10: 800
A11: 7 | B11: Opaska na tubusie tekturowym, o czasie wiazania 2-4 minut(+/- 0,5minuty) 12cm, wykonana z gazy 17 - nitkowej, min. 92 % (+/-3%) gips naturalny, czas zanurzenia 1,5-4,5 sekundy) | C11: op=2szt | D11: 900
A12: 8 | B12: Opaska na tubusie tekturowym, o czasie wiazania 2-4 minut(+/- 0,5minuty) 14cm, wykonana z gazy 17 - nitkowej, min. 92 % (+/-3%) gips naturalny, czas zanurzenia 1,5-4,5 sekundy) | C12: op=2szt | D12: 1600
A13: 9 | B13: Opaska podgipsowa 10cm x 3 m | C13: szt. | D13: 1800
A14: 10 | B14: Opaska podgipsowa 15cm x 3 m | C14: szt. | D14: 2300
A15: 11 | B15: Opaska podgipsowa 12cm x 3 m | D15: 600
A16: 12 | B16: Przylepiec z białej włókniny, z hypoalergicznym klejem kauczukowym, 2,5cmx9,2m | C16: szt. | D16: 10000
A17: 13 | B17: Przylepiec z białej włókniny, z hypoalergicznym klejem kauczukowym, 2,5cmx5m | C17: szt. | D17: 500
A18: 14 | B18: Przylepiec z białej tkaniny wiskozowej, z hypoalergicznym klejem kauczukowym 5 cm x 5 m | C18: szt. | D18: 26
A19: 15 | B19: Plaster opatrunkowy z włókniny, z hypoalergicznym klejem kauczukowym, 8cmx5m | C19: szt. | D19: 33
A20: 16 | B20: Samoprzylepny opatrunek włókninowy, jałowy z hypoalergicznym klejem kauczukowym 6 x 10cm | C20: szt. | D20: 9000
A21: 17 | B21: Samoprzylepny opatrunek włókninowy, jałowy z hipoalergicznym klejem kauczukowym 7,2 x 5cm | C21: szt. | D21: 19000
A22: 18 | B22: Samoprzylepny opatrunek włókninowy ,jałowy z hipoalergicznym klejem kauczukowym 10x 8cm | C22: szt. | D22: 12000
A23: 19 | B23: Samoprzylepny opatrunek włókninowy, jałowy z hypoalergicznym klejem kauczukowym 15 x 8cm | C23: szt. | D23: 18000
A24: 20 | B24: Samoprzylepny opatrunek włókninowy, jałowy z hypoalergicznym klejem kauczukowym 20 x 10cm | C24: szt. | D24: 12000
A25: 21 | B25: Samoprzylepny opatrunek włókninowy, jałowy z hypoalergicznym klejem kauczukowym 25 x 10cm | C25: szt. | D25: 7500
A26: 22 | B26: Samoprzylepny opatrunek włókninowy, jałowy z hypoalergicznym klejem kauczukowym 35 x 10cm | C26: szt. | D26: 2500
A27: 23 | B27: Opatrunek chłonny 4 warstwy o różnych wartościowościach do silnie sączących się ran 10 x 10 cm jałowy | C27: szt. | D27: 4600
... A80: 76 | B80: Opaska z pastą cynkową z wysokim stopniem rozciągiwości, w terapii kompresyjnej do wywoływania bardzo mocnego ucisku; do stosowania m.in. w przypadku zapalenia żył głębokich i powierzchownych , w stanach zespołu pozakrzepowego. Może pozostawać założona przez 7dni. 10cm x 7m | C80: 1szt. | D80: 30
B81: RAZEM
B83: Wszystki oferowany asortyment jest wyrobem medycznym.
B84: Oświadczam, że oferowany przedmiot zamówienia jest zgodny z opisem i spełnia wymagane parametry techniczne
B86: data ………………………………. | G86: podpis ……………………………………….

Sheet zad. 5
B1: Załacznik nr 9 do SWZ
B2: ZOZ/DZP/PN/12/25 | D2: FORMULARZ CENOWY
A3: Zadanie nr: 5 Zabezpieczenia opatrunków
A4: Lp. | B4: Nazwa produktu | C4: Jednostka miary | D4: Ilość | E4: Cena jednostkowa netto | F4: Wartość netto | G4: VAT | H4: Cena jednostkowa brutto | I4: Wartość brutto | J4: Producent/Nazwa handlowa/Numer katalogowy
A5: 1 | B5: Siatka do opatrunków, (palce) rozmiar 1 | C5: Szt=10m w stanie luźnym | D5: 50
A6: 2 | B6: Siatka do opatrunków, (dłoń, palec ) rozmiar 2 | C6: Szt=10 m w stanie luźnym | D6: 150
A7: 3 | B7: Siatka do opatrunków, ( dłoń, stopa ) rozmiar 3 | C7: Szt=10 m w stanie luźnym | D7: 200
A8: 4 | B8: Siatka do opatrunków, (podudzie, kolano, ramię ) rzomiar 4 | C8: Szt=10 m w stanie luźnym | D8: 200
A9: 5 | B9: Siatka do opatrunków,(stopa, łokieć ) rozmiar 6 | C9: Szt=10 m w stanie luźnym | D9: 100
A10: 6 | B10: Siatka do opatrunków, ( głowa, ramię, podudzie ) rozmiar 8 | C10: Szt=10 m w stanie luźnym | D10: 100
A11: 7 | B11: Siatka do opatrunków, ( kolano ) rozmiar 10 | C11: Szt=10 m w stanie luźnym | D11: 60
A12: 8 | B12: Siatka do opatrunków, ( udo, głowa, biodro, brzuch, klatka piersiowa ) rozmiar 14 | C12: Szt=10 m w stanie luźnym | D12: 50
B13: RAZEM
B16: Wszystki oferowany asortyment jest wyrobem medycznym.
B17: Oświadczam, że oferowany przedmiot zamówienia jest zgodny z opisem i spełnia wymagane parametry techniczne
B19: data ………………………………. | G19: podpis ……………………………………….

Sheet zad. 6
B1: Załacznik nr 9 do SWZ
B2: ZOZ/DZP/PN/12/25 | D2: FORMULARZ CENOWY
A3: Zadanie nr: 6 Plastry do cewników donaczyniowych
A4: Lp. | B4: Nazwa produktu | C4: Jednostka miary | D4: Ilość | E4: Cena jednostkowa netto | F4: Wartość netto | G4: VAT | H4: Cena jednostkowa brutto | I4: Wartość brutto | J4: Producent/ Nazwa handlowa/ Numer katalogowy
A5: 1 | B5: Sterylny przezroczysty półprzepuszczalny opatrunek do mocowania cewników centralnych o wysokiej przylepności i przepuszczalności dla pary wodnej, podwójny klej na części włókninowej i foliowej ( Potwierdzenie bariery folii dla wirusów =>27nm przez niezależne laboratorium) klej typu diamond patern o wysokiej przepuszczalności dla pary wodnej, wzmocnienie włókniną obrzeża opatrunku ponacinane poprzecznie z 4 stron, ramka ułatwiająca aplikację, proste wycięcie na port pionowy, zaokrąglone brzegi, 2 włókninowe paski mocujące łatwo odklejalne od opatrunku i cewnika, metka do oznaczenia, rozmiar 8,5x11,5cm, przezroczyste okno 5,2x5,5cm, odporny na działanie środków dezynfekcyjnych zawierających alkohol, wyrób medyczny, niepylące, nierwące się w kierunku otwarcia opakowanie z polietylenu o wysokiej gęstości, zapewniające sterylną powierzchnię dla odłożenia opatrunku po otwarciu opakowania. | C5: szt. | D5: 3000
A6: 2 | B6: Przylepiec do mocowania sondy nosowo- żołądkowej, hypoalergiczny z klejem silikonowym bez lateksu, kauczuku i tlenku cynku. Wyrób medyczny pakowany pojedyńczo, Unikalna budowa z częścią pozbawioną kleju powodującą, że sonda wzisa swobodnie nie kontaktując się z nozdrzem. Nie przukleja się do rękawiczek, rozmiar 5,7cmx7,3cm. | C6: szt. | D6: 600
A7: 3 | B7: Sterylny przezroczysty półprzepuszczalny opatrunek z folii poliuretanowej ( Potwierdzenie bariery folii dla wirusów =>27nm przez niezależne laboratorium.), do mocowania kaniul obwodowych, z wycięciem na port, ramka otaczająca cały opatrunek, zaokrąglone brzegi, metka do oznaczenia, rozmiar 6x7 cm, odporny na działanie środków dezynfekcyjnych zawierających alkohol, klej akrylowy równomiernie rozprowadzony na całej powierzchni przylepnej, wyrób medyczny, niepylące, nierwące się w kierunku otwarcia opakowanie typu folia-folia z polietylenu o wysokiej gęstości, zapewniające sterylną powierzchnię dla odłożenia opatrunku po otwarciu opakowania | C7: szt. | D7: 1500
A8: 4 | B8: Sterylny przezroczysty półprzepuszczalny opatrunek z folii poliuretanowej ( Potwierdzenie bariery folii dla wirusów =>27nm przez niezależne laboratorium), do mocowania kaniul obwodowych u dzieci, wzmocnienie włókniną w części obejmującej kaniulę, ramka ułatwiająca aplikację, proste wycięcie na port pionowy, zaokrąglone brzegi, 2 włókninowe paski mocujące, rozmiar 4,5-5x5,7 cm, odporny na działanie środków dezynfekcyjnych zawierających alkohol, klej akrylowy równomiernie naniesiony na całej powierzchni przylepnej, wyrób medyczny klasy IIa, niepylące, nierwące się w kierunku otwarcia opakowanie typu folia-folia z polietylenu o wysokiej gęstości, zapewniające sterylną powierzchnię dla odłożenia opatrunku po otwarciu opakowania | C8: szt. | D8: 100
A9: 5 | B9: Sterylny włókninowy opatrunek do wkłuć obwodowych z dodatkową podkładką, z wycięciem na port pionowy, rozmiar 5,1x7,6cm | C9: szt. | D9: 2000
A10: 6 | B10: Przylepiec chirurgiczny, w 100% z włókniny poliestrowej, hypoalergiczny, perforowany na całej powierzchni umożliwiającej precyzyjne dzielenie bez nożyczek wzdłuż i w poprzek, oddychający, z klejem akrylowym bez zawartości uczulającego tlenku cynku, Rozmiar 2,5cm x 9,1 m. | C10: szt. | D10: 8000
A11: 7 | B11: Piankowy przylepiec chirurgiczny, 2.5 cm x 5 m,, elastyczny przylepiec piankowy. Miękki materiał zwiększa komfort pacjenta. Dobrze dopasowuje się do kształtu ciała, stawów i fałdów skórnych. Zapewnia ochronę wyniosłości kostnych i amortyzację w przypadku urazu, przyleganie przylepca w przypadku obrzęków oraz nad powierzchniami stawowymi. | C11: szt. | D11: 96
A12: 8 | B12: Sterylny, opatrunek z folii poliuretanowe ( Potwierdzenie bariery folii dla wirusów =>27nm przez niezależne laboratorium), bez wycięcia do żelu znieczulającego, odporny na działanie środków dezynfekcyjnych zawierających alkohol, opakowanie foliowo-foliowe. Wyrób medyczny klasy min. Ila., 6x7cm | C12: szt. | D12: 600
A13: 9 | B13: Mikroporowaty przylepiec chirurgiczny, 2.5 cm x 9.1 m. Przylepiec chirurgiczny, hypoalergiczny, z mikroporowatej włókniny, z wodoodpornym równomiernie naniesionym na całej powierzchni klejem akrylowym, bez lateksu, kauczuku i tlenku cynku, wybitnie delikatny dla skóry. | C13: szt. | D13: 200
A14: 10 | B14: Przylepiec chirurgiczny, hypoalergiczny, z przezroczystego mikroporowatego polietylenu, perforowany na całej powierzchni umożliwiającej dzielenie bez nożyczek wzdłuż i w poprzek, elastyczny z wodoodpornym klejem akrylowym bez zawartości uczulającego tlenku cynku 2,5cmx5m | C14: szt. | D14: 50
A15: 11 | B15: Skoncentrowany trójpolimerowy krem z silikonem do ochrony skóry przed działaniem płynów oraz nietrzymaniem moczu/kału, nawilżający, bez zawartości tlenku cynku i alkoholu, działanie przez 24 godziny, | C15: 92g tuba | D15: 50
A16: 12 | B16: Sterylny bezalkoholowy trójpolimerowy preparat z silikonem do ochrony skóry zdrowej i uszkodzonej, dodatek plastycyzera zapewnia niepękającą barierę na skórze. działanie ochronne przez 72 godziny, | C16: 28ml atomizer | D16: 60
... A22: 18 | B22: Sterylny przeżroczysty opatrunek do mocowania podskórnych portów naczyniowych wykonany z folii poliuretanowej rozmiar 12x12cm. Przeżroczysta folia nie zawiera kleju. Obrzeża opatrunku wmocnione laminowaną włókniną zawierającą klej aktylowy z nacięciami na brzgach oraz wycięciem. Ramka ułatiająca aplikację, duży pasek włókninowy, laminowany do mocowania oraz metka do oznaczenia. | C22: Op=25 | D22: 10
B23: RAZEM
B26: Wszystki oferowany asortyment jest wyrobem medycznym.
B27: Oświadczam, że oferowany przedmiot zamówienia jest zgodny z opisem i spełnia wymagane parametry techniczne
B29: data ………………………………. | G29: podpis ……………………………………….

Sheet zad. 7
B1: Załacznik nr 9 do SWZ
B2: ZOZ/DZP/PN/12/25 | D2: FORMULARZ CENOWY
A3: Zadanie nr 7: Obłożenie C
A4: Lp. | B4: Nazwa produktu | C4: Jednostka miary | D4: Ilość | E4: Cena jednostkowa netto | F4: Wartość netto | G4: VAT | H4: Cena jednostkowa brutto | I4: Wartość brutto | J4: Producent/Nazwa handlowa/Numer katalogowy
A5: 1 | B5: Zestaw do cięcia cesarskiego z akcesoriami | C5: szt. | D5: 1000
A6: 2 | B6: Zestaw ginekologiczny | C6: szt. | D6: 250
A7: 3 | B7: Zestaw do barku | C7: szt. | D7: 250
A8: 4 | B8: Zestaw do szyi. | C8: szt. | D8: 100
A9: 5 | B9: Zestaw laryngologiczny. | C9: szt. | D9: 500
A10: 6 | B10: Zestaw do migdałków. | C10: szt. | D10: 250
A11: 7 | B11: Osłona na kończynę | C11: szt | D11: 425
B12: RAZEM
A14: Ad.1 | B14: Zestaw do cięcia cesarskiego z akcesoriami Wymagania: Materiał obłożenia spełnia wymagania wysokie normy EN PN 13795 : 2019 . Całość zawinięta w serwetę instrumentariuszki. Zestaw powinien być wyposażony w minimum 4 samoprzylepne etykiety( dwie z kodem QR i dwie z kodem EAN), z nr katalogowym, datą ważności i numerem serii, służące do archiwizacji danych. Zawartość zestawu opisana w języku polskim na etykiecie produktowej naklejonej na opakowaniu. Opakowanie - torba z przezroczystej foli polietylenowej z klapką zgrzewaną z folią, w celu zminimalizowania ryzyka rozjałowienia zawartości podczas wyjmowania z opakowania, przy zgrzewie powinien znajdować się sterylny margines. Okres ważności minimum 12 miesięcy od daty dostawy Skład: Serweta na stolik instrumentariuszki 150 x 190 cm stanowiąca owinięcie zestawu - serweta wykonana z laminatu dwuwarstwowego: włóknina polipropylenowa i folia polietylenowa. Serweta posiada w części środkowej wzmocnienie - łatę chłonną (75 cm x 100 cm) wykonaną z laminatu dwuwarstwowego: włóknina polipropylenowa i folia polietylenowa. Gramatura materiału w obszarze wzmocnionym min. 80 g/m2 - 1szt. Ręcznik 30x40cm - 2 szt. Sterylny fartuch chirurgiczny wykonany z miękkiej, przewiewnej włókniny SMMS o gramaturze min. 35 g/m2. Fartuch z zakładanymi połami złożony w sposób zapewniający aseptyczną aplikację i zachowujący sterylny obszar na plecach (złożenie typu book folded). Długość mankietu min 8 cm. Mankiety wykonane z poliestru. Wiązany na troki wewnętrzne oraz troki zewnętrzne z kartonikiem; z tyłu, w okolicach szyi, zapięcie na rzep. Posiada oznakowanie rozmiaru w postaci naklejki, naklejonej na fartuchu, pozwalające na identyfikację przed rozłożeniem. Rozmiar fartucha oznaczony na dwa sposoby: w centymetrach oznaczających jego długość - 130 cm (+/- 5 cm) oraz literowo L - 1szt. Serweta na stolik Mayo 80x145cm (+/- 2 cm) w kształcie worka, złożona w sposób umożliwiający aseptyczną aplikację, wykonana z folii polietylenowej. Obszar wzmocniony wykonany z włókniny polipropylenowej. Gramatura materiału w obszarze wzmocnionym 85 (+/- 0,5) g/m2, wielkość wzmocnienia 75 cm x 90 cm ( +/- 2cm) - 1 szt. Fartuch chirurgiczny SMMS 150cm - Sterylny fartuch chirurgiczny wykonany z miękkiej, przewiewnej włókniny SMMS o gramaturze 35 g/m2 w kolorze turkusowym. Fartuch posiada nieprzemakalne wzmocnienia wykonane z laminatu dwuwarstwowego: włóknina polipropylenowa i folia polietylenowa. Wzmocnienia znajdują się w części przedniej i na rękawach. Gramatura wzmocnienia w części przedniej fartucha i na rękawach: min. 40 g/m2. Fartuch z zakładanymi połami złożony w sposób zapewniający aseptyczną aplikację i zachowujący sterylny obszar na plecach (złożenie typu book folded). Wiązany na troki wewnętrzne oraz troki zewnętrzne z kartonikiem; z tyłu, w okolicach szyi, zapięcie na rzep min. 3 cm x 6 cm i 3 cm x 13 cm, mankiety o długości 8 cm ( + 2 cm ), wykonane z poliestru. Taśma poliestrowa zabezpieczająca łączenie materiału wzmocnienia wzdłuż rękawów. Posiada oznakowanie rozmiaru w postaci naklejki naklejone na fartuchu, pozwalające na identyfikację przed rozłożeniem. Rozmiar fartucha oznaczony na dwa sposoby: w centymetrach oznaczających jego długość - 150 cm (+/- 5 cm) oraz literowo XL - 2 szt. Miska okrągła ze skalą o pojemności 250ml - 2 szt. Tupfery z gazy 20 nitkowej wielkości jajka - 5 szt. Zacisk tupfera z tworzywa sztucznego niebieski min. 24 cm - 1 szt. Zestaw do odsysania typu Yankauer, boczne otwory, nasadka lejkowa, CH 30, fo 8 mm, długość drenu 200 cm - 1 szt. Licznik igieł transparentny - magnetyczny, 1,5 cm h - 1 szt. Skalpel bezpieczny nr 20 -2 szt. Zacisk do pępowiny - 2 szt. Kompresy gazowe 10x10cm, 16 warstwowe,17 nitkowe z nitką RTG – 20 szt. Serweta do laparotomii ze znacznikiem RTG, 50x60cm, 6-warstwowa, biała - 2 szt. Opatrunek chirurgiczny 10x25cm - 1 szt. Kieszeń na ssaki 1 komorowa, foliowa o wymiarach 38x40cm - 1 szt. Serweta dla dziecka 90x100cm - 1 szt. Serweta do cesarskiego cięcia w kształcie litery T 260/200x335cm, wykonana z laminatu 2-warstwowego składającego się z hydrofilowej włókniny polipropylenowej i dwukolorowej (niebiesko-zielono/białej) folii polietylenowej o gramaturze 57(+/-0,5 g/m2) , okno 35x37cm, otoczone folią 46x50cm - 1 szt.
A27: Ad.2 | B27: Zetstaw ginekologiczny Wymagania: Materiał obłożenia spełnia wymagania wysokie normy EN PN 13795 : 2019 .Całość zawinięta w serwetę instrumentariuszki. Zestaw powinien być wyposażony w miniumum 4 samoprzylepne etykiety( dwie z kodem QR i dwie z kodem EAN), z nr katalogowym, datą ważności i numerem serii, służące do archiwizacji danych. Zawartość zestawu opisana w języku polskim na etykiecie produktowej naklejonej na opakowaniu. Opakowanie - torba z przezroczystej foli polietylenowej z klapką zgrzewaną z folią, w celu zminimalizowania ryzyka rozjałowienia zawartości podczas wyjmowania z opakowania, przy zgrzewie powinien znajdować się sterylny margines. Okres ważności minimum 12 miesięcy od daty dostawy Skład: Serweta na stolik instrumentariuszki 150 x 190 cm, stanowiąca owinięcie zestawu-serweta wykonana z laminatu dwuwarstwowego: włóknina polipropylenowa i folia polietylenowa. Serweta posiada w części środkowej wzmocnienie - łatę chłonną (75 cm x 100 cm) wykonaną z laminatu dwuwarstwowego: włóknina polipropylenowa i folia polietylenowa. Gramatura materiału w obszarze wzmocnionym min. 80 g/m2 - 1szt. Sterylny fartuch chirurgiczny wykonany z miękkiej, przewiewnej włókniny SMMS o gramaturze min. 35 g/m2.Fartuch z zakładanymi połami złożony w sposób zapewniający aseptyczną aplikację i zachowujący sterylny obszar na plecach (złożenie typu book folded).Długość mankietu min 8 cm. Mankiety wykonane z poliestru. Wiązany na troki wewnętrzne oraz troki zewnętrzne z kartonikiem; z tyłu, w okolicach szyi, zapięcie na rzep. Posiada oznakowanie rozmiaru w postaci naklejki, naklejonej na fartuchu, pozwalające na identyfikację przed rozłożeniem. Rozmiar fartucha oznaczony na dwa sposoby: w centymetrach oznaczających jego długość - 130 cm (+/- 5 cm) oraz literowo L - 1szt. Fartuch chirurgiczny SMMS 150cm- Sterylny fartuch chirurgiczny wykonany z miękkiej, przewiewnej włókniny SMMS o gramaturze 35 g/m2 w kolorze turkusowym. Fartuch posiada nieprzemakalne wzmocnienia wykonane z laminatu dwuwarstwowego: włóknina polipropylenowa i folia polietylenowa. Wzmocnienia znajdują się w części przedniej i na rękawach. Gramatura wzmocnienia w części przedniej fartucha i na rękawach: min. 40 g/m2. Fartuch z zakładanymi połami złożony w sposób zapewniający aseptyczną aplikację i zachowujący sterylny obszar na plecach (złożenie typu book folded). Wiązany na troki wewnętrzne oraz troki zewnętrzne z kartonikiem; z tyłu, w okolicach szyi, zapięcie na rzep min. 3 cm x 6 cm i 3 cm x 13 cm, mankiety o długości 8 cm ( + 2 cm ), wykonane z poliestru. Taśma poliestrowa zabezpieczająca łączenie materiału wzmocnienia wzdłuż rękawów. Posiada oznakowanie rozmiaru w postaci naklejki naklejone na fartuchu, pozwalające na identyfikację przed rozłożeniem. Fartuch zaprojektowany dla operatorów o dużych gabarytach. Rozmiar fartucha oznaczony na dwa sposoby: w centymetrach oznaczających jego długość - 150 cm large (+/- 5 cm) oraz literowo XXL – 1 szt. Zacisk tupfera z tworzywa sztucznego niebieski min. 24 cm - 1 szt. Skalpel bezpieczny nr 10 - 1 szt. Miska bezbarwna okrągła ze skalą o pojemności 250ml - 2 szt. Tupfery z gazy 20 nitkowej wielkości jajka - 5 szt. Kompresy gazowe 10x10cm, 16 warstwowe,17 nitkowe z nitką RTG - 10 szt. Serweta wykonana z materiału dwuwarstwowego o wymiarach min. 37,5 x 45cm. Gramatura laminatu min 40g/m2 - 1 szt. Serweta ginekologiczna wzmocniona 230 cm x 240/260 cm ze zintegrowanymi osłonami na kończyny dolne, z otworem na krocze 10 cm x 15 cm, ze zintegrowaną torbą na płyny z sitkiem i zaworem. Wykonana z laminatu dwuwarstwowego: włóknina polipropylenowa i folia polietylenowa. Gramatura laminatu podstawowego 57 g/m2 (+/-0,5g/m2). Wokół pola operacyjnego polipropylenowa łata chłonna. Całkowita gramatura laminatu podstawowego i łaty chłonnej 109 g/m2 (+/-0,5g/m2) - 1 szt. Serweta o wymiarach 45x75 cm, wykonana z laminatu dwuwarstwowego włóknina polipropylenowa i folia polietylenowa. Gramatura laminatu min. 40g/m2 - 1 szt.
A44: Ad 3 | B44: Zestaw do barku Wymagania: Materiał obłożenia spełnia wymagania wysokie normy EN PN 13795 : 2019 . Wszystkie składowe ułożone w kolejności umożliwiającej sprawną aplikację zgodnie z zasadami aseptyki. Całość zawinięta w serwetę instrumentariuszki. Zestaw powinien być wyposażony w miniumum 4 samoprzylepne etykiety( dwie z kodem QR i dwie z kodem EAN), z nr katalogowym, datą ważności i numerem serii, służące do archiwizacji danych. Zawartość zestawu opisana w języku polskim na etykiecie produktowej naklejonej na opakowaniu. Opakowanie - torba z przezroczystej foli polietylenowej z klapką zgrzewaną z folią, w celu zminimalizowania ryzyka rozjałowienia zawartości podczas wyjmowania z opakowania, przy zgrzewie powinien znajdować się sterylny margines. Okres ważności minimum 12 miesięcy od daty dostawy. Skład: Serweta na stolik instrumentariuszki 150 cm x 190 cm, stanowiąca owinięcie zestawu-serweta wykonana z laminatu dwuwarstwowego: włóknina polipropylenowa i folia polietylenowa. Serweta posiada w części środkowej wzmocnienie - łatę chłonną (75 cm x 100 cm) wykonaną z laminatu dwuwarstwowego: włóknina polipropylenowa i folia polietylenowa. Gramatura materiału w obszarze wzmocnionym min. 80 g/m2 - 1szt. Sterylny fartuch chirurgiczny wykonany z miękkiej, przewiewnej włókniny SMMS o gramaturze min. 35 g/m2.Fartuch z zakładanymi połami złożony w sposób zapewniający aseptyczną aplikację i zachowujący sterylny obszar na plecach (złożenie typu book folded). Długość mankietu min 8 cm. Mankiety wykonane z poliestru. Wiązany na troki wewnętrzne oraz troki zewnętrzne z kartonikiem; z tyłu, w okolicach szyi, zapięcie na rzep. Posiada oznakowanie rozmiaru w postaci naklejki, naklejonej na fartuchu, pozwalające na identyfikację przed rozłożeniem. Rozmiar fartucha oznaczony na dwa sposoby: w centymetrach oznaczających jego długość – 130 cm (+/- 5 cm) oraz literowo L - 1szt. Serweta na stolik Mayo 80x145cm (+/- 2 cm) w kształcie worka, złożona w sposób umożliwiający aseptyczną aplikację, wykonana z folii polietylenowej. Obszar wzmocniony wykonany z włókniny polipropylenowej. Gramatura materiału w obszarze wzmocnionym 85 (+/- 0,5) g/m2, wielkość wzmocnienia 75 cm x 90 cm ( +/- 2cm) - 1 szt. Fartuch chirurgiczny SMMS 170cm- Sterylny fartuch chirurgiczny wykonany z miękkiej, przewiewnej włókniny SMMS o gramaturze 35 g/m2 w kolorze turkusowym. Fartuch posiada nieprzemakalne wzmocnienia wykonane z laminatu dwuwarstwowego: włóknina polipropylenowa i folia polietylenowa. Wzmocnienia znajdują się w części przedniej i na rękawach. Gramatura wzmocnienia w części przedniej fartucha i na rękawach: min. 40 g/m2. Fartuch z zakładanymi połami złożony w sposób zapewniający aseptyczną aplikację i zachowujący sterylny obszar na plecach (złożenie typu book folded). Wiązany na troki wewnętrzne oraz troki zewnętrzne z kartonikiem; z tyłu, w okolicach szyi, zapięcie na rzep min. 3 cm x 6 cm i 3 cm x 13 cm, mankiety o długości 8 cm ( + 2 cm ), wykonane z poliestru. Taśma poliestrowa zabezpieczająca łączenie materiału wzmocnienia wzdłuż rękawów. Posiada oznakowanie rozmiaru w postaci naklejki naklejone na fartuchu, pozwalające na identyfikację przed rozłożeniem. Fartuch zaprojektowany dla operatorów o dużych gabarytach. Rozmiar fartucha oznaczony na dwa sposoby: w centymetrach oznaczających jego długość - 170 cm (+/- 5 cm) oraz literowo XL Long - 1 szt. Zacisk niebieski 24cm – 1 szt. Miska 250ml – 1 szt. Miska niebieska 250ml - 1 szt. Tupfer gazowy z elementem kontrastującym rozm.6 – 5 szt. Skalpel bezpieczny Fig. 11 – 1 szt. Kaniula jednorazowa 0,80x40mm – 1 szt. Osłona na kamerę składana teleskopowo 13x250cm – 1 szt. Kompresy gazowe z nitką RTG 12-warstwowe 10x10cm – 20 szt. Taśma samoprzylepna włókninowa 9x50cm – 1 szt. Dren ssący Ch.25 300cm lejek/lejek – 1 szt. Osłona ortopedyczna 33x55cm z 1 foliowym paskiem samoprzylepnym – 1 szt. Serweta 2-warstwowa 100x150cm- 1 szt Samoprzylepna serweta do artroskopii stawu barkowego 225x380cm z samouszczelniającym się otworem w kształcie gruszki 11,5x12,5 cm, ze zintegrowaną torbą do zbiórki płynów posiadającą sztywnik z zaworem do podłączenia drenu, z trzema uchwytami do mocowania przewodów i drenów typu rzep. Obłożenie pacjenta wykonane z laminatu dwuwarstwowego włóknina polipropylenowa i folia polietylenowa. Gramatura laminatu 57 g/m2 (+/-0,5g/m2). Odporność na przenikanie cieczy na sucho/mokro 175/185 (+/-1) kPa. -1 szt
A45: Ad.4 | B45: Zestaw do szyi . Wymagania: Materiał obłożenia spełnia wymagania wysokie normy EN PN 13795 : 2019 . Wszystkie składowe ułożone w kolejności umożliwiającej sprawną aplikację zgodnie z zasadami aseptyki. Całość zawinięta w serwetę instrumentariuszki. Zestaw powinien być wyposażony w miniumum 4 samoprzylepne etykiety( dwie z kodem QR i dwie z kodem EAN), z nr katalogowym, datą ważności i numerem serii, służące do archiwizacji danych. Zawartość zestawu opisana w języku polskim na etykiecie produktowej naklejonej na opakowaniu. Opakowanie - torba z przezroczystej foli polietylenowej z klapką zgrzewaną z folią, w celu zminimalizowania ryzyka rozjałowienia zawartości podczas wyjmowania z opakowania, przy zgrzewie powinien znajdować się sterylny margines. Okres ważności minimum 12 miesięcy od daty dostawy. Skład: Serweta na stolik instrumentariuszki 150 cm x 190 cm, stanowiąca owinięcie zestawu-serweta wykonana z laminatu dwuwarstwowego: włóknina polipropylenowa i folia polietylenowa. Serweta posiada w części środkowej wzmocnienie - łatę chłonną (75 cm x 100 cm) wykonaną z laminatu dwuwarstwowego: włóknina polipropylenowa i folia polietylenowa. Gramatura materiału w obszarze wzmocnionym min. 80 g/m2 - 1szt. Sterylny fartuch chirurgiczny wykonany z miękkiej, przewiewnej włókniny SMMS o gramaturze min. 35 g/m2.Fartuch z zakładanymi połami złożony w sposób zapewniający aseptyczną aplikację i zachowujący sterylny obszar na plecach (złożenie typu book folded). Długość mankietu min 8 cm. Mankiety wykonane z poliestru. Wiązany na troki wewnętrzne oraz troki zewnętrzne z kartonikiem; z tyłu, w okolicach szyi, zapięcie na rzep. Posiada oznakowanie rozmiaru w postaci naklejki, naklejonej na fartuchu, pozwalające na identyfikację przed rozłożeniem. Rozmiar fartucha oznaczony na dwa sposoby: w centymetrach oznaczających jego długość – 130 cm (+/- 5 cm) oraz literowo L – 3 szt. Serweta na stolik Mayo 80x145cm (+/- 2 cm) w kształcie worka, złożona w sposób umożliwiający aseptyczną aplikację, wykonana z folii polietylenowej. Obszar wzmocniony wykonany z włókniny polipropylenowej. Gramatura materiału w obszarze wzmocnionym 85 (+/- 0,5) g/m2, wielkość wzmocnienia 75 cm x 90 cm ( +/- 2cm) - 1 szt. Zacisk niebieski 24 cm – 1 szt. Miska 250ml – 1 szt. Miska niebieska 250ml - 1 szt. Tupfer gazowy z elementem kontrastującym rozm.6– 3 szt. Skalpel bezpieczny Fig. 15 – 1 szt. Kompresy gazowe z nitką RTG 12-warstwowe 10x10cm – 30 szt. Dren ssący Ch.25 300cm lejek/lejek – 1 szt. Końcówka do odsysania standardowa fi. 6 mm – 1 szt. Końcówka do odsysania metalowa typu Ferg 4x150mm – 1 szt. Serweta 2-warstwowa wzmocniona 225x240cm wycięcie 20x20cm. Odporność na przenikanie cieczy w obszarze wzmocnionym na sucho/mokro 283/273 (+/-1) kPa. – 1 szt. Serweta 2–warstwowa 150x260cm wycięcie 60x20cm. Odporność na przenikanie cieczy na sucho/mokro 175/185 (+/-1) kPa. – 1 szt.
A46: Ad.5 | B46: Zestaw laryngologiczny Wymagania: Materiał obłożenia spełnia wymagania wysokie normy EN PN 13795 : 2019 . Wszystkie składowe ułożone w kolejności umożliwiającej sprawną aplikację zgodnie z zasadami aseptyki. Całość zawinięta w serwetę instrumentariuszki. Zestaw powinien być wyposażony w miniumum 4 samoprzylepne etykiety( dwie z kodem QR i dwie z kodem EAN), z nr katalogowym, datą ważności i numerem serii, służące do archiwizacji danych. Zawartość zestawu opisana w języku polskim na etykiecie produktowej naklejonej na opakowaniu. Opakowanie - torba z przezroczystej foli polietylenowej z klapką zgrzewaną z folią, w celu zminimalizowania ryzyka rozjałowienia zawartości podczas wyjmowania z opakowania, przy zgrzewie powinien znajdować się sterylny margines. Okres ważności minimum 12 miesięcy od daty dostawy. Skład: Serweta na stolik instrumentariuszki 150 cm x 190 cm, stanowiąca owinięcie zestawu-serweta wykonana z laminatu dwuwarstwowego: włóknina polipropylenowa i folia polietylenowa. Serweta posiada w części środkowej wzmocnienie - łatę chłonną (75 cm x 100 cm) wykonaną z laminatu dwuwarstwowego: włóknina polipropylenowa i folia polietylenowa. Gramatura materiału w obszarze wzmocnionym min. 80 g/m2 - 1szt. Sterylny fartuch chirurgiczny wykonany z miękkiej, przewiewnej włókniny SMMS o gramaturze min. 35 g/m2.Fartuch z zakładanymi połami złożony w sposób zapewniający aseptyczną aplikację i zachowujący sterylny obszar na plecach (złożenie typu book folded). Długość mankietu min 8 cm. Mankiety wykonane z poliestru. Wiązany na troki wewnętrzne oraz troki zewnętrzne z kartonikiem; z tyłu, w okolicach szyi, zapięcie na rzep. Posiada oznakowanie rozmiaru w postaci naklejki, naklejonej na fartuchu, pozwalające na identyfikację przed rozłożeniem. Rozmiar fartucha oznaczony na dwa sposoby: w centymetrach oznaczających jego długość – 130 cm (+/- 5 cm) oraz literowo L – 2 szt. Serweta na stolik Mayo 80x145cm (+/- 2 cm) w kształcie worka, złożona w sposób umożliwiający aseptyczną aplikację, wykonana z folii polietylenowej. Obszar wzmocniony wykonany z włókniny polipropylenowej. Gramatura materiału w obszarze wzmocnionym 85 (+/- 0,5) g/m2, wielkość wzmocnienia 75 cm x 90 cm ( +/- 2cm) - 1 szt. Zacisk niebieski 24cm – 1 szt. Miska bezbarwna 250ml - 1 szt. Miska niebieska 120 ml- 2 szt Tupfer gazowy z elementem kontrastującym rozm.4 – 3 szt. Skalpel bezpieczny Fig. 15- 1 szt Kaniula 20 Gx 90 mm- 1 szt Kaniula 21G x40 mm- 1 szt Kaniula 18Gx40mm- 1 szt Strzykawka dwuczęściowa 5 ml- 1 szt Strzykawka dwuczęściowa 10 ml- 1 szt Końcówka do odsysania typu Ferg 4x150 mm- 1 szt Końcówka do odsysania typu Frazier 3x150 mm- 1 szt Dren lejek/lejek Ch 25, 300 cm- 1 szt Tupfer gazowy z elementem kontrastującym rozm.2– 10szt. Kompresy gazowe z nitką RTG 12-warstwowe 10x10cm – 10 szt. Serweta przylepna 2-warstwowa 150x250cm, wycięcie 10x80 cm. Gramatura laminatu 57 g/m2 (+/-0,5 g/m2).Odporność na przenikanie cieczy na sucho/mokro 175/185 (+/-1) kPa.- 1 szt Serweta przylepna 2-warstwowa 150x240cm. Gramatura laminatu 57 g/m2 (+/-0,5 g/m2).Odporność na przenikanie cieczy na sucho/mokro 175/185 (+/-1) kPa.- 1 szt
A47: Ad.6 | B47: Zestaw do migdałków Wymagania: Materiał obłożenia spełnia wymagania wysokie normy EN PN 13795 : 2019 . Wszystkie składowe ułożone w kolejności umożliwiającej sprawną aplikację zgodnie z zasadami aseptyki. Całość zawinięta w serwetę instrumentariuszki. Zestaw powinien być wyposażony w miniumum 4 samoprzylepne etykiety( dwie z kodem QR i dwie z kodem EAN), z nr katalogowym, datą ważności i numerem serii, służące do archiwizacji danych. Zawartość zestawu opisana w języku polskim na etykiecie produktowej naklejonej na opakowaniu. Opakowanie - torba z przezroczystej foli polietylenowej z klapką zgrzewaną z folią, w celu zminimalizowania ryzyka rozjałowienia zawartości podczas wyjmowania z opakowania, przy zgrzewie powinien znajdować się sterylny margines. Okres ważności minimum 12 miesięcy od daty dostawy. Skład: Serweta na stolik instrumentariuszki 150 cm x 190 cm, stanowiąca owinięcie zestawu-serweta wykonana z laminatu dwuwarstwowego: włóknina polipropylenowa i folia polietylenowa. Serweta posiada w części środkowej wzmocnienie - łatę chłonną (75 cm x 100 cm) wykonaną z laminatu dwuwarstwowego: włóknina polipropylenowa i folia polietylenowa. Gramatura materiału w obszarze wzmocnionym min. 80 g/m2 - 1szt. Sterylny fartuch chirurgiczny wykonany z miękkiej, przewiewnej włókniny SMMS o gramaturze min. 35 g/m2.Fartuch z zakładanymi połami złożony w sposób zapewniający aseptyczną aplikację i zachowujący sterylny obszar na plecach (złożenie typu book folded). Długość mankietu min 8 cm. Mankiety wykonane z poliestru. Wiązany na troki wewnętrzne oraz troki zewnętrzne z kartonikiem; z tyłu, w okolicach szyi, zapięcie na rzep. Posiada oznakowanie rozmiaru w postaci naklejki, naklejonej na fartuchu, pozwalające na identyfikację przed rozłożeniem. Rozmiar fartucha oznaczony na dwa sposoby: w centymetrach oznaczających jego długość – 130 cm (+/- 5 cm) oraz literowo L – 2 szt. Serweta na stolik Mayo 80x145cm (+/- 2 cm) w kształcie worka, złożona w sposób umożliwiający aseptyczną aplikację, wykonana z folii polietylenowej. Obszar wzmocniony wykonany z włókniny polipropylenowej. Gramatura materiału w obszarze wzmocnionym 85 (+/- 0,5) g/m2, wielkość wzmocnienia 75 cm x 90 cm ( +/- 2cm) - 1 szt. Zacisk niebieski 24cm – 1 szt. Miska bezbarwna 250ml - 1 szt. Miska niebieska 250 ml- 1szt Tupfer gazowy z elementem kontrastującym rozm.4 – 3 szt. Skalpel bezpieczny Fig. 15- 1 szt Kaniula 20 Gx 90 mm- 1 szt Kaniula 21G x40 mm- 1 szt Kaniula 18Gx40mm- 1 szt Strzykawka dwuczęściowa 5 ml- 1 szt Strzykawka dwuczęściowa 10 ml- 1 szt Końcówka do odsysania typu Ferg 4x150 mm- 1 szt Końcówka do odsysania typu Frazier 3x150 mm- 1 szt Dren lejek/lejek Ch 25, 300 cm- 1 szt Tupfer gazowy z elementem kontrastującym rozm.2– 10szt. Kompresy gazowe z nitką RTG 12-warstwowe 7,5x7,5cm – 10 szt. Miska bezbarwna 60 ml- 1 szt Serweta dwuwarstwowa 112x150 cm, otwór 10x14 cm w kształcie rombu, umieszczony decentralnie. , Gramatura laminatu 57 g/m2 (+/-0,5 g/m2).Odporność na przenikanie cieczy na sucho/mokro 175/185 (+/-1) kPa.- 1 szt Serweta przylepna 2-warstwowa 175x180cm, Gramatura laminatu 57 g/m2 (+/-0,5 g/m2).Odporność na przenikanie cieczy na sucho/mokro 175/185 (+/-1) kPa.- 1 szt
A48: Ad. 7 | B48: Osłona na kończynę Osłona na kończynę o wymiarach 24 x 80 cm z 1 foliową taśmą samoprzylepną 10 cm x 50 cm ( krótka ) Osłona na kończynę wykonana z termoplastycznej folii elastomerowej oraz elastycznej bielonej dzianiny. Materiał obłożenia spełnia wymagania normy EN PN 13795. Opakowanie jednostkowe posiada min. 2 etykiety samoprzylepne zawierające dane producenta, nr katalogowy, LOT i datę ważności. Osłona na kończynę wykonana z termoplastycznej folii elastomerowej ( na zewnątrz ) oraz elastycznej bielonej dzianiny ( od wewnątrz ) pakowana a' 1 szt z 1 polietylenową taśmą samoprzylepną 10 x 50 cm. Opakowanie zbiorcze 17 szt w formie kartonowego podajnika/ dyspensera, do transportu pakowane dodatkowo w karton zewnętrzny.
B49: Wszystki oferowany asortyment jest wyrobem medycznym.
B50: Oświadczam, że oferowany przedmiot zamówienia jest zgodny z opisem i spełnia wymagane parametry techniczne
B52: data ………………………………. | G52: podpis ……………………………………….

Sheet zad. 8
B1: Załacznik nr 9 do SWZ
B2: ZOZ/DZP/PN/12/25 | D2: FORMULARZ CENOWY
A3: Zadanie nr 8: Gąbka hemostatyczna 2
A4: Lp. | B4: Nazwa produktu | C4: Jednostka miary | D4: Ilość | E4: Cena jednostkowa[zł] netto | F4: Wartość [zł] netto | G4: VAT | H4: Cena jednostkowa [zł] brutto | I4: Wartość [zł] brutto | J4: Producent/ Nazwa handlowa/ Numer katalogowy
A5: 1 | B5: Gąbka hemostatyczna, wytwarzaną z wysokooczyszczonej obojętnej żelatyny wieprzowej do zastosowania w różnych procedurach chirurgicznych, w których uzyskanie hemostazy w sposób konwencjonalny jest trudne lub niewykonalne i nie zaleca się zastosowania innych niewchłanialnych materiałów. Produkt dostępny jest w różnych wygodnych rozmiarach w postaci sterylizowanej promieniami gamma w odpowiednim podwójnym jałowym opakowaniu typu blister lub w torebkach przeznaczonych do specjalnych wymiarów. Gąbka wchłania w przybliżeniu 40-50-krotność wody w stosunku do swojej wagi i łatwo przylega do miejsca krwawienia. Jednorodna porowatość, zapewnia łatwą hemostazę. Przy implantacji in vivo ulega całkowitemu wchłonięciu w ciągu 3-4 tygodni. Produkt jest nietoksyczny, niealergizujący, nieimmunogenny, apirogenny . Rozmiar: tampon analny w rozmiarze 80x30mm | C5: Op=5 szt | D5: 20
A6: 2 | B6: Gąbka hemostatyczna, wytwarzaną z wysokooczyszczonej obojętnej żelatyny wieprzowej do zastosowania w różnych procedurach chirurgicznych, w których uzyskanie hemostazy w sposób konwencjonalny jest trudne lub niewykonalne i nie zaleca się zastosowania innych niewchłanialnych materiałów. Produkt dostępny jest w różnych wygodnych rozmiarach w postaci sterylizowanej promieniami gamma w odpowiednim podwójnym jałowym opakowaniu typu blister lub w torebkach przeznaczonych do specjalnych wymiarów. Gąbka wchłania w przybliżeniu 40-50-krotność wody w stosunku do swojej wagi i łatwo przylega do miejsca krwawienia. Jednorodna porowatość, zapewnia łatwą hemostazę. Przy implantacji in vivo ulega całkowitemu wchłonięciu w ciągu 3-4 tygodni. Produkt jest nietoksyczny, niealergizujący, nieimmunogenny, apirogenny . Rozmiar: 8x5x1cm | C6: Op=10 szt. | D6: 50
B7: RAZEM
B9: umowa na okres 24 miesięcy, w tym realizacja dostaw od 11.03.2026-01.08.2027;
B10: Data | G10: Podpis osoby/osób upoważnionej
B11: ……………………………………………. | G11: ……………………………….

Sheet zad. 9
B2: Załacznik nr 9 do SWZ
B3: ZOZ/DZP/PN/12/25 | D3: FORMULARZ CENOWY
A4: Zadanie nr: 9 Obłożenia operacyjne A
A5: Lp. | B5: Nazwa produktu | C5: Jednostka miary | D5: Ilość | E5: Cena jednostkowa netto | F5: Wartość netto | G5: VAT | H5: Cena jednostkowa brutto | I5: Wartość brutto | J5: Producent/Nazwa handlowa/Numer katalogowy
A6: 1 | B6: Sterylny zestaw serwet uniwersalnych z akcesorium | C6: 1 zestaw | D6: 1100
A7: 2 | B7: Sterylny zestaw do laparoskopii brzusznej z akcesorium | C7: 1 zestaw | D7: 800
A8: 3 | B8: Sterylny zestaw serwet do zabiegów ginekologicznych z akcesoriami | C8: 1 zestaw | D8: 155
A9: 4 | B9: Zestaw do artroskopii z akcesorium | C9: 1 zestaw | D9: 500
A10: 5 | B10: Obłożenie do chirurgii biodra z akcesorium | C10: 1 zestaw | D10: 200
A11: 6 | B11: Jałowy zestaw do wkłucia centralnego | C11: 1zestaw | D11: 250
A12: 7 | B12: Jałowy zestaw do znieczuleń przewodowych. | C12: 1 zestaw | D12: 3400
A13: 8 | B13: Zestaw chirurgiczny do ropnia. | C13: 1 zestaw | D13: 220
A14: 9 | B14: Zestaw do porodu naturalnego | C14: 1 zestaw | D14: 1100
A15: 10 | B15: Zestaw do żylaków kończyn dolnych | C15: 1 zestaw | D15: 650
A16: 11 | B16: Zestaw do drenażu opłucnej | C16: 1 zestaw | D16: 100
A17: 12 | B17: Zestaw do operacji dłoń/stopa z akcesorium | C17: 1 zestaw | D17: 1400
... A25: 20 | B25: Sterylny fartuch chirurgiczny typu SMS, pełnobarierowy, wykonany z włókniny typu SMS, o gramaturze min. 42 g/m2 oraz wzmocnienia min. 42 g/m2 z laminatu w części przedniej i w rękawach. Szwy wykonane techniką ultradźwiękową. rękawy o kroju reglan. Zapięcie w obrębie szyi w formie taśmy wielokrotnego użytku przytwierdzonej do jednej poły fartucha, umożliwiającej zapięcie w dowolnym miejscu w górnej części fartucha i jego dopasowanie. Rękaw zakończony miękkim poliestrowym mankietem nie powodującym ucisku na skórę. Tylne części fartucha zachodzą na siebie, troki łączone kartonikiem, sposób i konstrukcja pozwalająca założenie. W rozmiarach M-XXL. Produkt musi posiadać informacje o dacie ważności i numerze serii w postaci naklejki do umieszczenia na karcie pacjenta. | C25: szt. | D25: 1500
B26: RAZEM
B30: SZCZEGÓŁOWY OPIS ODŁOŻEŃ OPERACYJNYCH A
A31: Ad.1 | B31: Sterylny zestaw serwet uniwersalnych z akcesorium o składzie: 1 x serweta na stół narzędziowy 150 x 190 cm, ze wzmocnieniem 78 x 190 cm, min 90 g/m2 (owinięcie zestawu) 1 x serweta na stolik Mayo 80 x 145 cm, ze wzmocnieniem 65 x 145 cm, min 90 g/m2, składana teleskopowo do środka 1 x serweta 2-warstwowa przylepna 240 x 150 cm z dodatkowym padem chłonnym w obszarze krytycznym min, 50 x 75 cm 2 x serweta 2-warstwowa przylepna 90 x 75 cm z dodatkowym padem chłonnym w obszarze krytycznym min, 35 x 90 cm 1 x serweta 2-warstwowa przylepna 175 x 170 cm z dodatkowym padem chłonnym w obszarze krytycznym min. 50 x 75 cm 1 x fartuch chirurgiczny typu SMS o długości 127 cm, pełnobarierowy, wykonany z włókniny typu SMS, o gramaturze min. 42 g/m2 oraz wzmocnienia min. 42 g/m2 z laminatu w części przedniej i w rękawach. Szwy wykonane techniką ultradźwiękową, rękawy o kroju reglan. Zapięcie w obrębie szyi w formie taśmy wielokrotnego użytku przytwierdzonej do jednej poły fartucha, umożliwiającej zapięcie w dowolnym miejscu w górnej części fartucha i jego dopasowanie. Rękaw zakończony miękkim poliestrowym mankietem nie powodującym ucisku na skórę. Tylne części fartucha zachodzą na siebie, troki łączone kartonikiem, sposób i konstrukcja pozwalająca założenie fartucha z zachowaniem jałowości zarówno z przodu jak i z tyłu operatora. 2 x fartuch chirurgiczny typu SMS o długości 147 cm, pełnobarierowy, wykonany z włókniny typu SMS, o gramaturze min. 42 g/m2 oraz wzmocnienia min. 42 g/m2 z laminatu w części przedniej i w rękawach. Szwy wykonane techniką ultradźwiękową. rękawy o kroju reglan. Zapięcie w obrębie szyi w formie taśmy wielokrotnego użytku przytwierdzonej do jednej poły fartucha, umożliwiającej zapięcie w dowolnym miejscu w górnej części fartucha i jego dopasowanie. Rękaw zakończony miękkim poliestrowym mankietem nie powodującym ucisku na skórę. Tylne części fartucha zachodzą na siebie, troki łączone kartonikiem, sposób i konstrukcja pozwalająca założenie fartucha z zachowaniem jałowości zarówno z przodu jak i z tyłu operatora 2 x skalpel bezpieczny z wysuwanym ostrzem nr 20 1 x skalpel bezpieczny z wysuwanym ostrzem nr 11 1 x kieszeń przylepna 2 sekcje 46 x 40 cm, PE 1 x kabel elektrody czynnej monopolarnej z nożem płąskim 320 cm, 3 bolce 1 x czyścik do koagulacji 5 x 5 cm, kontrastujący w RTG, z RTG 20 x kompres z gazy RTG 10 x 10 cm, 16 w 17 n wiązane 10 sztuk 6 x tupfer z gazy 30 x 30 cm, 20 nitek 1 x pojemnik plastikowy 250 ml z podziałką, przeźroczysty 1 x pojemnik plastikowy 500 ml z podziałką, niebieski 1 x pojemnik na zużyte igły i ostrza skalpeli 10 miejsc magnetyczny 1 x kleszczyki plastikowe proste do mycia pola operacyjnego typu korcang 24 cm 1 x taśma przylepna min. 10 x 50 cm 4 x ręcznik celulozowy min. 30 x 33 cm 1 x pudełko stabilizacyjne Zestawy zgodne z EN 13795-1:2019. Serwety 2-warstwowe PP+PE o gramaturze 55g/m2, bez zawartości wiskozy, celulozy i lateksu, Wysoka odporność na penetrację płynów (zgodnie z EN 20811) min. 210cm H2O, odporność na rozerwanie na sucho i mokro min. 170 kPa. Chłonność włókniny badana wg EN ISO 9073-6: min. 210 ml/m2. a w miejscu padów chłonnych włóknina polipropylenowa o gramaturze min. 120g/m2. Pady chłonne o wysokiej odporności na penetrację płynów (zgodnie z EN 20811) min. 250cm H2O oraz odporności na rozerwanie na sucho min. 370 kPa i na mokro min. 390 kPa. Chłonność włókniny w obszarze wzmocnionym badana wg EN ISO 9073-6: min. 425 ml/m2I. Każdy zestaw zawiera 4 naklejki zientgrowane z 4 kodami kreskowymi oraz Ref, Lot, datę produkcji, datę ważnosci i producenta. Sterylizacjia tlenkiem etylenu.
A32: Ad.2 | B32: Jałowy zestaw do laparoskopii o składzie: 1 x serweta na stół narzędziowy 150 x 190 cm, ze wzmocnieniem 78 x 190 cm, min 90 g/m2 (owinięcie zestawu) 1 x serweta 2-warstwowa do laparoskopii z nogawicami 250/260 x 280 cm, otwór przylepny 32 x 28 cm wykończony folią chirurgiczną; obustronnie zintegrowane Kieszenie 2-sekcyjne oraz pad chłonny w obszarze krytycznym 1 x serweta na stolik Mayo 80 x 145 cm, ze wzmocnieniem 65 x 145 cm,min 90 g/m2, składana teleskopowo do środka 1 x kleszczyki plastikowe do mycia pola operacyjnego typu korcang 24 cm 20 x kompres z gazy RTG 10 x 10 cm, 12 warstw 17 nitek wiązane a 10 sztuk 3 x tupfer z gazy 30 x 30 cm 20 nitek 1 x pojemnik plastikowy 250 ml przeźroczysty, z podziałką 1 x pojemnik plastikowy 250 ml niebieski, z podziałką 3 x opatrunek chłonny przylepny 10 x 8 cm 2 x osłona na kable video 12,5 x 230 cm PE, kartonowa prowadnica, teleskopowo złożona, taśma do mocowania 1 x fartuch chirurgiczny typu SMS o długości 127 cm, pełnobarierowy, wykonany z włókniny typu SMS, o gramaturze min. 42 g/m2. Szwy wykonane techniką ultradźwiękową, rękawy o kroju reglan. Zapięcie w obrębie szyi w formie taśmy wielokrotnego użytku przytwierdzonej do jednej poły fartucha, umożliwiającej zapięcie w dowolnym miejscu w górnej części fartucha i jego dopasowanie. Rękaw zakończony miękkim poliestrowym mankietem nie powodującym ucisku na skórę. Tylne części fartucha zachodzą na siebie, troki łączone kartonikiem, sposób i konstrukcja pozwalająca założenie fartucha z zachowaniem jałowości zarówno z przodu jak i z tyłu operatora. 2 x fartuch chirurgiczny typu SMS o długości 147 cm, pełnobarierowy, wykonany z włókniny typu SMS, o gramaturze min. 42 g/m2. Szwy wykonane techniką ultradźwiękową. rękawy o kroju reglan. Zapięcie w obrębie szyi w formie taśmy wielokrotnego użytku przytwierdzonej do jednej poły fartucha, umożliwiającej zapięcie w dowolnym miejscu w górnej części fartucha i jego dopasowanie. Rękaw zakończony miękkim poliestrowym mankietem nie powodującym ucisku na skórę. Tylne części fartucha zachodzą na siebie, troki łączone kartonikiem, sposób i konstrukcja pozwalająca założenie fartucha z zachowaniem jałowości zarówno z przodu jak i z tyłu operatora 1 x taśma przylepna min. 10 x 50 cm 1 x skalpel bezpieczny z wysuwanym ostrzem nr 11 4 x ręcznik celulozowy min. 30 x 33 cm 1 x zestaw do drenażu pasywnego z drenem silikonowym 100 cm 16 CH oraz workiem 350 ml i dwoma zapinkami 1 x pudełko stabilizacyjne Zestawy zgodne z EN 13795-1:2019. Serwety 2-warstwowe PP+PE o gramaturze 55g/m2, bez zawartości wiskozy, celulozy i lateksu, Wysoka odporność na penetrację płynów (zgodnie z EN 20811) min. 210cm H2O, odporność na rozerwanie na sucho i mokro min. 170 kPa. Chłonność włókniny badana wg EN ISO 9073-6: min. 210 ml/m2. a w miejscu padów chłonnych włóknina polipropylenowa o gramaturze min. 120g/m2. Pady chłonne o wysokiej odporności na penetrację płynów (zgodnie z EN 20811) min. 250cm H2O oraz odporności na rozerwanie na sucho min. 370 kPa i na mokro min. 390 kPa. Chłonność włókniny w obszarze wzmocnionym badana wg EN ISO 9073-6: min. 425 ml/m2I. Każdy zestaw zawiera 4 naklejki zientgrowane z 4 kodami kreskowymi oraz Ref, Lot, datę produkcji, datę ważnosci i producenta. Sterylizacjia tlenkiem etylenu.
A33: Ad.3 | B33: Jałowy zestaw ginekologiczny z akcesoriami o składzie: 1 x serweta ginekologiczna 250/280 x 280 cm, otwór przylepny 9 x 12 cm. Wbudowane osłony na kończyny, zintegrowany worek do zbiórki pynów ze sztywnikiem, sitem i zaworem oraz taśma przylepna do mocowania fartucha 1 x serweta na stolik Mayo 80 x 145 cm, ze wzmocnieniem 65 x 145 cm,min 90 g/m2, składana teleskopowo do środka 1 x serweta 2-warstwowa nieprzylepna 90 x 75 cm 1 x serweta na stół narzędziowy 150 x 190 cm, ze wzmocnieniem 78 x 190 cm, min 90 g/m2 (owinięcie zestawu) 1 x cewnik Foleya 16/5,33 CH/mm, 40 cm ( 5-15 ml ) 1 x strzykawka 10 ml Luer, 2 części 2 x skalpel bezpieczny nr 10 1 x worek na mocz 2000 ml 1 x kleszczyki plastikowe proste do mycia pola operacyjnego typu korcang 24 cm 1 x fartuch chirurgiczny typu SMS o długości 127 cm, pełnobarierowy, wykonany z włókniny typu SMS, o gramaturze min. 42 g/m2. Szwy wykonane techniką ultradźwiękową, rękawy o kroju reglan. Zapięcie w obrębie szyi w formie taśmy wielokrotnego użytku przytwierdzonej do jednej poły fartucha, umożliwiającej zapięcie w dowolnym miejscu w górnej części fartucha i jego dopasowanie. Rękaw zakończony miękkim poliestrowym mankietem nie powodującym ucisku na skórę. Tylne części fartucha zachodzą na siebie, troki łączone kartonikiem, sposób i konstrukcja pozwalająca założenie fartucha z zachowaniem jałowości zarówno z przodu jak i z tyłu operatora. 2 x fartuch chirurgiczny urologiczny typu SMS o długości 150 cm, rękawy o kroju reglan, szwy wykonane techniką ultradźwiękową, wiązany na dwa troki. 20 x tupfer z gazy RTG 20 x 20 cm ,20 nitek 20 x kompres z gazy RTG 10 x 10 cm, 16 warstw 17 nitek, wiązane a 10 sztuk 5 x tupfer z gazy 30 x 30 cm, 20 nitek 1 x taśma przylepna min. 10 x 50 cm 1 x igła injekcyjna bezpieczna 18 G, 1,20 x 40 mm 1 x opatrunek wysokochłonny nieprzylepny 10 x 10 cm 1 x pojemnik plastikowy 250 ml, przeźroczysty z podziałką 1 x pojemnik plastikowy 250 ml, niebieski z podziałką 1 x pojemnik na ostrza i igły 10 miejsc magnetyczny 4 x ręcznik celulozowy min. 30 x 33 cm 1 x kabel elektrody czynnej monopolarnej z nożem płaskim, 3 bolce 1 x czyścik do koagulacji 5 x 5 cm, kontrastujący w RTG, przylepny 1 x pudełko stabilizacyjne Zestawy zgodne z EN 13795-1:2019. Serwety 2-warstwowe PP+PE o gramaturze 55g/m2, bez zawartości wiskozy, celulozy i lateksu, Wysoka odporność na penetrację płynów (zgodnie z EN 20811) min. 210cm H2O, odporność na rozerwanie na sucho i mokro min. 170 kPa. Chłonność włókniny badana wg EN ISO 9073-6: min. 210 ml/m2. Każdy zestaw zawiera 4 naklejki zientgrowane z 4 kodami kreskowymi oraz Ref, Lot, datę produkcji, datę ważnosci i producenta. Sterylizacjia tlenkiem etylenu.
A34: Ad.4 | B34: Jałowy zestaw do artroskopii o składzie: 1 x serweta na stół narzędziowy 150 x 190 cm, ze wzmocnieniem 78 x 190 cm, min 90 g/m2 (owinięcie zestawu) 1 x serweta na stolik Mayo 80 x 145 cm, ze wzmocnieniem 65 x 145 cm, min 90 g/m2, składana teleskopowo do środka 1 x serweta 2-warstwowa do artroskopii 200 x 320 cm z uchwytem typu rzep i workiem na płyny otwór 5 x 7 cm 1 x serweta 2-warstwowa nieprzylepna 175 x 150 cm 1 x kleszczyki plastikowe do mycia pola operacyjnego typu korcang 24 cm 10 x kompres z gazy RTG 10 x 10 cm 12 warstw 17 nitek, wiązane po 10 sztuk 3 x tupfer z gazy 30 x 30 cm, 20 nitek 1 x opaska elastyczna 15 cm x 5 m z dwiema zapinkami, biała (umiarkowana kompresja) 1 x pojemnik plastikowy 250 ml przeźroczysty, z podziałką 1 x pojemnik plastikowy 250 ml niebieski, z podziałką 1 x fartuch chirurgiczny typu SMS o długości 127 cm, pełnobarierowy, wykonany z włókniny typu SMS, o gramaturze min. 42 g/m2 oraz wzmocnienia min. 42 g/m2 z laminatu w części przedniej i w rękawach. Szwy wykonane techniką ultradźwiękową, rękawy o kroju reglan. Zapięcie w obrębie szyi w formie taśmy wielokrotnego użytku przytwierdzonej do jednej poły fartucha, umożliwiającej zapięcie w dowolnym miejscu w górnej części fartucha i jego dopasowanie. Rękaw zakończony miękkim poliestrowym mankietem nie powodującym ucisku na skórę. Tylne części fartucha zachodzą na siebie, troki łączone kartonikiem, sposób i konstrukcja pozwalająca założenie fartucha z zachowaniem jałowości zarówno z przodu jak i z tyłu operatora. 1 x fartuch chirurgiczny typu SMS o długości 147 cm, pełnobarierowy, wykonany z włókniny typu SMS, o gramaturze min. 42 g/m2 oraz wzmocnienia min. 42 g/m2 z laminatu w części przedniej i w rękawach. Szwy wykonane techniką ultradźwiękową. rękawy o kroju reglan. Zapięcie w obrębie szyi w formie taśmy wielokrotnego użytku przytwierdzonej do jednej poły fartucha, umożliwiającej zapięcie w dowolnym miejscu w górnej części fartucha i jego dopasowanie. Rękaw zakończony miękkim poliestrowym mankietem nie powodującym ucisku na skórę. Tylne części fartucha zachodzą na siebie, troki łączone kartonikiem, sposób i konstrukcja pozwalająca założenie fartucha z zachowaniem jałowości zarówno z przodu jak i z tyłu operatora 1 x osłona 2-warstwowa na kończynę 25 x 80 cm 1 x igła kulkowa zagięta.1,5 x 80 mm 1 x osłona na kable video 12,5 x 230 cm PE, kartonowa prowadnica, teleskopowo złożona, taśma do mocowania 1 x taśma przylepna min. 10 x 50 1 x pudełko stabilizacyjne Zestawy zgodne z EN 13795-1:2019. Serwety 2-warstwowe PP+PE o gramaturze 55g/m2, bez zawartości wiskozy, celulozy i lateksu, Wysoka odporność na penetrację płynów (zgodnie z EN 20811) min. 210cm H2O, odporność na rozerwanie na sucho i mokro min. 170 kPa. Chłonność włókniny badana wg EN ISO 9073-6: min. 210 ml/m2. Każdy zestaw zawiera 4 naklejki zientgrowane z 4 kodami kreskowymi oraz Ref, Lot, datę produkcji, datę ważnosci i producenta. Sterylizacjia tlenkiem etylenu.
