Workbook
Name Excel_BuiltIn_Print_Area: 'Zadanie nr 7'!$A$1:$J$1
Name Excel_BuiltIn_Print_Area_14_1: #REF!
Name Excel_BuiltIn_Print_Area_16_1: #REF!
Name Excel_BuiltIn_Print_Area_17_1: #REF!
Name Excel_BuiltIn_Print_Area_18_1: #REF!
Name Excel_BuiltIn_Print_Area_19_1: 'Zadanie nr 19'!$A$3:$J$5
Name Excel_BuiltIn_Print_Area_2_1: 'Zadanie nr 2'!$A$3:$I$8
Name Excel_BuiltIn_Print_Area_22_1: #REF!
Name Excel_BuiltIn_Print_Area_22_1_1: #REF!
Name Excel_BuiltIn_Print_Area_24_1: #REF!
Name Excel_BuiltIn_Print_Area_3_1: #REF!
Name Excel_BuiltIn_Print_Area_3_1_1: 'Zadanie nr 3'!$A$3:$J$29
Name Excel_BuiltIn_Print_Area_3_1_1_1: 'Zadanie nr 3'!$A$3:$J$28
Name Excel_BuiltIn_Print_Area_4_1: 'Zadanie nr 4'!$A$3:$J$13
Name Excel_BuiltIn_Print_Area_5_1: 'Zadanie nr 5'!$A$3:$J$8
Name Excel_BuiltIn_Print_Area_6_1: 'Zadanie nr 6'!$A$3:$J$10
Name Excel_BuiltIn_Print_Area_7_1: 'Zadanie nr 7'!$A$3:$J$7
Name Excel_BuiltIn_Print_Titles_17: #REF!
Name Print_Area_0: #REF!

Sheet Zadanie nr 1
A1: Załacznik nr 9 do SWZ
A2: ZOZ/DZP/PN/16/25
A3: Zadanie nr 1- Leki różne
A4: Lp. | B4: Nazwa produktu | C4: Jednostka miary | D4: Ilość | E4: Cena jednostkowa[zł] netto | F4: Wartość [zł] netto | G4: VAT | H4: Cena jednostkowa [zł] brutto | I4: Wartość [zł] brutto | J4: EAN
A5: 1 | B5: Acarbosum 50 mg | C5: op. 30 tabl | D5: 7
A6: 2 | B6: Acetylcysteinum inj. iv. lub dooskrzelowo (roztwór) 300 mg/3 ml | C6: porcja po 5 amp. 3 ml | D6: 170
A7: 3 | B7: Acetylcysteinum tabl musujące. 200 mg | C7: porcja po 20 szt. | D7: 23
A8: 4 | B8: Acetylcysteinum tabl. musujące 600 mg | C8: porcja po 10 tabl. | D8: 150
A9: 5 | B9: Aciclovirum 800mg | C9: porcja po 30 szt | D9: 16
A10: 6 | B10: Aciclovir 250mg inj | C10: porcja po 5 fiol. | D10: 15
A11: 7 | B11: Acidum aceticum dilutum 3% | C11: porcja po 100ml | D11: 20
A12: 8 | B12: Acidum aceticym + Delphinum consolida | C12: butelka po 100ml | D12: 7
A13: 9 | B13: Acidum acetylsalicylicum tabl. 100 mg tabl dojelitowe | C13: op. 30 tabl | D13: 3
A14: 10 | B14: Acidum acetylsalicylicum tabl. 75 mg | C14: porcja po 60 tabl. | D14: 140
A15: 11 | B15: Acidum acetylsalicylicum tabl. powl. dojelitowe 150 mg | C15: porcja po 60 tabl. | D15: 30
A16: 12 | B16: Acidum acetylsalicylicum tabl 300 mg | C16: porcja po 20tabl | D16: 2
... A411: 407 | B411: Zuclopenthixol 50 mg / 1 ml inj roztw.d/wstrz | C411: op. 5 amp | D411: 3
B412: RAZEM
B414: ………………………………………………….. | E414: ……………………………………………
B415: Data | E415: Podpis osoby/osób uprawnionej

Sheet Zadanie nr 2
A1: Załacznik nr 9 do SWZ
A2: ZOZ/DZP/PN/16/25
A3: Zadanie nr 2 - Płyny infuzyjne 2
A4: Lp. | B4: Nazwa produktu | C4: Jednostka miary | D4: Ilość | E4: Cena jednostkowa[zł] netto | F4: Wartość [zł] netto | G4: VAT | H4: Cena jednostkowa [zł] brutto | I4: Wartość [zł] brutto | J4: Producent/Nazwa handlowa | K4: EAN
A5: 1 | B5: Glucosum + Natrii chloridum inj. iv. (roztwór) 2 : 1 | C5: porcja po 1 op. 250 ml | D5: 200
A6: 2 | B6: Glucosum + Natrii chloridum inj. iv. (roztwór) 2 : 1 | C6: porcja po 1 op. 500 ml | D6: 1500
A7: 3 | B7: Glucosum inj. iv. (roztwór) 100 mg/ml | C7: porcja po 1 op. 100 ml | D7: 500
A8: 4 | B8: Glucosum inj. iv. (roztwór) 50 mg/ml | C8: porcja po 1 op. 100 ml | D8: 600
A9: 5 | B9: Płyn wieloelektrolitowy o zawartości:5,75 g/1000ml chlorku sodu,4,62g/1000ml sodu ostran trójwodny,0,9g/1000ml sodu cytrynian dwuwodny,0,26g/1000ml wapnia chlorek dwuwodny,0,38g/1000ml chlorku potasu, 0,2g/1000ml magnezu chlorek sześciowodny.Osmolarność roztworu 295mOsmol/l | C9: op=250ml | D9: 1000
A10: 6 | B10: Płyn wieloelektrolitowy o zawartości:5,75 g/1000ml chlorku sodu,4,62g/1000ml sodu ostran trójwodny,0,9g/1000ml sodu cytrynian dwuwodny,0,26g/1000ml wapnia chlorek dwuwodny,0,38g/1000ml chlorku potasu, 0,2g/1000ml magnezu chlorek sześciowodny.Osmolarność roztworu 295mOsmol/l | C10: op= 500ml | D10: 1800
A11: 7 | B11: Natrii chloridum płyn 0,9 %- worek | C11: porcja po 1 szt.3000ml | D11: 300
A12: 8 | B12: Aqua rozpuszczalnik do iniekcji | C12: porcja po 500 ml | D12: 2000
A13: 9 | B13: Aqua rozpuszczalnik do iniekcji | C13: worek porcja po 100ml | D13: 800
B14: RAZEM
B17: ………………………………………………….. | F17: ……………………………………………
B18: Data | F18: Podpis osoby/osób uprawnionej

Sheet Zadanie nr 3
A1: Załacznik nr 9 do SWZ
A2: ZOZ/DZP/PN/16/25
A3: Zadanie nr 3 - Płyny infuzyjne 3
A4: Lp. | B4: Nazwa produktu | C4: Jednostka miary | D4: Ilość | E4: Cena jednostkowa[zł] netto 2023-2024 | F4: Wartość [zł] netto | G4: VAT | H4: Cena jednostkowa [zł] brutto | I4: Wartość [zł] brutto | J4: Producent/Nazwa handlowa | K4: EAN
A5: 1 | B5: Woda jałowa do przepłukiwań | C5: butelka zakręcana 1000ml | D5: 600
A6: 2 | B6: Natrium chloratum płyn do infuzji | C6: szt. płyn 0,9% 100 ml | D6: 42000
A7: 3 | B7: Natrium chloratum płyn do infuzji | C7: szt. płyn 0,9% 250 ml | D7: 14000
A8: 4 | B8: Natrium chloratum płyn do infuzji | C8: szt. płyn 0,9% 500 ml | D8: 12000
A9: 5 | B9: Natrium chloratum płyn do infuzji | C9: szt. płyn 0,9% 1000 ml | D9: 2000
A10: 6 | B10: PWE (Na,K,Ca,Mg,Cl +octan) | C10: szt. płyn 250ml | D10: 1000
A11: 7 | B11: PWE (Na,K,Ca,Mg,Cl +octan) | C11: szt. płyn 500 ml | D11: 28000
A12: 8 | B12: PWE (Na,K,Ca,Mg,Cl + octan) | C12: szt. płyn 1000 ml | D12: 3200
A13: 9 | B13: Glucosum | C13: szt. płyn 10% 500 ml | D13: 400
A14: 10 | B14: Glucosum | C14: szt. płyn 40% 500 ml | D14: 120
A15: 11 | B15: Natrium chloratum do przepłukiwania 0,9% | C15: szt. płyn 100 ml | D15: 2200
A16: 12 | B16: Natrium chloratum do przepłukiwania 0,9% | C16: szt. płyn 250 ml | D16: 1500
... A25: 21 | B25: Lekko hipotoniczny płyn ze specjalnym wskazaniem do stosowania w przypadku mocno zwapnionych cewników. Typu Uro-Tainer Solutio Suby G Skład: Na 100 ml: kwas cytrynowy jednowodny 3,23 g, glukonolakton 0,6 g, łagodny tlenek magnezu 2,8 g, bikarbonat sodowy 0,7 g, wersenian disodowy 2H2O 0,01 g rozpuszczone w wodzie do wstrzykiwań. PH = 4 | C25: op=10flakonów x 100ml | D25: 10
B26: RAZEM
B29: Warunki wymagane:
B30: Poz 11-16 roztwór konfekcjonowany we flakonie stojącym typu „ampułka”
B31: Poz 2-10 flakon posiadający dwa jednakowe samouszczelniające się porty chronione aluminiowymi kapslami, nie wymagający dezynfekcji przy pierwszym użyciu, czytelna etykieta ze skalą w granicach 3-7 umożliwiającą monitoring podaży płynów z opakowania od 250 do 1000ml, dodatkowa przestrzeń do dodania leków minimum 70ml dla płynów infuzyjnych o pojemności 100ml, minimum 110ml dla płynów infuzyjnych o pojemności 250ml, minimum 150ml dla płynów infuzyjnych o pojemności 500ml i minimum 200ml dla pojemników o pojemności 1000ml
B33: ………………………………………………….. | F33: ……………………………………………
B34: Data | F34: Podpis osoby/osób uprawnionej

Sheet Zadanie nr 4
A1: Załacznik nr 9 do SWZ
A2: ZOZ/DZP/PN/16/25
A3: Zadanie nr 4 - Enoxaparinum
A4: Lp. | B4: Nazwa produktu | C4: Jednostka miary | D4: Ilość | E4: Cena jednostkowa[zł] netto | F4: Wartość [zł] netto | G4: VAT | H4: Cena jednostkowa [zł] brutto | I4: Wartość [zł] brutto | J4: Producent/Nazwa handlowa | K4: EAN
A5: 1 | B5: HDCz 2000 j.m. Anty Xa /20 mg | C5: Op=10 amp.strz | D5: 230
A6: 2 | B6: HDCz 4000 j.m. anty Xa/ 40mg | C6: Op=10 amp.strz | D6: 2000
A7: 3 | B7: HDCz 6000 j.m. anty Xa/ 60mg | C7: Op=10 amp.strz | D7: 600
A8: 4 | B8: HDCz 8000 j.m. anty Xa /80 mg | C8: Op=10 amp.strz | D8: 130
A9: 5 | B9: HDCz 10000 j.m. anty Xa 100 mg | C9: Op=10 amp.strz | D9: 13
A10: 6 | B10: HDCz 30000 j.m. anty Xa 300 mg/3ml | C10: fiol. | D10: 10
A11: 7 | B11: HDCz 15000 j.m.anty Xa 150mg/ml | C11: Op=10 amp.strz | D11: 10
A12: 8 | B12: HDCz 12000 j.m.anty Xa 120mg/0,8ml | C12: Op=10 amp.strz | D12: 10
B13: RAZEM
B16: ……………………………………….. | F16: ……………………………………………
B17: Data | F17: Podpis osoby/osób uprawnionej

Sheet Zadanie nr 5
A1: Załacznik nr 9 do SWZ
A2: ZOZ/DZP/PN/16/25
A3: Zadanie nr 5 - Nadroparinum
A4: Lp. | B4: Nazwa produktu | C4: Jednostka miary | D4: Ilość | E4: Cena jednostkowa[zł] netto | F4: Wartość [zł] netto | G4: VAT | H4: Cena jednostkowa [zł] brutto | I4: Wartość [zł] brutto | J4: Producent/Nazwa handlowa | K4: EAN
A5: 1 | B5: HDCz 2850 j.m antyXa | C5: amp.strz 0,3 ml x 10 szt. | D5: 50
A6: 2 | B6: HDCz 3800 j.m antyXa | C6: amp.strz 0,4 ml x 10szt | D6: 50
A7: 3 | B7: HDCz 5700 j.m antyXa | C7: amp.strz 0,6 ml x 10szt | D7: 50
A8: 4 | B8: HDCz 7600 j.m antyXa | C8: amp.strz 0,8 ml x 10 szt. | D8: 10
B9: RAZEM
B13: ………………………………………………….. | F13: ……………………………………………
B14: Data | F14: Podpis osoby/osób uprawnionej

Sheet Zadanie nr 6
A1: Załacznik nr 9 do SWZ
A2: ZOZ/DZP/PN/16/25
A3: Zadanie nr 6 - Leki różne 2
A4: Lp. | B4: Nazwa produktu | C4: Jednostka miary | D4: Ilość | E4: Cena jednostkowa[zł] netto | F4: Wartość [zł] netto | G4: VAT | H4: Cena jednostkowa [zł] brutto | I4: Wartość [zł] brutto | J4: Producent/Nazwa handlowa | K4: EAN
A5: 1 | B5: Gliclazidum tabl. retard 60 mg | C5: op. 90tabl | D5: 10
A6: 2 | B6: Indapamidum tabl. powl. retard 1,5 mg | C6: op. 108 tabl. | D6: 10
A7: 3 | B7: Iwabradyna 5 mg | C7: op. 112 tabl. | D7: 10
A8: 4 | B8: Perindoprilum tabl. 5 mg | C8: porcja po 1 op. 90 szt. | D8: 30
A9: 5 | B9: Perindoprilum tabl. 10 mg | C9: porcja po 1 op. 90 szt. | D9: 20
A10: 6 | B10: Trimetazidinum tabl. powl. retard 35 mg | C10: op. 90 tabl. | D10: 10
A11: 7 | B11: Preparat złożony Perindopril 10mg + Amlodypinum 10mg | C11: op. 90 tabl. | D11: 10
A12: 8 | B12: Preparat złożony Perindopril 5mg + Amlodypinum 5mg | C12: op. 90 tabl. | D12: 10
A13: 9 | B13: perindoprilum z algininą 5+ indapamidum1,25+ Amlodypinum 5mg | C13: op.90 tabl. | D13: 5
A14: 10 | B14: Tianeptinum natricum 12.5 mg | C14: op.108 tabl | D14: 5
B15: RAZEM
B18: ………………………………………………….. | F18: ……………………………………………
B19: Data | F19: Podpis osoby/osób uprawnionej

Sheet Zadanie nr 7
A1: Załacznik nr 9 do SWZ
A2: ZOZ/DZP/PN/16/25
A3: Zadanie nr 7 - Albuminy
A4: Lp. | B4: Nazwa produktu | C4: Jednostka miary | D4: Ilość | E4: Cena jednostkowa[zł] netto | F4: Wartość [zł] netto | G4: VAT | H4: Cena jednostkowa [zł] brutto | I4: Wartość [zł] brutto | J4: Producent/Nazwa handlowa | K4: EAN
A5: 1 | B5: Albumina ludzka 20 % 50 ml | C5: flak 50 ml | D5: 200
A6: 2 | B6: Albumina ludzka 20 % 100 ml | C6: flak 100 ml | D6: 400
B7: RAZEM
B12: ………………………………………………….. | F12: ……………………………………………
B13: Data | F13: Podpis osoby/osób uprawnionej

Sheet Zadanie nr 8
A1: Załacznik nr 9 do SWZ
A2: ZOZ/DZP/PN/16/25
A3: Zadanie nr 8 – Leki różne 14
A4: Lp. | B4: Nazwa produktu | C4: Jednostka miary | D4: Ilość | E4: Cena jednostkowa[zł] netto | F4: Wartość [zł] netto | G4: VAT | H4: Cena jednostkowa [zł] brutto | I4: Wartość [zł] brutto | J4: Producent/Nazwa handlowa | K4: EAN
A5: 1 | B5: Aluminii acetas żel do użytku zewnętrznego 75g | C5: porcja po 1 op. | D5: 100
A6: 2 | B6: Bisoprololum tabl. powl. 5 mg | C6: porcja po 30 tabl. | D6: 200
A7: 3 | B7: Bisoprololum tabl. powl. 2,5 mg | C7: porcja po 30 tabl. vel 28 | D7: 140
A8: 4 | B8: Bisoprololum tabl. powl. 1,25 mg | C8: porcja po 30 tabl. vel 28 | D8: 30
A9: 5 | B9: Ketoprofenum inj. (roztwór) 100 mg/2 ml i.v./i.m | C9: porcja po 10 amp. 2 ml | D9: 300
A10: 6 | B10: Ketoprofenum tabl. powl. 100 mg | C10: porcja po 30 tabl. | D10: 100
A11: 7 | B11: Ferrosi oxidum dextranum complexum inj. im. (roztwór) 50 mg Fe+++/ml | C11: porcja po 50 amp. 2 ml | D11: 1
A12: 8 | B12: Ferrum hydroxide 50 mg/5ml syrop | C12: Porcja po 100 ml | D12: 2
A13: 9 | B13: Ferrum oxydatum saccharatum inj. iv. (roztwór) 20 mg Fe+++/ml | C13: porcja po 5 amp. 5 ml | D13: 20
A14: 10 | B14: Metoprololi sucinate 23,75 mg o spowolnionym uwalnianiu | C14: porcja po 30 tabl. o przed. uw. | D14: 40
A15: 11 | B15: Metoprololi sucinate 47,5 mg o przedłużonym uwalnianiu | C15: porcja po 30 tabl. o przed. uw. | D15: 40
A16: 12 | B16: Metoprololi sucinate 95 mg o przedłużonym uwalnianiu | C16: porcja po 30 tabl. o przed. uw. | D16: 40
... A19: 15 | B19: pantoprazol 40 mg | C19: porcja po 56 tabl. dojel. | D19: 80
B20: RAZEM
B24: ………………………………………………….. | F24: ……………………………………………
B25: Data | F25: Podpis osoby/osób uprawnionej

Sheet Zadanie nr 9
A1: Załacznik nr 9 do SWZ
A2: ZOZ/DZP/PN/16/25
A3: Zadanie nr 9 - Leki anestezjologiczne
A4: Lp. | B4: Nazwa produktu | C4: Jednostka miary | D4: Ilość | E4: Cena jednostkowa[zł] netto | F4: Wartość [zł] netto | G4: VAT | H4: Cena jednostkowa [zł] brutto | I4: Wartość [zł] brutto | J4: Producent/Nazwa handlowa | K4: EAN
A5: 1 | B5: Bupivacainum inj. dotkankowe (roztwór) 5 mg/ml spinalna jałowa pojedyńczo pakowana | C5: porcja po 5 amp. 4 ml | D5: 300
A6: 2 | B6: Lidocainum inj. iv. lub dotkankowe (roztwór) 20 mg/ml /50 ml / | C6: porcja po 5 fiol. 50 ml | D6: 2
A7: 3 | B7: Lidocainum + Prilocainum krem znieczulający | C7: porcja po 1 tuba 30 g | D7: 10
A8: 4 | B8: Bupivacainum+Epinephrinum inj. dotkankowe (roztwór) 5 mg/ml | C8: porcja po 5 fiol. 20 ml vel amp. | D8: 50
A9: 5 | B9: Mivacurii chloridum inj. iv. (roztwór) 2 mg/ml | C9: porcja po 5 amp. 5 ml | D9: 50
A10: 6 | B10: Mivacurii chloridum inj. iv. (roztwór) 20 mg/10 ml | C10: porcja po 5 amp. 10 ml | D10: 30
A11: 7 | B11: Propofolum EDTA 10mg/ml | C11: porcja po 50ml ampułkostrzykawka | D11: 10
A12: 8 | B12: Propofolum EDTA 10mg/ml | C12: porcja po 20ml x 5amp | D12: 50
A13: 9 | B13: Remifentanil 5mg proszek do sporządenia konc. Roz. /do wstrzykiwań inf. | C13: op=5fiol | D13: 30
A14: 10 | B14: Remifentanil 2mg proszek do sporządenia konc. Roz. /do wstrzykiwań inf. | C14: op=5fiol | D14: 3
A15: 11 | B15: Sugammadex 100mg/ml a 2 ml | C15: porcja po 10 fiol. 2 ml | D15: 40
B16: RAZEM
B19: ………………………………………….. | F19: ……………………………………………
B20: Data | F20: Podpis osoby/osób uprawnionej

Sheet Zadanie nr 10
A1: Załacznik nr 9 do SWZ
A2: ZOZ/DZP/PN/16/25
A3: Zadanie nr 10 - Sevofluran
A4: Lp. | B4: Nazwa produktu | C4: Jednostka miary | D4: Ilość | E4: Cena jednostkowa[zł] netto | F4: Wartość [zł] netto | G4: VAT | H4: Cena jednostkowa [zł] brutto | I4: Wartość [zł] brutto | J4: Producent/Nazwa handlowa | K4: EAN
A5: 1 | B5: Sevofluranum płyn do anestezji wziewnej kompatybilny z aparatem do znieczulenia firmy Draeger system zamknięty oraz system otwarty do wyboru przy zakupie. | C5: porcja po 1 op. 250 ml | D5: 100
A6: 2 | B6: Desfluranum 240ml | C6: op=240ml | D6: 36
B7: RAZEM
B10: Dla poz 1
B11: Na czas trwania umowy wymagane jest użyczenie 5 parowników do urządzeń: - Aspiro z parownikiem Sevo Tec 7 - 1 szt. - Drager Primus/Fabius z parownikiem Drager Vapor 2000 z auto exclusin - 3 szt. - Drager Fabius z parownikiem Vapor 2000, Quick Fill - 1 szt. Koszt użyczenia należy wliczyć w cenę oferty.
B12: Dla poz. 2
B13: Na czas trwania umowy wymagane jest użyczenie 3 szt. parowników do aparatu Drager . Koszt użyczenia należy wliczyć w cenę oferty.
B15: Data | F15: Podpis osoby/osób upoważnionej
B16: ……………………………………………. | F16: ……………………………….

Sheet Zadanie nr 11
A1: Załacznik nr 9 do SWZ
A2: ZOZ/DZP/PN/16/25
A3: Zadanie nr 11 - Mleko + preparaty dietetyczne
A4: Lp. | B4: Nazwa produktu | C4: Jednostka miary | D4: Ilość | E4: Cena jednostkowa[zł] netto | F4: Wartość [zł] netto | G4: VAT | H4: Cena jednostkowa [zł] brutto | I4: Wartość [zł] brutto | J4: Producent/Nazwa handlowa | K4: EAN
A5: 1 | B5: Mieszanka początkowa w płynie dla niemowląt z dodatkiem frukto i galaktooligosacharydów. Minimalny poziom białka 1,3g/100ml, maksymalny poziom żelaza0,53mg/100ml | C5: porcja po 1 op, x 24szt 90 ml | D5: 100
A6: 2 | B6: Mieszanka początkowa w płynie dla niemowląt z dodatkiem frukto i galaktooligosacharydów, nukleotydów oraz postbiotyków. Minimalny poziom białka 1,3g/100ml, maksymalny poziom żelaza0,53mg/100ml, z scGOS:lcFOS 9:1. | C6: porcja po 1 op.x 24szt 90 ml | D6: 50
A7: 3 | B7: Mieszanka początkowa w proszku dla niemowląt z dodatkiem frukto i galaktooligosacharydów, nukleotydów oraz postbiotyków. Minimalny poziom białka 1,3g/100ml, maksymalny poziom żelaza0,53mg/100ml, z scGOS:lcFOS 9:1. | C7: Porcja po 350 g | D7: 15
A8: 4 | B8: Mleko zastępcze początkowe od urodzenia zawierające galakto- i fukto- oligosacharydy (9:1) proszek do p. roztworu doustnego. | C8: porcja po 1 op. 350 g | D8: 15
A9: 5 | B9: Mleko zastępcze od 6 miesiąca zawierające galakto- i fukto- oligosacharydy (9:1) proszek do p. roztworu doustnego. | C9: porcja po 1 op. 350 g | D9: 20
A10: 6 | B10: Mleko zastępcze od 6 miesiąca zawierające galakto- i fukto- oligosacharydy (9:1), z dodatkiem kleiku ryżowego, proszek do p. roztworu doustnego. | C10: porcja po 1 op. 350 g | D10: 20
A11: 7 | B11: Mleko zastępcze powyżej 1 roku zawierające galakto- i fukto- oligosacharydy (9:1), proszek do p. roztworu doustnego, białko 1,3g/100ml | C11: porcja po 1 op. 350 g | D11: 30
A12: 8 | B12: Mleko zastępcze powyżej 1 roku zawierające galakto- i fukto- oligosacharydy (9:1), z dodatkiem kleiku ryżowego, proszek do p. roztworu doustnego. | C12: porcja po 1 op. 350 g | D12: 30
A13: 9 | B13: Mleko modyfikowane początkowe dla niemowląt od urodzenia z zawartością białka 1,24g/100ml, zawierające w składzie białko OPTI PRO, proszek | C13: Porcja po 650 g | D13: 10
A14: 10 | B14: Mleko modyfikowane początkowe dla niemowląt po 6 miesiącu, z zawartością białka 1,14g/100ml, zawierające w składzie białko OPTI PRO, | C14: Porcja po 650 g | D14: 15
A15: 11 | B15: Mleko modyfikowane początkowe dla niemowląt po 9 miesiącu, z zawartością białka 1g/100ml, zawierające w składzie białko OPTI PRO, proszek | C15: Porcja po 800 g | D15: 15
A16: 12 | B16: Mleko modyfikowane początkowe dla zdrowych niemowląt od urodzenia, u których istnieje podwyższone ryzyko wystąpienia reakcji alergicznych na białka mleka krowiego zawierające w składzie częściowo hydrolizowane białka serwatkowe OPTI PRO HA | C16: Porcja po 400g | D16: 15
... A44: 40 | B44: Zawierający białka serwatkowe o nieznacznym stopniu hydrolizy i synbiotyk SYNEO – unikalne połączenie oligosacharydów prebiotycznych scGOS/lcFOS w stosunku 9:1 i probiotyku – Bifidobacterium breve M-16 V. Do 6 miesiąca | C44: op=400g | D44: 5
B45: RAZEM
B47: Zmawiający dopuszcza dietetyczne środki spożywcze. Data przydatności nie mniejsza nić 6 miesięcy.
B48: Data | G48: Podpis osoby/osób upoważnionej
B49: ……………………………………………. | G49: ……………………………….

Sheet Zadanie nr 12
A1: Załacznik nr 9 do SWZ
A2: ZOZ/DZP/PN/16/25
A3: Zadanie nr 12 – Leki ZOL
A4: Lp. | B4: Nazwa produktu | C4: Jednostka miary | D4: Ilość | E4: Cena jednostkowa[zł] netto | F4: Wartość [zł] netto | G4: VAT | H4: Cena jednostkowa [zł] brutto | I4: Wartość [zł] brutto | J4: Producent/Nazwa handlowa | K4: EAN
A5: 1 | B5: Dexamethasonum tabl. 1 mg | C5: porcja po 20 tabl. | D5: 15
A6: 2 | B6: Dexamethasonum tabl. 4 mg | C6: porcja po 20 tabl. | D6: 10
A7: 3 | B7: Donepezilum 5mg | C7: porcja po 28szt | D7: 10
A8: 4 | B8: Donepezilum 10mg | C8: porcja po 28 tabl.uleg. Rozp. W jamie ustnej | D8: 70
A9: 5 | B9: Duloksetyna 30mg | C9: porcja po 28 szt. | D9: 10
A10: 6 | B10: Eplerenonum 50mg | C10: porcja po 30 szt. | D10: 30
A11: 7 | B11: Eplerenonum 25mg | C11: porcja po 30 szt. | D11: 40
A12: 8 | B12: Escitalopram 10mg | C12: porcja po 28tabl.powl. | D12: 80
A13: 9 | B13: Fludrocortison 0,1 mg tabl | C13: op po 20 tabl. | D13: 25
A14: 10 | B14: Formoterolum proszek do inhalacji w kaps. 0,012 mg | C14: porcja po 60 kaps. | D14: 10
A15: 11 | B15: Formoterolum proszek aerozol 0,012 mg | C15: porcja po 120 dawek | D15: 5
A16: 12 | B16: Hydroxyzinum draż. 10 mg | C16: porcja po 30 tabl. powl. | D16: 60
... A42: 38 | B42: Zolpidem tabl.10 mg | C42: op.20 tabl. powl. | D42: 80
B43: RAZEM
B45: Data | G45: Podpis osoby/osób upoważnionej
B46: ……………………………………………. | G46: ……………………………….
B52: złączyć hospicjum

Sheet Zadanie nr 13
A1: Załacznik nr 9 do SWZ
A2: ZOZ/DZP/PN/16/25
A3: Zadanie nr 13: Pulmonologia
A4: Lp. | B4: Nazwa produktu | C4: Jednostka miary | D4: Ilość | E4: Cena jednostkowa[zł] netto | F4: Wartość [zł] netto | G4: VAT | H4: Cena jednostkowa [zł] brutto | I4: Wartość [zł] brutto | J4: Producent/Nazwa handlowa | K4: EAN
A5: 1 | B5: 5 mikrogramów formoterolu fumaranu dwuwodnego, 9 mikrogramów glikopironiowego bromku, co odpowiada 7,2 mikrogramom glikopironium i 160 mikrogramów budezonidu. | C5: Op=120 dawek | D5: 5
A6: 2 | B6: Ciclenoside 160mcg aerozol inhalacyjny | C6: Op=120 dawek | D6: 5
A7: 3 | B7: Salmetrolum 500mcg+fluticasonu propionian 50mcg | C7: op.=60 dawek | D7: 5
A8: 4 | B8: roztwór do inhalacji; 2,5 µg + 2,5 µg (1 dawka dostarczana (1 inhalacja) zawiera: 2,5 µg tiotropium (w postaci bromku jednowodnego), 2,5 µg olodaterolu (w postaci chlorowodorku)); 30 dawek leczniczych [60 inhalacji] + inhalator Respimat | C8: op.= [60 inhalacji] + inhalator Respimat | D8: 5
A9: 5 | B9: Budesonidum + Formoteroli fumaras 160 mcg+4,5mcg aerozol inhalacyjny | C9: op.=120 dawek | D9: 5
B10: RAZEM
B12: Data | G12: Podpis osoby/osób upoważnionej
B13: ……………………………………………. | G13: ……………………………….

Sheet Zadanie nr 14
A1: Załacznik nr 9 do SWZ
A2: ZOZ/DZP/PN/16/25
A3: Zadanie nr 14 – Płyny infuzyjne 4
A4: Lp. | B4: Nazwa produktu | C4: Jednostka miary | D4: Ilość | E4: Cena jednostkowa[zł] netto | F4: Wartość [zł] netto | G4: VAT | H4: Cena jednostkowa [zł] brutto | I4: Wartość [zł] brutto | J4: Producent/Nazwa handlowa | K4: EAN
A5: 1 | B5: Aqua pro inj. | C5: szt. płyn 100 ml | D5: 3000
A6: 2 | B6: Aqua pro inj. | C6: szt. płyn 500 ml | D6: 3500
A7: 3 | B7: Glucosum inj. iv. (roztwór) 100 mg/ml | C7: szt. płyn 10% 100ml | D7: 500
A8: 4 | B8: Glucosum inj. iv. (roztwór) 50 mg/ml | C8: szt. płyn 5%. 100 ml | D8: 600
A9: 5 | B9: Glucosum | C9: szt. płyn 5% 250 ml | D9: 1350
A10: 6 | B10: Glucosum | C10: szt. płyn 5% 500 ml | D10: 8000
A11: 7 | B11: Solutio Ringeri | C11: szt. płyn 500 ml | D11: 3900
A12: 8 | B12: Solutio Ringeri | C12: szt. płyn 1000 ml | D12: 700
B13: RAZEM
B17: Data | E17: Podpis osoby/osób upoważnionej
B18: ……………………………………………. | E18: ……………………………….

Sheet Zadanie nr 15
A1: Załacznik nr 9 do SWZ
A2: ZOZ/DZP/PN/16/25
A3: Zadanie nr 15 - Omeprazol
A4: Lp. | B4: Nazwa produktu | C4: Jednostka miary | D4: Ilość | E4: Cena jednostkowa[zł] netto | F4: Wartość [zł] netto | G4: VAT | H4: Cena jednostkowa [zł] brutto | I4: Wartość [zł] brutto | J4: Producent/Nazwa handlowa | K4: EAN
A5: 1 | B5: Omeprazolum inj. (liofilizat) 40mg | C5: porcja po 1 fiol. | D5: 10000
B6: RAZEM
B8: Data …………………………………………. ………………………………………………...
H9: Podpis osoby/osób uprawnionej

Sheet Zadanie nr 16
A1: Załacznik nr 9 do SWZ
A2: ZOZ/DZP/PN/16/25
A3: Zadanie nr 16 – Antybiotyki różne
A4: Lp. | B4: Nazwa produktu | C4: Jednostka miary | D4: Ilość | E4: Cena jednostkowa[zł] netto | F4: Wartość [zł] netto | G4: VAT | H4: Cena jednostkowa [zł] brutto | I4: Wartość [zł] brutto | J4: Producent/Nazwa handlowa | K4: EAN
A5: 1 | B5: Amikacinum ophtalm.0,3% krople | C5: op.5 ml | D5: 3
A6: 2 | B6: Amoxicillinum tabl. 500 mg | C6: porcja po 16 tabl. rozpuszczalne | D6: 100
A7: 3 | B7: Amoxicillinum tabl. 1000 mg | C7: porcja po 20 tabl. rozpuszczalne | D7: 40
A8: 4 | B8: Amoxicillinum z inhibitorem beta-laktamazy inj. im./iv. (proszek do p. roztworu) 1200 mg | C8: 1 fiol | D8: 4000
A9: 5 | B9: Amoxicillinum z inhibitorem beta-laktamazy tabl. 500mg +125mg | C9: op.21 tabl. | D9: 20
A10: 6 | B10: Amoxicillinum z inhibitorem beta-laktamazy inj. im./iv. (proszek do p. Roztworu) 600 mg | C10: 1 fiol | D10: 900
A11: 7 | B11: Amoxicillinum z inhibitorem beta-laktamazy tabl. 875mg +125mg | C11: op. 14 szt. | D11: 400
A12: 8 | B12: Amoxicillinum z inhibitorem beta-laktamazy inj. im./iv. (proszek do p. roztworu) 2200 mg | C12: 1 fiol | D12: 1500
A13: 9 | B13: Ampicillinum inj. im./iv. (proszek do p. roztworu) 2000 mg z zapisem możliwości użycia okresie około porodowym | C13: porcja po 1 fiol. s.subst. | D13: 800
A14: 10 | B14: Ampicillinum inj. im./iv. (proszek do p. roztworu) 1000 mg z zapisem możliwości użycia okresie około porodowym | C14: porcja po 1 fiol. s.subst. | D14: 2000
A15: 11 | B15: Ampicillinum inj. im./iv. (proszek do p. roztworu) 500 mg z zapisem możliwości użycia okresie około porodowym | C15: porcja po 1 fiol. s.subst. | D15: 2000
A16: 12 | B16: Ampicillinum+Sulbactam, 2 g + 1g, proszek do sporządzania roztworu do wstrzykiwań i infuzji | C16: 1 fiol | D16: 100
... A78: 74 | B78: Tigecycline 50mg inj. | C78: porcja po 10 fiol. | D78: 20
B79: RAZEM
B83: Data | G83: Podpis osoby/osób upoważnionej
B84: ……………………………………………. | G84: ……………………………….

Sheet Zadanie nr 17
A1: Załacznik nr 9 do SWZ
A2: ZOZ/DZP/PN/16/25
A3: Zadanie nr 17 – Antybiotyki 5
A4: Lp. | B4: Nazwa produktu | C4: Jednostka miary | D4: Ilość | E4: Cena jednostkowa[zł] netto | F4: Wartość [zł] netto | G4: VAT | H4: Cena jednostkowa [zł] brutto | I4: Wartość [zł] brutto | J4: Producent/Nazwa handlowa | K4: EAN
A5: 1 | B5: Amikacinum inj.1000 mg / 4 ml | C5: porcja po 4ml | D5: 900
A6: 2 | B6: Amikacinum inj. im./iv. (roztwór) 250 mg/2 ml | C6: porcja po 2 ml | D6: 500
A7: 3 | B7: Amikacinum inj. im./iv. (roztwór) 500 mg/2 ml | C7: porcja po 2 ml | D7: 800
A8: 4 | B8: Cefazolinum inj. im./iv. (proszek do p. roztworu) 1000 mg | C8: porcja po 1 fiol. | D8: 9000
A9: 5 | B9: Ceftazidimum inj i.v. 1000 mg jednego producenta obszarze substancji | C9: porcja po 1 fiol. | D9: 800
A10: 6 | B10: Ceftazidimum inj i.v. 2000 mg jednego producenta obszarze substancji | C10: porcja po 1 fiol. | D10: 800
A11: 7 | B11: Cefotaximum inj. im./iv. 1000 mg | C11: porcja po 1 fiol. | D11: 600
A12: 8 | B12: Cefuroxym inj. I.m./i.v 750 mg | C12: 1 fiolka | D12: 500
A13: 9 | B13: Cefuroxym inj. I.m./i.v 1500 mg | C13: 1 fiolka | D13: 8000
A14: 10 | B14: Ceftriaxon 1g | C14: porcja po 1 fiolka | D14: 2000
A15: 11 | B15: Ceftriaxon 2g | C15: porcja po 1 fiolka | D15: 4000
A16: 12 | B16: Ciprofloxacinum tabl. powl. 500 mg | C16: porcja po 10 tabl. | D16: 150
... A19: 15 | B19: Metronidazolum inj. iv. (roztwór) 5 mg/ml | C19: porcja po 1 fl. 100 ml x 40 poj | D19: 200
B20: RAZEM
B25: Data | G25: Podpis osoby/osób upoważnionej
B26: ……………………………………………. | G26: ……………………………….

Sheet Zadanie nr 18
A1: Załacznik nr 9 do SWZ
A2: ZOZ/DZP/PN/16/25
A3: Zadanie nr 18 - Żel do cewnikowania
A4: Lp. | B4: Nazwa produktu | C4: Jednostka miary | D4: Ilość | E4: Cena jednostkowa[zł] netto | F4: Wartość [zł] netto | G4: VAT | H4: Cena jednostkowa [zł] brutto | I4: Wartość [zł] brutto | J4: Producent/Nazwa handlowa | K4: EAN
A5: 1 | B5: Lidocainum żel znieczulający do cewnikowania 5 ml lub 6ml sterylny do stosowania przy intubacji z chlorheksydyną | C5: porcja po1 szt. | D5: 4500
A6: 2 | B6: Lidocainum żel znieczulający do cewnikowania 5 ml lub 6ml sterylny do stosowania przy intubacji bez zawartości chlorheksydyny | C6: porcja po 1 szt. | D6: 200
B7: RAZEM
B9: Wymagana ulotka potwierdzająca zastosowanie
B11: Data | G11: Podpis osoby/osób upoważnionej
B12: ……………………………………………. | G12: ……………………………….

Sheet Zadanie nr 19
A1: Załacznik nr 9 do SWZ
A2: ZOZ/DZP/PN/16/25
A3: Zadanie nr 19 – Płyny do rozpuszczania leków.
A4: Lp. | B4: Nazwa produktu | C4: Jednostka miary | D4: Ilość | E4: Cena jednostkowa[zł] netto | F4: Wartość [zł] netto | G4: VAT | H4: Cena jednostkowa [zł] brutto | I4: Wartość [zł] brutto | J4: Producent/Nazwa handlowa | K4: EAN
A5: 1 | B5: Aqua rozpuszczalnik do iniekcji | C5: porcja po 100 poj. 10 ml | D5: 200
A6: 2 | B6: Natrii chloridum inj. iv. 100 mg/ml amp. pl. 10ml | C6: porcja po 1 op. 100szt | D6: 25
A7: 3 | B7: Natrii chloridum inj. (roztwór) 9 mg/ml | C7: porcja po 50 poj. 10 ml | D7: 800
B8: RAZEM
B11: Data …………………………………………. ………………………………………………...
H12: Podpis osoby/osób uprawnionej

Sheet Zadanie nr 20
A1: Załacznik nr 9 do SWZ
A2: ZOZ/DZP/PN/16/25
A3: Zadanie nr 20 - Preparaty do żywienia pozajelitowego
A4: Lp. | B4: Nazwa produktu | C4: Jednostka miary | D4: Ilość | E4: Cena jednostkowa[zł] netto | F4: Wartość [zł] netto | G4: VAT | H4: Cena jednostkowa [zł] brutto | I4: Wartość [zł] brutto | J4: Producent/Nazwa handlowa | K4: EAN
A5: 1 | B5: Worek trzykomorowy zawierający aminokwasy 40g, emulsje tłuszczowe MCT/LCT oraz glukozę ( nie więcej niż 80 g) do stosowania drogą żył obwodowych | C5: porcja po 1250ml | D5: 200
A6: 2 | B6: Worek trzykomorowy zawierający aminokwasy 60g, emulsje tłuszczowe MCT/LCT oraz glukozę ( nie więcej niż 120 g) do stosowania drogą żył obwodowych | C6: porcja po 1875ml | D6: 400
A7: 3 | B7: Worek trzykomorowy zawierający aminokwasy 48-50g azot (min. 6,8g), tłuszcze MCT/LCT, elektrolity i węglowodany do 150g). Droga podania – żyły centralne | C7: porcja po 1250ml, 1 worek | D7: 20
A8: 4 | B8: Worek trzykomorowy zawierający aminokwasy 68-72g azot (min. 10,2 g), tłuszcze MCT/LCT, elektrolity i węglowodany do 225 g). Droga podania – żyły centralne | C8: porcja po 1875ml, 1worek | D8: 20
A9: 5 | B9: Worek trzykomorowy aminokwasy: min. 35g, węglowodany: min 90g, elektrolity oraz trriglicerydy kwasów omega-3 Droga podania – żyły centralne. | C9: porcja po 625ml, 1worek | D9: 20
A10: 6 | B10: Worek trzykomorowy aminokwasy: min. 70g, węglowodany: min 180g, elektrolity oraz trriglicerydy kwasów omega-3 Droga podania – żyły centralne. | C10: porcja po 1250ml, 1 worek | D10: 20
A11: 7 | B11: Worek trzykomorowy aminokwasy: min. 105g, węglowodany: min 270g, elektrolity oraz triglicerydy kwasów omega-3 Droga podania – żyły centralne. | C11: porcja po 1875ml, 1worek | D11: 20
A12: 8 | B12: Worek trzykomorowy aminokwasy: min. 70g, węglowodany: min 180g, bez elektrolitów oraz triglicerydy kwasów omega-3 Droga podania – żyły centralne. | C12: porcja po 1250ml, 1worek | D12: 20
A13: 9 | B13: Worek trzykomorowy aminokwasy: min. 105g, węglowodany: min 270g, bez elektrolitów oraz triglicerydy kwasów omega-3 Droga podania – żyły centralne. | C13: porcja po 1875ml, 1worek | D13: 20
A14: 10 | B14: Worek trzykomorowy aminokwasy: min. 35g, węglowodany: min 90g, bez elektrolitów oraz triglicerydy kwasów omega-3 Droga podania – żyły centralne. | C14: porcja po 625ml, 1worek | D14: 20
A15: 11 | B15: Worek 3-komorowy do żywienia pozajelitowego. Emulsja do infuzji drogą żył obwodowych. Zawiera roztwór aminokwasów (40 g) z elektrolitami, glukozę (80 g), emulsję tłuszczową zawierającą olej sojowy LCT (20 g) , triglicerydy średniołańcuchowe MCT (25 g) oraz triglicerydy kwasów Omega-3 (5 g). Osmolarność 840 mOsm/l. Pojemność 1250 ml | C15: porcja po 1250ml, 1worek | D15: 20
A16: 12 | B16: Worek 3-komorowy do żywienia pozajelitowego. Emulsja do infuzji drogą żył obwodowych. Zawiera roztwór aminokwasów (60 g) z elektrolitami, glukozę (120 g), emulsję tłuszczową zawierającą olej sojowy LCT (30 g) , triglicerydy średniołańcuchowe MCT (37,5 g) oraz triglicerydy kwasów Omega-3 (7,5 g). Osmolarność 840 mOsm/l. Pojemność 1875 ml | C16: porcja po 1875ml, 1worek | D16: 20
... A18: 14 | B18: Preparat złożnony z 13 witamin 932 mg | C18: porcja po 10 fiol. | D18: 20
B19: RAZEM
B22: Data …………………………………………. ………………………………………………...
H23: Podpis osoby/osób uprawnionej

Sheet Zadanie nr 21
A1: Załacznik nr 9 do SWZ
A2: ZOZ/DZP/PN/16/25
A3: Zadanie nr 21 - Preparaty do żywienia dojelitowego
A4: Lp. | B4: Nazwa produktu | C4: Jednostka miary | D4: Ilość | E4: Cena jednostkowa[zł] netto | F4: Wartość [zł] netto | G4: VAT | H4: Cena jednostkowa [zł] brutto | I4: Wartość [zł] brutto | J4: Producent/Nazwa handlowa | K4: EAN
A5: 1 | B5: Preparat do żywienia doustnego dla diabetyków posiadający w składzie: wartość energetyczna 438 kJ/ 104 kcal; · tłuszcz 3,8 g, w tym kwasy nasycone 0,5 g, węglowodany 11,5 g, w tym cukry 8,4 g, w tym laktoza 3,6 g. | C5: Op=4 x 200 ml | D5: 100
A6: 2 | B6: Dieta wysokobiałkowa 14,6g/100ml hiperkaloryczna (2,45 kcal/ml) oparta na białku kazeinowym i serwatkowym. % energii z: białka-24%, węglowodanów-41%, tłuszczów-35%. Dieta bezglutenowa, bezresztkowa. Opakowanie typu butelka 125 ml. Smaki:truskawka, wanilia, owoce leśne, czekolada, neutralny, owoce tropikalne-imbir, smak czerwonych owoców, mokka. | C6: Op =4x125ml | D6: 230
A7: 3 | B7: Dieta kompletna pod względem odżywczym, hiperkaloryczna (2,4 kcal/ml) oparty na białku kazeinowym i serwatkowym, w minimalnym składzie Zawartość białka nie mniejsza niż 9,6g/100 ml.% energii z: białka-16%, węglowodanów-49%, tłuszczów-35%. Dieta bezglutenowa, bezresztkowa. Opakowanie typu butelka 125 ml. Smaki:truskawka, wanilia, owoce leśne, czekolada, neutralny | C7: Op =4x125ml | D7: 200
A8: 4 | B8: Dieta w płynie dla pacjentów z chorobą nowotworową zawirająca składnik immunomodulujący ( kwasy tłuszczowe Omega-3: EPA 880mg/100ml, DHA 585mg/100ml) oraz witamine D 7,85mcg/100ml, hipekaloryczna 2,45kcal/ml, zawartośc białka min 14,6 g/100ml, bezresztkowa, bezglutenowa, osmolarność: 570mOsmol/l. Butelka 125ml, Smaki Truskawkowo-malinowy, mango-brzoskwinia. | C8: Op =4x125ml | D8: 50
A9: 5 | B9: Dieta kompletna,hiperkaloryczna ( 2,4 kcal/ml) w minimalnym składzie o zawartości białka 9,5g/100ml, dieta do podaży doustnej o smaku waniliowym i truskawkowym, dieta bogatoresztkowa - zawartość błonnika 3,6 g/100 ml, bezglutenowa w opakowaniu 4x125 ml, o osmolarności 790 mOsmol/l. | C9: Op =4x125ml | D9: 50
A10: 6 | B10: Dieta wspomagająca proces gojenia odleżyn i ran przewlekłych, bezresztkowa, hiperkaloryczna (1,24 kcal/ml), bezglutenowa. Dieta zawiera argininę oraz inne składniki odżywcze, w odpowiednich proporcjach, które wspomagają i przyspieszają gojenie ran - zwiększona zawartość przeciwutleniaczy (wit C i E, karotenoidów, cynku). W minimalnym składzie: Dieta wysokobiałkowa - zawartość białka 8,8 g /100ml, o niskiej zawartości tłuszczu - 3,5g / 100ml, węglowodany 14,5 g/100ml, 28 % energii z białka, 46 % energii z węglowodanów, 26 % energii z tłuszczy, o osmolarności min. 500 mOsmol/l opakowanie 4 x 200 ml, w trzech smakach: truskawkowy, czekoladowy, waniliowy. | C10: Op =4x200ml | D10: 90
A11: 7 | B11: Dieta beztłuszczowa,hiperkaloryczna ( 1,5 kcal/ml), oparta na białku serwatkowym, źródłem węglowodanów są wolno wchłaniane maltodekstryny i sacharoza, niska zawartość sodu i fosforanów,bezresztkowa, bezglutenowa,klinicznie wolna od laktozy, w minimalnym składzie zawartośc białka 4g/100ml,węglowodany 33,5 g/100ml, 11% energii z białka, o osmolarności 750 mOsmol/l, opakowanie 4x200 ml, w dwóch smakach: truskawkowy, jabłkowy; | C11: Op =4x200ml | D11: 10
A12: 8 | B12: Dieta bezresztkowa, normokaloryczna (1-1,1 kcal/ml), zawartość: białka 4-4,5g/100ml( min. 16% En, źródło: białka serwatkowe, kazeiny, białka soi i grochu); węglowodanów 12-13g/ 100ml (maksymalnie 50% En; w tym minimum 90% węglowodany złożone), tłuszczów 3,5g-4g/ 100ml (min. 34% En); zawartość DHA+EPA nie mniej niż 30 mg/100 ml, dieta zawierająca 6 naturalnych karotenoidów (min. 0,20 mg/100ml), klinicznie wolna od laktozy (<0,025g/100ml), o osmolarności do 280 mOsmol/l. | C12: 500ml | D12: 40
A13: 9 | B13: Dieta bezresztkowa, normokaloryczna (1-1,1 kcal/ml), zawartość: białka 4-4,5g/100ml( min. 16% En, źródło: białka serwatkowe, kazeiny, białka soi i grochu); węglowodanów 12-13g/ 100ml (maksymalnie 50% En; w tym minimum 90% węglowodany złożone), tłuszczów 3,5g-4g/ 100ml (min. 34% En); zawartość DHA+EPA nie mniej niż 30 mg/100 ml, dieta zawierająca 6 naturalnych karotenoidów (min. 0,20 mg/100ml), klinicznie wolna od laktozy (<0,025g/100ml), o osmolarności do 280 mOsmol/l. | C13: 1000ml | D13: 40
A14: 10 | B14: Dieta bezresztkowa hiperkaloryczna (1,5 kcal/ml), zawartość: białka 6-7g/100 ml (min. 16% En; źródło: białka serwatkowe, kazeiny, białka soi i grochu), węglowodanów 18,5-19g/ 100ml (maksymalnie 50% En, w tym ponad 90% węglowodanów złożonych), tłuszczów 5,5-6g/ 100ml (min. 35% En); zawartość DHA+EPA nie mniej niż 30mg/100 ml, dieta zawierająca 6 naturalnych karotenoidów (min. 0,30mg/ 100ml), klinicznie wolna od laktozy (<0,025g/ 100ml), o osmolarności do 400 mOsmol/l | C14: 1000ml | D14: 400
A15: 11 | B15: Dieta bogatoresztkowa z zawartością min. 6 rodzajów błonnika (min. 1,5 g/100ml), normokaloryczna (1-1,1 kcal/ml), zawartość : białka 4-4,5g/100 ml (min. 15,5% En; źródło: białka serwatkowe, kazeiny, białka soi i grochu), węglowodanów 12-13g/ 100ml (maksymalnie 50% En, minimum 90% to węglowodany złożone), tłuszczów 3,5-4g/ 100ml (min. 34% En); zawartość DHA+EPA nie mniej niż 30 mg/100 ml, dieta zawierająca 6 naturalnych karotenoidów (min. 0,20 mg/100ml), klinicznie wolna od laktozy (0,025 g/100lm), zawartość błonnika min. 3%, o osmolarności do 280 mOsmol/l. | C15: 1000ml | D15: 300
A16: 12 | B16: Dieta kompletna w minimalnym składzie pod względem odżywczym , wysokobiałkowa, 6,3 g białka/100ml , w oparciu o białko kazeinowe, z glutaminą 1,28 g/100ml, hiperkaloryczna ( 1,25 kcal/ml), bezresztkowa, klinicznie wolna od laktozy, % energii z : białka - 20%, węglowodanów- 45%, tłuszczu- 35%, o osmolarności 275 mOsmol/l, w opakowaniu o pojemności 1000ml | C16: 1000ml | D16: 1000
... A37: 33 | B37: Łącznik do pega do strzykawki enlock/Funnel tube | C37: 6x5szt. | D37: 50
B38: RAZEM
B40: Zamawiający dopuszcza dietetyczne środki spożywcze
B41: Data przydatności nie mniejsza nić 6 miesięcy.
B43: Data …………………………………………. ………………………………………………...
H44: Podpis osoby/osób uprawnionej

Sheet Zadanie nr 22.
A1: Załacznik nr 9 do SWZ
A2: ZOZ/DZP/PN/16/25
A3: Zadanie nr 22 - Butelki do receptury
A4: Lp. | B4: Nazwa produktu | C4: Jednostka miary | D4: Ilość | E4: Cena jednostkowa[zł] netto | F4: Wartość [zł] netto | G4: VAT | H4: Cena jednostkowa [zł] brutto | I4: Wartość [zł] brutto | J4: Producent/Nazwa handlowa/Numer katalogowy
A5: 1 | B5: Butelka 30 ml z nakrętką i ktoplomierzem sterylna | C5: szt. | D5: 300
A6: 2 | B6: Butelka 125 ml z korkiem sterylna | C6: szt. | D6: 150
A7: 3 | B7: Etykiety „Trucizna” | C7: Op=100 szt | D7: 1
A8: 4 | B8: Etykieta „zmieszać przed użyciem” | C8: Op=100 szt | D8: 1
A9: 5 | B9: Etykiety na krople oczne pomarańczowe samoprzylepne. | C9: Op=100 szt | D9: 5
A10: 6 | B10: Etykiety pomarańczowe samoprzylepne | C10: Op=100 szt | D10: 20
A11: 7 | B11: Podkładki pergaminowe śr. 100 mm | C11: Op=500 szt | D11: 15
A12: 8 | B12: Pudełko na maść zakręcane | C12: porcja po 1szt z gwintem o poj 100g lub 125ml | D12: 1500
A13: 9 | B13: Torebki rec białe 50g nr 7(100x150) | C13: Op=100 szt | D13: 3
A14: 10 | B14: Torebki rec białe 75g nr 9(120x170) | C14: Op=100 szt | D14: 3
A15: 11 | B15: Torebki rec pomar 50g nr 7(100x150) | C15: Op=100 szt | D15: 3
A16: 12 | B16: Torebki rec pomar 75g nr 9(120x170) | C16: Op=100 szt | D16: 3
B17: Razem
B20: Data | H20: Podpis osoby/osób upoważnionej
B21: ……………………………………………. | H21: …………………… | I21: ……………………………….

Sheet Zadanie nr 23
A1: Załacznik nr 9 do SWZ
A2: ZOZ/DZP/PN/16/25
A3: Zadanie nr 23 Fidaxomycinum
A4: Lp. | B4: Nazwa produktu | C4: Jednostka miary | D4: Ilość | E4: Cena jednostkowa[zł] netto | F4: Wartość [zł] netto | G4: VAT | H4: Cena jednostkowa [zł] brutto | I4: Wartość [zł] brutto | J4: Producent/Nazwa handlowa | K4: EAN
A5: 1 | B5: Fidaxomycinum 200mg | C5: porcja po 20 tabl. | D5: 4
B6: RAZEM
B9: Data …………………………………………. ………………………………………………...
H10: Podpis osoby/osób uprawnionej

Sheet Zadanie nr 24
A1: Załacznik nr 9 do SWZ
A2: ZOZ/DZP/PN/16/25
A3: Zadanie nr 24 - Żywienie pozajelitowe 2
A4: Lp. | B4: Nazwa produktu | C4: Jednostka miary | D4: Ilość | E4: Cena jednostkowa[zł] netto | F4: Wartość [zł] netto | G4: VAT | H4: Cena jednostkowa [zł] brutto | I4: Wartość [zł] brutto | J4: Producent/Nazwa handlowa | K4: EAN
A5: 1 | B5: Worek trzykomorowy do żywienia pozajelitowego drogą żył centralnych zawierający roztwór aminokwasów, 20% emulsję tłuszczową LTC, 80% oliwy z oliwek, węglowodany i elektrolity. Zawartość azotu 9 g ,energia 1070, osmolarność 1310 mOsm/l w pojemności 1000ml typu Olimel N9 E | C5: szt. | D5: 100
A6: 2 | B6: Worek trzykomorowy do żywienia pozajelitowego drogą żył centralnych zawierający roztwór aminokwasów, 20% emulsję tłuszczową LTC, 80% oliwy z oliwek, węglowodany bez zawartości elektrolitów Zawartość azotu 13,5g ,energia 1600, osmolarność 1170 mOsm/l w pojemności 1500ml typu Olimel N9 | C6: szt. | D6: 150
A7: 3 | B7: Worek trzykomorowy do żywienia pozajelitowego drogą żył centralnych zawierający roztwór aminokwasów, 20% emulsję tłuszczową LTC, 80% oliwy z oliwek, węglowodany i elektrolity. Zawartość azotu 13.5 g ,energia 1600, osmolarność 1310 mOsm/l w pojemności 1500ml typu Olimel N9 E | C7: szt. | D7: 100
A8: 4 | B8: Worek trzykomorowy do żywienia pozajelitowego drogą żył centralnych zawierający roztwór aminokwasów: 14,2%, emulsję tłuszczową 17,5%, oczyszczony olej z oliwek+oczyszczony olej sojowy 22,75 g, węglowodany 27,5% i elektrolity. 650ml typu Olimel N12 E | C8: szt. | D8: 200
A9: 5 | B9: Worek trzykomorowy do żywienia pozajelitowego drogą żył centralnych zawierający roztwór aminokwasów: 14,2%, emulsję tłuszczową 17,5%, oczyszczony olej z oliwek+ oczyszczony olej sojowy 35,00 g, węglowodany 27,5% i elektrolity. 1000 ml typu Olimel N12 E | C9: szt. | D9: 30
A10: 6 | B10: Worek trzykomorowy do żywienia pozajelitowego drogą żył centralnych zawierający roztwór aminokwasów: 14,2%, emulsję tłuszczową 17,5%, oczyszczony olej z oliwek+oczyszczony olej sojowy 52,50 g, węglowodany 27,5% i elektrolity. 1500 ml typu Olimel N12 E | C10: szt. | D10: 200
A11: 7 | B11: Witaminy rozpuszczalne w tłuszczach i w wodzie zestaw 12 witamin typu Cernevit – lifilizat | C11: op=10amp | D11: 90
A12: 8 | B12: Koncentrat pierwiastków śladowych do żywienia pozajelitowego w postaci soli organicznych o składzie molowym (µmol / 10 ml) Zn 153; Cu 4,7; Mn 1,0; F 50; I 1,0; Se 0,9; Mo 0,21; Cr 0,19; Fe 18, 10ml roztworu w ampułce. | C12: op=10amp | D12: 90
A13: 9 | B13: Preparat złożony: glukoza, sodu chlorek, sodu octan trójwodny, potasu chlorek, magnezu chlorek sześciowodny | C13: op.=10 worków po 1000 ml | D13: 30
B14: Razem
B16: Data | G16: Podpis osoby/osób upoważnionej
B17: ……………………………………………. | G17: ……………………………….

Sheet Zadanie nr 25
A1: Załacznik nr 9 do SWZ
A2: ZOZ/DZP/PN/16/25
A3: Zadanie nr 25 – Leki OAIiT
A4: Lp. | B4: Nazwa produktu | C4: Jednostka miary | D4: Ilość | E4: Cena jednostkowa[zł] netto | F4: Wartość [zł] netto | G4: VAT | H4: Cena jednostkowa [zł] brutto | I4: Wartość [zł] brutto | J4: Producent/Nazwa handlowa | K4: EAN
A5: 1 | B5: Anidulafungina proszek do sporządzania koncentratu roztworu do infuzji; 100 mg; 1 fiol. | C5: 1 fiol | D5: 3
A6: 2 | B6: Alteplaza, proszek i rozpuszczalnik do sporządzania roztworu do wlewu; 50 mg; 1 flak. + rozp. 50 ml | C6: Op=1 fiol+ rozp 50ml | D6: 12
A7: 3 | B7: Aprepitant 125+80+80mg | C7: Op= 3 kaps | D7: 3
A8: 4 | B8: Argipressinum 40j.m. inj. | C8: op=5amp | D8: 50
A9: 5 | B9: Koncentrat do sporządzania roztworu do infuzji; 1 ml zawiera: 170,1 mg diwodorofosforanu potasowego, 133,5 mg diwodnego wodorofosforanu sodowego, 14 mg wodorotlenku potasu, co odpowiada 1,5 mmol (59 mg) jonów potasu, 1,5 mmol (34 mg) jonów sodu i 2 mmol (62 mg) fosforanów; 10 fiol. 20 ml | C9: op=20fiol. Vel amp | D9: 5
A10: 6 | B10: Preparat z ogranicznym fosforanem 4,32 g/20 ml | C10: Op=10 fiol po 20ml | D10: 5
A11: 7 | B11: Caspofunginum 50mg inj. Poz 7-8 muszą pochodzć od jednego producenta | C11: 1 fiol | D11: 60
A12: 8 | B12: Caspofunginum 70mg inj. Poz 7-8 muszą pochodzć od jednego producenta | C12: 1 fiol | D12: 60
A13: 9 | B13: Clatribine 10mg/10ml fiol | C13: porcja po 1 fiol. | D13: 5
A14: 10 | B14: Cytarabina 1g/20ml fiol | C14: porcja po 1 fiol | D14: 5
A15: 11 | B15: deksmedetomidyna 0,2mg/2ml | C15: porcja po 25 amp. | D15: 70
A16: 12 | B16: deksmedetomidyna 0,4mg/4ml | C16: porcja po 4 fiol. | D16: 30
... A55: 51 | B55: Woryconazolum 200mg tabl | C55: porcja po 20 tabl | D55: 1
B56: Razem
B59: Data | G59: Podpis osoby/osób upoważnionej
B60: ……………………………………………. | G60: ……………………………….

Sheet Zadanie nr 26.
A1: Załacznik nr 9 do SWZ
A2: ZOZ/DZP/PN/16/25
B3: Zadanie nr 26 – Terapia nerkozastępcza do aparatu OMNI
A4: Lp. | B4: Nazwa produktu | C4: Jednostka miary | D4: Ilość | E4: Cena jednostkowa[zł] netto | F4: Wartość [zł] netto | G4: VAT | H4: Cena jednostkowa [zł] brutto | I4: Wartość [zł] brutto | J4: Producent/Nazwa handlowa | K4: EAN
A5: 1 | B5: Płyn dializacyjny do terapii nerkozastępczej bez zawartości wapnia i zawartością fosforanów 1,25 mmol/l oraz z zawartością potasu 2 lub 4 mmol/l (zamiennie według potrzeb zamawiającego). Worek 5 l. Kompatybilne z aparatem OMNI | C5: szt. | D5: 400
A6: 2 | B6: Płyn do antykoagulacji z zawartością cytrynianu 4%. Worek 2000 ml. | C6: szt. | D6: 150
A7: 3 | B7: Zestaw drenów z filtrem o punkcie odcięcia 37 kDa i rejestracji na 96 godzin do cytrynianowej i heparynowej terapii CVVHD lub/i CVVHDF | C7: szt. | D7: 15
A8: 4 | B8: Płyn substytucyjny do terapii nerkozastępczej z zawartością wapnia 1,5 mmol/l , bez zawartości potasu lub z zawartością potasu 4 mmol/l ,bez zawartości mleczanów . Worek 5 L ( bez zawartości Potasu) (z zawartością Potasu 2mmol/l) lub (z zawartością Potasu 4mmol/l) do wyboru zamawiajacego przy zakupie | C8: szt. | D8: 150
A9: 5 | B9: Worki na filtrat z zaworem spustowym umożliwiającym drenaż bez zdejmowania worka z urządzenia. Pojemność 7 litrów. | C9: szt. | D9: 20
B10: RAZEM
B13: Data | H13: Podpis osoby/osób upoważnionej
B14: ……………………………………………. | H14: …………………… | I14: ……………………………….

Sheet Zadanie nr 27
A1: Załacznik nr 9 do SWZ
A2: ZOZ/DZP/PN/16/25
A3: Zadanie nr 27 - Propofolum
A4: Lp. | B4: Nazwa produktu | C4: Jednostka miary | D4: Ilość | E4: Cena jednostkowa[zł] netto | F4: Wartość [zł] netto | G4: VAT | H4: Cena jednostkowa [zł] brutto | I4: Wartość [zł] brutto | J4: Producent/Nazwa handlowa | K4: EAN
A5: 1 | B5: Propofolum inj. 10mg/1ml – 20ml fiolki | C5: porcja po 5 fiol. 20 ml | D5: 2400
A6: 2 | B6: Propofolum inj. 5mg/ml, 20ml fiol emulsja | C6: porcja po 5 amp. 20 ml | D6: 150
A7: 3 | B7: Propofol 2% fiol 50ml | C7: porcja po 1/fiol | D7: 150
B8: RAZEM
B11: Data …………………………………………. ………………………………………………...
H12: Podpis osoby/osób uprawnionej

Sheet Zadanie nr 28
A1: Załacznik nr 9 do SWZ
A2: ZOZ/DZP/PN/16/25
A3: Zadanie nr 28 – Leki Hospicjum
A4: Lp. | B4: Nazwa produktu | C4: Jednostka miary | D4: Ilość | E4: Cena jednostkowa[zł] netto | F4: Wartość [zł] netto | G4: VAT | H4: Cena jednostkowa [zł] brutto | I4: Wartość [zł] brutto | J4: Producent/Nazwa handlowa | K4: EAN
A5: 1 | B5: Ac. ascorbicum, Hesperidinum, Ruscus aculeatus (Cyclo 3 fort) lub równoważne | C5: porcja po 30 kaps.tw. | D5: 100
A6: 2 | B6: Acidum ibandronicum 3mg/3ml ampułkostrzykawka + igła | C6: 1 ampułko-strzykawka | D6: 20
A7: 3 | B7: Acidum Hyaluronicum 5mg | C7: porcja po 10 globulek | D7: 10
A8: 4 | B8: Bupropion 150mg | C8: porcja po 30 tabl.o zmod. Uwalnianiu | D8: 2
A9: 5 | B9: Natrii Valproas+Acidum Valpronicum 300 mg | C9: porcja po 30 tabl. | D9: 80
A10: 6 | B10: Natrii Valproas 288,2mg/5ml | C10: porcja po 150ml | D10: 50
A11: 7 | B11: Natrii Valproas+Acidum Valproicum 500mg | C11: porcja po 30 tabl.przedł. uw. | D11: 35
A12: 8 | B12: Natrii Valproas inj 400mg/4ml | C12: op=1fiol. | D12: 100
A13: 9 | B13: Natrii Valproas 750mg saszetki 30 szt. | C13: op=30sasz. | D13: 30
A14: 10 | B14: Alfuzosinum 10mg | C14: porcja po 30 szt. | D14: 10
A15: 11 | B15: Amitryptilina 25mg | C15: 60 tabl. powl. | D15: 3
A16: 12 | B16: Amitriptilina 10mg | C16: 60 tabl. powl. | D16: 3
... A72: 68 | B72: Ziprazidonum 80mg | C72: porcja po 56 kaps.tw. | D72: 1
B73: RAZEM
B76: Data | H76: Podpis osoby/osób upoważnionej
B77: ……………………………………………. | H77: ………………………………… | I77: ………………………………. | J77: ………………

Sheet zadanie nr 29
A1: Załacznik nr 9 do SWZ
A2: ZOZ/DZP/PN/16/25
A3: Zadanie nr 29 - Leki przeciwbólowe
A4: Lp. | B4: Nazwa produktu | C4: Jednostka miary | D4: Ilość | E4: Cena jednostkowa[zł] netto | F4: Wartość [zł] netto | G4: VAT | H4: Cena jednostkowa [zł] brutto | I4: Wartość [zł] brutto | J4: Producent/Nazwa handlowa | K4: EAN
A5: 1 | B5: Bupremorfina 35 mcg/h plastry | C5: Porcja po 5 plastrów | D5: 120
A6: 2 | B6: Bupremorfina plastry 52,5mcg/h | C6: Op=5 plastrów | D6: 80
A7: 3 | B7: Bupremorfina plastry 70mcg/h | C7: Op=5 plastrów | D7: 45
A8: 4 | B8: Diclofenacum + Misoprostolum tabl. powl. | C8: porcja po 20 tabl. | D8: 25
A9: 5 | B9: Diclofenacum czopki 100 mg | C9: porcja po 1 op. 10 szt. | D9: 230
A10: 6 | B10: Diclofenacum czopki 50 mg | C10: porcja po 1 op. 10 szt. | D10: 60
A11: 7 | B11: Diclofenacum inj. (roztwór) 75 mg/3 ml | C11: porcja po 5 amp. 3 ml | D11: 40
A12: 8 | B12: Diclofenacum tabl. dojelitowe 50 mg | C12: porcja po 30 tabl. | D12: 75
A13: 9 | B13: Diclofenacum maść vel żel | C13: Porcja po 100g | D13: 40
A14: 10 | B14: Dexketoprofen 0,05 g/2 ml | C14: op=5amp | D14: 50
A15: 11 | B15: Dexketoprofenum 25mg | C15: porcja po 10 tabl.powl. | D15: 10
A16: 12 | B16: Fentanyl plastry 0012mg/h | C16: Porcja po 5 plastrów | D16: 10
... A84: 80 | B84: Zofenopryl 30mg | C84: porcja po 28tabl.powl. | D84: 5
B85: RAZEM
B88: Data | H88: Podpis osoby/osób upoważnionej
B89: ……………………………………………. | H89: …………………… | I89: ……………………………….

Sheet Zadanie nr 30.
A1: Załacznik nr 9 do SWZ
A2: ZOZ/DZP/PN/16/25
A3: Zadanie nr – 30 Smoczki i butelki
A4: Lp. | B4: Nazwa produktu | C4: Jednostka miary | D4: Ilość | E4: Cena jednostkowa[zł] netto | F4: Wartość [zł] netto | G4: VAT | H4: Cena jednostkowa [zł] brutto | I4: Wartość [zł] brutto | J4: Producent/Nazwa handlowa/Numer katalogowy
A5: 1 | B5: Smoczek z elastomeru dla niemowląt 0-3 miesiące do butelek typu bebiko RTF 1 płyn, sterylne, pakowane pojedyńczo. | C5: op=180szt | D5: 30
A6: 2 | B6: Smoczek z elastomeru dla wcześniaków do butelek typu bebiko RTF 1 płyn, sterylne, pakowane pojedyńczo. | C6: op=180szt | D6: 10
A7: 3 | B7: Smoczek stosowany przy rozszczepie podniebienia. | C7: 1 szt. | D7: 50
A8: 4 | B8: Butelka jednorazowa gotowa do użytku dla niemowląt z nakrętką. | C8: 1 szt. po 50ml lub 80ml | D8: 400
A9: 5 | B9: Butelka jednorazowa gotowa do użytku dla niemowląt z nakrętką. | C9: 1 szt po 230ml | D9: 300
B10: Razem
B13: Data | H13: Podpis osoby/osób upoważnionej
B14: ……………………………………………. | H14: ………………….. | I14: ……………………………….

Sheet Zadanie nr 31
A1: Załacznik nr 9 do SWZ
A2: ZOZ/DZP/PN/16/25
B3: Zadanie nr 31 - Kontrasty jodowe
A4: Lp. | B4: Nazwa produktu | C4: Jednostka miary | D4: Ilość | E4: Cena jednostkowa[zł] netto | F4: Wartość [zł] netto | G4: VAT | H4: Cena jednostkowa [zł] brutto | I4: Wartość [zł] brutto | J4: Producent/Nazwa handlowa | K4: EAN
A5: 1 | B5: Iohexolum 300 mg I / ml i.v. | C5: Porcja po 6 x 20ml | D5: 20
A6: 2 | B6: Iohexolum 300 mg I / ml i.v. | C6: porcja po 10 x 50 ml | D6: 10
A7: 3 | B7: Iohexolum 350 mg I / ml i.v. | C7: porcja po 10 x 50ml | D7: 60
A8: 4 | B8: Iohexolum 350 mg I / ml i.v. | C8: porcja po 10 x 200ml | D8: 90
B9: RAZEM
B12: Data | H12: Podpis osoby/osób upoważnionej
B13: ……………………………………………. | H13: …………………… | I13: ……………………………….

Sheet Zadanie nr 32
A1: Załacznik nr 9 do SWZ
A2: ZOZ/DZP/PN/16/25
B3: Zadanie nr 32 – Immunoglobulina
A4: Lp. | B4: Nazwa produktu | C4: Jednostka miary | D4: Ilość | E4: Cena jednostkowa[zł] netto | F4: Wartość [zł] netto | G4: VAT | H4: Cena jednostkowa [zł] brutto | I4: Wartość [zł] brutto | J4: Producent/Nazwa handlowa | K4: EAN
A5: 1 | B5: Immunoglobuliny niespecyficzne, ludzkie inj. iv. (roztwór) 50g/l , 50 ml | C5: porcja po 1 fiol. 50ml | D5: 40
B6: RAZEM
B9: Data | H9: Podpis osoby/osób upoważnionej
B10: ……………………………………………. | H10: …………………… | I10: ……………………………….

Sheet Zadanie nr 33
A1: Załacznik nr 9 do SWZ
A2: ZOZ/DZP/PN/16/25
A3: Zadanie nr 33 - Eliglustat
A4: Lp. | B4: Nazwa produktu | C4: Jednostka miary | D4: Ilość | E4: Cena jednostkowa[zł] netto | F4: Wartość [zł] netto | G4: VAT | H4: Cena jednostkowa [zł] brutto | I4: Wartość [zł] brutto | J4: Producent/Nazwa handlowa | K4: EAN
A5: 1 | B5: Eliglustat 84mg | C5: Op=56 kaps. | D5: 18
B6: RAZEM
B9: Data | G9: Podpis osoby/osób upoważnionej
B10: ……………………………………………. | G10: …………………… | H10: ……………………………….

Sheet Zadanie nr 34
A1: Załacznik nr 9 do SWZ
A2: ZOZ/DZP/PN/16/25
A3: Zadanie nr: 34- Ferrum
A4: Lp. | B4: Nazwa produktu | C4: Jednostka miary | D4: Ilość | E4: Cena jednostkowa[zł] netto | F4: Wartość [zł] netto | G4: VAT | H4: Cena jednostkowa [zł] brutto | I4: Wartość [zł] brutto | J4: Producent/Nazwa handlowa | K4: EAN
A5: 1 | B5: Ferrum isomaltozidum 500mg/5ml | C5: porcja po 5fiolek | D5: 120
A6: 2 | B6: Ferrum 40mg /15ml roztwór doustny | C6: porcja po 20szt. | D6: 50
B7: RAZEM
B10: Data | G10: Podpis osoby/osób upoważnionej
B11: ……………………………………………. | G11: ………………………….. | H11: ……………………………….

Sheet Zadanie nr 35
A1: Załacznik nr 9 do SWZ
A2: ZOZ/DZP/PN/16/25
B3: Zadanie nr 35 - Glikokotykosteroidy
A4: Lp. | B4: Nazwa produktu | C4: Jednostka miary | D4: Ilość | E4: Cena jednostkowa[zł] netto | F4: Wartość [zł] netto | G4: VAT | H4: Cena jednostkowa [zł] brutto | I4: Wartość [zł] brutto | J4: Producent/Nazwa handlowa | K4: EAN
A5: 1 | B5: Dexamethasonum inj. (roztwór) 4 mg/ml | C5: porcja po 10 amp. 2 ml | D5: 380
A6: 2 | B6: Dexamethasonum inj. (roztwór) 4 mg/ml | C6: porcja po 10 amp. 1 ml | D6: 300
A7: 3 | B7: Hydrocortisonum fiol. 100Mg+2ml rozp. | C7: porcja po 5 fiol.+ rozp | D7: 500
A8: 4 | B8: Hydrocortisonum 25 mg + 2 ml rozp | C8: porcja po 5 fiol.+ rozp | D8: 10
A9: 5 | B9: Hydrocortisonum 20 mg | C9: porcja po 20 tabl. | D9: 20
B10: RAZEM
B13: Data | H13: Podpis osoby/osób upoważnionej
B14: ……………………………………………. | H14: …………………… | I14: ……………………………….

Sheet Zadanie nr 36
A1: Załacznik nr 9 do SWZ
A2: ZOZ/DZP/PN/16/25
A3: Zadanie nr 36 Immunoglobuliny.
A4: Lp. | B4: Nazwa produktu | C4: Jednostka miary | D4: Ilość | E4: Cena jednostkowa[zł] netto | F4: Wartość [zł] netto | G4: VAT | H4: Cena jednostkowa [zł] brutto | I4: Wartość [zł] brutto | J4: Producent/Nazwa handlowa | K4: EAN
A5: 1 | B5: Immunoglobulina ludzka do podania dożylnego 1 ml roztworu zawiera 50 mg białka osocza ludzkiego, w tym co najmniej 95% immunoglobuliny: immunoglobulina M (IgM) 6 mg, immunoglobulina A (IgA) 6 mg oraz immunoglobulina G (IgG) 38 mg. Rozkład podklas IgG: ok. 63% (IgG1), ok. 26% (IgG2), ok. 4% (IgG3), ok. 7% (IgG4) | C5: 2,5g/50ml | D5: 12
A6: 2 | B6: Immunoglobulina ludzka do podania dożylnego 1 ml roztworu zawiera 50 mg białka osocza ludzkiego, w tym co najmniej 95% immunoglobuliny: immunoglobulina M (IgM) 6 mg, immunoglobulina A (IgA) 6 mg oraz immunoglobulina G (IgG) 38 mg. Rozkład podklas IgG: ok. 63% (IgG1), ok. 26% (IgG2), ok. 4% (IgG3), ok. 7% (IgG4) | C6: 5g/100ml | D6: 12
B7: RAZEM
B10: Data | G10: Podpis osoby/osób upoważnionej
B11: ……………………………………………. | G11: ………………………….. | H11: ……………………………….

Sheet Zadanie nr 37.
A1: Załacznik nr 9 do SWZ
A2: ZOZ/DZP/PN/16/25
B3: Zadania nr 37 -Antybiotyki złożone
A4: Lp. | B4: Nazwa produktu | C4: Jednostka miary | D4: Ilość | E4: Cena jednostkowa[zł] netto | F4: Wartość [zł] netto | G4: VAT | H4: Cena jednostkowa [zł] brutto | I4: Wartość [zł] brutto | J4: Producent/Nazwa handlowa | K4: EAN
A5: 1 | B5: Ceftazidimum+avibactam 2000mg+500mg | C5: porcja po 10 fiol | D5: 2
A6: 2 | B6: Ceftozolam+Tazobactam 1g+0,5g | C6: porcja po 10 fiol | D6: 2
A7: 3 | B7: Imipenem/cilastatinum 500+500mg | C7: porcja po 10 fiol | D7: 50
A8: 4 | B8: Meropenem 500mg | C8: porcja po 10 fiol | D8: 50
A9: 5 | B9: Meropenem 1000mg | C9: porcja po 10 fiol | D9: 240
A10: 6 | B10: Meropenenm z Vaborbactamem 1g+1g | C10: porcja po 6 fiol | D10: 5
A11: 7 | B11: Piperacillinum + Tazobactamum 4g+0,5g | C11: porcja po 10fiol | D11: 700
B12: RAZEM
B16: Data | H16: Podpis osoby/osób upoważnionej
B17: ……………………………………………. | H17: ………………….. | I17: ……………………………….

Sheet Zadanie nr 38,
A1: Załacznik nr 9 do SWZ
A2: ZOZ/DZP/PN/16/25
A3: Zadanie nr 38 - Preparaty przeczyszczające
A4: Lp. | B4: Nazwa produktu | C4: Jednostka miary | D4: Ilość | E4: Cena jednostkowa[zł] netto | F4: Wartość [zł] netto | G4: VAT | H4: Cena jednostkowa [zł] brutto | I4: Wartość [zł] brutto | J4: Producent/Nazwa handlowa | K4: EAN
A5: 1 | B5: Sodu pikosiarczan + magnezu tlenek lekki + kwas cytrynowy bezwodny(0,01 g + 3,50 g + 10,97 g)/saszetkę, | C5: op po 50 saszetek | D5: 3
A6: 2 | B6: Makrogol 4000 64 g + subst. Pomocnicze | C6: Saszetki po 74 g x 48szt | D6: 100
A7: 3 | B7: Saszetka A: makrogol 3350-100g, +siarczan sodu bezwodny-7,5g + chlorek sodu-2,691g+chlorek potasu-10,15g. Saszetka B: Kwas askorbowy 4,7g + askorbinias sodu-5,9g | C7: porcja op.= saszetka A+B | D7: 100
A8: 4 | B8: Makrogol 3350, 5g. | C8: porcja po 14 sasz, | D8: 3
A9: 5 | B9: Makrogol Junior, 5g. | C9: porcja po 14 sasz po 5 g | D9: 3
A10: 6 | B10: Makrogol 10g | C10: porcja po 14 sasz. Po 10 g | D10: 3
B11: RAZEM
B14: Data | G14: Podpis osoby/osób upoważnionej
B15: ……………………………………………. | G15: ………………………….. | H15: ……………………………….

Sheet Zadanie nr 39
A1: Załacznik nr 9 do SWZ
A2: ZOZ/DZP/PN/16/25
A3: Zadanie nr 39 - Długo i krótko działające analogi insuliny.
A4: Lp. | B4: Nazwa produktu | C4: Jednostka miary | D4: Ilość | E4: Cena jednostkowa[zł] netto | F4: Wartość [zł] netto | G4: VAT | H4: Cena jednostkowa [zł] brutto | I4: Wartość [zł] brutto | J4: Producent/Nazwa handlowa | K4: EAN
A5: 1 | B5: Insulinum glargine 300j. /ml | C5: 10 wstrzykiwaczy | D5: 10
A6: 2 | B6: Insulinum glargine 100j. /ml | C6: 5 wstrzykiwaczy | D6: 15
A7: 3 | B7: Insulinum glulisine 100j./ml | C7: 5 wstrzykiwaczy | D7: 10
A8: 4 | B8: Insulina Lizpro 100 j./ml, roztwór do wstrzykiwań, 10 wkładów po 3 ml | C8: 10 wstrzykiwaczy | D8: 10
A9: 5 | B9: Insulina glargine + liksysenatyd 100 jednostek/ml + 33 mikrogramów/ml, roztwór do wstrzykiwań we wstrzykiwaczu | C9: 3 wstrzykiwacze | D9: 10
A10: 6 | B10: Insulina glargine + liksysenatyd 100 jednostek/ml + 50 mikrogramów/ml, roztwór do wstrzykiwań we wstrzykiwaczu | C10: 3 wstrzykiwacze | D10: 10
B11: Razem
B15: Data | G15: Podpis osoby/osób upoważnionej
B16: ……………………………………………. | G16: ……………………………….

Sheet Zadanie nr 40
A1: Załacznik nr 9 do SWZ
A2: ZOZ/DZP/PN/16/25
A3: Zadanie nr 40 – Preparaty RTU
A4: Lp. | B4: Nazwa produktu | C4: Jednostka miary | D4: Ilość | E4: Cena jednostkowa[zł] netto | F4: Wartość [zł] netto | G4: VAT | H4: Cena jednostkowa [zł] brutto | I4: Wartość [zł] brutto | J4: Producent/Nazwa handlowa | K4: EAN
A5: 1 | B5: Amikacinum 2,5mg/ml | C5: butelka do infuzji 100ml | D5: 30
A6: 2 | B6: Amikacinum 5mg/ml | C6: butelka do infuzji 100ml | D6: 30
A7: 3 | B7: Amikacinum 10mg/ml | C7: butelka do infuzji 100ml | D7: 30
A8: 4 | B8: Gentamicinum (roztwór) 80 mg/80 ml | C8: porcja fiolka 80 ml | D8: 30
A9: 5 | B9: Gentamicinum (roztwór) 240 mg/80 ml | C9: porcja fiolka 80 ml | D9: 30
A10: 6 | B10: Ibuprofen 200mg/50ml inj | C10: Porcja po 20 szt | D10: 30
A11: 7 | B11: Ibuprofen 400mg/100ml inj. | C11: Porcja po 20 szt | D11: 70
A12: 8 | B12: Ibuprofen 600mg/100ml inj. | C12: Porcja po 20 szt | D12: 20
B13: RAZEM
B17: Data | H17: Podpis osoby/osób upoważnionej
B18: ……………………………………………. | I18: ……………………………….

Sheet Zadanie nr 41
A1: Załacznik nr 9 do SWZ
A2: ZOZ/DZP/PN/16/25
A3: Zadanie nr 41 - Antybiotyki
A4: Lp. | B4: Nazwa produktu | C4: Jednostka miary | D4: Ilość | E4: Cena jednostkowa[zł] netto | F4: Wartość [zł] netto | G4: VAT | H4: Cena jednostkowa [zł] brutto | I4: Wartość [zł] brutto | J4: Producent/Nazwa handlowa | K4: EAN
A5: 1 | B5: Vancomycinym 1000 mg/5ml inj. i.v., p.o. | C5: porcja po 5 szt. | D5: 230
A6: 2 | B6: Clindamycin 150 mg/ml | C6: Porcja po 4ml w 5 amp | D6: 250
A7: 3 | B7: Clindamycin 600 mg | C7: porcja po 12 kaps. | D7: 10
A8: 4 | B8: Clindamycin 300mg | C8: porcja po 16 kaps. | D8: 35
B9: RAZEM
B12: Data | H12: Podpis osoby/osób upoważnionej
B13: ……………………………………………. | I13: ……………………………….

Sheet Zadanie nr 42
A1: Załacznik nr 9 do SWZ
A2: ZOZ/DZP/PN/16/25
A3: Zadanie nr 42 -Leki okulistyczne
A4: Lp. | B4: Nazwa produktu | C4: Jednostka miary | D4: Ilość | E4: Cena jednostkowa[zł] netto | F4: Wartość [zł] netto | G4: VAT | H4: Cena jednostkowa [zł] brutto | I4: Wartość [zł] brutto | J4: Producent/Nazwa handlowa | K4: EAN
A5: 1 | B5: Acidum polyacrylicum 2 mg/1g żel do oczu | C5: porcja po 10g | D5: 10
A6: 2 | B6: Alcohol polivinylicus krople do oczu 14 mg/ml | C6: porcja po 2 but. Po 5 ml | D6: 10
A7: 3 | B7: Bimatoprost 0,3 mg/1 ml krople do oczu | C7: op 3ml | D7: 15
A8: 4 | B8: Brimonidinum 2mg/ml+5mg/ml krople do oczu | C8: porcja po 5ml | D8: 10
A9: 5 | B9: Cyclopetolate krople do oczu 1% | C9: op 5ml | D9: 3
A10: 6 | B10: Dexamethasonum 0,1% krople do oczu | C10: porcja po 5ml | D10: 5
A11: 7 | B11: Dexpanthenolum żel do oczu 50 mg/g | C11: porcja po 1 tuba 10 g | D11: 30
A12: 8 | B12: Dorzolamid 20mg/ml krople do oczu | C12: porcja po 5ml | D12: 3
A13: 9 | B13: Karbachol r-r do stosowania wewnątrzgałkowego 0,1mg/1,5ml fiol | C13: Op=12 fiol | D13: 6
A14: 10 | B14: Tropicamidum 1% krople oczne | C14: op. =2x5ml | D14: 100
A15: 11 | B15: Travaprostum 40mcg+ Timololum maleas 5mg krople do oczu | C15: porcja po 2,5ml | D15: 4
A16: 12 | B16: Tropicamidum krople do oczu 5 mg/ml | C16: porcja po 1 zestaw: 2 poj. po 5 ml | D16: 6
... A32: 28 | B32: Maść dso oczu z wit. A 250IE/g sterylna | C32: porcja po 5g | D32: 5
B33: Razem
B36: Data | G36: Podpis osoby/osób upoważnionej
B37: ……………………………………………. | G37: ……………………………….

Sheet Zadanie nr 43
A1: Załacznik nr 9 do SWZ
A2: ZOZ/DZP/PN/16/25
A3: Zadanie nr 43 - Witamina K1
A4: Lp. | B4: Nazwa produktu | C4: Jednostka miary | D4: Ilość | E4: Cena jednostkowa[zł] netto | F4: Wartość [zł] netto | G4: VAT | H4: Cena jednostkowa [zł] brutto | I4: Wartość [zł] brutto | J4: Producent/Nazwa handlowa | K4: EAN
A5: 1 | B5: Phytomenadionum (vit. K1)ROZT.DO INFUZJI I ROZT. DOUST. 2MG/0,2ML 5 AMP.A 0,2ML | C5: porcja po 5 amp. | D5: 150
B6: RAZEM
B9: Data | G9: Podpis osoby/osób upoważnionej
B10: ……………………………………………. | G10: ………………………….. | I10: ……………………………….

Sheet Zadanie nr 44
A1: Załacznik nr 9 do SWZ
A2: ZOZ/DZP/PN/16/25
A3: Zadanie nr 44 -Diety w proszku
A4: Lp. | B4: Nazwa produktu | C4: Jednostka miary | D4: Ilość | E4: Cena jednostkowa[zł] netto | F4: Wartość [zł] netto | G4: VAT | H4: Cena jednostkowa [zł] brutto | I4: Wartość [zł] brutto | J4: Producent/Nazwa handlowa | K4: EAN
A5: 1 | B5: Doustny preparat skład:z L -arginina 5 g na porcję, hydorlizat kolagenu, witaminy A i C oraz chelat cynku. Dla pacjenów z odleżynami i trudno gojącymi się ranami. | C5: Op=10x25g | D5: 50
A6: 2 | B6: Dieta kompletna do żywienia drogą doustną, wysokokaloryczna, wysokobiałkowa doustgna na bazie hydrolizatu drobiowego HBD, 22g białka 100g, hiperkaloryczna 400kcal/100g, zawiera L argininę 1,7g/100g, 13 witamin, oraz 13 składników mineralnych. | C6: op.= 4x100g | D6: 50
A7: 3 | B7: Wysokobiałkowy doustny przeparat żywieniowy w postaci proszku, do stosowania w hipoproteinemii, stanowiący dodatkowe źródło białka dla pacjentów,zaeartośc białka 5g w porcji. | C7: op. 260g | D7: 120
B8: RAZEM
B11: Data | G11: Podpis osoby/osób upoważnionej
B12: ……………………………………………. | G12: ……………………………….

Sheet Zadanie nr 45
A1: Załacznik nr 9 do SWZ
A2: ZOZ/DZP/PN/16/25
A3: Zadanie nr 45 - Insuliny i analogi
A4: Lp. | B4: Nazwa produktu | C4: Jednostka miary | D4: Ilość | E4: Cena jednostkowa[zł] netto | F4: Wartość [zł] netto | G4: VAT | H4: Cena jednostkowa [zł] brutto | I4: Wartość [zł] brutto | J4: Producent/Nazwa handlowa | K4: EAN
A5: 1 | B5: Insulina aspart, szybkodziałający analog insuliny ludzkiej, którtkodziałające, doposiłkowe, analogowe,r-r do wstrzykiwań 100j.m./ml | C5: 10x3ml | D5: 12
A6: 2 | B6: Insulina detemir, długodziałający analog insuliny ludzkiej,analogowe, bazowe, długodziałające, r-r do wstrzykiwań 100j.m./ml | C6: 10x3ml | D6: 5
A7: 3 | B7: Insulina aspart/insulina aspart krystalizowana z protaminą w stosunku 30/70, analogowa mieszanka insulinowa, dwufazowa, zawiesina do wstrzykiwań 100j.m./ml | C7: 10x3ml | D7: 5
A8: 4 | B8: Insulina aspart/insulina aspart krystalizowana z protaminą w stosunku 50/50, analogowa mieszanka insulinowa, dwufazowa, zawiesina do wstrzykiwań 100j.m./ml | C8: 10x3ml | D8: 5
A9: 5 | B9: Insulina ludzka, szybkodziałająca, r-r do wstrzykiwań,100j.m./ml | C9: 5x3ml | D9: 60
A10: 6 | B10: Insulina ludzka izofanowa o posrednim czasie działania,zawiesina do wstrzykiwań, 100j.m./ml | C10: 5x3ml | D10: 20
A11: 7 | B11: Insulina ludzka i insulina ludzka izofanowa w stosunku 30/70, dwufazowa, ludzka mieszanina insuliny szybkodziałającej i długodziałającej,zawisina wstrzykiwań,100j.m./ml | C11: 5x3ml | D11: 5
A12: 8 | B12: Insulina ludzka i insulina ludzka izofanowa w stosunku 40/60, dwufazowa, ludzka mieszanina insuliny szybkodziałającej i długodziałającej,zawisina wstrzykiwań,100j.m./ml | C12: 5x3ml | D12: 5
A13: 9 | B13: Insulina ludzka i insulina ludzka izofanowa w stosunku 50/50, dwufazowa, ludzka mieszanina insuliny szybkodziałającej i długodziałającej,zawisina wstrzykiwań,100j.m./ml | C13: 5x3ml | D13: 5
A14: 10 | B14: roztwór do wstrzykiwań; 100 j./ml (zawiera: 70% insuliny degludec, 30% insuliny aspart); | C14: 5x3ml | D14: 5
A15: 11 | B15: Insulina deglutec roztwór do wstrzykiwań; 100 j./ml;3 ml | C15: 5x3ml | D15: 5
A16: 12 | B16: Insulina Humalog 300j.m lub równoważna | C16: porcja po 5 wkładów | D16: 10
... A21: 17 | B21: Insulina typu Humulin M3 (30/70)300 j.m./3 ml | C21: porcja po 5 wkł. | D21: 30
B22: Razem
B25: Data | G25: Podpis osoby/osób upoważnionej
B26: ……………………………………………. | G26: ……………………………….

Sheet Zadanie nr 46
A1: Załacznik nr 9 do SWZ
A2: ZOZ/DZP/PN/16/25
A3: Zadanie nr 46 - Budesonidum
A4: Lp. | B4: Nazwa produktu | C4: Jednostka miary | D4: Ilość | E4: Cena jednostkowa[zł] netto | F4: Wartość [zł] netto | G4: VAT | H4: Cena jednostkowa [zł] brutto | I4: Wartość [zł] brutto | J4: Producent/Nazwa handlowa | K4: EAN
A5: 1 | B5: Budesonidum zawiesina do inhalacji 0,125 mg/ml (wskazania wirusowe zapalenie krtani u dzieci)wg wskazań z listy regundacyjnej Ministra Zdrowia | C5: porcja po 20 poj. 2 ml | D5: 10
A6: 2 | B6: Budesonidum zawiesina do inhalacji 0,5 mg/ml (wskazania wirusowe zapalenie krtani u dzieci) wg wskazań z listy regundacyjnej Ministra Zdrowia | C6: porcja po 20 poj. 2 ml | D6: 140
A7: 3 | B7: Budesonidum zawiesina do inhalacji 0,25 mg/ml (wskazania wirusowe zapalenie krtani u dzieci)wg wskazań z listy regundacyjnej Ministra Zdrowia | C7: porcja po 20 poj. 2 ml | D7: 100
B8: RAZEM
B11: Data | G11: Podpis osoby/osób upoważnionej
B12: ……………………………………………. | G12: ………………………….. | H12: ……………………………….

Sheet Zadanie nr 47
A1: Załacznik nr 9 do SWZ
A2: ZOZ/DZP/PN/16/25
A3: Zadanie nr: 47 - Wyroby z masy celulozowej 2
A4: Lp. | B4: Nazwa produktu | C4: Jednostka miary | D4: Ilość | E4: Cena jednostkowa netto | F4: Wartość netto | G4: VAT | H4: Cena jednostkowa brutto | I4: Wartość brutto | J4: Producent/Model/Nr katalogowy
A5: 1 | B5: Miska do mycia pacjenta wykonana z pulpy celulozowej; wymiary 330 x 255 x 100mm; waga 58.5g (+/- 3 g); Pojemność: 3-4 litry; odporność na przesiąkanie: 2 godziny; przystosowana do ciepłej wody z detergentem, do temperatury 45 stopni C; | C5: szt. | D5: 7000
B6: Razem
B8: Pojemniki jednorazowego użytku do utylizacji ludzkich odpadów bytowych. Produkt wykonany z regenerowanych włókien celulozy, klejony naturalnym woskiem z dodatkiem żywicy ze środkiem pomocniczym zapobiegającym osadzaniu i pienieniu
B11: Data | H11: Podpis osoby/osób upoważnionej
B12: ……………………………………………. | I12: ……………………………….

Sheet Zadanie nr 48
A1: Załacznik nr 9 do SWZ
A2: ZOZ/DZP/PN/16/25
A3: Zadanie nr 48 – Żel do ran
A4: Lp. | B4: Nazwa produktu | C4: Jednostka miary | D4: Ilość | E4: Cena jednostkowa netto | F4: Wartość netto | G4: VAT | H4: Cena jednostkowa brutto | I4: Wartość brutto | J4: Producent/Model/Nr katalogowy
A5: 1 | B5: Bezbarwny preparat w żelu do ran zawartością poliheksanidyny. Spektrum działania: bakterie w tym MRSA,VRE,ESBL i grzyby (Candida albicans) w 30 sekund. Wyrób medyczny | C5: tubka 30ml | D5: 150
B6: RAZEM
B9: Data | H9: Podpis osoby/osób upoważnionej
B10: ……………………………………………. | H10: ……………………………….

Sheet Zadanie nr 49
A1: Załacznik nr 9 do SWZ
A2: ZOZ/DZP/PN/16/25
A3: Zadanie nr 49 – Pasy do stołów operacyjnych
A4: Lp. | B4: Nazwa produktu | C4: Jednostka miary | D4: Ilość | E4: Cena jednostkowa[zł] netto | F4: Wartość [zł] netto | G4: VAT | H4: Cena jednostkowa [zł] brutto | I4: Wartość [zł] brutto | J4: Producent/Nazwa handlowa/Numer katalogowy
A5: 1 | B5: Pas stabilizujacy część żelowa 315x45x10mm,pas 1m | C5: 1 kpl=2szt. | D5: 8
B6: RAZEM
B11: Data | G11: Podpis osoby/osób upoważnionej
B12: ……………………………………………. | G12: ……………………………….

Sheet podsumowanie
C7: L.p. | D7: Przedmiot zamówienia | E7: wartość netto | F7: wartość brutto | G7: netto euro | H7: euro brutto
C8: 1 | D8: Zadanie nr 1 - Leki różne | E8: ='Zadanie nr 1'!F412 -> 0 | F8: ='Zadanie nr 1'!I412 -> 0 | G8: =E8/$J$8 -> 0 | H8: =F8/$J$8 -> 0 | J8: 4.4536
C9: 2 | D9: Zadanie nr 2 - Płyny infuzyjne pojemnikach stojących | E9: ='Zadanie nr 2'!F14 -> 0 | F9: ='Zadanie nr 2'!I14 -> 0 | G9: =E9/$J$8 -> 0 | H9: =F9/$J$8 -> 0
C10: 3 | D10: Zadanie nr 3 - Płyny infuzyjne | E10: ='Zadanie nr 3'!F26 -> 0 | F10: ='Zadanie nr 3'!I26 -> 0 | G10: =E10/$J$8 -> 0 | H10: =F10/$J$8 -> 0
C11: 4 | D11: Zadanie nr 4 - Enoxaparinum | E11: ='Zadanie nr 4'!F13 -> 0 | F11: ='Zadanie nr 4'!I13 -> 0 | G11: =E11/$J$8 -> 0 | H11: =F11/$J$8 -> 0
C12: 5 | D12: Zadanie nr 5 - Nadroparinum | E12: ='Zadanie nr 5'!F9 -> 0 | F12: ='Zadanie nr 5'!I9 -> 0 | G12: =E12/$J$8 -> 0 | H12: =F12/$J$8 -> 0
C13: 6 | D13: Zadanie nr 6 - Leki różne 2 | E13: ='Zadanie nr 6'!F15 -> 0 | F13: ='Zadanie nr 6'!I15 -> 0 | G13: =E13/$J$8 -> 0 | H13: =F13/$J$8 -> 0
C14: 7 | D14: Zadanie nr 7 - Albuminy | E14: ='Zadanie nr 7'!F7 -> 0 | F14: ='Zadanie nr 7'!I7 -> 0 | G14: =E14/$J$8 -> 0 | H14: =F14/$J$8 -> 0
C15: 8 | D15: Zadanie nr 8 - Leki różne 14 | E15: ='Zadanie nr 8'!F20 -> 0 | F15: ='Zadanie nr 8'!I20 -> 0 | G15: =E15/$J$8 -> 0 | H15: =F15/$J$8 -> 0
C16: 9 | D16: Zadanie nr 9 - Leki anestezjologiczne | E16: ='Zadanie nr 9'!F16 -> 0 | F16: ='Zadanie nr 9'!I16 -> 0 | G16: =E16/$J$8 -> 0 | H16: =F16/$J$8 -> 0
C17: 10 | D17: Zadanie nr 10 - Sevofluran | E17: ='Zadanie nr 10'!F7 -> 0 | F17: ='Zadanie nr 10'!I7 -> 0 | G17: =E17/$J$8 -> 0 | H17: =F17/$J$8 -> 0
C18: 11 | D18: Zadanie nr 11 - Mleko + preparaty dietetyczne | E18: ='Zadanie nr 11'!F45 -> 0 | F18: ='Zadanie nr 11'!I45 -> 0 | G18: =E18/$J$8 -> 0 | H18: =F18/$J$8 -> 0
C19: 12 | D19: Zadanie nr 12 – Leki ZOL | E19: ='Zadanie nr 12'!F43 -> 0 | F19: ='Zadanie nr 12'!I43 -> 0 | G19: =E19/$J$8 -> 0 | H19: =F19/$J$8 -> 0
C20: 13 | D20: Zadanie nr 13 – Amoxycylina z inhibitorem | E20: =#REF! -> #REF! | F20: =#REF! -> #REF! | G20: =E20/$J$8 -> #REF! | H20: =F20/$J$8 -> #REF!
C21: 14 | D21: Zadanie Nr 14 - Heparinum | E21: =#REF! -> #REF! | F21: =#REF! -> #REF! | G21: =E21/$J$8 -> #REF! | H21: =F21/$J$8 -> #REF!
C22: 15 | D22: Zadanie Nr 15 - Omeprazol | E22: ='Zadanie nr 15'!F6 -> 0 | F22: ='Zadanie nr 15'!I6 -> 0 | G22: =E22/$J$8 -> 0 | H22: =F22/$J$8 -> 0
C23: 16 | D23: Zadanie nr 16 - Antybiotyki różne | E23: ='Zadanie nr 16'!F79 -> 0 | F23: ='Zadanie nr 16'!I79 -> 0 | G23: =E23/$J$8 -> 0 | H23: =F23/$J$8 -> 0
C24: 17 | D24: Zadanie nr 17 – Antybiotyki 5 | E24: ='Zadanie nr 17'!F20 -> 0 | F24: ='Zadanie nr 17'!I20 -> 0 | G24: =E24/$J$8 -> 0 | H24: =F24/$J$8 -> 0
C25: 18 | D25: Zadanie nr 18 - Żel do cewnikowania | E25: ='Zadanie nr 18'!F7 -> 0 | F25: ='Zadanie nr 18'!I7 -> 0 | G25: =E25/$J$8 -> 0 | H25: =F25/$J$8 -> 0
C26: 19 | D26: Zadanie nr 19 - Dalteparinum | E26: =#REF! -> #REF! | F26: =#REF! -> #REF! | G26: =E26/$J$8 -> #REF! | H26: =F26/$J$8 -> #REF!
C27: 20 | D27: Zadanie nr 20 - Preparaty do żywienia pozajelitowego | E27: ='Zadanie nr 20'!F19 -> 0 | F27: ='Zadanie nr 20'!I19 -> 0 | G27: =E27/$J$8 -> 0 | H27: =F27/$J$8 -> 0
C28: 21 | D28: Zadanie nr 21 - Preparaty do żywienia dojelitowego | E28: ='Zadanie nr 21'!F38 -> 0 | F28: ='Zadanie nr 21'!I38 -> 0 | G28: =E28/$J$8 -> 0 | H28: =F28/$J$8 -> 0
C29: 22 | D29: Zadanie nr 22 - Immunoglobuliny anty D | E29: =#REF! -> #REF! | F29: =#REF! -> #REF! | G29: =E29/$J$8 -> #REF! | H29: =F29/$J$8 -> #REF!
C30: 23 | D30: Zadanie nr 23 Fidaxomycinum | E30: ='Zadanie nr 23'!F6 -> 0 | F30: ='Zadanie nr 23'!I6 -> 0 | G30: =E30/$J$8 -> 0 | H30: =F30/$J$8 -> 0
C31: 24 | D31: Zadanie nr 24 - Żywienie pozajelitowe 2 | E31: ='Zadanie nr 24'!F14 -> 0 | F31: ='Zadanie nr 24'!I14 -> 0 | G31: =E31/$J$8 -> 0 | H31: =F31/$J$8 -> 0
C32: 25 | D32: Zadanie nr 25 - Leki OAIiT | E32: ='Zadanie nr 25'!F56 -> 0 | F32: ='Zadanie nr 25'!I56 -> 0 | G32: =E32/$J$8 -> 0 | H32: =F32/$J$8 -> 0
C33: 26 | D33: Zadanie nr 26 – Terapia nerkozastępcza do aparatu OMNI | E33: ='Zadanie nr 26.'!F10 -> 0 | F33: ='Zadanie nr 26.'!I10 -> 0 | G33: =E33/$J$8 -> 0 | H33: =F33/$J$8 -> 0
C34: 27 | D34: Zadanie nr 27 - Propofolum | E34: ='Zadanie nr 27'!F8 -> 0 | F34: ='Zadanie nr 27'!I8 -> 0 | G34: =E34/$J$8 -> 0 | H34: =F34/$J$8 -> 0
C35: 28 | D35: Zadanie nr 28 - Leki Hospicjum | E35: ='Zadanie nr 28'!F73 -> 0 | F35: ='Zadanie nr 28'!I73 -> 0 | G35: =E35/$J$8 -> 0 | H35: =F35/$J$8 -> 0
C36: 29 | D36: Zadanie nr 29 - Leki przeciwbólowe | E36: ='zadanie nr 29'!F85 -> 0 | F36: ='zadanie nr 29'!I85 -> 0 | G36: =E36/$J$8 -> 0 | H36: =F36/$J$8 -> 0
C37: 30 | D37: Zadanie nr 30 -Leki okulistyczne 2 | E37: =#REF! -> #REF! | F37: =#REF! -> #REF! | G37: =E37/$J$8 -> #REF! | H37: =F37/$J$8 -> #REF!
C38: 31 | D38: Zadanie nr 31 - Kontrasty jodowe | E38: ='Zadanie nr 31'!F9 -> 0 | F38: ='Zadanie nr 31'!I9 -> 0 | G38: =E38/$J$8 -> 0 | H38: =F38/$J$8 -> 0
C39: 32 | D39: Zadanie nr 32 - Acidum ibandronicum | E39: ='Zadanie nr 32'!F6 -> 0 | F39: ='Zadanie nr 32'!I6 -> 0 | G39: =E39/$J$8 -> 0 | H39: =F39/$J$8 -> 0
C40: 33 | D40: Zadanie nr 33 - Imigluceraza i eliglustat | E40: ='Zadanie nr 33'!F6 -> 0 | F40: ='Zadanie nr 33'!I6 -> 0 | G40: =E40/$J$8 -> 0 | H40: =F40/$J$8 -> 0
C41: 34 | D41: Zadanie nr: 34- Ferrum | E41: ='Zadanie nr 34'!F7 -> 0 | F41: ='Zadanie nr 34'!I7 -> 0 | G41: =E41/$J$8 -> 0 | H41: =F41/$J$8 -> 0
C42: 35 | D42: Zadanie nr 35 - Glikokotykosteroidy | E42: ='Zadanie nr 35'!F10 -> 0 | F42: ='Zadanie nr 35'!I10 -> 0 | G42: =E42/$J$8 -> 0 | H42: =F42/$J$8 -> 0
C43: 36 | D43: Zadanie nr: 36 - Desfluran | E43: ='Zadanie nr 10'!E14 -> 0 | F43: ='Zadanie nr 10'!H14 -> 0 | G43: =E43/$J$8 -> 0 | H43: =F43/$J$8 -> 0
C44: 37 | D44: Zadanie nr: 37 – Metamizolum | E44: =#REF! -> #REF! | F44: =#REF! -> #REF! | G44: =E44/$J$8 -> #REF! | H44: =F44/$J$8 -> #REF!
C45: 38 | D45: Zadanie nr 39 - Długo i krótko działające analogi insuliny i barbituran | E45: ='Zadanie nr 39'!F11 -> 0 | F45: ='Zadanie nr 39'!I11 -> 0 | G45: =E45/$J$8 -> 0 | H45: =F45/$J$8 -> 0
C46: 39 | D46: Zadanie nr 40 – Preaparat RTU | E46: ='Zadanie nr 40'!F13 -> 0 | F46: ='Zadanie nr 40'!I13 -> 0 | G46: =E46/$J$8 -> 0 | H46: =F46/$J$8 -> 0
C47: 40 | D47: Zadanie nr 41 - Antybiotyki | E47: ='Zadanie nr 41'!F9 -> 0 | F47: ='Zadanie nr 41'!I9 -> 0 | G47: =E47/$J$8 -> 0 | H47: =F47/$J$8 -> 0
C48: 41 | D48: Zadanie nr 43 - Witamina K1 | E48: ='Zadanie nr 43'!F6 -> 0 | F48: ='Zadanie nr 43'!I6 -> 0 | G48: =E48/$J$8 -> 0 | H48: =F48/$J$8 -> 0
C49: 42 | D49: Zadania nr 44 - Imipenem, piperacillinum | E49: ='Zadanie nr 37.'!F12 -> 0 | F49: ='Zadanie nr 37.'!I12 -> 0 | G49: =E49/$J$8 -> 0 | H49: =F49/$J$8 -> 0
C50: 43 | D50: Zadanie nr 45 - Insuliny i analogi | E50: ='Zadanie nr 45'!F22 -> 0 | F50: ='Zadanie nr 45'!I22 -> 0 | G50: =E50/$J$8 -> 0 | H50: =F50/$J$8 -> 0
C51: 44 | D51: Zadanie nr 46 - Budesonidum | E51: ='Zadanie nr 46'!F8 -> 0 | F51: ='Zadanie nr 46'!I8 -> 0 | G51: =E51/$J$8 -> 0 | H51: =F51/$J$8 -> 0
C52: 45 | D52: Zadanie nr 48 - Preparaty przeczyszczające | E52: ='Zadanie nr 38,'!F11 -> 0 | F52: ='Zadanie nr 38,'!I11 -> 0 | G52: =E52/$J$8 -> 0 | H52: =F52/$J$8 -> 0
C53: 46 | D53: Zadanie nr 49 Immunoglobuliny. | E53: ='Zadanie nr 36'!F7 -> 0 | F53: ='Zadanie nr 36'!I7 -> 0 | G53: =E53/$J$8 -> 0 | H53: =F53/$J$8 -> 0
C54: 47 | D54: Zadanie nr 50 - Dostawa płynów i akcesoriów wraz z dzierżawą aparatu do ciągłych zabiegów nerkozastępczych i plazmaforezy | E54: =#REF! -> #REF! | F54: =#REF! -> #REF! | G54: =E54/$J$8 -> #REF! | H54: =F54/$J$8 -> #REF!
C55: 48 | D55: Zadanie nr 51 -Leki okulistyczne | E55: ='Zadanie nr 42'!F33 -> 0 | F55: ='Zadanie nr 42'!I33 -> 0 | G55: =E55/$J$8 -> 0 | H55: =F55/$J$8 -> 0
C56: 49 | D56: Zadanie nr 52 - Butelki do receptury | E56: ='Zadanie nr 22.'!F17 -> 0 | F56: ='Zadanie nr 22.'!I17 -> 0 | G56: =E56/$J$8 -> 0 | H56: =F56/$J$8 -> 0
C57: 50 | D57: Zadanie nr – 53 Smoczki i butelki | E57: ='Zadanie nr 30.'!F10 -> 0 | F57: ='Zadanie nr 30.'!I10 -> 0 | G57: =E57/$J$8 -> 0 | H57: =F57/$J$8 -> 0
C58: 51 | D58: Zadanie 54 Układ oddechowy SOR | E58: =#REF! -> #REF! | F58: =#REF! -> #REF! | G58: =E58/$J$8 -> #REF! | H58: =F58/$J$8 -> #REF!
C59: 52 | D59: Zadanie nr: 59 - Strzykawki do gazometrii. | E59: =#REF! -> #REF! | F59: =#REF! -> #REF! | G59: =E59/$J$8 -> #REF! | H59: =F59/$J$8 -> #REF!
C60: 53 | D60: Zadanie nr: 85 - Opaska 2 | E60: ='Zadanie nr 48'!F6 -> 0 | F60: ='Zadanie nr 48'!I6 -> 0 | G60: =E60/$J$8 -> 0 | H60: =F60/$J$8 -> 0
C61: 54 | D61: Zadanie nr: 88 – Gąbka do FESS-u | E61: =#REF! -> #REF! | F61: =#REF! -> #REF! | G61: =E61/$J$8 -> #REF! | H61: =F61/$J$8 -> #REF!
C62: 55 | D62: Zadanie nr: 96 - Karty chipowe do monitora hemodynamicznego Lidco Rapid | E62: =#REF! -> #REF! | F62: =#REF! -> #REF! | G62: =E62/$J$8 -> #REF! | H62: =F62/$J$8 -> #REF!
C63: 56 | D63: Zadanie nr 97: Akcesoria do kardiomonitora BleaseSirius firmy Spacelabs Medical USA | E63: ='[1]zadanie 38'!#REF! -> #REF! | F63: =#REF! -> #REF! | G63: =E63/$J$8 -> #REF! | H63: =F63/$J$8 -> #REF!
C64: 57 | D64: Zadanie nr: 115 – Tracheotomia metodą Ciaglia dodatkowe | E64: =#REF! -> #REF! | F64: =#REF! -> #REF! | G64: =E64/$J$8 -> #REF! | H64: =F64/$J$8 -> #REF!
C65: 58 | D65: Zadanie nr 129 - Odczynniki i testy, probówki | E65: =#REF! -> #REF! | F65: =#REF! -> #REF! | G65: =E65/$J$8 -> #REF! | H65: =F65/$J$8 -> #REF!
C66: 59 | D66: Zadanie nr 132 - Parawany na kółkach | E66: =#REF! -> #REF! | F66: =#REF! -> #REF! | G66: =E66/$J$8 -> #REF! | H66: =F66/$J$8 -> #REF!
C67: 60 | D67: Zadanie nr 133 - Akcesoria rehabilitacyjne | E67: =#REF! -> #REF! | F67: =#REF! -> #REF! | G67: =E67/$J$8 -> #REF! | H67: =F67/$J$8 -> #REF!
C68: 61 | D68: Zadanie nr 134 osłonki na zęby | E68: ='Zadanie nr 49'!F6 -> 0 | F68: ='Zadanie nr 49'!I6 -> 0 | G68: =E68/$J$8 -> 0 | H68: =F68/$J$8 -> 0
C69: 62 | D69: Zadanie nr:142 Laktator elektryczny z akcesoriami. | E69: =#REF! -> #REF! | F69: =#REF! -> #REF! | G69: =E69/$J$8 -> #REF! | H69: =F69/$J$8 -> #REF!
C70: 63 | D70: Zadanie nr 154 Kable do elektrod BTL 5000 | E70: =#REF! -> #REF! | F70: =#REF! -> #REF! | G70: =E70/$J$8 -> #REF! | H70: =F70/$J$8 -> #REF!
E71: =SUM(E8:E70) -> #REF! | F71: =SUM(F8:F70) -> #REF! | G71: =E71/$J$8 -> #REF! | H71: =F71/$J$8 -> #REF!

Sheet Zadanie nr 50
A1: Załacznik nr 9 do SWZ
A2: ZOZ/DZP/PN/16/25
A3: Zadanie nr 50 Materiał kościozastępczy.
A4: Lp. | B4: Nazwa produktu | C4: Średnica | D4: Masa | E4: Objętość | F4: Jednostka miary | G4: Ilość | H4: Cena jednostkowa netto | I4: Wartość netto | J4: VAT | K4: Cena jednostkowa brutto | L4: Wartość brutto | M4: Producent/Model/Nr katalogowy
A5: 1 | B5: Biomimetyczny materiał kościozastępczy w postaci granulatu fosforanowo-wapniowego. Skład: 75% HAp oraz 25% β-TCP, osteointegrowany, porowatość 60-80%, rozmiar porów 200-500 μm, odporność na ściskanie ≥ 5 MPa. Produkt sterylny. Przeznaczony do wypełnień ubytków lub przestrzeni w układzie szkieletowym o nieregularnym kształcie | C5: 2-4 mm | D5: 2,25 g | E5: 2,5 cc | F5: szt | G5: 6
D6: 4,5 g | E6: 5 cc | F6: szt | G6: 4
D7: 9 g | E7: 10 cc | F7: szt | G7: 1
C8: 4-6 mm | D8: 2 g | E8: 2,5 cc | F8: szt | G8: 3
D9: 4 g | E9: 5 cc | F9: szt | G9: 3
D10: 8 g | E10: 10 cc | F10: szt | G10: 1
B11: RAZEM
B14: Zamawiający wymaga stworzenia depozytu.
B16: Data | G16: Podpis osoby/osób upoważnionej
B17: ……………………………………………. | G17: ……………………………….

Sheet Zadanie nr 51
A1: Załacznik nr 9 do SWZ
A2: ZOZ/DZP/PN/16/25
A3: Zadanie nr 51 – Zestaw do szycia łąkotki 2.
A4: Lp. | B4: Nazwa produktu | C4: Jednostka miary | D4: Ilość | E4: Cena jednostkowa netto | F4: Wartość netto | G4: VAT | H4: Cena jednostkowa brutto | I4: Wartość brutto | J4: Producent/Model/Nr katalogowy
A5: 1 | B5: Zestaw do szyciałąkotki w systemie all-inside, obsługiwany tylko jedną ręką, sterylny. Zestaw składający się z dwóch inplantów z PEK połączonych z niewchłanialną nicią o gr USP 2/0 z zaciskowym węzłem. Implanty z materiału PEEK o cylindrycznym kształcie z dwoa otworami na nici oraz części dystalnej. Implanty położone na jednej prowadnicy wykonanej z odkszatłconego materiału pozwalającego na dostosowanie krzywizny prowadnicy każdorazowo do warunków anatomicznych. Czubek prowadnicy fabrycznie wygięty o kąt 27 stopni, prosty lub tzw. reverse zagięty do dołu o kąt(-5%). Głębokość implantacji regulowana poprzez manualne skracanie lub wydłużanie osłonki prowadnicy na rękojeści z użyciem guzika suwnego umieszczonego poniżej spustu. Implanty wysuwane poza obręb prowadnicy za pomocą półautomatyczego ogrągłego kołnierza 360 stopni, o charakterystycznym dwupoziomowym odbicu kołnierza po każdej implantacji implantu powracającego do pozycji roboczej po każdym użyciu. | C5: szt. | D5: 50
B6: RAZEM
B8: Zamawiający wymaga stworzenia depozytu.
B10: Data | H10: Podpis osoby/osób upoważnionej
B11: ……………………………………………. | H11: ……………………………….

Sheet Zadanie nr 52
A1: Załacznik nr 9 do SWZ
A2: ZOZ/DZP/PN/16/25
A3: Zadanie nr 52: Zestaw do szycia łąkotki 3
A4: Lp. | B4: Nazwa produktu | C4: Jednostka miary | D4: Ilość | E4: Cena jednostkowa[zł] netto | F4: Wartość [zł] netto | G4: VAT | H4: Cena jednostkowa [zł] brutto | I4: Wartość [zł] brutto | J4: Producent/Nazwa handlowa/Numer katalogowy
A5: 1 | B5: Urządzenia do naprawy łąkotki typu ALL-INSIDE, zbudowane z przezroczystej rękojeści, elastycznej igły i czarnego suwaka (służącego do wypuszczania implantów na zewnątrz urządzenia - implanty ułożone liniowo, wypuszczane poprzez przesunięcie suwaka w przód), wyposażone w dwa profilowane implanty wykonane z PEEK do przytrzymywania szwów, wstępnie związanych niebieskim szwem z polietylenu o ultrawysokiej masie cząsteczkowej 2-0, urządzenie wyposażone w ogranicznik głębokości penetracji z zakresem 14-24mm (standardowe ustawienie 20mm), regulacja głębokości uzyskiwana poprzez biały suwak. Urządzenie dostępne z igłą wygięta do góry pod kątem 15 stopni i w dół pod kątem 9 stopni, oba z możliwością dodatkowego wyginania igły. | C5: Op=1 zestaw | D5: 50
A6: 2 | B6: Kotwica niciowa do zaopatrywania stożka rotatorów, wbijana, wykonana z polyestru, średnica 2,3mm, na sterylnym podajniku, zaopatrzona w dwie różnokolorowe nici typu #2 FORCE FIBER lub dwie różnokolorowe taśmy typu XBraid TT o średnicy 2mm. Szerokość kotwicy po implantacji w kanale minimum 4,0mm. Głębokość kanału minimum 21 mm uzyskiwana za pomocą znacznika na podajniku. Ogranicznik głębokości kanału na poziomie 30 mm. | C6: op.=5szt | D6: 5
A7: 3 | B7: Kotwica ze szwem bezwęzełkowym, wykonana z PEEK i stali nierdzewnej, długość 17.4mm, średnica zewnętrzna 4.5mm (5.5mm po implantacji) , wbijana, wyposażona w linkę stabilizującą oraz nawlekacz ułatwiający przeciąganie szwu przez kotwicę, zamontowana na elemencie wsuwającym zbudowanym z trzonu wykonanego ze stali nierdzewnej i uchwytu wykonanego z akrylonitryl-butadien-styrenu (ABS), umożliwiająca stopniową regulację naprężania szwów dzięki obrotom proksymalnej części uchwytu (koloru czarnego). | C7: op.=5szt | D7: 5
B8: RAZEM
B11: Zamawiający wymaga stworzenia depozytu.
B14: Data | G14: Podpis osoby/osób upoważnionej
B15: ……………………………………………. | G15: ……………………………….

Sheet Zadanie nr 53
A1: Załacznik nr 9 do SWZ
A2: ZOZ/DZP/PN/16/25
A3: Zadanie nr: 53 Siatki laparoskopowe 2.
A4: Lp. | B4: Nazwa produktu | C4: Jednostka miary | D4: Ilość | E4: Cena jednostkowa netto | F4: Wartość netto | G4: VAT | H4: Cena jednostkowa brutto | I4: Wartość brutto | J4: Producent/Model/Nr katalogowy
A5: 1 | B5: Siatka dedykowana do zaopatrywania przepuklin pępkowych. Siatka polipropylenowa, monofilamentna , antyadhezyjna z kieszeniami ułatwiającymi pozycjonowanie i wchłanialnymi włóknami PGA . Siatka z wchłanialnym pierścieniem SorbaFlex ( PDO – polydioxanon )wchłanialny w 24-32 tyg. pozwalającym na płaskie ułożenie siatki oraz z unikalną ,wchłanialną powłoką hydrożelową (wchłanialna w 30 dni ). Rozmiar: 4.3 cm | C5: szt | D5: 20
A6: 2 | B6: Siatka dedykowana do zaopatrywania przepuklin pępkowych. Siatka polipropylenowa, monofilamentna , antyadhezyjna z kieszeniami ułatwiającymi pozycjonowanie i wchłanialnymi włóknami PGA . Siatka z wchłanialnym pierścieniem SorbaFlex ( PDO – polydioxanon )wchłanialny w 24-32 tyg. pozwalającym na płaskie ułożenie siatki oraz z unikalną ,wchłanialną powłoką hydrożelową (wchłanialna w 30 dni ). Rozmiar: 6.4cm | C6: szt | D6: 20
A7: 3 | B7: Siatka dedykowana do zaopatrywania przepuklin pępkowych. Siatka polipropylenowa, monofilamentna , antyadhezyjna z kieszeniami ułatwiającymi pozycjonowanie i wchłanialnymi włóknami PGA . Siatka z wchłanialnym pierścieniem SorbaFlex ( PDO – polydioxanon )wchłanialny w 24-32 tyg. pozwalającym na płaskie ułożenie siatki oraz z unikalną ,wchłanialną powłoką hydrożelową (wchłanialna w 30 dni ). Rozmiar: 8 cm | C7: szt | D7: 20
A8: 4 | B8: Siatka przepuklinowa samorozprężalna, częściowo wchłanialna, sterylna proteza z biowchłanialna powłoką. Siatka z włókien polipropylenowych (PP) i kwasu poliglikolowego (PGA), tworzącą dwustronną siatkę z powierzchnią PP i powierzchnią PGA. Siatka jest powlekana po stronie PGA biowchłanialnym, chemicznie zmodyfikowanym hydrożelem na baziehialuronianu sodowego (HA), karboksymetylocelulozy (CMC) i glikolu polietylenu (PEG) Strona siatki skierowana do powięzi pozwala na szybką reakcję fibroblastyczną przez szczeliny siatki, sprzyjając pełnemu wrastaniu tkanki w siatkę. Trzewna strona siatki jest pokryta powłoką biowchłanialną, oddzielającą siatkę od tkanki leżącej poniżej i powierzchni narządów, minimalizując w ten sposób wiązanie tkanki z siatką. Wkrótce po umieszczeniu powłoka biopolimerowa zamienia się w nawodniony żel, który podlega resorpcji z miejsca założenia w czasie 30 dni.Siatka z wchłanialnym pierścieniem SorbaFlex ( PDO – polydioxanon )wchłanialny w 24-32 tyg. pozwalającym na płaskie ułożenie siatki. Rozmiar: 7,6 cm | C8: szt | D8: 10
A9: 5 | B9: Siatka przepuklinowa samorozprężalna, częściowo wchłanialna, sterylna proteza z biowchłanialna powłoką. Siatka z włókien polipropylenowych (PP) i kwasu poliglikolowego (PGA), tworzącą dwustronną siatkę z powierzchnią PP i powierzchnią PGA. Siatka jest powlekana po stronie PGA biowchłanialnym, chemicznie zmodyfikowanym hydrożelem na baziehialuronianu sodowego (HA), karboksymetylocelulozy (CMC) i glikolu polietylenu (PEG) Strona siatki skierowana do powięzi pozwala na szybką reakcję fibroblastyczną przez szczeliny siatki, sprzyjając pełnemu wrastaniu tkanki w siatkę. Trzewna strona siatki jest pokryta powłoką biowchłanialną, oddzielającą siatkę od tkanki leżącej poniżej i powierzchni narządów, minimalizując w ten sposób wiązanie tkanki z siatką. Wkrótce po umieszczeniu powłoka biopolimerowa zamienia się w nawodniony żel, który podlega resorpcji z miejsca założenia w czasie 30 dni.Siatka z wchłanialnym pierścieniem SorbaFlex ( PDO – polydioxanon )wchłanialny w 24-32 tyg. pozwalającym na płaskie ułożenie siatki. Rozmiar: 11,4 cm | C9: szt | D9: 10
A10: 6 | B10: Siatka przepuklinowa samorozprężalna, częściowo wchłanialna, sterylna proteza z biowchłanialna powłoką. Siatka z włókien polipropylenowych (PP) i kwasu poliglikolowego (PGA), tworzącą dwustronną siatkę z powierzchnią PP i powierzchnią PGA. Siatka jest powlekana po stronie PGA biowchłanialnym, chemicznie zmodyfikowanym hydrożelem na baziehialuronianu sodowego (HA), karboksymetylocelulozy (CMC) i glikolu polietylenu (PEG) Strona siatki skierowana do powięzi pozwala na szybką reakcję fibroblastyczną przez szczeliny siatki, sprzyjając pełnemu wrastaniu tkanki w siatkę. Trzewna strona siatki jest pokryta powłoką biowchłanialną, oddzielającą siatkę od tkanki leżącej poniżej i powierzchni narządów, minimalizując w ten sposób wiązanie tkanki z siatką. Wkrótce po umieszczeniu powłoka biopolimerowa zamienia się w nawodniony żel, który podlega resorpcji z miejsca założenia w czasie 30 dni.Siatka z wchłanialnym pierścieniem SorbaFlex ( PDO – polydioxanon )wchłanialny w 24-32 tyg. pozwalającym na płaskie ułożenie siatki. Rozmiar: 8.0 x 12.0 cm | C10: szt | D10: 10
A11: 7 | B11: Siatka przepuklinowa samorozprężalna, częściowo wchłanialna, sterylna proteza z biowchłanialna powłoką. Siatka z włókien polipropylenowych (PP) i kwasu poliglikolowego (PGA), tworzącą dwustronną siatkę z powierzchnią PP i powierzchnią PGA. Siatka jest powlekana po stronie PGA biowchłanialnym, chemicznie zmodyfikowanym hydrożelem na baziehialuronianu sodowego (HA), karboksymetylocelulozy (CMC) i glikolu polietylenu (PEG) Strona siatki skierowana do powięzi pozwala na szybką reakcję fibroblastyczną przez szczeliny siatki, sprzyjając pełnemu wrastaniu tkanki w siatkę. Trzewna strona siatki jest pokryta powłoką biowchłanialną, oddzielającą siatkę od tkanki leżącej poniżej i powierzchni narządów, minimalizując w ten sposób wiązanie tkanki z siatką. Wkrótce po umieszczeniu powłoka biopolimerowa zamienia się w nawodniony żel, który podlega resorpcji z miejsca założenia w czasie 30 dni.Siatka z wchłanialnym pierścieniem SorbaFlex ( PDO – polydioxanon )wchłanialny w 24-32 tyg. pozwalającym na płaskie ułożenie siatki. Rozmiar: 11.0 x 14.0 cm | C11: szt | D11: 10
A12: 8 | B12: Siatka przepuklinowa samorozprężalna, częściowo wchłanialna, sterylna proteza z biowchłanialna powłoką. Siatka z włókien polipropylenowych (PP) i kwasu poliglikolowego (PGA), tworzącą dwustronną siatkę z powierzchnią PP i powierzchnią PGA. Siatka jest powlekana po stronie PGA biowchłanialnym, chemicznie zmodyfikowanym hydrożelem na baziehialuronianu sodowego (HA), karboksymetylocelulozy (CMC) i glikolu polietylenu (PEG) Strona siatki skierowana do powięzi pozwala na szybką reakcję fibroblastyczną przez szczeliny siatki, sprzyjając pełnemu wrastaniu tkanki w siatkę. Trzewna strona siatki jest pokryta powłoką biowchłanialną, oddzielającą siatkę od tkanki leżącej poniżej i powierzchni narządów, minimalizując w ten sposób wiązanie tkanki z siatką. Wkrótce po umieszczeniu powłoka biopolimerowa zamienia się w nawodniony żel, który podlega resorpcji z miejsca założenia w czasie 30 dni.Siatka z wchłanialnym pierścieniem SorbaFlex ( PDO – polydioxanon )wchłanialny w 24-32 tyg. pozwalającym na płaskie ułożenie siatki. Rozmiar: 13.8 x 17.8 cm | C12: szt | D12: 10
A13: 9 | B13: Siatka przepuklinowa samorozprężalna, częściowo wchłanialna, sterylna proteza z biowchłanialna powłoką. Siatka z włókien polipropylenowych (PP) i kwasu poliglikolowego (PGA), tworzącą dwustronną siatkę z powierzchnią PP i powierzchnią PGA. Siatka jest powlekana po stronie PGA biowchłanialnym, chemicznie zmodyfikowanym hydrożelem na baziehialuronianu sodowego (HA), karboksymetylocelulozy (CMC) i glikolu polietylenu (PEG) Strona siatki skierowana do powięzi pozwala na szybką reakcję fibroblastyczną przez szczeliny siatki, sprzyjając pełnemu wrastaniu tkanki w siatkę. Trzewna strona siatki jest pokryta powłoką biowchłanialną, oddzielającą siatkę od tkanki leżącej poniżej i powierzchni narządów, minimalizując w ten sposób wiązanie tkanki z siatką. Wkrótce po umieszczeniu powłoka biopolimerowa zamienia się w nawodniony żel, który podlega resorpcji z miejsca założenia w czasie 30 dni.Siatka z wchłanialnym pierścieniem SorbaFlex ( PDO – polydioxanon )wchłanialny w 24-32 tyg. pozwalającym na płaskie ułożenie siatki. Rozmiar: 15.5 x 25.7 cm | C13: szt | D13: 5
A14: 10 | B14: Siatka przepuklinowa samorozprężalna, częściowo wchłanialna, sterylna proteza z biowchłanialna powłoką. Siatka z włókien polipropylenowych (PP) i kwasu poliglikolowego (PGA), tworzącą dwustronną siatkę z powierzchnią PP i powierzchnią PGA. Siatka jest powlekana po stronie PGA biowchłanialnym, chemicznie zmodyfikowanym hydrożelem na baziehialuronianu sodowego (HA), karboksymetylocelulozy (CMC) i glikolu polietylenu (PEG) Strona siatki skierowana do powięzi pozwala na szybką reakcję fibroblastyczną przez szczeliny siatki, sprzyjając pełnemu wrastaniu tkanki w siatkę. Trzewna strona siatki jest pokryta powłoką biowchłanialną, oddzielającą siatkę od tkanki leżącej poniżej i powierzchni narządów, minimalizując w ten sposób wiązanie tkanki z siatką. Wkrótce po umieszczeniu powłoka biopolimerowa zamienia się w nawodniony żel, który podlega resorpcji z miejsca założenia w czasie 30 dni.Siatka z wchłanialnym pierścieniem SorbaFlex ( PDO – polydioxanon )wchłanialny w 24-32 tyg. pozwalającym na płaskie ułożenie siatki. Rozmiar: 19.6 x 24.6 cm | C14: szt | D14: 5
A15: 11 | B15: Siatka przepuklinowa samorozprężalna, częściowo wchłanialna, sterylna proteza z biowchłanialna powłoką. Siatka z włókien polipropylenowych (PP) i kwasu poliglikolowego (PGA), tworzącą dwustronną siatkę z powierzchnią PP i powierzchnią PGA. Siatka jest powlekana po stronie PGA biowchłanialnym, chemicznie zmodyfikowanym hydrożelem na baziehialuronianu sodowego (HA), karboksymetylocelulozy (CMC) i glikolu polietylenu (PEG) Strona siatki skierowana do powięzi pozwala na szybką reakcję fibroblastyczną przez szczeliny siatki, sprzyjając pełnemu wrastaniu tkanki w siatkę. Trzewna strona siatki jest pokryta powłoką biowchłanialną, oddzielającą siatkę od tkanki leżącej poniżej i powierzchni narządów, minimalizując w ten sposób wiązanie tkanki z siatką. Wkrótce po umieszczeniu powłoka biopolimerowa zamienia się w nawodniony żel, który podlega resorpcji z miejsca założenia w czasie 30 dni.Siatka z wchłanialnym pierścieniem SorbaFlex ( PDO – polydioxanon )wchłanialny w 24-32 tyg. pozwalającym na płaskie ułożenie siatki. Rozmiar: 22.1 x 27.1 cm | C15: szt | D15: 5
A16: 12 | B16: Siatka przepuklinowa samorozprężalna, częściowo wchłanialna, sterylna proteza z biowchłanialna powłoką. Siatka z włókien polipropylenowych (PP) i kwasu poliglikolowego (PGA), tworzącą dwustronną siatkę z powierzchnią PP i powierzchnią PGA. Siatka jest powlekana po stronie PGA biowchłanialnym, chemicznie zmodyfikowanym hydrożelem na baziehialuronianu sodowego (HA), karboksymetylocelulozy (CMC) i glikolu polietylenu (PEG) Strona siatki skierowana do powięzi pozwala na szybką reakcję fibroblastyczną przez szczeliny siatki, sprzyjając pełnemu wrastaniu tkanki w siatkę. Trzewna strona siatki jest pokryta powłoką biowchłanialną, oddzielającą siatkę od tkanki leżącej poniżej i powierzchni narządów, minimalizując w ten sposób wiązanie tkanki z siatką. Wkrótce po umieszczeniu powłoka biopolimerowa zamienia się w nawodniony żel, który podlega resorpcji z miejsca założenia w czasie 30 dni.Siatka z wchłanialnym pierścieniem SorbaFlex ( PDO – polydioxanon )wchłanialny w 24-32 tyg. pozwalającym na płaskie ułożenie siatki. Rozmiar: 27.4 x 34.9 cm | C16: szt | D16: 5
B17: RAZEM
B20: Zamawiający wymaga utworzenia depozytu w ilościach poz 1-3 po 5 szt w poz. 4-12 po 2 szt.
B22: Data | H22: Podpis osoby/osób upoważnionej
B23: ……………………………………………. | H23: ……………………………….

Sheet Zadanie nr 54.
A1: Załacznik nr 9 do SWZ
A2: ZOZ/DZP/PN/16/25
A3: Zadanie nr 54: Zestaw do łąkotki 4
A4: Lp. | B4: Nazwa produktu | C4: Jednostka miary | D4: Ilość | E4: Cena jednostkowa netto | F4: Wartość netto | G4: VAT | H4: Cena jednostkowa brutto | I4: Wartość brutto | J4: Producent/Nazwa handlowa
A5: 1 | B5: System szycia łąkotek all – inside. Implant o wysokiej wytrzymałości na wyrwanie min 70 N. System zbudowany z dwóch miękkich implantów wykonanych z nici połączonych ze sobą nierozpuszczalną nicią # 2-0 wykonanej z rdzenia z poliestru oplecionego UHMWPE - polietylenem o ultra wysokiej masie cząsteczkowej . Zastosowanie implantów miękkich pozwala na idealne dopasowanie się do warunków powierzchni tkanki przez co uzyskujemy solidne i pewne mocowanie. Wstępnie zawiązany przesuwny węzeł w osłonie szwu implantu eliminuje konieczność artroskopowego wiązania węzła. Konstrukcja implantu umożliwia kolejne dociągnięcie 2 pojedynczych szwów materacowych. Igły z implantami znajdują się w jednym ergonomicznym narzędziu umożliwiającym wprowadzanie implantu jedną ręką, przy każdej rotacji. Umieszczone w rękojeści pokrętło do implantacji umożliwia jednoręczne i powtarzalne dostarczanie implantów w różnych orientacjach narzędzia. Zrzucenie implantu i przeładowanie potwierdzone sygnałem dźwiękowym. Implant wyposażony jest w zintegrowany ogranicznik głębokości 10–18 mm (zwiększane co 2 mm), dostępny jest w czterech różnych opcjach: wygięcie w górę 12 i 24 stopnie, w dół 12 stopni i w wersji prostej. System umożliwia założenie implantów bez wyciągania rękojeści z kolana. | C5: szt. | D5: 75
B6: RAZEM
B8: Zamawiający wymaga stworzenia depozytu.
B10: Data | G10: Podpis osoby/osób upoważnionej
B11: ……………………………………………. | G11: ……………………………….

Sheet Zadanie nr 55
A1: Załacznik nr 9 do SWZ
A2: ZOZ/DZP/PN/16/25
A3: Zadanie nr: 55 Filtry do spirometru.
A4: Lp. | B4: Nazwa produktu | C4: Jednostka miary | D4: Ilość | E4: Cena jednostkowa netto | F4: Wartość netto | G4: VAT | H4: Cena jednostkowa brutto | I4: Wartość brutto | J4: Producent/Model/Nr katalogowy
A5: 1 | B5: Filtr antybakteryjny do spirometru Microlab spełniający prarametry produktu V892381/892380 | C5: Op=50 szt | D5: 16
B6: RAZEM
B8: Data | G8: Podpis osoby/osób upoważnionej
B9: ……………………………………………. | G9: ……………………………….

Sheet Zadanie nr 56
A1: Załacznik nr 9 do SWZ
A2: ZOZ/DZP/PN/16/25
A3: Zadanie nr 56: Opatrunki chłodzące na twarz.
A4: Lp. | B4: Nazwa produktu | C4: Jednostka miary | D4: Ilość | E4: Cena jednostkowa netto | F4: Wartość netto | G4: VAT | H4: Cena jednostkowa brutto | I4: Wartość brutto | J4: Producent/Nazwa handlowa/Numer katalogowy
A5: 1 | B5: Opatrunek z płata hydrożelu o grubości min. 3,5mm zawierający 92% wody, zawierający w składzie poliwinylopirolidon, glikol polietylenowy, oraz agar usieciowany elektronowo, wzmocniony włókniną. Do zastosowania na twarz z otworami na oczy , usta, nos, produkt sterylny. Rozmiar: 25cm x 25cm | C5: szt. | D5: 24
A6: 2 | B6: Opatrunek z płata hydrożelu o grubości min. 3,5mm zawierający 92% wody, zawierający w składzie poliwinylopirolidon, glikol polietylenowy, oraz agar usieciowany elektronowo, wzmocniony włókniną. Do zastosowania na twarz z otworami na oczy , usta, nos, produkt sterylny. Rozmiar: 30cm x 40cm | C6: szt. | D6: 24
A7: 3 | B7: Opatrunek z płata hydrożelu o grubości min. 3,5mm zawierający 92% wody, zawierający w składzie poliwinylopirolidon, glikol polietylenowy, oraz agar usieciowany elektronowo, wzmocniony włókniną. Do zastosowania na skórę, produkt sterylny. Rozmiar: 12cm x 12cm | C7: szt. | D7: 12
A8: 4 | B8: Opatrunek z płata hydrożelu o grubości min. 3,5mm zawierający 92% wody, zawierający w składzie poliwinylopirolidon, glikol polietylenowy, oraz agar usieciowany elektronowo, wzmocniony włókniną. Do zastosowania na skórę, produkt sterylny. Rozmiar: 20cm x 20cm | C8: szt. | D8: 30
A9: 5 | B9: Opatrunek z płata hydrożelu o grubości min. 3,5mm zawierający 92% wody, zawierający w składzie poliwinylopirolidon, glikol polietylenowy, oraz agar usieciowany elektronowo, wzmocniony włókniną. Do zastosowania na skórę, produkt sterylny. Rozmiar: 12cm x 24cm. | C9: szt. | D9: 24
B10: RAZEM
B11: Wszystki oferowany asortyment jest wyrobem medycznym.
B12: Oświadczam, że oferowany przedmiot zamówienia jest zgodny z opisem i spełnia wymagane parametry techniczne.
B14: data ………………………………. | G14: podpis ……………………………………….

Sheet Zadanie nr 57
A1: Załacznik nr 9 do SWZ
A2: ZOZ/DZP/PN/16/25
A3: Zadanie nr: 57 – Gąbka do FESS-u
A4: Lp. | B4: Nazwa produktu | C4: Jednostka miary | D4: Ilość | E4: Cena jednostkowa netto | F4: Wartość netto | G4: VAT | H4: Cena jednostkowa brutto | I4: Wartość brutto | J4: Producent/Model/Nr katalogowy
A5: 1 | B5: Biodegradowalny syntetyczny opatrunek 40mm x 19mmx13mm, do zabiegów chirurgii endoskopowej zatok przynosowych(FESS), czas wchłaniania 7-10 dni | C5: op=8szt | D5: 35
A6: 2 | B6: Biodegradowalny syntetyczny opatrunek 80mm, do zabiegów chirurgii endoskopowej zatok przynosowych(FESS), czas wchłaniania 7-10 dni | C6: op=8szt | D6: 20
B7: RAZEM
B9: Data | H9: Podpis osoby/osób upoważnionej
B10: ……………………………………………. | I10: ……………………………….

Sheet Zadanie nr 58
A1: Załacznik nr 9 do SWZ
A2: ZOZ/DZP/PN/16/25
D3: FORMULARZ CENOWY
A4: Zadanie nr: 58 Akcesoria laryngologiczne
A5: Lp. | B5: Nazwa produktu | C5: Jednostka miary | D5: Ilość | E5: Cena jednostkowa[zł] netto | F5: Wartość [zł] netto | G5: VAT | H5: Cena jednostkowa [zł] brutto | I5: Wartość [zł] brutto | J5: Producent/Model/Nr katalogowy
A6: 1 | B6: Kateter balonowy do tamponady przedniej i tylnej z balonem przednim poj. 30ml i tylnym poj. 10ml wykonany z silikonu i polipropylenu ,sterylny, pakowany pojedyńczo | C6: szt | D6: 50
A7: 2 | B7: Termoplastyczne zewnętrzne stabilizatory nosa 56x38x30mm, grubość 2,4mm, w formie trapezu z 3 gąbkami chłonnymi. | C7: op. 10szt | D7: 10
A8: 3 | B8: Termoplastyczne zewnętrzne stabilizatory nosa 64x40x36mm, grubość 2,4mm, w formie trapezu z 3 gąbkami chłonnymi. | C8: op. 10szt | D8: 10
A9: 4 | B9: Jednorazowe kaniule ssące do rynochirurgii z atraumatyczną zaokrągloną końcówką, z uchwytem z kontrolą siły ssania, długość 160mm średnica 3,0mm. Pakowane pojedynczo, sterylne | C9: op. 50 szt. | D9: 6
A10: 5 | B10: Jednorazowe kaniule ssące do otochirurgii ze złączem luer- zagięte ze stali nierdzewnej, atraumatyczna zakorąglona końcówka, długość 70mm, średnica 2,0mm. Pakowane pojedynczo, sterylne | C10: op. 50 szt. | D10: 2
A11: 6 | B11: Rączka do jednorazowych kaniul ssących | C11: op. 50 szt. | D11: 2
A12: 7 | B12: Haczyki uszne 0,3cm, nylonowe z włókien węglowych, długość 13,5cm niesterylne | C12: op. 100 szt | D12: 1
A13: 8 | B13: Kiureta uszna z watotrzymaczem, końcówka 1,1cm, nylonowe z włókien węglowych, długość 15cm | C13: op. 100 szt | D13: 1
A14: 9 | B14: Wewnętrzne stabilizatory nosa, silikonowe, bez kanału powietrznego 2 wykonane z miękkiego materiału 2 nie przywierają do tkanek 2 otwory do przyszycia stabilizatora 2 powierzchnia z efektem lotosu 2 sterylne, pakowane parami | C14: op. 5 par | D14: 10
A15: 10 | B15: Wewnętrzne stabilizatory nosa, silikonowe, z kanałem powietrznym 2 wykonane z miękkiego materiału 2 kanał powietrzny ułatwiający oddychanie 2 nie przywierają do tkanek 2 otwory do przyszycia stabilizatora 2 powierzchnia z efektem lotosu 2 sterylne, pakowane parami | C15: op. 5 par | D15: 5
A16: 11 | B16: Tampony szpiczaste bez nici 6cm | C16: op. 250 szt | D16: 1
A17: 12 | B17: Tampony szpiczaste bez nici 8cm | C17: op. 250 szt | D17: 1
B18: RAZEM
B21: Oferowany asortyment jest wyrobem medycznym.
B22: Oświadczam, że oferowany przedmiot zamówienia jest zgodny z opisem i spełnia wymagane parametry techniczne.
B25: data ………………………………. | G25: podpis ……………………………………….

Sheet Zadanie nr 59
A1: Załacznik nr 9 do SWZ
A2: ZOZ/DZP/PN/16/25
A3: Zadanie nr 59 – Uchwyty do laparoskopii.
A4: Lp. | B4: Nazwa produktu | C4: Jednostka miary | D4: Ilość | E4: Cena jednostkowa[zł] netto | F4: Wartość [zł] netto | G4: VAT | H4: Cena jednostkowa [zł] brutto | I4: Wartość [zł] brutto | J4: Producent/Nazwa handlowa/Numer katalogowy
A5: 1 | B5: Uchwyt instrumentów ClickLine, monopolarny, obrotowy, plastikowy z przyłączem do koagulacji, bez zapinki, kompatybilny z tubusem i wkładem pracującym firmy Karl Storz. | C5: szt | D5: 5
A6: 2 | B6: Uchwyt instrumentów ClickLine, monopolarny, obrotowy, plastikowy z przyłączem do koagulacji, z zapinką, kompatybilny z tubusem i wkładem pracującym firmy Karl Storz. | C6: szt | D6: 5
B7: RAZEM
B10: Data | G10: Podpis osoby/osób upoważnionej
B11: ……………………………………………. | G11: ……………………………….

Sheet Zadanie nr 60
A1: Załacznik nr 9 do SWZ
A2: ZOZ/DZP/PN/16/25
A3: Zadanie nr 60 – Akcesoria do pompy
A4: Lp. | B4: Nazwa produktu | C4: Jednostka miary | D4: Ilość | E4: Cena jednostkowa [zł] netto | F4: Wartość [zł] netto | G4: VAT | H4: Cena jednostkowa [zł] brutto | I4: Wartość [zł] brutto | J4: Producent/Nazwa handlowa/Numer katalogowy
A5: 1 | B5: Komora pomiarowa, autoklawow. z segmentem pompy firmy M.I.S.S. Erbe, model: Varioflow | C5: szt. | D5: 8
B6: RAZEM
B10: Data | G10: Podpis osoby/osób upoważnionej
B11: ……………………………………………. | G11: ……………………………….

Sheet Zadanie nr 61
A1: Załacznik nr 9 do SWZ
A2: ZOZ/DZP/PN/16/25
A3: Zadanie nr 61 – Pęseta
A4: Lp. | B4: Nazwa produktu | C4: Jednostka miary | D4: Ilość | E4: Cena jednostkowa[zł] netto | F4: Wartość [zł] netto | G4: VAT | H4: Cena jednostkowa [zł] brutto | I4: Wartość [zł] brutto | J4: Producent/Model/Nr katalogowy
A5: 1 | B5: Jednorazowa, sterylnie pakowana pęseta ILM 23g, aktywowana 360° Siła uścisku 25g, Długość części roboczej 32 mm. | C5: Op.=6szt. | D5: 8
B6: RAZEM
B9: ………………………………………………….. | F9: ……………………………………………
B10: Data | F10: Podpis osoby/osób uprawnionej

Sheet Zadanie nr 62
A1: Załacznik nr 9 do SWZ
A2: ZOZ/DZP/PN/16/25
A3: Zadanie nr 62 – Akcesoria do kardiomonitorów
A4: Lp. | B4: Nazwa produktu | C4: Jednostka miary | D4: Ilość | E4: Cena jednostkowa netto | F4: Wartość netto | G4: VAT | H4: Cena jednostkowa brutto | I4: Wartość brutto | J4: Producent/Model/Nr katalogowy
A5: 1 | B5: Przewód EKG z 5 odprowadzeniami (typ klamra lub zatrzask do wyboru przez zamawiającego) wielorazowego użytku, kompatybilny ze złączem Mulitimed Draeger Delta | C5: szt. | D5: 2
A6: 2 | B6: Kabel EKG kompletny 3 -odprowadzeniowy, wtyk 12 pin, z rezystorem, typu Emtel FX3000, klamra. | C6: szt. | D6: 8
A7: 3 | B7: Kabel do pomiaru spoczynkowego EkG kompletny do BTL 08 ECG | C7: szt. | D7: 4
A8: 4 | B8: Czujnik SpO2 (typ Y z opaską silikonową lub silikonowy na palec dla dzieci do wyboru przez zamawiającego) wielorazowego użytku, nierozłączny o długości 3 m, kompatybilny z kardiomonitorem Nihon Kohden | C8: szt. | D8: 2
A9: 5 | B9: Przewód EKG (3 odprowadzenia - typ klamra lub zatrzask, do wyboru przez zamawiającego) nierozłączny, wielorazowego użytku, kompatybilny z kardiomonitorem Nihon Kohden | C9: szt. | D9: 2
A10: 6 | B10: Czujnik SpO2 w technologi Masimo, typ Y, nierozłączny, wielorazowego użytku, kompatybilny z kardiomonitorem Dash, długość 3m. | C10: szt. | D10: 3
A11: 7 | B11: Czujnik SpO2 w technologi Masimo LNOP, typ Y, wielorazowego użytku, długość 0,9m | C11: szt. | D11: 2
A12: 8 | B12: Czujnik SpO2 wielokrotnego użytku- silikonowy, dla dzieci, typu Masimo LNCS, długość 0,9m. | C12: szt. | D12: 2
A13: 9 | B13: Czujnik SpO2 wielokrotnego użytku- klips na palec, dla dzieci, typu Nellcor-Oximax, długość 0,9m. | C13: szt. | D13: 2
A14: 10 | B14: Czujnik SpO2 wielokrotnego użytku Y, typu Nellcor-Oximax, | C14: szt. | D14: 1
A15: 11 | B15: Konaktor męski typu MLDA szybkozłącze plastokowe do mankietów do nihon cohden | C15: szt. | D15: 40
A16: 12 | B16: Konaktor żeński typu MLDA szybkozłącze plastikowe do mankietów Nihon Cohden | C16: szt. | D16: 40
... A19: 15 | B19: Czujnik SPO2 na ucho gumowy z kablem 3 m, kompletny do kardiomonitora Nihon Kohden | C19: szt. | D19: 16
B20: RAZEM
B24: data ………………………………. | G24: podpis ……………………………………….

Sheet Zadanie nr 63
A1: Załacznik nr 9 do SWZ
A2: ZOZ/DZP/PN/16/25
A3: Zadanie nr 63: Pas do platformy
B4: Nazwa produktu | C4: Jednostka miary | D4: Ilość | E4: Cena jednostkowa netto | F4: Wartość netto | G4: VAT | H4: Cena jednostkowa brutto | I4: Wartość brutto | J4: Producent/Nazwa handlowa/Numer katalogowy
A5: 1 | B5: Pas piersiowy do platformy Autopulse 100 | C5: op. 3szt | D5: 3
B6: RAZEM
B10: Data | G10: Podpis osoby/osób upoważnionej
B11: ……………………………………………. | G11: ……………………………….

Sheet Zadanie nr 64
A1: Załacznik nr 9 do SWZ
A2: ZOZ/DZP/PN/16/25
A3: Zadanie nr 64: Łyżki do videolaryngoskopu.
A4: Lp. | B4: Nazwa produktu | C4: Jednostka miary | D4: Ilość | E4: Cena jednostkowa netto | F4: Wartość netto | G4: VAT | H4: Cena jednostkowa brutto | I4: Wartość brutto | J4: Producent/Nazwa handlowa/Numer katalogowy
A5: 1 | B5: Łyżki do urządzenia do intubacji Provu nowej generacji, łączące nowoczesną technologię wizualizacji z unikalnym systemem naprowadzania ETT rozmiar MAC 1-4 do wyboru przy zakupie | C5: szt. | D5: 10
A6: 2 | B6: Łyżki do urządzenia do intubacji Provu nowej generacji, łączące nowoczesną technologię wizualizacji z unikalnym systemem naprowadzania ETT rozmiar Mill 00, 0, 1 do wyboru przy zakupie | C6: szt. | D6: 10
B7: RAZEM
B11: Data | G11: Podpis osoby/osób upoważnionej
B12: ……………………………………………. | G12: ……………………………….

Sheet Zadanie nr 65
A1: Załacznik nr 9 do SWZ
A2: ZOZ/DZP/PN/16/25
A3: Zadanie nr 65: Baterie do detektora.
A4: Lp. | B4: Nazwa produktu | C4: Jednostka miary | D4: Ilość | E4: Cena jednostkowa netto | F4: Wartość netto | G4: VAT | H4: Cena jednostkowa brutto | I4: Wartość brutto | J4: Producent/Nazwa handlowa/Numer katalogowy
A5: 1 | B5: Bateria do detektora do radiografii cyfrowej EXPRIMER EVS | C5: szt. | D5: 4
B6: Razem
B9: Gwarancja 24 m-ce.
B11: Data | G11: Podpis osoby/osób upoważnionej
B12: ……………………………………………. | G12: ……………………………….

Sheet Zadanie nr 66
A1: Załacznik nr 9 do SWZ
A2: ZOZ/DZP/PN/16/25
A3: Zadanie nr: 66 Osłony.
A4: Lp. | B4: Nazwa produktu | C4: Jednostka miary | D4: Ilość | E4: Cena jednostkowa netto | F4: Wartość netto | G4: VAT | H4: Cena jednostkowa brutto | I4: Wartość brutto | J4: Producent/Model/Nr katalogowy
A5: 1 | B5: Osłona sterylna na przewody tubus złożona teleskopowo 16 x 200 cm z taśmą do mocowania na końcach | C5: szt | D5: 400
A6: 2 | B6: Sterylny pokrowiec na ramię C aparatu rtg o wymiarach 100x160cm, wykonany z mocnej przezroczystej folii PE z 2 osłonami z gumką oraz 2 taśm. | C6: szt | D6: 140
A7: 3 | B7: Pojemniki na kał sterylne z łopatką | C7: szt | D7: 1000
B8: RAZEM
B11: Data | G11: Podpis osoby/osób upoważnionej
B12: ……………………………………………. | G12: ……………………………….

Sheet Zadanie nr 67
A1: Załacznik nr 9 do SWZ
A2: ZOZ/DZP/PN/16/25
A3: Zadanie nr: 67 Maski NIV
A4: Lp. | B4: Nazwa produktu | C4: Jednostka miary | D4: Ilość | E4: Cena jednostkowa netto | F4: Wartość netto | G4: VAT | H4: Cena jednostkowa brutto | I4: Wartość brutto | J4: Producent/Model/Nr katalogowy
A5: 1 | B5: Jednopacjentowa pełnotwarzowa maska do nieinwazyjnej wentylacji pacjentów (NIV) ze standardowym kolankiem, bez portu wydechowego, dla układów dwuramiennych. Maska wyposażona w automatycznie regulowaną uszczelkę „RollFit”, która pomaga w dopasowaniu do różnych kształtów twarzy pacjentów oraz minimalizuje nacisk maski na nasadę nosa. Maska wyposażona w system bezpiecznego uszczelnienia wokół sondy ustno-żołądkowych lub nosowo- żołądkowych „TubeFit”, zaprojektowane w celu zachowania skutecznego uszczelnienia a jednocześnie prawidłowego działania sondy. Maska wyposażona oddychające nagłowie „ErgoFit”, które umożliwia łatwe i szybkie zakładanie i zdejmowanie jak również komfortowe użytkowanie. Ciśnienie robocze: 4-25cmH2O, Klasa wyrobu medycznego: II Maska w czterech rozmiarach do wyboru: bardzo mała - XS, mała - S, średnia - M, duża - L (rozmiary kodowane kolorystycznie; XS – żółty, S- pomarańczowy, M – niebieski, L – zielony) Wewnątrz każdego opakowania znajduje się przewodnik zakładania masek dla prawidłowego i szybkiego dopasowania maski. Maska przeznaczona do stosowania przez 14 dni. Maski są kompatybilne z podgrzewanymi układami oddechowymi F&P. | C5: op=10szt | D5: 6
A6: 2 | B6: Jednopacjentowa ustno-podnosowa maska do nieinwazyjnej wentylacji pacjentów (NIV) ze standardowym kolankiem, bez portu wydechowego, dla układów dwuramiennych. Maska wyposażona w uszczelkę podnosową z technologią „Dynamic Support Technology”, która pomaga w uszczelnieniu oraz stabilizacji maski pod nosem. Maska wyposażona w system bezpiecznego uszczelnienia wokół sondy ustno-żołądkowych lub nosowo- żołądkowych „TubeFit”, zaprojektowane w celu zachowania skutecznego uszczelnienia a jednocześnie prawidłowego działania sondy. Maska wyposażona w kolanko obracane w dwóch osiach dzięki czemu pacjent ma większą swobodę ruchów podczas terapii. Ciśnienie robocze: 4-40 cmH2O, Klasa wyrobu medycznego: II Maska w trzech rozmiarach do wyboru: A - mała, B - średnia, C - duża Wewnątrz każdego opakowania znajduje się przewodnik zakładania masek dla prawidłowego i szybkiego dopasowania maski. Maska przeznaczona do stosowania przez 14 dni. Maski są kompatybilne z podgrzewanymi układami oddechowymi F&P | C6: op=10szt | D6: 6
B7: RAZEM
B9: Data | G9: Podpis osoby/osób upoważnionej
B10: ……………………………………………. | G10: ……………………………….
