Workbook
Name Excel_BuiltIn_Print_Area: 'Zadanie nr 7'!$A$1:$J$1
Name Excel_BuiltIn_Print_Area_14_1: #REF!
Name Excel_BuiltIn_Print_Area_16_1: #REF!
Name Excel_BuiltIn_Print_Area_17_1: #REF!
Name Excel_BuiltIn_Print_Area_18_1: #REF!
Name Excel_BuiltIn_Print_Area_19_1: 'Zadanie nr 19'!$A$3:$J$5
Name Excel_BuiltIn_Print_Area_2_1: 'Zadanie nr 2'!$A$3:$I$8
Name Excel_BuiltIn_Print_Area_22_1: #REF!
Name Excel_BuiltIn_Print_Area_22_1_1: #REF!
Name Excel_BuiltIn_Print_Area_24_1: #REF!
Name Excel_BuiltIn_Print_Area_3_1: #REF!
Name Excel_BuiltIn_Print_Area_3_1_1: 'Zadanie nr 3'!$A$3:$J$29
Name Excel_BuiltIn_Print_Area_3_1_1_1: 'Zadanie nr 3'!$A$3:$J$28
Name Excel_BuiltIn_Print_Area_4_1: 'Zadanie nr 4'!$A$3:$J$13
Name Excel_BuiltIn_Print_Area_5_1: 'Zadanie nr 5'!$A$3:$J$8
Name Excel_BuiltIn_Print_Area_6_1: 'Zadanie nr 6'!$A$3:$J$10
Name Excel_BuiltIn_Print_Area_7_1: 'Zadanie nr 7'!$A$3:$J$7
Name Excel_BuiltIn_Print_Titles_17: #REF!
Name Print_Area_0: #REF!

Sheet Zadanie nr 1
A1: Załacznik nr 9 do SWZ
A2: ZOZ/DZP/PN/16/25
A3: Zadanie nr 1- Leki różne
A4: Lp. | B4: Nazwa produktu | C4: Jednostka miary | D4: Ilość | E4: Cena jednostkowa[zł] netto | F4: Wartość [zł] netto | G4: VAT | H4: Cena jednostkowa [zł] brutto | I4: Wartość [zł] brutto | J4: EAN
A5: 1 | B5: Acarbosum 50 mg | C5: op. 30 tabl | D5: 7
A6: 2 | B6: Acetylcysteinum inj. iv. lub dooskrzelowo (roztwór) 300 mg/3 ml | C6: porcja po 5 amp. 3 ml | D6: 170
A7: 3 | B7: Acetylcysteinum tabl musujące. 200 mg | C7: porcja po 20 szt. | D7: 23
A8: 4 | B8: Acetylcysteinum tabl. musujące 600 mg | C8: porcja po 10 tabl. | D8: 150
A9: 5 | B9: Aciclovirum 800mg | C9: porcja po 30 szt | D9: 16
A10: 6 | B10: Aciclovir 250mg inj | C10: porcja po 5 fiol. | D10: 15
A11: 7 | B11: Acidum aceticum dilutum 3% | C11: porcja po 100ml | D11: 20
A12: 8 | B12: Acidum aceticym + Delphinum consolida | C12: butelka po 100ml | D12: 7
A13: 9 | B13: Acidum acetylsalicylicum tabl. 100 mg tabl dojelitowe | C13: op. 30 tabl | D13: 3
A14: 10 | B14: Acidum acetylsalicylicum tabl. 75 mg | C14: porcja po 60 tabl. | D14: 140
A15: 11 | B15: Acidum acetylsalicylicum tabl. powl. dojelitowe 150 mg | C15: porcja po 60 tabl. | D15: 30
A16: 12 | B16: Acidum acetylsalicylicum tabl 300 mg | C16: porcja po 20tabl | D16: 2
... A411: 407 | B411: Zuclopenthixol 50 mg / 1 ml inj roztw.d/wstrz | C411: op. 5 amp | D411: 3
B412: RAZEM
B414: ………………………………………………….. | E414: ……………………………………………
B415: Data | E415: Podpis osoby/osób uprawnionej

Sheet Zadanie nr 2
A1: Załacznik nr 9 do SWZ
A2: ZOZ/DZP/PN/16/25
A3: Zadanie nr 2 - Płyny infuzyjne 2
A4: Lp. | B4: Nazwa produktu | C4: Jednostka miary | D4: Ilość | E4: Cena jednostkowa[zł] netto | F4: Wartość [zł] netto | G4: VAT | H4: Cena jednostkowa [zł] brutto | I4: Wartość [zł] brutto | J4: Producent/Nazwa handlowa | K4: EAN
A5: 1 | B5: Glucosum + Natrii chloridum inj. iv. (roztwór) 2 : 1 | C5: porcja po 1 op. 250 ml | D5: 200
A6: 2 | B6: Glucosum + Natrii chloridum inj. iv. (roztwór) 2 : 1 | C6: porcja po 1 op. 500 ml | D6: 1500
A7: 3 | B7: Glucosum inj. iv. (roztwór) 100 mg/ml | C7: porcja po 1 op. 100 ml | D7: 500
A8: 4 | B8: Glucosum inj. iv. (roztwór) 50 mg/ml | C8: porcja po 1 op. 100 ml | D8: 600
A9: 5 | B9: Płyn wieloelektrolitowy o zawartości:5,75 g/1000ml chlorku sodu,4,62g/1000ml sodu ostran trójwodny,0,9g/1000ml sodu cytrynian dwuwodny,0,26g/1000ml wapnia chlorek dwuwodny,0,38g/1000ml chlorku potasu, 0,2g/1000ml magnezu chlorek sześciowodny.Osmolarność roztworu 295mOsmol/l | C9: op=250ml | D9: 1000
A10: 6 | B10: Płyn wieloelektrolitowy o zawartości:5,75 g/1000ml chlorku sodu,4,62g/1000ml sodu ostran trójwodny,0,9g/1000ml sodu cytrynian dwuwodny,0,26g/1000ml wapnia chlorek dwuwodny,0,38g/1000ml chlorku potasu, 0,2g/1000ml magnezu chlorek sześciowodny.Osmolarność roztworu 295mOsmol/l | C10: op= 500ml | D10: 1800
A11: 7 | B11: Natrii chloridum płyn 0,9 %- worek | C11: porcja po 1 szt.3000ml | D11: 300
A12: 8 | B12: Aqua rozpuszczalnik do iniekcji | C12: porcja po 500 ml | D12: 2000
A13: 9 | B13: Aqua rozpuszczalnik do iniekcji | C13: worek porcja po 100ml | D13: 800
B14: RAZEM
B17: ………………………………………………….. | F17: ……………………………………………
B18: Data | F18: Podpis osoby/osób uprawnionej

Sheet Zadanie nr 3
A1: Załacznik nr 9 do SWZ
A2: ZOZ/DZP/PN/16/25
A3: Zadanie nr 3 - Płyny infuzyjne 3
A4: Lp. | B4: Nazwa produktu | C4: Jednostka miary | D4: Ilość | E4: Cena jednostkowa[zł] netto 2023-2024 | F4: Wartość [zł] netto | G4: VAT | H4: Cena jednostkowa [zł] brutto | I4: Wartość [zł] brutto | J4: Producent/Nazwa handlowa | K4: EAN
A5: 1 | B5: Woda jałowa do przepłukiwań | C5: butelka zakręcana 1000ml | D5: 600
A6: 2 | B6: Natrium chloratum płyn do infuzji | C6: szt. płyn 0,9% 100 ml | D6: 42000
A7: 3 | B7: Natrium chloratum płyn do infuzji | C7: szt. płyn 0,9% 250 ml | D7: 14000
A8: 4 | B8: Natrium chloratum płyn do infuzji | C8: szt. płyn 0,9% 500 ml | D8: 12000
A9: 5 | B9: Natrium chloratum płyn do infuzji | C9: szt. płyn 0,9% 1000 ml | D9: 2000
A10: 6 | B10: PWE (Na,K,Ca,Mg,Cl +octan) | C10: szt. płyn 250ml | D10: 1000
A11: 7 | B11: PWE (Na,K,Ca,Mg,Cl +octan) | C11: szt. płyn 500 ml | D11: 28000
A12: 8 | B12: PWE (Na,K,Ca,Mg,Cl + octan) | C12: szt. płyn 1000 ml | D12: 3200
A13: 9 | B13: Glucosum | C13: szt. płyn 10% 500 ml | D13: 400
A14: 10 | B14: Glucosum | C14: szt. płyn 40% 500 ml | D14: 120
A15: 11 | B15: Natrium chloratum do przepłukiwania 0,9% | C15: szt. płyn 100 ml | D15: 2200
A16: 12 | B16: Natrium chloratum do przepłukiwania 0,9% | C16: szt. płyn 250 ml | D16: 1500
... A25: 21 | B25: Lekko hipotoniczny płyn ze specjalnym wskazaniem do stosowania w przypadku mocno zwapnionych cewników. Typu Uro-Tainer Solutio Suby G Skład: Na 100 ml: kwas cytrynowy jednowodny 3,23 g, glukonolakton 0,6 g, łagodny tlenek magnezu 2,8 g, bikarbonat sodowy 0,7 g, wersenian disodowy 2H2O 0,01 g rozpuszczone w wodzie do wstrzykiwań. PH = 4 | C25: op=10flakonów x 100ml | D25: 10
B26: RAZEM
B29: Warunki wymagane:
B30: Poz 11-16 roztwór konfekcjonowany we flakonie stojącym typu „ampułka”
B31: Poz 2-10 flakon posiadający dwa jednakowe samouszczelniające się porty chronione aluminiowymi kapslami, nie wymagający dezynfekcji przy pierwszym użyciu, czytelna etykieta ze skalą w granicach 3-7 umożliwiającą monitoring podaży płynów z opakowania od 250 do 1000ml, dodatkowa przestrzeń do dodania leków minimum 70ml dla płynów infuzyjnych o pojemności 100ml, minimum 110ml dla płynów infuzyjnych o pojemności 250ml, minimum 150ml dla płynów infuzyjnych o pojemności 500ml i minimum 200ml dla pojemników o pojemności 1000ml
B33: ………………………………………………….. | F33: ……………………………………………
B34: Data | F34: Podpis osoby/osób uprawnionej

Sheet Zadanie nr 4
A1: Załacznik nr 9 do SWZ
A2: ZOZ/DZP/PN/16/25
A3: Zadanie nr 4 - Enoxaparinum
A4: Lp. | B4: Nazwa produktu | C4: Jednostka miary | D4: Ilość | E4: Cena jednostkowa[zł] netto | F4: Wartość [zł] netto | G4: VAT | H4: Cena jednostkowa [zł] brutto | I4: Wartość [zł] brutto | J4: Producent/Nazwa handlowa | K4: EAN
A5: 1 | B5: HDCz 2000 j.m. Anty Xa /20 mg | C5: Op=10 amp.strz | D5: 230
A6: 2 | B6: HDCz 4000 j.m. anty Xa/ 40mg | C6: Op=10 amp.strz | D6: 2000
A7: 3 | B7: HDCz 6000 j.m. anty Xa/ 60mg | C7: Op=10 amp.strz | D7: 600
A8: 4 | B8: HDCz 8000 j.m. anty Xa /80 mg | C8: Op=10 amp.strz | D8: 130
A9: 5 | B9: HDCz 10000 j.m. anty Xa 100 mg | C9: Op=10 amp.strz | D9: 13
A10: 6 | B10: HDCz 30000 j.m. anty Xa 300 mg/3ml | C10: fiol. | D10: 10
A11: 7 | B11: HDCz 15000 j.m.anty Xa 150mg/ml | C11: Op=10 amp.strz | D11: 10
A12: 8 | B12: HDCz 12000 j.m.anty Xa 120mg/0,8ml | C12: Op=10 amp.strz | D12: 10
B13: RAZEM
B16: ……………………………………….. | F16: ……………………………………………
B17: Data | F17: Podpis osoby/osób uprawnionej

Sheet Zadanie nr 5
A1: Załacznik nr 9 do SWZ
A2: ZOZ/DZP/PN/16/25
A3: Zadanie nr 5 - Nadroparinum
A4: Lp. | B4: Nazwa produktu | C4: Jednostka miary | D4: Ilość | E4: Cena jednostkowa[zł] netto | F4: Wartość [zł] netto | G4: VAT | H4: Cena jednostkowa [zł] brutto | I4: Wartość [zł] brutto | J4: Producent/Nazwa handlowa | K4: EAN
A5: 1 | B5: HDCz 2850 j.m antyXa | C5: amp.strz 0,3 ml x 10 szt. | D5: 50
A6: 2 | B6: HDCz 3800 j.m antyXa | C6: amp.strz 0,4 ml x 10szt | D6: 50
A7: 3 | B7: HDCz 5700 j.m antyXa | C7: amp.strz 0,6 ml x 10szt | D7: 50
A8: 4 | B8: HDCz 7600 j.m antyXa | C8: amp.strz 0,8 ml x 10 szt. | D8: 10
B9: RAZEM
B13: ………………………………………………….. | F13: ……………………………………………
B14: Data | F14: Podpis osoby/osób uprawnionej

Sheet Zadanie nr 6
A1: Załacznik nr 9 do SWZ
A2: ZOZ/DZP/PN/16/25
A3: Zadanie nr 6 - Leki różne 2
A4: Lp. | B4: Nazwa produktu | C4: Jednostka miary | D4: Ilość | E4: Cena jednostkowa[zł] netto | F4: Wartość [zł] netto | G4: VAT | H4: Cena jednostkowa [zł] brutto | I4: Wartość [zł] brutto | J4: Producent/Nazwa handlowa | K4: EAN
A5: 1 | B5: Gliclazidum tabl. retard 60 mg | C5: op. 90tabl | D5: 10
A6: 2 | B6: Indapamidum tabl. powl. retard 1,5 mg | C6: op. 108 tabl. | D6: 10
A7: 3 | B7: Iwabradyna 5 mg | C7: op. 112 tabl. | D7: 10
A8: 4 | B8: Perindoprilum tabl. 5 mg | C8: porcja po 1 op. 90 szt. | D8: 30
A9: 5 | B9: Perindoprilum tabl. 10 mg | C9: porcja po 1 op. 90 szt. | D9: 20
A10: 6 | B10: Trimetazidinum tabl. powl. retard 35 mg | C10: op. 90 tabl. | D10: 10
A11: 7 | B11: Preparat złożony Perindopril 10mg + Amlodypinum 10mg | C11: op. 90 tabl. | D11: 10
A12: 8 | B12: Preparat złożony Perindopril 5mg + Amlodypinum 5mg | C12: op. 90 tabl. | D12: 10
A13: 9 | B13: perindoprilum z algininą 5+ indapamidum1,25+ Amlodypinum 5mg | C13: op.90 tabl. | D13: 5
A14: 10 | B14: Tianeptinum natricum 12.5 mg | C14: op.108 tabl | D14: 5
B15: RAZEM
B18: ………………………………………………….. | F18: ……………………………………………
B19: Data | F19: Podpis osoby/osób uprawnionej

Sheet Zadanie nr 7
A1: Załacznik nr 9 do SWZ
A2: ZOZ/DZP/PN/16/25
A3: Zadanie nr 7 - Albuminy
A4: Lp. | B4: Nazwa produktu | C4: Jednostka miary | D4: Ilość | E4: Cena jednostkowa[zł] netto | F4: Wartość [zł] netto | G4: VAT | H4: Cena jednostkowa [zł] brutto | I4: Wartość [zł] brutto | J4: Producent/Nazwa handlowa | K4: EAN
A5: 1 | B5: Albumina ludzka 20 % 50 ml | C5: flak 50 ml | D5: 200
A6: 2 | B6: Albumina ludzka 20 % 100 ml | C6: flak 100 ml | D6: 400
B7: RAZEM
B12: ………………………………………………….. | F12: ……………………………………………
B13: Data | F13: Podpis osoby/osób uprawnionej

Sheet Zadanie nr 8
A1: Załacznik nr 9 do SWZ
A2: ZOZ/DZP/PN/16/25
A3: Zadanie nr 8 – Leki różne 14
A4: Lp. | B4: Nazwa produktu | C4: Jednostka miary | D4: Ilość | E4: Cena jednostkowa[zł] netto | F4: Wartość [zł] netto | G4: VAT | H4: Cena jednostkowa [zł] brutto | I4: Wartość [zł] brutto | J4: Producent/Nazwa handlowa | K4: EAN
A5: 1 | B5: Aluminii acetas żel do użytku zewnętrznego 75g | C5: porcja po 1 op. | D5: 100
A6: 2 | B6: Bisoprololum tabl. powl. 5 mg | C6: porcja po 30 tabl. | D6: 200
A7: 3 | B7: Bisoprololum tabl. powl. 2,5 mg | C7: porcja po 30 tabl. vel 28 | D7: 140
A8: 4 | B8: Bisoprololum tabl. powl. 1,25 mg | C8: porcja po 30 tabl. vel 28 | D8: 30
A9: 5 | B9: Ketoprofenum inj. (roztwór) 100 mg/2 ml i.v./i.m | C9: porcja po 10 amp. 2 ml | D9: 300
A10: 6 | B10: Ketoprofenum tabl. powl. 100 mg | C10: porcja po 30 tabl. | D10: 100
A11: 7 | B11: Ferrosi oxidum dextranum complexum inj. im. (roztwór) 50 mg Fe+++/ml | C11: porcja po 50 amp. 2 ml | D11: 1
A12: 8 | B12: Ferrum hydroxide 50 mg/5ml syrop | C12: Porcja po 100 ml | D12: 2
A13: 9 | B13: Ferrum oxydatum saccharatum inj. iv. (roztwór) 20 mg Fe+++/ml | C13: porcja po 5 amp. 5 ml | D13: 20
A14: 10 | B14: Metoprololi sucinate 23,75 mg o spowolnionym uwalnianiu | C14: porcja po 30 tabl. o przed. uw. | D14: 40
A15: 11 | B15: Metoprololi sucinate 47,5 mg o przedłużonym uwalnianiu | C15: porcja po 30 tabl. o przed. uw. | D15: 40
A16: 12 | B16: Metoprololi sucinate 95 mg o przedłużonym uwalnianiu | C16: porcja po 30 tabl. o przed. uw. | D16: 40
... A19: 15 | B19: pantoprazol 40 mg | C19: porcja po 56 tabl. dojel. | D19: 80
B20: RAZEM
B24: ………………………………………………….. | F24: ……………………………………………
B25: Data | F25: Podpis osoby/osób uprawnionej

Sheet Zadanie nr 9
A1: Załacznik nr 9 do SWZ
A2: ZOZ/DZP/PN/16/25
A3: Zadanie nr 9 - Leki anestezjologiczne
A4: Lp. | B4: Nazwa produktu | C4: Jednostka miary | D4: Ilość | E4: Cena jednostkowa[zł] netto | F4: Wartość [zł] netto | G4: VAT | H4: Cena jednostkowa [zł] brutto | I4: Wartość [zł] brutto | J4: Producent/Nazwa handlowa | K4: EAN
A5: 1 | B5: Bupivacainum inj. dotkankowe (roztwór) 5 mg/ml spinalna jałowa pojedyńczo pakowana | C5: porcja po 5 amp. 4 ml | D5: 300
A6: 2 | B6: Lidocainum inj. iv. lub dotkankowe (roztwór) 20 mg/ml /50 ml / | C6: porcja po 5 fiol. 50 ml | D6: 2
A7: 3 | B7: Lidocainum + Prilocainum krem znieczulający | C7: porcja po 1 tuba 30 g | D7: 10
A8: 4 | B8: Bupivacainum+Epinephrinum inj. dotkankowe (roztwór) 5 mg/ml | C8: porcja po 5 fiol. 20 ml vel amp. | D8: 50
A9: 5 | B9: Mivacurii chloridum inj. iv. (roztwór) 2 mg/ml | C9: porcja po 5 amp. 5 ml | D9: 50
A10: 6 | B10: Mivacurii chloridum inj. iv. (roztwór) 20 mg/10 ml | C10: porcja po 5 amp. 10 ml | D10: 30
A11: 7 | B11: Propofolum EDTA 10mg/ml | C11: porcja po 50ml ampułkostrzykawka | D11: 10
A12: 8 | B12: Propofolum EDTA 10mg/ml | C12: porcja po 20ml x 5amp | D12: 50
A13: 9 | B13: Remifentanil 5mg proszek do sporządenia konc. Roz. /do wstrzykiwań inf. | C13: op=5fiol | D13: 30
A14: 10 | B14: Remifentanil 2mg proszek do sporządenia konc. Roz. /do wstrzykiwań inf. | C14: op=5fiol | D14: 3
A15: 11 | B15: Sugammadex 100mg/ml a 2 ml | C15: porcja po 10 fiol. 2 ml | D15: 40
B16: RAZEM
B19: ………………………………………….. | F19: ……………………………………………
B20: Data | F20: Podpis osoby/osób uprawnionej

Sheet Zadanie nr 10
A1: Załacznik nr 9 do SWZ
A2: ZOZ/DZP/PN/16/25
A3: Zadanie nr 10 - Sevofluran
A4: Lp. | B4: Nazwa produktu | C4: Jednostka miary | D4: Ilość | E4: Cena jednostkowa[zł] netto | F4: Wartość [zł] netto | G4: VAT | H4: Cena jednostkowa [zł] brutto | I4: Wartość [zł] brutto | J4: Producent/Nazwa handlowa | K4: EAN
A5: 1 | B5: Sevofluranum płyn do anestezji wziewnej kompatybilny z aparatem do znieczulenia firmy Draeger system zamknięty oraz system otwarty do wyboru przy zakupie. | C5: porcja po 1 op. 250 ml | D5: 100
A6: 2 | B6: Desfluranum 240ml | C6: op=240ml | D6: 36
B7: RAZEM
B10: Dla poz 1
B11: Na czas trwania umowy wymagane jest użyczenie 5 parowników do urządzeń: - Aspiro z parownikiem Sevo Tec 7 - 1 szt. - Drager Primus/Fabius z parownikiem Drager Vapor 2000 z auto exclusin - 3 szt. - Drager Fabius z parownikiem Vapor 2000, Quick Fill - 1 szt. Koszt użyczenia należy wliczyć w cenę oferty.
B12: Dla poz. 2
B13: Na czas trwania umowy wymagane jest użyczenie 3 szt. parowników do aparatu Drager . Koszt użyczenia należy wliczyć w cenę oferty.
B15: Data | F15: Podpis osoby/osób upoważnionej
B16: ……………………………………………. | F16: ……………………………….

Sheet Zadanie nr 11
A1: Załacznik nr 9 do SWZ
A2: ZOZ/DZP/PN/16/25
A3: Zadanie nr 11 - Mleko + preparaty dietetyczne
A4: Lp. | B4: Nazwa produktu | C4: Jednostka miary | D4: Ilość | E4: Cena jednostkowa[zł] netto | F4: Wartość [zł] netto | G4: VAT | H4: Cena jednostkowa [zł] brutto | I4: Wartość [zł] brutto | J4: Producent/Nazwa handlowa | K4: EAN
A5: 1 | B5: Mieszanka początkowa w płynie dla niemowląt z dodatkiem frukto i galaktooligosacharydów. Minimalny poziom białka 1,3g/100ml, maksymalny poziom żelaza0,53mg/100ml | C5: porcja po 1 op, x 24szt 90 ml | D5: 100
A6: 2 | B6: Mieszanka początkowa w płynie dla niemowląt z dodatkiem frukto i galaktooligosacharydów, nukleotydów oraz postbiotyków. Minimalny poziom białka 1,3g/100ml, maksymalny poziom żelaza0,53mg/100ml, z scGOS:lcFOS 9:1. | C6: porcja po 1 op.x 24szt 90 ml | D6: 50
A7: 3 | B7: Mieszanka początkowa w proszku dla niemowląt z dodatkiem frukto i galaktooligosacharydów, nukleotydów oraz postbiotyków. Minimalny poziom białka 1,3g/100ml, maksymalny poziom żelaza0,53mg/100ml, z scGOS:lcFOS 9:1. | C7: Porcja po 350 g | D7: 15
A8: 4 | B8: Mleko zastępcze początkowe od urodzenia zawierające galakto- i fukto- oligosacharydy (9:1) proszek do p. roztworu doustnego. | C8: porcja po 1 op. 350 g | D8: 15
A9: 5 | B9: Mleko zastępcze od 6 miesiąca zawierające galakto- i fukto- oligosacharydy (9:1) proszek do p. roztworu doustnego. | C9: porcja po 1 op. 350 g | D9: 20
A10: 6 | B10: Mleko zastępcze od 6 miesiąca zawierające galakto- i fukto- oligosacharydy (9:1), z dodatkiem kleiku ryżowego, proszek do p. roztworu doustnego. | C10: porcja po 1 op. 350 g | D10: 20
A11: 7 | B11: Mleko zastępcze powyżej 1 roku zawierające galakto- i fukto- oligosacharydy (9:1), proszek do p. roztworu doustnego, białko 1,3g/100ml | C11: porcja po 1 op. 350 g | D11: 30
A12: 8 | B12: Mleko zastępcze powyżej 1 roku zawierające galakto- i fukto- oligosacharydy (9:1), z dodatkiem kleiku ryżowego, proszek do p. roztworu doustnego. | C12: porcja po 1 op. 350 g | D12: 30
A13: 9 | B13: Mleko modyfikowane początkowe dla niemowląt od urodzenia z zawartością białka 1,24g/100ml, zawierające w składzie białko OPTI PRO, proszek | C13: Porcja po 650 g | D13: 10
A14: 10 | B14: Mleko modyfikowane początkowe dla niemowląt po 6 miesiącu, z zawartością białka 1,14g/100ml, zawierające w składzie białko OPTI PRO, | C14: Porcja po 650 g | D14: 15
A15: 11 | B15: Mleko modyfikowane początkowe dla niemowląt po 9 miesiącu, z zawartością białka 1g/100ml, zawierające w składzie białko OPTI PRO, proszek | C15: Porcja po 800 g | D15: 15
A16: 12 | B16: Mleko modyfikowane początkowe dla zdrowych niemowląt od urodzenia, u których istnieje podwyższone ryzyko wystąpienia reakcji alergicznych na białka mleka krowiego zawierające w składzie częściowo hydrolizowane białka serwatkowe OPTI PRO HA | C16: Porcja po 400g | D16: 15
... A44: 40 | B44: Zawierający białka serwatkowe o nieznacznym stopniu hydrolizy i synbiotyk SYNEO – unikalne połączenie oligosacharydów prebiotycznych scGOS/lcFOS w stosunku 9:1 i probiotyku – Bifidobacterium breve M-16 V. Do 6 miesiąca | C44: op=400g | D44: 5
B45: RAZEM
B47: Zmawiający dopuszcza dietetyczne środki spożywcze. Data przydatności nie mniejsza nić 6 miesięcy.
B48: Data | G48: Podpis osoby/osób upoważnionej
B49: ……………………………………………. | G49: ……………………………….

Sheet Zadanie nr 12
A1: Załacznik nr 9 do SWZ
A2: ZOZ/DZP/PN/16/25
A3: Zadanie nr 12 – Leki ZOL
A4: Lp. | B4: Nazwa produktu | C4: Jednostka miary | D4: Ilość | E4: Cena jednostkowa[zł] netto | F4: Wartość [zł] netto | G4: VAT | H4: Cena jednostkowa [zł] brutto | I4: Wartość [zł] brutto | J4: Producent/Nazwa handlowa | K4: EAN
A5: 1 | B5: Dexamethasonum tabl. 1 mg | C5: porcja po 20 tabl. | D5: 15
A6: 2 | B6: Dexamethasonum tabl. 4 mg | C6: porcja po 20 tabl. | D6: 10
A7: 3 | B7: Donepezilum 5mg | C7: porcja po 28szt | D7: 10
A8: 4 | B8: Donepezilum 10mg | C8: porcja po 28 tabl.uleg. Rozp. W jamie ustnej | D8: 70
A9: 5 | B9: Duloksetyna 30mg | C9: porcja po 28 szt. | D9: 10
A10: 6 | B10: Eplerenonum 50mg | C10: porcja po 30 szt. | D10: 30
A11: 7 | B11: Eplerenonum 25mg | C11: porcja po 30 szt. | D11: 40
A12: 8 | B12: Escitalopram 10mg | C12: porcja po 28tabl.powl. | D12: 80
A13: 9 | B13: Fludrocortison 0,1 mg tabl | C13: op po 20 tabl. | D13: 25
A14: 10 | B14: Formoterolum proszek do inhalacji w kaps. 0,012 mg | C14: porcja po 60 kaps. | D14: 10
A15: 11 | B15: Formoterolum proszek aerozol 0,012 mg | C15: porcja po 120 dawek | D15: 5
A16: 12 | B16: Hydroxyzinum draż. 10 mg | C16: porcja po 30 tabl. powl. | D16: 60
... A42: 38 | B42: Zolpidem tabl.10 mg | C42: op.20 tabl. powl. | D42: 80
B43: RAZEM
B45: Data | G45: Podpis osoby/osób upoważnionej
B46: ……………………………………………. | G46: ……………………………….
B52: złączyć hospicjum

Sheet Zadanie nr 13
A1: Załacznik nr 9 do SWZ
A2: ZOZ/DZP/PN/16/25
A3: Zadanie nr 13: Pulmonologia
A4: Lp. | B4: Nazwa produktu | C4: Jednostka miary | D4: Ilość | E4: Cena jednostkowa[zł] netto | F4: Wartość [zł] netto | G4: VAT | H4: Cena jednostkowa [zł] brutto | I4: Wartość [zł] brutto | J4: Producent/Nazwa handlowa | K4: EAN
A5: 1 | B5: 5 mikrogramów formoterolu fumaranu dwuwodnego, 9 mikrogramów glikopironiowego bromku, co odpowiada 7,2 mikrogramom glikopironium i 160 mikrogramów budezonidu. | C5: Op=120 dawek | D5: 5
A6: 2 | B6: Ciclenoside 160mcg aerozol inhalacyjny | C6: Op=120 dawek | D6: 5
A7: 3 | B7: Salmetrolum 500mcg+fluticasonu propionian 50mcg | C7: op.=60 dawek | D7: 5
A8: 4 | B8: roztwór do inhalacji; 2,5 µg + 2,5 µg (1 dawka dostarczana (1 inhalacja) zawiera: 2,5 µg tiotropium (w postaci bromku jednowodnego), 2,5 µg olodaterolu (w postaci chlorowodorku)); 30 dawek leczniczych [60 inhalacji] + inhalator Respimat | C8: op.= [60 inhalacji] + inhalator Respimat | D8: 5
A9: 5 | B9: Budesonidum + Formoteroli fumaras 160 mcg+4,5mcg aerozol inhalacyjny | C9: op.=120 dawek | D9: 5
B10: RAZEM
B12: Data | G12: Podpis osoby/osób upoważnionej
B13: ……………………………………………. | G13: ……………………………….

Sheet Zadanie nr 14
A1: Załacznik nr 9 do SWZ
A2: ZOZ/DZP/PN/16/25
A3: Zadanie nr 14 – Płyny infuzyjne 4
A4: Lp. | B4: Nazwa produktu | C4: Jednostka miary | D4: Ilość | E4: Cena jednostkowa[zł] netto | F4: Wartość [zł] netto | G4: VAT | H4: Cena jednostkowa [zł] brutto | I4: Wartość [zł] brutto | J4: Producent/Nazwa handlowa | K4: EAN
A5: 1 | B5: Aqua pro inj. | C5: szt. płyn 100 ml | D5: 3000
A6: 2 | B6: Aqua pro inj. | C6: szt. płyn 500 ml | D6: 3500
A7: 3 | B7: Glucosum inj. iv. (roztwór) 100 mg/ml | C7: szt. płyn 10% 100ml | D7: 500
A8: 4 | B8: Glucosum inj. iv. (roztwór) 50 mg/ml | C8: szt. płyn 5%. 100 ml | D8: 600
A9: 5 | B9: Glucosum | C9: szt. płyn 5% 250 ml | D9: 1350
A10: 6 | B10: Glucosum | C10: szt. płyn 5% 500 ml | D10: 8000
A11: 7 | B11: Solutio Ringeri | C11: szt. płyn 500 ml | D11: 3900
A12: 8 | B12: Solutio Ringeri | C12: szt. płyn 1000 ml | D12: 700
B13: RAZEM
B17: Data | E17: Podpis osoby/osób upoważnionej
B18: ……………………………………………. | E18: ……………………………….

Sheet Zadanie nr 15
A1: Załacznik nr 9 do SWZ
A2: ZOZ/DZP/PN/16/25
A3: Zadanie nr 15 - Omeprazol
A4: Lp. | B4: Nazwa produktu | C4: Jednostka miary | D4: Ilość | E4: Cena jednostkowa[zł] netto | F4: Wartość [zł] netto | G4: VAT | H4: Cena jednostkowa [zł] brutto | I4: Wartość [zł] brutto | J4: Producent/Nazwa handlowa | K4: EAN
A5: 1 | B5: Omeprazolum inj. (liofilizat) 40mg | C5: porcja po 1 fiol. | D5: 10000
B6: RAZEM
B8: Data …………………………………………. ………………………………………………...
H9: Podpis osoby/osób uprawnionej

Sheet Zadanie nr 16
A1: Załacznik nr 9 do SWZ
A2: ZOZ/DZP/PN/16/25
A3: Zadanie nr 16 – Antybiotyki różne
A4: Lp. | B4: Nazwa produktu | C4: Jednostka miary | D4: Ilość | E4: Cena jednostkowa[zł] netto | F4: Wartość [zł] netto | G4: VAT | H4: Cena jednostkowa [zł] brutto | I4: Wartość [zł] brutto | J4: Producent/Nazwa handlowa | K4: EAN
A5: 1 | B5: Amikacinum ophtalm.0,3% krople | C5: op.5 ml | D5: 3
A6: 2 | B6: Amoxicillinum tabl. 500 mg | C6: porcja po 16 tabl. rozpuszczalne | D6: 100
A7: 3 | B7: Amoxicillinum tabl. 1000 mg | C7: porcja po 20 tabl. rozpuszczalne | D7: 40
A8: 4 | B8: Amoxicillinum z inhibitorem beta-laktamazy inj. im./iv. (proszek do p. roztworu) 1200 mg | C8: 1 fiol | D8: 4000
A9: 5 | B9: Amoxicillinum z inhibitorem beta-laktamazy tabl. 500mg +125mg | C9: op.21 tabl. | D9: 20
A10: 6 | B10: Amoxicillinum z inhibitorem beta-laktamazy inj. im./iv. (proszek do p. Roztworu) 600 mg | C10: 1 fiol | D10: 900
A11: 7 | B11: Amoxicillinum z inhibitorem beta-laktamazy tabl. 875mg +125mg | C11: op. 14 szt. | D11: 400
A12: 8 | B12: Amoxicillinum z inhibitorem beta-laktamazy inj. im./iv. (proszek do p. roztworu) 2200 mg | C12: 1 fiol | D12: 1500
A13: 9 | B13: Ampicillinum inj. im./iv. (proszek do p. roztworu) 2000 mg z zapisem możliwości użycia okresie około porodowym | C13: porcja po 1 fiol. s.subst. | D13: 800
A14: 10 | B14: Ampicillinum inj. im./iv. (proszek do p. roztworu) 1000 mg z zapisem możliwości użycia okresie około porodowym | C14: porcja po 1 fiol. s.subst. | D14: 2000
A15: 11 | B15: Ampicillinum inj. im./iv. (proszek do p. roztworu) 500 mg z zapisem możliwości użycia okresie około porodowym | C15: porcja po 1 fiol. s.subst. | D15: 2000
A16: 12 | B16: Ampicillinum+Sulbactam, 2 g + 1g, proszek do sporządzania roztworu do wstrzykiwań i infuzji | C16: 1 fiol | D16: 100
... A78: 74 | B78: Tigecycline 50mg inj. | C78: porcja po 10 fiol. | D78: 20
B79: RAZEM
B83: Data | G83: Podpis osoby/osób upoważnionej
B84: ……………………………………………. | G84: ……………………………….

Sheet Zadanie nr 17
A1: Załacznik nr 9 do SWZ
A2: ZOZ/DZP/PN/16/25
A3: Zadanie nr 17 – Antybiotyki 5
A4: Lp. | B4: Nazwa produktu | C4: Jednostka miary | D4: Ilość | E4: Cena jednostkowa[zł] netto | F4: Wartość [zł] netto | G4: VAT | H4: Cena jednostkowa [zł] brutto | I4: Wartość [zł] brutto | J4: Producent/Nazwa handlowa | K4: EAN
A5: 1 | B5: Amikacinum inj.1000 mg / 4 ml | C5: porcja po 4ml | D5: 900
A6: 2 | B6: Amikacinum inj. im./iv. (roztwór) 250 mg/2 ml | C6: porcja po 2 ml | D6: 500
A7: 3 | B7: Amikacinum inj. im./iv. (roztwór) 500 mg/2 ml | C7: porcja po 2 ml | D7: 800
A8: 4 | B8: Cefazolinum inj. im./iv. (proszek do p. roztworu) 1000 mg | C8: porcja po 1 fiol. | D8: 9000
A9: 5 | B9: Ceftazidimum inj i.v. 1000 mg jednego producenta obszarze substancji | C9: porcja po 1 fiol. | D9: 800
A10: 6 | B10: Ceftazidimum inj i.v. 2000 mg jednego producenta obszarze substancji | C10: porcja po 1 fiol. | D10: 800
A11: 7 | B11: Cefotaximum inj. im./iv. 1000 mg | C11: porcja po 1 fiol. | D11: 600
A12: 8 | B12: Cefuroxym inj. I.m./i.v 750 mg | C12: 1 fiolka | D12: 500
A13: 9 | B13: Cefuroxym inj. I.m./i.v 1500 mg | C13: 1 fiolka | D13: 8000
A14: 10 | B14: Ceftriaxon 1g | C14: porcja po 1 fiolka | D14: 2000
A15: 11 | B15: Ceftriaxon 2g | C15: porcja po 1 fiolka | D15: 4000
A16: 12 | B16: Ciprofloxacinum tabl. powl. 500 mg | C16: porcja po 10 tabl. | D16: 150
... A19: 15 | B19: Metronidazolum inj. iv. (roztwór) 5 mg/ml | C19: porcja po 1 fl. 100 ml x 40 poj | D19: 200
B20: RAZEM
B25: Data | G25: Podpis osoby/osób upoważnionej
B26: ……………………………………………. | G26: ……………………………….

Sheet Zadanie nr 18
A1: Załacznik nr 9 do SWZ
A2: ZOZ/DZP/PN/16/25
A3: Zadanie nr 18 - Żel do cewnikowania
A4: Lp. | B4: Nazwa produktu | C4: Jednostka miary | D4: Ilość | E4: Cena jednostkowa[zł] netto | F4: Wartość [zł] netto | G4: VAT | H4: Cena jednostkowa [zł] brutto | I4: Wartość [zł] brutto | J4: Producent/Nazwa handlowa | K4: EAN
A5: 1 | B5: Lidocainum żel znieczulający do cewnikowania 5 ml lub 6ml sterylny do stosowania przy intubacji z chlorheksydyną | C5: porcja po1 szt. | D5: 4500
A6: 2 | B6: Lidocainum żel znieczulający do cewnikowania 5 ml lub 6ml sterylny do stosowania przy intubacji bez zawartości chlorheksydyny | C6: porcja po 1 szt. | D6: 200
B7: RAZEM
B9: Wymagana ulotka potwierdzająca zastosowanie
B11: Data | G11: Podpis osoby/osób upoważnionej
B12: ……………………………………………. | G12: ……………………………….

Sheet Zadanie nr 19
A1: Załacznik nr 9 do SWZ
A2: ZOZ/DZP/PN/16/25
A3: Zadanie nr 19 – Płyny do rozpuszczania leków.
A4: Lp. | B4: Nazwa produktu | C4: Jednostka miary | D4: Ilość | E4: Cena jednostkowa[zł] netto | F4: Wartość [zł] netto | G4: VAT | H4: Cena jednostkowa [zł] brutto | I4: Wartość [zł] brutto | J4: Producent/Nazwa handlowa | K4: EAN
A5: 1 | B5: Aqua rozpuszczalnik do iniekcji | C5: porcja po 100 poj. 10 ml | D5: 200
A6: 2 | B6: Natrii chloridum inj. iv. 100 mg/ml amp. pl. 10ml | C6: porcja po 1 op. 100szt | D6: 25
A7: 3 | B7: Natrii chloridum inj. (roztwór) 9 mg/ml | C7: porcja po 50 poj. 10 ml | D7: 800
B8: RAZEM
B11: Data …………………………………………. ………………………………………………...
H12: Podpis osoby/osób uprawnionej

Sheet Zadanie nr 20
A1: Załacznik nr 9 do SWZ
A2: ZOZ/DZP/PN/16/25
A3: Zadanie nr 20 - Preparaty do żywienia pozajelitowego
A4: Lp. | B4: Nazwa produktu | C4: Jednostka miary | D4: Ilość | E4: Cena jednostkowa[zł] netto | F4: Wartość [zł] netto | G4: VAT | H4: Cena jednostkowa [zł] brutto | I4: Wartość [zł] brutto | J4: Producent/Nazwa handlowa | K4: EAN
A5: 1 | B5: Worek trzykomorowy zawierający aminokwasy 40g, emulsje tłuszczowe MCT/LCT oraz glukozę ( nie więcej niż 80 g) do stosowania drogą żył obwodowych | C5: porcja po 1250ml | D5: 200
A6: 2 | B6: Worek trzykomorowy zawierający aminokwasy 60g, emulsje tłuszczowe MCT/LCT oraz glukozę ( nie więcej niż 120 g) do stosowania drogą żył obwodowych | C6: porcja po 1875ml | D6: 400
A7: 3 | B7: Worek trzykomorowy zawierający aminokwasy 48-50g azot (min. 6,8g), tłuszcze MCT/LCT, elektrolity i węglowodany do 150g). Droga podania – żyły centralne | C7: porcja po 1250ml, 1 worek | D7: 20
A8: 4 | B8: Worek trzykomorowy zawierający aminokwasy 68-72g azot (min. 10,2 g), tłuszcze MCT/LCT, elektrolity i węglowodany do 225 g). Droga podania – żyły centralne | C8: porcja po 1875ml, 1worek | D8: 20
A9: 5 | B9: Worek trzykomorowy aminokwasy: min. 35g, węglowodany: min 90g, elektrolity oraz trriglicerydy kwasów omega-3 Droga podania – żyły centralne. | C9: porcja po 625ml, 1worek | D9: 20
A10: 6 | B10: Worek trzykomorowy aminokwasy: min. 70g, węglowodany: min 180g, elektrolity oraz trriglicerydy kwasów omega-3 Droga podania – żyły centralne. | C10: porcja po 1250ml, 1 worek | D10: 20
A11: 7 | B11: Worek trzykomorowy aminokwasy: min. 105g, węglowodany: min 270g, elektrolity oraz triglicerydy kwasów omega-3 Droga podania – żyły centralne. | C11: porcja po 1875ml, 1worek | D11: 20
A12: 8 | B12: Worek trzykomorowy aminokwasy: min. 70g, węglowodany: min 180g, bez elektrolitów oraz triglicerydy kwasów omega-3 Droga podania – żyły centralne. | C12: porcja po 1250ml, 1worek | D12: 20
A13: 9 | B13: Worek trzykomorowy aminokwasy: min. 105g, węglowodany: min 270g, bez elektrolitów oraz triglicerydy kwasów omega-3 Droga podania – żyły centralne. | C13: porcja po 1875ml, 1worek | D13: 20
A14: 10 | B14: Worek trzykomorowy aminokwasy: min. 35g, węglowodany: min 90g, bez elektrolitów oraz triglicerydy kwasów omega-3 Droga podania – żyły centralne. | C14: porcja po 625ml, 1worek | D14: 20
A15: 11 | B15: Worek 3-komorowy do żywienia pozajelitowego. Emulsja do infuzji drogą żył obwodowych. Zawiera roztwór aminokwasów (40 g) z elektrolitami, glukozę (80 g), emulsję tłuszczową zawierającą olej sojowy LCT (20 g) , triglicerydy średniołańcuchowe MCT (25 g) oraz triglicerydy kwasów Omega-3 (5 g). Osmolarność 840 mOsm/l. Pojemność 1250 ml | C15: porcja po 1250ml, 1worek | D15: 20
A16: 12 | B16: Worek 3-komorowy do żywienia pozajelitowego. Emulsja do infuzji drogą żył obwodowych. Zawiera roztwór aminokwasów (60 g) z elektrolitami, glukozę (120 g), emulsję tłuszczową zawierającą olej sojowy LCT (30 g) , triglicerydy średniołańcuchowe MCT (37,5 g) oraz triglicerydy kwasów Omega-3 (7,5 g). Osmolarność 840 mOsm/l. Pojemność 1875 ml | C16: porcja po 1875ml, 1worek | D16: 20
... A18: 14 | B18: Preparat złożnony z 13 witamin 932 mg | C18: porcja po 10 fiol. | D18: 20
B19: RAZEM
B22: Data …………………………………………. ………………………………………………...
H23: Podpis osoby/osób uprawnionej

Sheet Zadanie nr 21
A1: Załacznik nr 9 do SWZ
A2: ZOZ/DZP/PN/16/25
A3: Zadanie nr 21 - Preparaty do żywienia dojelitowego
A4: Lp. | B4: Nazwa produktu | C4: Jednostka miary | D4: Ilość | E4: Cena jednostkowa[zł] netto | F4: Wartość [zł] netto | G4: VAT | H4: Cena jednostkowa [zł] brutto | I4: Wartość [zł] brutto | J4: Producent/Nazwa handlowa | K4: EAN
A5: 1 | B5: Preparat do żywienia doustnego dla diabetyków posiadający w składzie: wartość energetyczna 438 kJ/ 104 kcal; · tłuszcz 3,8 g, w tym kwasy nasycone 0,5 g, węglowodany 11,5 g, w tym cukry 8,4 g, w tym laktoza 3,6 g. | C5: Op=4 x 200 ml | D5: 100
A6: 2 | B6: Dieta wysokobiałkowa 14,6g/100ml hiperkaloryczna (2,45 kcal/ml) oparta na białku kazeinowym i serwatkowym. % energii z: białka-24%, węglowodanów-41%, tłuszczów-35%. Dieta bezglutenowa, bezresztkowa. Opakowanie typu butelka 125 ml. Smaki:truskawka, wanilia, owoce leśne, czekolada, neutralny, owoce tropikalne-imbir, smak czerwonych owoców, mokka. | C6: Op =4x125ml | D6: 230
A7: 3 | B7: Dieta kompletna pod względem odżywczym, hiperkaloryczna (2,4 kcal/ml) oparty na białku kazeinowym i serwatkowym, w minimalnym składzie Zawartość białka nie mniejsza niż 9,6g/100 ml.% energii z: białka-16%, węglowodanów-49%, tłuszczów-35%. Dieta bezglutenowa, bezresztkowa. Opakowanie typu butelka 125 ml. Smaki:truskawka, wanilia, owoce leśne, czekolada, neutralny | C7: Op =4x125ml | D7: 200
A8: 4 | B8: Dieta w płynie dla pacjentów z chorobą nowotworową zawirająca składnik immunomodulujący ( kwasy tłuszczowe Omega-3: EPA 880mg/100ml, DHA 585mg/100ml) oraz witamine D 7,85mcg/100ml, hipekaloryczna 2,45kcal/ml, zawartośc białka min 14,6 g/100ml, bezresztkowa, bezglutenowa, osmolarność: 570mOsmol/l. Butelka 125ml, Smaki Truskawkowo-malinowy, mango-brzoskwinia. | C8: Op =4x125ml | D8: 50
A9: 5 | B9: Dieta kompletna,hiperkaloryczna ( 2,4 kcal/ml) w minimalnym składzie o zawartości białka 9,5g/100ml, dieta do podaży doustnej o smaku waniliowym i truskawkowym, dieta bogatoresztkowa - zawartość błonnika 3,6 g/100 ml, bezglutenowa w opakowaniu 4x125 ml, o osmolarności 790 mOsmol/l. | C9: Op =4x125ml | D9: 50
A10: 6 | B10: Dieta wspomagająca proces gojenia odleżyn i ran przewlekłych, bezresztkowa, hiperkaloryczna (1,24 kcal/ml), bezglutenowa. Dieta zawiera argininę oraz inne składniki odżywcze, w odpowiednich proporcjach, które wspomagają i przyspieszają gojenie ran - zwiększona zawartość przeciwutleniaczy (wit C i E, karotenoidów, cynku). W minimalnym składzie: Dieta wysokobiałkowa - zawartość białka 8,8 g /100ml, o niskiej zawartości tłuszczu - 3,5g / 100ml, węglowodany 14,5 g/100ml, 28 % energii z białka, 46 % energii z węglowodanów, 26 % energii z tłuszczy, o osmolarności min. 500 mOsmol/l opakowanie 4 x 200 ml, w trzech smakach: truskawkowy, czekoladowy, waniliowy. | C10: Op =4x200ml | D10: 90
A11: 7 | B11: Dieta beztłuszczowa,hiperkaloryczna ( 1,5 kcal/ml), oparta na białku serwatkowym, źródłem węglowodanów są wolno wchłaniane maltodekstryny i sacharoza, niska zawartość sodu i fosforanów,bezresztkowa, bezglutenowa,klinicznie wolna od laktozy, w minimalnym składzie zawartośc białka 4g/100ml,węglowodany 33,5 g/100ml, 11% energii z białka, o osmolarności 750 mOsmol/l, opakowanie 4x200 ml, w dwóch smakach: truskawkowy, jabłkowy; | C11: Op =4x200ml | D11: 10
A12: 8 | B12: Dieta bezresztkowa, normokaloryczna (1-1,1 kcal/ml), zawartość: białka 4-4,5g/100ml( min. 16% En, źródło: białka serwatkowe, kazeiny, białka soi i grochu); węglowodanów 12-13g/ 100ml (maksymalnie 50% En; w tym minimum 90% węglowodany złożone), tłuszczów 3,5g-4g/ 100ml (min. 34% En); zawartość DHA+EPA nie mniej niż 30 mg/100 ml, dieta zawierająca 6 naturalnych karotenoidów (min. 0,20 mg/100ml), klinicznie wolna od laktozy (<0,025g/100ml), o osmolarności do 280 mOsmol/l. | C12: 500ml | D12: 40
A13: 9 | B13: Dieta bezresztkowa, normokaloryczna (1-1,1 kcal/ml), zawartość: białka 4-4,5g/100ml( min. 16% En, źródło: białka serwatkowe, kazeiny, białka soi i grochu); węglowodanów 12-13g/ 100ml (maksymalnie 50% En; w tym minimum 90% węglowodany złożone), tłuszczów 3,5g-4g/ 100ml (min. 34% En); zawartość DHA+EPA nie mniej niż 30 mg/100 ml, dieta zawierająca 6 naturalnych karotenoidów (min. 0,20 mg/100ml), klinicznie wolna od laktozy (<0,025g/100ml), o osmolarności do 280 mOsmol/l. | C13: 1000ml | D13: 40
A14: 10 | B14: Dieta bezresztkowa hiperkaloryczna (1,5 kcal/ml), zawartość: białka 6-7g/100 ml (min. 16% En; źródło: białka serwatkowe, kazeiny, białka soi i grochu), węglowodanów 18,5-19g/ 100ml (maksymalnie 50% En, w tym ponad 90% węglowodanów złożonych), tłuszczów 5,5-6g/ 100ml (min. 35% En); zawartość DHA+EPA nie mniej niż 30mg/100 ml, dieta zawierająca 6 naturalnych karotenoidów (min. 0,30mg/ 100ml), klinicznie wolna od laktozy (<0,025g/ 100ml), o osmolarności do 400 mOsmol/l | C14: 1000ml | D14: 400
A15: 11 | B15: Dieta bogatoresztkowa z zawartością min. 6 rodzajów błonnika (min. 1,5 g/100ml), normokaloryczna (1-1,1 kcal/ml), zawartość : białka 4-4,5g/100 ml (min. 15,5% En; źródło: białka serwatkowe, kazeiny, białka soi i grochu), węglowodanów 12-13g/ 100ml (maksymalnie 50% En, minimum 90% to węglowodany złożone), tłuszczów 3,5-4g/ 100ml (min. 34% En); zawartość DHA+EPA nie mniej niż 30 mg/100 ml, dieta zawierająca 6 naturalnych karotenoidów (min. 0,20 mg/100ml), klinicznie wolna od laktozy (0,025 g/100lm), zawartość błonnika min. 3%, o osmolarności do 280 mOsmol/l. | C15: 1000ml | D15: 300
A16: 12 | B16: Dieta kompletna w minimalnym składzie pod względem odżywczym , wysokobiałkowa, 6,3 g białka/100ml , w oparciu o białko kazeinowe, z glutaminą 1,28 g/100ml, hiperkaloryczna ( 1,25 kcal/ml), bezresztkowa, klinicznie wolna od laktozy, % energii z : białka - 20%, węglowodanów- 45%, tłuszczu- 35%, o osmolarności 275 mOsmol/l, w opakowaniu o pojemności 1000ml | C16: 1000ml | D16: 1000
... A37: 33 | B37: Łącznik do pega do strzykawki enlock/Funnel tube | C37: 6x5szt. | D37: 50
B38: RAZEM
B40: Zamawiający dopuszcza dietetyczne środki spożywcze
B41: Data przydatności nie mniejsza nić 6 miesięcy.
B43: Data …………………………………………. ………………………………………………...
H44: Podpis osoby/osób uprawnionej

Sheet Zadanie nr 22.
A1: Załacznik nr 9 do SWZ
A2: ZOZ/DZP/PN/16/25
A3: Zadanie nr 22 - Butelki do receptury
A4: Lp. | B4: Nazwa produktu | C4: Jednostka miary | D4: Ilość | E4: Cena jednostkowa[zł] netto | F4: Wartość [zł] netto | G4: VAT | H4: Cena jednostkowa [zł] brutto | I4: Wartość [zł] brutto | J4: Producent/Nazwa handlowa/Numer katalogowy
A5: 1 | B5: Butelka 30 ml z nakrętką i ktoplomierzem sterylna | C5: szt. | D5: 300
A6: 2 | B6: Butelka 125 ml z korkiem sterylna | C6: szt. | D6: 150
A7: 3 | B7: Etykiety „Trucizna” | C7: Op=100 szt | D7: 1
A8: 4 | B8: Etykieta „zmieszać przed użyciem” | C8: Op=100 szt | D8: 1
A9: 5 | B9: Etykiety na krople oczne pomarańczowe samoprzylepne. | C9: Op=100 szt | D9: 5
A10: 6 | B10: Etykiety pomarańczowe samoprzylepne | C10: Op=100 szt | D10: 20
A11: 7 | B11: Podkładki pergaminowe śr. 100 mm | C11: Op=500 szt | D11: 15
A12: 8 | B12: Pudełko na maść zakręcane | C12: porcja po 1szt z gwintem o poj 100g lub 125ml | D12: 1500
A13: 9 | B13: Torebki rec białe 50g nr 7(100x150) | C13: Op=100 szt | D13: 3
A14: 10 | B14: Torebki rec białe 75g nr 9(120x170) | C14: Op=100 szt | D14: 3
A15: 11 | B15: Torebki rec pomar 50g nr 7(100x150) | C15: Op=100 szt | D15: 3
A16: 12 | B16: Torebki rec pomar 75g nr 9(120x170) | C16: Op=100 szt | D16: 3
B17: Razem
B20: Data | H20: Podpis osoby/osób upoważnionej
B21: ……………………………………………. | H21: …………………… | I21: ……………………………….

Sheet Zadanie nr 23
A1: Załacznik nr 9 do SWZ
A2: ZOZ/DZP/PN/16/25
A3: Zadanie nr 23 Fidaxomycinum
A4: Lp. | B4: Nazwa produktu | C4: Jednostka miary | D4: Ilość | E4: Cena jednostkowa[zł] netto | F4: Wartość [zł] netto | G4: VAT | H4: Cena jednostkowa [zł] brutto | I4: Wartość [zł] brutto | J4: Producent/Nazwa handlowa | K4: EAN
A5: 1 | B5: Fidaxomycinum 200mg | C5: porcja po 20 tabl. | D5: 4
B6: RAZEM
B9: Data …………………………………………. ………………………………………………...
H10: Podpis osoby/osób uprawnionej

Sheet Zadanie nr 24
A1: Załacznik nr 9 do SWZ
A2: ZOZ/DZP/PN/16/25
A3: Zadanie nr 24 - Żywienie pozajelitowe 2
A4: Lp. | B4: Nazwa produktu | C4: Jednostka miary | D4: Ilość | E4: Cena jednostkowa[zł] netto | F4: Wartość [zł] netto | G4: VAT | H4: Cena jednostkowa [zł] brutto | I4: Wartość [zł] brutto | J4: Producent/Nazwa handlowa | K4: EAN
A5: 1 | B5: Worek trzykomorowy do żywienia pozajelitowego drogą żył centralnych zawierający roztwór aminokwasów, 20% emulsję tłuszczową LTC, 80% oliwy z oliwek, węglowodany i elektrolity. Zawartość azotu 9 g ,energia 1070, osmolarność 1310 mOsm/l w pojemności 1000ml typu Olimel N9 E | C5: szt. | D5: 100
A6: 2 | B6: Worek trzykomorowy do żywienia pozajelitowego drogą żył centralnych zawierający roztwór aminokwasów, 20% emulsję tłuszczową LTC, 80% oliwy z oliwek, węglowodany bez zawartości elektrolitów Zawartość azotu 13,5g ,energia 1600, osmolarność 1170 mOsm/l w pojemności 1500ml typu Olimel N9 | C6: szt. | D6: 150
A7: 3 | B7: Worek trzykomorowy do żywienia pozajelitowego drogą żył centralnych zawierający roztwór aminokwasów, 20% emulsję tłuszczową LTC, 80% oliwy z oliwek, węglowodany i elektrolity. Zawartość azotu 13.5 g ,energia 1600, osmolarność 1310 mOsm/l w pojemności 1500ml typu Olimel N9 E | C7: szt. | D7: 100
A8: 4 | B8: Worek trzykomorowy do żywienia pozajelitowego drogą żył centralnych zawierający roztwór aminokwasów: 14,2%, emulsję tłuszczową 17,5%, oczyszczony olej z oliwek+oczyszczony olej sojowy 22,75 g, węglowodany 27,5% i elektrolity. 650ml typu Olimel N12 E | C8: szt. | D8: 200
A9: 5 | B9: Worek trzykomorowy do żywienia pozajelitowego drogą żył centralnych zawierający roztwór aminokwasów: 14,2%, emulsję tłuszczową 17,5%, oczyszczony olej z oliwek+ oczyszczony olej sojowy 35,00 g, węglowodany 27,5% i elektrolity. 1000 ml typu Olimel N12 E | C9: szt. | D9: 30
A10: 6 | B10: Worek trzykomorowy do żywienia pozajelitowego drogą żył centralnych zawierający roztwór aminokwasów: 14,2%, emulsję tłuszczową 17,5%, oczyszczony olej z oliwek+oczyszczony olej sojowy 52,50 g, węglowodany 27,5% i elektrolity. 1500 ml typu Olimel N12 E | C10: szt. | D10: 200
A11: 7 | B11: Witaminy rozpuszczalne w tłuszczach i w wodzie zestaw 12 witamin typu Cernevit – lifilizat | C11: op=10amp | D11: 90
A12: 8 | B12: Koncentrat pierwiastków śladowych do żywienia pozajelitowego w postaci soli organicznych o składzie molowym (µmol / 10 ml) Zn 153; Cu 4,7; Mn 1,0; F 50; I 1,0; Se 0,9; Mo 0,21; Cr 0,19; Fe 18, 10ml roztworu w ampułce. | C12: op=10amp | D12: 90
A13: 9 | B13: Preparat złożony: glukoza, sodu chlorek, sodu octan trójwodny, potasu chlorek, magnezu chlorek sześciowodny | C13: op.=10 worków po 1000 ml | D13: 30
B14: Razem
B16: Data | G16: Podpis osoby/osób upoważnionej
B17: ……………………………………………. | G17: ……………………………….

Sheet Zadanie nr 25
A1: Załacznik nr 9 do SWZ
A2: ZOZ/DZP/PN/16/25
A3: Zadanie nr 25 – Leki OAIiT
A4: Lp. | B4: Nazwa produktu | C4: Jednostka miary | D4: Ilość | E4: Cena jednostkowa[zł] netto | F4: Wartość [zł] netto | G4: VAT | H4: Cena jednostkowa [zł] brutto | I4: Wartość [zł] brutto | J4: Producent/Nazwa handlowa | K4: EAN
A5: 1 | B5: Anidulafungina proszek do sporządzania koncentratu roztworu do infuzji; 100 mg; 1 fiol. | C5: 1 fiol | D5: 3
A6: 2 | B6: Alteplaza, proszek i rozpuszczalnik do sporządzania roztworu do wlewu; 50 mg; 1 flak. + rozp. 50 ml | C6: Op=1 fiol+ rozp 50ml | D6: 12
A7: 3 | B7: Aprepitant 125+80+80mg | C7: Op= 3 kaps | D7: 3
A8: 4 | B8: Argipressinum 40j.m. inj. | C8: op=5amp | D8: 50
A9: 5 | B9: Koncentrat do sporządzania roztworu do infuzji; 1 ml zawiera: 170,1 mg diwodorofosforanu potasowego, 133,5 mg diwodnego wodorofosforanu sodowego, 14 mg wodorotlenku potasu, co odpowiada 1,5 mmol (59 mg) jonów potasu, 1,5 mmol (34 mg) jonów sodu i 2 mmol (62 mg) fosforanów; 10 fiol. 20 ml | C9: op=20fiol. Vel amp | D9: 5
A10: 6 | B10: Preparat z ogranicznym fosforanem 4,32 g/20 ml | C10: Op=10 fiol po 20ml | D10: 5
A11: 7 | B11: Caspofunginum 50mg inj. Poz 7-8 muszą pochodzć od jednego producenta | C11: 1 fiol | D11: 60
A12: 8 | B12: Caspofunginum 70mg inj. Poz 7-8 muszą pochodzć od jednego producenta | C12: 1 fiol | D12: 60
A13: 9 | B13: Clatribine 10mg/10ml fiol | C13: porcja po 1 fiol. | D13: 5
A14: 10 | B14: Cytarabina 1g/20ml fiol | C14: porcja po 1 fiol | D14: 5
A15: 11 | B15: deksmedetomidyna 0,2mg/2ml | C15: porcja po 25 amp. | D15: 70
A16: 12 | B16: deksmedetomidyna 0,4mg/4ml | C16: porcja po 4 fiol. | D16: 30
... A55: 51 | B55: Woryconazolum 200mg tabl | C55: porcja po 20 tabl | D55: 1
B56: Razem
B59: Data | G59: Podpis osoby/osób upoważnionej
B60: ……………………………………………. | G60: ……………………………….

Sheet Zadanie nr 26.
A1: Załacznik nr 9 do SWZ
A2: ZOZ/DZP/PN/16/25
B3: Zadanie nr 26 – Terapia nerkozastępcza do aparatu OMNI
A4: Lp. | B4: Nazwa produktu | C4: Jednostka miary | D4: Ilość | E4: Cena jednostkowa[zł] netto | F4: Wartość [zł] netto | G4: VAT | H4: Cena jednostkowa [zł] brutto | I4: Wartość [zł] brutto | J4: Producent/Nazwa handlowa | K4: EAN
A5: 1 | B5: Płyn dializacyjny do terapii nerkozastępczej bez zawartości wapnia i zawartością fosforanów 1,25 mmol/l oraz z zawartością potasu 2 lub 4 mmol/l (zamiennie według potrzeb zamawiającego). Worek 5 l. Kompatybilne z aparatem OMNI | C5: szt. | D5: 400
A6: 2 | B6: Płyn do antykoagulacji z zawartością cytrynianu 4%. Worek 2000 ml. | C6: szt. | D6: 150
A7: 3 | B7: Zestaw drenów z filtrem o punkcie odcięcia 37 kDa i rejestracji na 96 godzin do cytrynianowej i heparynowej terapii CVVHD lub/i CVVHDF | C7: szt. | D7: 15
A8: 4 | B8: Płyn substytucyjny do terapii nerkozastępczej z zawartością wapnia 1,5 mmol/l , bez zawartości potasu lub z zawartością potasu 4 mmol/l ,bez zawartości mleczanów . Worek 5 L ( bez zawartości Potasu) (z zawartością Potasu 2mmol/l) lub (z zawartością Potasu 4mmol/l) do wyboru zamawiajacego przy zakupie | C8: szt. | D8: 150
A9: 5 | B9: Worki na filtrat z zaworem spustowym umożliwiającym drenaż bez zdejmowania worka z urządzenia. Pojemność 7 litrów. | C9: szt. | D9: 20
B10: RAZEM
B13: Data | H13: Podpis osoby/osób upoważnionej
B14: ……………………………………………. | H14: …………………… | I14: ……………………………….

Sheet Zadanie nr 27
A1: Załacznik nr 9 do SWZ
A2: ZOZ/DZP/PN/16/25
A3: Zadanie nr 27 - Propofolum
A4: Lp. | B4: Nazwa produktu | C4: Jednostka miary | D4: Ilość | E4: Cena jednostkowa[zł] netto | F4: Wartość [zł] netto | G4: VAT | H4: Cena jednostkowa [zł] brutto | I4: Wartość [zł] brutto | J4: Producent/Nazwa handlowa | K4: EAN
A5: 1 | B5: Propofolum inj. 10mg/1ml – 20ml fiolki | C5: porcja po 5 fiol. 20 ml | D5: 2400
A6: 2 | B6: Propofolum inj. 5mg/ml, 20ml fiol emulsja | C6: porcja po 5 amp. 20 ml | D6: 150
A7: 3 | B7: Propofol 2% fiol 50ml | C7: porcja po 1/fiol | D7: 150
B8: RAZEM
B11: Data …………………………………………. ………………………………………………...
H12: Podpis osoby/osób uprawnionej

Sheet Zadanie nr 28
A1: Załacznik nr 9 do SWZ
A2: ZOZ/DZP/PN/16/25
A3: Zadanie nr 28 – Leki Hospicjum
A4: Lp. | B4: Nazwa produktu | C4: Jednostka miary | D4: Ilość | E4: Cena jednostkowa[zł] netto | F4: Wartość [zł] netto | G4: VAT | H4: Cena jednostkowa [zł] brutto | I4: Wartość [zł] brutto | J4: Producent/Nazwa handlowa | K4: EAN
A5: 1 | B5: Ac. ascorbicum, Hesperidinum, Ruscus aculeatus (Cyclo 3 fort) lub równoważne | C5: porcja po 30 kaps.tw. | D5: 100
A6: 2 | B6: Acidum ibandronicum 3mg/3ml ampułkostrzykawka + igła | C6: 1 ampułko-strzykawka | D6: 20
A7: 3 | B7: Acidum Hyaluronicum 5mg | C7: porcja po 10 globulek | D7: 10
A8: 4 | B8: Bupropion 150mg | C8: porcja po 30 tabl.o zmod. Uwalnianiu | D8: 2
A9: 5 | B9: Natrii Valproas+Acidum Valpronicum 300 mg | C9: porcja po 30 tabl. | D9: 80
A10: 6 | B10: Natrii Valproas 288,2mg/5ml | C10: porcja po 150ml | D10: 50
A11: 7 | B11: Natrii Valproas+Acidum Valproicum 500mg | C11: porcja po 30 tabl.przedł. uw. | D11: 35
A12: 8 | B12: Natrii Valproas inj 400mg/4ml | C12: op=1fiol. | D12: 100
A13: 9 | B13: Natrii Valproas 750mg saszetki 30 szt. | C13: op=30sasz. | D13: 30
A14: 10 | B14: Alfuzosinum 10mg | C14: porcja po 30 szt. | D14: 10
A15: 11 | B15: Amitryptilina 25mg | C15: 60 tabl. powl. | D15: 3
A16: 12 | B16: Amitriptilina 10mg | C16: 60 tabl. powl. | D16: 3
... A72: 68 | B72: Ziprazidonum 80mg | C72: porcja po 56 kaps.tw. | D72: 1
B73: RAZEM
B76: Data | H76: Podpis osoby/osób upoważnionej
B77: ……………………………………………. | H77: ………………………………… | I77: ………………………………. | J77: ………………

Sheet zadanie nr 29
A1: Załacznik nr 9 do SWZ
A2: ZOZ/DZP/PN/16/25
A3: Zadanie nr 29 - Leki przeciwbólowe
A4: Lp. | B4: Nazwa produktu | C4: Jednostka miary | D4: Ilość | E4: Cena jednostkowa[zł] netto | F4: Wartość [zł] netto | G4: VAT | H4: Cena jednostkowa [zł] brutto | I4: Wartość [zł] brutto | J4: Producent/Nazwa handlowa | K4: EAN
A5: 1 | B5: Bupremorfina 35 mcg/h plastry | C5: Porcja po 5 plastrów | D5: 120
A6: 2 | B6: Bupremorfina plastry 52,5mcg/h | C6: Op=5 plastrów | D6: 80
A7: 3 | B7: Bupremorfina plastry 70mcg/h | C7: Op=5 plastrów | D7: 45
A8: 4 | B8: Diclofenacum + Misoprostolum tabl. powl. | C8: porcja po 20 tabl. | D8: 25
A9: 5 | B9: Diclofenacum czopki 100 mg | C9: porcja po 1 op. 10 szt. | D9: 230
A10: 6 | B10: Diclofenacum czopki 50 mg | C10: porcja po 1 op. 10 szt. | D10: 60
A11: 7 | B11: Diclofenacum inj. (roztwór) 75 mg/3 ml | C11: porcja po 5 amp. 3 ml | D11: 40
A12: 8 | B12: Diclofenacum tabl. dojelitowe 50 mg | C12: porcja po 30 tabl. | D12: 75
A13: 9 | B13: Diclofenacum maść vel żel | C13: Porcja po 100g | D13: 40
A14: 10 | B14: Dexketoprofen 0,05 g/2 ml | C14: op=5amp | D14: 50
A15: 11 | B15: Dexketoprofenum 25mg | C15: porcja po 10 tabl.powl. | D15: 10
A16: 12 | B16: Fentanyl plastry 0012mg/h | C16: Porcja po 5 plastrów | D16: 10
... A84: 80 | B84: Zofenopryl 30mg | C84: porcja po 28tabl.powl. | D84: 5
B85: RAZEM
B88: Data | H88: Podpis osoby/osób upoważnionej
B89: ……………………………………………. | H89: …………………… | I89: ……………………………….

Sheet Zadanie nr 30.
A1: Załacznik nr 9 do SWZ
A2: ZOZ/DZP/PN/16/25
A3: Zadanie nr – 30 Smoczki i butelki
A4: Lp. | B4: Nazwa produktu | C4: Jednostka miary | D4: Ilość | E4: Cena jednostkowa[zł] netto | F4: Wartość [zł] netto | G4: VAT | H4: Cena jednostkowa [zł] brutto | I4: Wartość [zł] brutto | J4: Producent/Nazwa handlowa/Numer katalogowy
A5: 1 | B5: Smoczek z elastomeru dla niemowląt 0-3 miesiące do butelek typu bebiko RTF 1 płyn, sterylne, pakowane pojedyńczo. | C5: op=180szt | D5: 30
A6: 2 | B6: Smoczek z elastomeru dla wcześniaków do butelek typu bebiko RTF 1 płyn, sterylne, pakowane pojedyńczo. | C6: op=180szt | D6: 10
A7: 3 | B7: Smoczek stosowany przy rozszczepie podniebienia. | C7: 1 szt. | D7: 50
A8: 4 | B8: Butelka jednorazowa gotowa do użytku dla niemowląt z nakrętką. | C8: 1 szt. po 50ml lub 80ml | D8: 400
A9: 5 | B9: Butelka jednorazowa gotowa do użytku dla niemowląt z nakrętką. | C9: 1 szt po 230ml | D9: 300
B10: Razem
B13: Data | H13: Podpis osoby/osób upoważnionej
B14: ……………………………………………. | H14: ………………….. | I14: ……………………………….

Sheet Zadanie nr 31
A1: Załacznik nr 9 do SWZ
A2: ZOZ/DZP/PN/16/25
B3: Zadanie nr 31 - Kontrasty jodowe
A4: Lp. | B4: Nazwa produktu | C4: Jednostka miary | D4: Ilość | E4: Cena jednostkowa[zł] netto | F4: Wartość [zł] netto | G4: VAT | H4: Cena jednostkowa [zł] brutto | I4: Wartość [zł] brutto | J4: Producent/Nazwa handlowa | K4: EAN
A5: 1 | B5: Iohexolum 300 mg I / ml i.v. | C5: Porcja po 6 x 20ml | D5: 20
A6: 2 | B6: Iohexolum 300 mg I / ml i.v. | C6: porcja po 10 x 50 ml | D6: 10
A7: 3 | B7: Iohexolum 350 mg I / ml i.v. | C7: porcja po 10 x 50ml | D7: 60
A8: 4 | B8: Iohexolum 350 mg I / ml i.v. | C8: porcja po 10 x 200ml | D8: 90
B9: RAZEM
B12: Data | H12: Podpis osoby/osób upoważnionej
B13: ……………………………………………. | H13: …………………… | I13: ……………………………….

Sheet Zadanie nr 32
A1: Załacznik nr 9 do SWZ
A2: ZOZ/DZP/PN/16/25
B3: Zadanie nr 32 – Immunoglobulina
A4: Lp. | B4: Nazwa produktu | C4: Jednostka miary | D4: Ilość | E4: Cena jednostkowa[zł] netto | F4: Wartość [zł] netto | G4: VAT | H4: Cena jednostkowa [zł] brutto | I4: Wartość [zł] brutto | J4: Producent/Nazwa handlowa | K4: EAN
A5: 1 | B5: Immunoglobuliny niespecyficzne, ludzkie inj. iv. (roztwór) 50g/l , 50 ml | C5: porcja po 1 fiol. 50ml | D5: 40
B6: RAZEM
B9: Data | H9: Podpis osoby/osób upoważnionej
B10: ……………………………………………. | H10: …………………… | I10: ……………………………….

Sheet Zadanie nr 33
A1: Załacznik nr 9 do SWZ
A2: ZOZ/DZP/PN/16/25
A3: Zadanie nr 33 - Eliglustat
A4: Lp. | B4: Nazwa produktu | C4: Jednostka miary | D4: Ilość | E4: Cena jednostkowa[zł] netto | F4: Wartość [zł] netto | G4: VAT | H4: Cena jednostkowa [zł] brutto | I4: Wartość [zł] brutto | J4: Producent/Nazwa handlowa | K4: EAN
A5: 1 | B5: Eliglustat 84mg | C5: Op=56 kaps. | D5: 18
B6: RAZEM
B9: Data | G9: Podpis osoby/osób upoważnionej
B10: ……………………………………………. | G10: …………………… | H10: ……………………………….

Sheet Zadanie nr 34
A1: Załacznik nr 9 do SWZ
A2: ZOZ/DZP/PN/16/25
A3: Zadanie nr: 34- Ferrum
A4: Lp. | B4: Nazwa produktu | C4: Jednostka miary | D4: Ilość | E4: Cena jednostkowa[zł] netto | F4: Wartość [zł] netto | G4: VAT | H4: Cena jednostkowa [zł] brutto | I4: Wartość [zł] brutto | J4: Producent/Nazwa handlowa | K4: EAN
A5: 1 | B5: Ferrum isomaltozidum 500mg/5ml | C5: porcja po 5fiolek | D5: 120
A6: 2 | B6: Ferrum 40mg /15ml roztwór doustny | C6: porcja po 20szt. | D6: 50
B7: RAZEM
B10: Data | G10: Podpis osoby/osób upoważnionej
B11: ……………………………………………. | G11: ………………………….. | H11: ……………………………….

Sheet Zadanie nr 35
A1: Załacznik nr 9 do SWZ
A2: ZOZ/DZP/PN/16/25
B3: Zadanie nr 35 - Glikokotykosteroidy
A4: Lp. | B4: Nazwa produktu | C4: Jednostka miary | D4: Ilość | E4: Cena jednostkowa[zł] netto | F4: Wartość [zł] netto | G4: VAT | H4: Cena jednostkowa [zł] brutto | I4: Wartość [zł] brutto | J4: Producent/Nazwa handlowa | K4: EAN
A5: 1 | B5: Dexamethasonum inj. (roztwór) 4 mg/ml | C5: porcja po 10 amp. 2 ml | D5: 380
A6: 2 | B6: Dexamethasonum inj. (roztwór) 4 mg/ml | C6: porcja po 10 amp. 1 ml | D6: 300
A7: 3 | B7: Hydrocortisonum fiol. 100Mg+2ml rozp. | C7: porcja po 5 fiol.+ rozp | D7: 500
A8: 4 | B8: Hydrocortisonum 25 mg + 2 ml rozp | C8: porcja po 5 fiol.+ rozp | D8: 10
A9: 5 | B9: Hydrocortisonum 20 mg | C9: porcja po 20 tabl. | D9: 20
B10: RAZEM
B13: Data | H13: Podpis osoby/osób upoważnionej
B14: ……………………………………………. | H14: …………………… | I14: ……………………………….

Sheet Zadanie nr 36
A1: Załacznik nr 9 do SWZ
A2: ZOZ/DZP/PN/16/25
A3: Zadanie nr 36 Immunoglobuliny.
A4: Lp. | B4: Nazwa produktu | C4: Jednostka miary | D4: Ilość | E4: Cena jednostkowa[zł] netto | F4: Wartość [zł] netto | G4: VAT | H4: Cena jednostkowa [zł] brutto | I4: Wartość [zł] brutto | J4: Producent/Nazwa handlowa | K4: EAN
A5: 1 | B5: Immunoglobulina ludzka do podania dożylnego 1 ml roztworu zawiera 50 mg białka osocza ludzkiego, w tym co najmniej 95% immunoglobuliny: immunoglobulina M (IgM) 6 mg, immunoglobulina A (IgA) 6 mg oraz immunoglobulina G (IgG) 38 mg. Rozkład podklas IgG: ok. 63% (IgG1), ok. 26% (IgG2), ok. 4% (IgG3), ok. 7% (IgG4) | C5: 2,5g/50ml | D5: 12
A6: 2 | B6: Immunoglobulina ludzka do podania dożylnego 1 ml roztworu zawiera 50 mg białka osocza ludzkiego, w tym co najmniej 95% immunoglobuliny: immunoglobulina M (IgM) 6 mg, immunoglobulina A (IgA) 6 mg oraz immunoglobulina G (IgG) 38 mg. Rozkład podklas IgG: ok. 63% (IgG1), ok. 26% (IgG2), ok. 4% (IgG3), ok. 7% (IgG4) | C6: 5g/100ml | D6: 12
B7: RAZEM
B10: Data | G10: Podpis osoby/osób upoważnionej
B11: ……………………………………………. | G11: ………………………….. | H11: ……………………………….

Sheet Zadanie nr 37.
A1: Załacznik nr 9 do SWZ
A2: ZOZ/DZP/PN/16/25
B3: Zadania nr 37 -Antybiotyki złożone
A4: Lp. | B4: Nazwa produktu | C4: Jednostka miary | D4: Ilość | E4: Cena jednostkowa[zł] netto | F4: Wartość [zł] netto | G4: VAT | H4: Cena jednostkowa [zł] brutto | I4: Wartość [zł] brutto | J4: Producent/Nazwa handlowa | K4: EAN
A5: 1 | B5: Ceftazidimum+avibactam 2000mg+500mg | C5: porcja po 10 fiol | D5: 2
A6: 2 | B6: Ceftozolam+Tazobactam 1g+0,5g | C6: porcja po 10 fiol | D6: 2
A7: 3 | B7: Imipenem/cilastatinum 500+500mg | C7: porcja po 10 fiol | D7: 50
A8: 4 | B8: Meropenem 500mg | C8: porcja po 10 fiol | D8: 50
A9: 5 | B9: Meropenem 1000mg | C9: porcja po 10 fiol | D9: 240
A10: 6 | B10: Meropenenm z Vaborbactamem 1g+1g | C10: porcja po 6 fiol | D10: 5
A11: 7 | B11: Piperacillinum + Tazobactamum 4g+0,5g | C11: porcja po 10fiol | D11: 700
B12: RAZEM
B16: Data | H16: Podpis osoby/osób upoważnionej
B17: ……………………………………………. | H17: ………………….. | I17: ……………………………….

Sheet Zadanie nr 38,
A1: Załacznik nr 9 do SWZ
A2: ZOZ/DZP/PN/16/25
A3: Zadanie nr 38 - Preparaty przeczyszczające
A4: Lp. | B4: Nazwa produktu | C4: Jednostka miary | D4: Ilość | E4: Cena jednostkowa[zł] netto | F4: Wartość [zł] netto | G4: VAT | H4: Cena jednostkowa [zł] brutto | I4: Wartość [zł] brutto | J4: Producent/Nazwa handlowa | K4: EAN
A5: 1 | B5: Sodu pikosiarczan + magnezu tlenek lekki + kwas cytrynowy bezwodny(0,01 g + 3,50 g + 10,97 g)/saszetkę, | C5: op po 50 saszetek | D5: 3
A6: 2 | B6: Makrogol 4000 64 g + subst. Pomocnicze | C6: Saszetki po 74 g x 48szt | D6: 100
A7: 3 | B7: Saszetka A: makrogol 3350-100g, +siarczan sodu bezwodny-7,5g + chlorek sodu-2,691g+chlorek potasu-10,15g. Saszetka B: Kwas askorbowy 4,7g + askorbinias sodu-5,9g | C7: porcja op.= saszetka A+B | D7: 100
A8: 4 | B8: Makrogol 3350, 5g. | C8: porcja po 14 sasz, | D8: 3
A9: 5 | B9: Makrogol Junior, 5g. | C9: porcja po 14 sasz po 5 g | D9: 3
A10: 6 | B10: Makrogol 10g | C10: porcja po 14 sasz. Po 10 g | D10: 3
B11: RAZEM
B14: Data | G14: Podpis osoby/osób upoważnionej
B15: ……………………………………………. | G15: ………………………….. | H15: ……………………………….

Sheet Zadanie nr 39
A1: Załacznik nr 9 do SWZ
A2: ZOZ/DZP/PN/16/25
A3: Zadanie nr 39 - Długo i krótko działające analogi insuliny.
A4: Lp. | B4: Nazwa produktu | C4: Jednostka miary | D4: Ilość | E4: Cena jednostkowa[zł] netto | F4: Wartość [zł] netto | G4: VAT | H4: Cena jednostkowa [zł] brutto | I4: Wartość [zł] brutto | J4: Producent/Nazwa handlowa | K4: EAN
A5: 1 | B5: Insulinum glargine 300j. /ml | C5: 10 wstrzykiwaczy | D5: 10
A6: 2 | B6: Insulinum glargine 100j. /ml | C6: 5 wstrzykiwaczy | D6: 15
A7: 3 | B7: Insulinum glulisine 100j./ml | C7: 5 wstrzykiwaczy | D7: 10
A8: 4 | B8: Insulina Lizpro 100 j./ml, roztwór do wstrzykiwań, 10 wkładów po 3 ml | C8: 10 wstrzykiwaczy | D8: 10
A9: 5 | B9: Insulina glargine + liksysenatyd 100 jednostek/ml + 33 mikrogramów/ml, roztwór do wstrzykiwań we wstrzykiwaczu | C9: 3 wstrzykiwacze | D9: 10
A10: 6 | B10: Insulina glargine + liksysenatyd 100 jednostek/ml + 50 mikrogramów/ml, roztwór do wstrzykiwań we wstrzykiwaczu | C10: 3 wstrzykiwacze | D10: 10
B11: Razem
B15: Data | G15: Podpis osoby/osób upoważnionej
B16: ……………………………………………. | G16: ……………………………….

Sheet Zadanie nr 40
A1: Załacznik nr 9 do SWZ
A2: ZOZ/DZP/PN/16/25
A3: Zadanie nr 40 – Preparaty RTU
A4: Lp. | B4: Nazwa produktu | C4: Jednostka miary | D4: Ilość | E4: Cena jednostkowa[zł] netto | F4: Wartość [zł] netto | G4: VAT | H4: Cena jednostkowa [zł] brutto | I4: Wartość [zł] brutto | J4: Producent/Nazwa handlowa | K4: EAN
A5: 1 | B5: Amikacinum 2,5mg/ml | C5: butelka do infuzji 100ml | D5: 30
A6: 2 | B6: Amikacinum 5mg/ml | C6: butelka do infuzji 100ml | D6: 30
A7: 3 | B7: Amikacinum 10mg/ml | C7: butelka do infuzji 100ml | D7: 30
A8: 4 | B8: Gentamicinum (roztwór) 80 mg/80 ml | C8: porcja fiolka 80 ml | D8: 30
A9: 5 | B9: Gentamicinum (roztwór) 240 mg/80 ml | C9: porcja fiolka 80 ml | D9: 30
A10: 6 | B10: Ibuprofen 200mg/50ml inj | C10: Porcja po 20 szt | D10: 30
A11: 7 | B11: Ibuprofen 400mg/100ml inj. | C11: Porcja po 20 szt | D11: 70
A12: 8 | B12: Ibuprofen 600mg/100ml inj. | C12: Porcja po 20 szt | D12: 20
B13: RAZEM
B17: Data | H17: Podpis osoby/osób upoważnionej
B18: ……………………………………………. | I18: ……………………………….

Sheet Zadanie nr 41
A1: Załacznik nr 9 do SWZ
A2: ZOZ/DZP/PN/16/25
A3: Zadanie nr 41 - Antybiotyki
A4: Lp. | B4: Nazwa produktu | C4: Jednostka miary | D4: Ilość | E4: Cena jednostkowa[zł] netto | F4: Wartość [zł] netto | G4: VAT | H4: Cena jednostkowa [zł] brutto | I4: Wartość [zł] brutto | J4: Producent/Nazwa handlowa | K4: EAN
A5: 1 | B5: Vancomycinym 1000 mg/5ml inj. i.v., p.o. | C5: porcja po 5 szt. | D5: 230
A6: 2 | B6: Clindamycin 150 mg/ml | C6: Porcja po 4ml w 5 amp | D6: 250
A7: 3 | B7: Clindamycin 600 mg | C7: porcja po 12 kaps. | D7: 10
A8: 4 | B8: Clindamycin 300mg | C8: porcja po 16 kaps. | D8: 35
B9: RAZEM
B12: Data | H12: Podpis osoby/osób upoważnionej
B13: ……………………………………………. | I13: ……………………………….

Sheet Zadanie nr 42
A1: Załacznik nr 9 do SWZ
A2: ZOZ/DZP/PN/16/25
A3: Zadanie nr 42 -Leki okulistyczne
A4: Lp. | B4: Nazwa produktu | C4: Jednostka miary | D4: Ilość | E4: Cena jednostkowa[zł] netto | F4: Wartość [zł] netto | G4: VAT | H4: Cena jednostkowa [zł] brutto | I4: Wartość [zł] brutto | J4: Producent/Nazwa handlowa | K4: EAN
A5: 1 | B5: Acidum polyacrylicum 2 mg/1g żel do oczu | C5: porcja po 10g | D5: 10
A6: 2 | B6: Alcohol polivinylicus krople do oczu 14 mg/ml | C6: porcja po 2 but. Po 5 ml | D6: 10
A7: 3 | B7: Bimatoprost 0,3 mg/1 ml krople do oczu | C7: op 3ml | D7: 15
A8: 4 | B8: Brimonidinum 2mg/ml+5mg/ml krople do oczu | C8: porcja po 5ml | D8: 10
A9: 5 | B9: Cyclopetolate krople do oczu 1% | C9: op 5ml | D9: 3
A10: 6 | B10: Dexamethasonum 0,1% krople do oczu | C10: porcja po 5ml | D10: 5
A11: 7 | B11: Dexpanthenolum żel do oczu 50 mg/g | C11: porcja po 1 tuba 10 g | D11: 30
