Workbook
Name Excel_BuiltIn_Print_Area_14_1: #REF!
Name Excel_BuiltIn_Print_Area_16_1: #REF!
Name Excel_BuiltIn_Print_Area_17_1: #REF!
Name Excel_BuiltIn_Print_Area_18_1: #REF!
Name Excel_BuiltIn_Print_Area_19_1: #REF!
Name Excel_BuiltIn_Print_Area_2_1: #REF!
Name Excel_BuiltIn_Print_Area_22_1: #REF!
Name Excel_BuiltIn_Print_Area_22_1_1: #REF!
Name Excel_BuiltIn_Print_Area_24_1: #REF!
Name Excel_BuiltIn_Print_Area_3_1: #REF!
Name Excel_BuiltIn_Print_Area_3_1_1: #REF!
Name Excel_BuiltIn_Print_Area_3_1_1_1: #REF!
Name Excel_BuiltIn_Print_Area_4_1: #REF!
Name Excel_BuiltIn_Print_Area_5_1: #REF!
Name Excel_BuiltIn_Print_Area_6_1: #REF!
Name Excel_BuiltIn_Print_Area_7_1: #REF!
Name Excel_BuiltIn_Print_Titles_17: #REF!

Sheet Zadanie nr 1
A1: Załacznik nr 9 do SWZ
A2: ZOZ/DZP/PN/16/25
A3: Zadanie nr 1- Leki różne
A4: Lp. | B4: Nazwa produktu | C4: Jednostka miary | D4: Ilość | E4: Cena jednostkowa[zł] netto | F4: Wartość [zł] netto | G4: VAT | H4: Cena jednostkowa [zł] brutto | I4: Wartość [zł] brutto | J4: EAN
A5: 1 | B5: Acarbosum 50 mg | C5: op. 30 tabl | D5: 7
A6: 2 | B6: Acetylcysteinum inj. iv. lub dooskrzelowo (roztwór) 300 mg/3 ml | C6: porcja po 5 amp. 3 ml | D6: 170
A7: 3 | B7: Acetylcysteinum tabl musujące. 200 mg | C7: porcja po 20 szt. | D7: 23
A8: 4 | B8: Acetylcysteinum tabl. musujące 600 mg | C8: porcja po 10 tabl. | D8: 150
A9: 5 | B9: Aciclovirum 800mg | C9: porcja po 30 szt | D9: 16
A10: 6 | B10: Aciclovir 250mg inj | C10: porcja po 5 fiol. | D10: 15
A11: 7 | B11: Acidum aceticum dilutum 3% | C11: porcja po 100ml | D11: 20
A12: 8 | B12: Acidum aceticym + Delphinum consolida | C12: butelka po 100ml | D12: 7
A13: 9 | B13: Acidum acetylsalicylicum tabl. 100 mg tabl dojelitowe | C13: op. 30 tabl | D13: 3
A14: 10 | B14: Acidum acetylsalicylicum tabl. 75 mg | C14: porcja po 60 tabl. | D14: 140
A15: 11 | B15: Acidum acetylsalicylicum tabl. powl. dojelitowe 150 mg | C15: porcja po 60 tabl. | D15: 30
A16: 12 | B16: Acidum acetylsalicylicum tabl 300 mg | C16: porcja po 20tabl | D16: 2
... A404: 407 | B404: Zuclopenthixol 50 mg / 1 ml inj roztw.d/wstrz | C404: op. 5 amp | D404: 3
B405: RAZEM
B407: ………………………………………………….. | E407: ……………………………………………
B408: Data | E408: Podpis osoby/osób uprawnionej

Sheet Zadanie nr 16
A1: Załacznik nr 9 do SWZ
A2: ZOZ/DZP/PN/16/25
A3: Zadanie nr 16 – Antybiotyki różne
A4: Lp. | B4: Nazwa produktu | C4: Jednostka miary | D4: Ilość | E4: Cena jednostkowa[zł] netto | F4: Wartość [zł] netto | G4: VAT | H4: Cena jednostkowa [zł] brutto | I4: Wartość [zł] brutto | J4: Producent/Nazwa handlowa | K4: EAN
A5: 1 | B5: Amikacinum ophtalm.0,3% krople | C5: op.5 ml | D5: 3
A6: 2 | B6: Amoxicillinum tabl. 500 mg | C6: porcja po 16 tabl. rozpuszczalne | D6: 100
A7: 3 | B7: Amoxicillinum tabl. 1000 mg | C7: porcja po 20 tabl. rozpuszczalne | D7: 40
A8: 4 | B8: Amoxicillinum z inhibitorem beta-laktamazy inj. im./iv. (proszek do p. roztworu) 1200 mg | C8: 1 fiol | D8: 4000
A9: 5 | B9: Amoxicillinum z inhibitorem beta-laktamazy tabl. 500mg +125mg | C9: op.21 tabl. | D9: 20
A10: 6 | B10: Amoxicillinum z inhibitorem beta-laktamazy inj. im./iv. (proszek do p. Roztworu) 600 mg | C10: 1 fiol | D10: 900
A11: 7 | B11: Amoxicillinum z inhibitorem beta-laktamazy tabl. 875mg +125mg | C11: op. 14 szt. | D11: 400
A12: 8 | B12: Amoxicillinum z inhibitorem beta-laktamazy inj. im./iv. (proszek do p. roztworu) 2200 mg | C12: 1 fiol | D12: 1500
A13: 9 | B13: Ampicillinum inj. im./iv. (proszek do p. roztworu) 2000 mg z zapisem możliwości użycia okresie około porodowym | C13: porcja po 1 fiol. s.subst. | D13: 800
A14: 10 | B14: Ampicillinum inj. im./iv. (proszek do p. roztworu) 1000 mg z zapisem możliwości użycia okresie około porodowym | C14: porcja po 1 fiol. s.subst. | D14: 2000
A15: 11 | B15: Ampicillinum inj. im./iv. (proszek do p. roztworu) 500 mg z zapisem możliwości użycia okresie około porodowym | C15: porcja po 1 fiol. s.subst. | D15: 2000
A16: 12 | B16: Ampicillinum+Sulbactam, 2 g + 1g, proszek do sporządzania roztworu do wstrzykiwań i infuzji | C16: 1 fiol | D16: 100
... A76: 74 | B76: Tigecycline 50mg inj. | C76: porcja po 10 fiol. | D76: 20
B77: RAZEM
B81: Data | G81: Podpis osoby/osób upoważnionej
B82: ……………………………………………. | G82: ……………………………….

Sheet Zadanie nr 25
A1: Załacznik nr 9 do SWZ
A2: ZOZ/DZP/PN/16/25
A3: Zadanie nr 25 – Leki OAIiT
A4: Lp. | B4: Nazwa produktu | C4: Jednostka miary | D4: Ilość | E4: Cena jednostkowa[zł] netto | F4: Wartość [zł] netto | G4: VAT | H4: Cena jednostkowa [zł] brutto | I4: Wartość [zł] brutto | J4: Producent/Nazwa handlowa | K4: EAN
A5: 1 | B5: Anidulafungina proszek do sporządzania koncentratu roztworu do infuzji; 100 mg; 1 fiol. | C5: 1 fiol | D5: 3
A6: 2 | B6: Alteplaza, proszek i rozpuszczalnik do sporządzania roztworu do wlewu; 50 mg; 1 flak. + rozp. 50 ml | C6: Op=1 fiol+ rozp 50ml | D6: 12
A7: 3 | B7: Aprepitant 125+80+80mg | C7: Op= 3 kaps | D7: 3
A8: 4 | B8: Argipressinum 40j.m. inj. | C8: op=5amp | D8: 50
A9: 5 | B9: Koncentrat do sporządzania roztworu do infuzji; 1 ml zawiera: 170,1 mg diwodorofosforanu potasowego, 133,5 mg diwodnego wodorofosforanu sodowego, 14 mg wodorotlenku potasu, co odpowiada 1,5 mmol (59 mg) jonów potasu, 1,5 mmol (34 mg) jonów sodu i 2 mmol (62 mg) fosforanów; 10 fiol. 20 ml | C9: op=20fiol. Vel amp | D9: 5
A10: 6 | B10: Preparat z ogranicznym fosforanem 4,32 g/20 ml | C10: Op=10 fiol po 20ml | D10: 5
A11: 7 | B11: Caspofunginum 50mg inj. Poz 7-8 muszą pochodzć od jednego producenta | C11: 1 fiol | D11: 60
A12: 8 | B12: Caspofunginum 70mg inj. Poz 7-8 muszą pochodzć od jednego producenta | C12: 1 fiol | D12: 60
A13: 9 | B13: Clatribine 10mg/10ml fiol | C13: porcja po 1 fiol. | D13: 5
A14: 11 | B14: deksmedetomidyna 0,2mg/2ml | C14: porcja po 25 amp. | D14: 70
A15: 12 | B15: deksmedetomidyna 0,4mg/4ml | C15: porcja po 4 fiol. | D15: 30
A16: 13 | B16: Dinoprostone 10mg | C16: porcja po 5 systemów dopochwowych | D16: 4
... A54: 51 | B54: Woryconazolum 200mg tabl | C54: porcja po 20 tabl | D54: 1
B55: Razem
B58: Data | G58: Podpis osoby/osób upoważnionej
B59: ……………………………………………. | G59: ……………………………….

Sheet Zadanie nr 28
A1: Załacznik nr 9 do SWZ
A2: ZOZ/DZP/PN/16/25
A3: Zadanie nr 28 – Leki Hospicjum
A4: Lp. | B4: Nazwa produktu | C4: Jednostka miary | D4: Ilość | E4: Cena jednostkowa[zł] netto | F4: Wartość [zł] netto | G4: VAT | H4: Cena jednostkowa [zł] brutto | I4: Wartość [zł] brutto | J4: Producent/Nazwa handlowa | K4: EAN
A5: 1 | B5: Ac. ascorbicum, Hesperidinum, Ruscus aculeatus (Cyclo 3 fort) lub równoważne | C5: porcja po 30 kaps.tw. | D5: 100
A6: 2 | B6: Acidum ibandronicum 3mg/3ml ampułkostrzykawka + igła | C6: 1 ampułko-strzykawka | D6: 20
A7: 3 | B7: Acidum Hyaluronicum 5mg | C7: porcja po 10 globulek | D7: 10
A8: 4 | B8: Bupropion 150mg | C8: porcja po 30 tabl.o zmod. Uwalnianiu | D8: 2
A9: 5 | B9: Natrii Valproas+Acidum Valpronicum 300 mg | C9: porcja po 30 tabl. | D9: 80
A10: 6 | B10: Natrii Valproas 288,2mg/5ml | C10: porcja po 150ml | D10: 50
A11: 7 | B11: Natrii Valproas+Acidum Valproicum 500mg | C11: porcja po 30 tabl.przedł. uw. | D11: 35
A12: 8 | B12: Natrii Valproas inj 400mg/4ml | C12: op=1fiol. | D12: 100
A13: 9 | B13: Natrii Valproas 750mg saszetki 30 szt. | C13: op=30sasz. | D13: 30
A14: 10 | B14: Alfuzosinum 10mg | C14: porcja po 30 szt. | D14: 10
A15: 11 | B15: Amitryptilina 25mg | C15: 60 tabl. powl. | D15: 3
A16: 12 | B16: Amitriptilina 10mg | C16: 60 tabl. powl. | D16: 3
... A69: 68 | B69: Ziprazidonum 80mg | C69: porcja po 56 kaps.tw. | D69: 1
B70: RAZEM
B73: Data | H73: Podpis osoby/osób upoważnionej
B74: ……………………………………………. | H74: ………………………………… | I74: ………………………………. | J74: ………………

Sheet zadanie nr 29
A1: Załacznik nr 9 do SWZ
A2: ZOZ/DZP/PN/16/25
A3: Zadanie nr 29 - Leki przeciwbólowe
A4: Lp. | B4: Nazwa produktu | C4: Jednostka miary | D4: Ilość | E4: Cena jednostkowa[zł] netto | F4: Wartość [zł] netto | G4: VAT | H4: Cena jednostkowa [zł] brutto | I4: Wartość [zł] brutto | J4: Producent/Nazwa handlowa | K4: EAN
A5: 1 | B5: Bupremorfina 35 mcg/h plastry | C5: Porcja po 5 plastrów | D5: 120
A6: 2 | B6: Bupremorfina plastry 52,5mcg/h | C6: Op=5 plastrów | D6: 80
A7: 3 | B7: Bupremorfina plastry 70mcg/h | C7: Op=5 plastrów | D7: 45
A8: 4 | B8: Diclofenacum + Misoprostolum tabl. powl. | C8: porcja po 20 tabl. | D8: 25
A9: 5 | B9: Diclofenacum czopki 100 mg | C9: porcja po 1 op. 10 szt. | D9: 230
A10: 6 | B10: Diclofenacum czopki 50 mg | C10: porcja po 1 op. 10 szt. | D10: 60
A11: 7 | B11: Diclofenacum inj. (roztwór) 75 mg/3 ml | C11: porcja po 5 amp. 3 ml | D11: 40
A12: 8 | B12: Diclofenacum tabl. dojelitowe 50 mg | C12: porcja po 30 tabl. | D12: 75
A13: 9 | B13: Diclofenacum maść vel żel | C13: Porcja po 100g | D13: 40
A14: 10 | B14: Dexketoprofen 0,05 g/2 ml | C14: op=5amp | D14: 50
A15: 11 | B15: Dexketoprofenum 25mg | C15: porcja po 10 tabl.powl. | D15: 10
A16: 12 | B16: Fentanyl plastry 0012mg/h | C16: Porcja po 5 plastrów | D16: 10
... A83: 80 | B83: Zofenopryl 30mg | C83: porcja po 28tabl.powl. | D83: 5
B84: RAZEM
B87: Data | H87: Podpis osoby/osób upoważnionej
B88: ……………………………………………. | H88: …………………… | I88: ……………………………….

Sheet podsumowanie
C7: L.p. | D7: Przedmiot zamówienia | E7: wartość netto | F7: wartość brutto | G7: netto euro | H7: euro brutto
C8: 1 | D8: Zadanie nr 1 - Leki różne | E8: ='Zadanie nr 1'!F405 -> 0 | F8: ='Zadanie nr 1'!I405 -> 0 | G8: =E8/$J$8 -> 0 | H8: =F8/$J$8 -> 0 | J8: 4.4536
C9: 2 | D9: Zadanie nr 2 - Płyny infuzyjne pojemnikach stojących | E9: =#REF! -> #REF! | F9: =#REF! -> #REF! | G9: =E9/$J$8 -> #REF! | H9: =F9/$J$8 -> #REF!
C10: 3 | D10: Zadanie nr 3 - Płyny infuzyjne | E10: =#REF! -> #REF! | F10: =#REF! -> #REF! | G10: =E10/$J$8 -> #REF! | H10: =F10/$J$8 -> #REF!
C11: 4 | D11: Zadanie nr 4 - Enoxaparinum | E11: =#REF! -> #REF! | F11: =#REF! -> #REF! | G11: =E11/$J$8 -> #REF! | H11: =F11/$J$8 -> #REF!
C12: 5 | D12: Zadanie nr 5 - Nadroparinum | E12: =#REF! -> #REF! | F12: =#REF! -> #REF! | G12: =E12/$J$8 -> #REF! | H12: =F12/$J$8 -> #REF!
C13: 6 | D13: Zadanie nr 6 - Leki różne 2 | E13: =#REF! -> #REF! | F13: =#REF! -> #REF! | G13: =E13/$J$8 -> #REF! | H13: =F13/$J$8 -> #REF!
C14: 7 | D14: Zadanie nr 7 - Albuminy | E14: =#REF! -> #REF! | F14: =#REF! -> #REF! | G14: =E14/$J$8 -> #REF! | H14: =F14/$J$8 -> #REF!
C15: 8 | D15: Zadanie nr 8 - Leki różne 14 | E15: =#REF! -> #REF! | F15: =#REF! -> #REF! | G15: =E15/$J$8 -> #REF! | H15: =F15/$J$8 -> #REF!
C16: 9 | D16: Zadanie nr 9 - Leki anestezjologiczne | E16: =#REF! -> #REF! | F16: =#REF! -> #REF! | G16: =E16/$J$8 -> #REF! | H16: =F16/$J$8 -> #REF!
C17: 10 | D17: Zadanie nr 10 - Sevofluran | E17: =#REF! -> #REF! | F17: =#REF! -> #REF! | G17: =E17/$J$8 -> #REF! | H17: =F17/$J$8 -> #REF!
C18: 11 | D18: Zadanie nr 11 - Mleko + preparaty dietetyczne | E18: =#REF! -> #REF! | F18: =#REF! -> #REF! | G18: =E18/$J$8 -> #REF! | H18: =F18/$J$8 -> #REF!
C19: 12 | D19: Zadanie nr 12 – Leki ZOL | E19: =#REF! -> #REF! | F19: =#REF! -> #REF! | G19: =E19/$J$8 -> #REF! | H19: =F19/$J$8 -> #REF!
C20: 13 | D20: Zadanie nr 13 – Amoxycylina z inhibitorem | E20: =#REF! -> #REF! | F20: =#REF! -> #REF! | G20: =E20/$J$8 -> #REF! | H20: =F20/$J$8 -> #REF!
... C22: 15 | D22: Zadanie Nr 15 - Omeprazol | E22: =#REF! -> #REF! | F22: =#REF! -> #REF! | G22: =E22/$J$8 -> #REF! | H22: =F22/$J$8 -> #REF!
C23: 16 | D23: Zadanie nr 16 - Antybiotyki różne | E23: ='Zadanie nr 16'!F77 -> 0 | F23: ='Zadanie nr 16'!I77 -> 0 | G23: =E23/$J$8 -> 0 | H23: =F23/$J$8 -> 0
C24: 17 | D24: Zadanie nr 17 – Antybiotyki 5 | E24: =#REF! -> #REF! | F24: =#REF! -> #REF! | G24: =E24/$J$8 -> #REF! | H24: =F24/$J$8 -> #REF!
C25: 18 | D25: Zadanie nr 18 - Żel do cewnikowania | E25: =#REF! -> #REF! | F25: =#REF! -> #REF! | G25: =E25/$J$8 -> #REF! | H25: =F25/$J$8 -> #REF!
C26: 19 | D26: Zadanie nr 19 - Dalteparinum | E26: =#REF! -> #REF! | F26: =#REF! -> #REF! | G26: =E26/$J$8 -> #REF! | H26: =F26/$J$8 -> #REF!
C27: 20 | D27: Zadanie nr 20 - Preparaty do żywienia pozajelitowego | E27: =#REF! -> #REF! | F27: =#REF! -> #REF! | G27: =E27/$J$8 -> #REF! | H27: =F27/$J$8 -> #REF!
C28: 21 | D28: Zadanie nr 21 - Preparaty do żywienia dojelitowego | E28: =#REF! -> #REF! | F28: =#REF! -> #REF! | G28: =E28/$J$8 -> #REF! | H28: =F28/$J$8 -> #REF!
C29: 22 | D29: Zadanie nr 22 - Immunoglobuliny anty D | E29: =#REF! -> #REF! | F29: =#REF! -> #REF! | G29: =E29/$J$8 -> #REF! | H29: =F29/$J$8 -> #REF!
C30: 23 | D30: Zadanie nr 23 Fidaxomycinum | E30: =#REF! -> #REF! | F30: =#REF! -> #REF! | G30: =E30/$J$8 -> #REF! | H30: =F30/$J$8 -> #REF!
C31: 24 | D31: Zadanie nr 24 - Żywienie pozajelitowe 2 | E31: =#REF! -> #REF! | F31: =#REF! -> #REF! | G31: =E31/$J$8 -> #REF! | H31: =F31/$J$8 -> #REF!
C32: 25 | D32: Zadanie nr 25 - Leki OAIiT | E32: ='Zadanie nr 25'!F55 -> 0 | F32: ='Zadanie nr 25'!I55 -> 0 | G32: =E32/$J$8 -> 0 | H32: =F32/$J$8 -> 0
C33: 26 | D33: Zadanie nr 26 – Terapia nerkozastępcza do aparatu OMNI | E33: =#REF! -> #REF! | F33: =#REF! -> #REF! | G33: =E33/$J$8 -> #REF! | H33: =F33/$J$8 -> #REF!
C34: 27 | D34: Zadanie nr 27 - Propofolum | E34: =#REF! -> #REF! | F34: =#REF! -> #REF! | G34: =E34/$J$8 -> #REF! | H34: =F34/$J$8 -> #REF!
C35: 28 | D35: Zadanie nr 28 - Leki Hospicjum | E35: ='Zadanie nr 28'!F70 -> 0 | F35: ='Zadanie nr 28'!I70 -> 0 | G35: =E35/$J$8 -> 0 | H35: =F35/$J$8 -> 0
C36: 29 | D36: Zadanie nr 29 - Leki przeciwbólowe | E36: ='zadanie nr 29'!F84 -> 0 | F36: ='zadanie nr 29'!I84 -> 0 | G36: =E36/$J$8 -> 0 | H36: =F36/$J$8 -> 0
C37: 30 | D37: Zadanie nr 30 -Leki okulistyczne 2 | E37: =#REF! -> #REF! | F37: =#REF! -> #REF! | G37: =E37/$J$8 -> #REF! | H37: =F37/$J$8 -> #REF!
C38: 31 | D38: Zadanie nr 31 - Kontrasty jodowe | E38: =#REF! -> #REF! | F38: =#REF! -> #REF! | G38: =E38/$J$8 -> #REF! | H38: =F38/$J$8 -> #REF!
C39: 32 | D39: Zadanie nr 32 - Acidum ibandronicum | E39: =#REF! -> #REF! | F39: =#REF! -> #REF! | G39: =E39/$J$8 -> #REF! | H39: =F39/$J$8 -> #REF!
C40: 33 | D40: Zadanie nr 33 - Imigluceraza i eliglustat | E40: =#REF! -> #REF! | F40: =#REF! -> #REF! | G40: =E40/$J$8 -> #REF! | H40: =F40/$J$8 -> #REF!
C41: 34 | D41: Zadanie nr: 34- Ferrum | E41: =#REF! -> #REF! | F41: =#REF! -> #REF! | G41: =E41/$J$8 -> #REF! | H41: =F41/$J$8 -> #REF!
C42: 35 | D42: Zadanie nr 35 - Glikokotykosteroidy | E42: =#REF! -> #REF! | F42: =#REF! -> #REF! | G42: =E42/$J$8 -> #REF! | H42: =F42/$J$8 -> #REF!
C43: 36 | D43: Zadanie nr: 36 - Desfluran | E43: =#REF! -> #REF! | F43: =#REF! -> #REF! | G43: =E43/$J$8 -> #REF! | H43: =F43/$J$8 -> #REF!
C44: 37 | D44: Zadanie nr: 37 – Metamizolum | E44: =#REF! -> #REF! | F44: =#REF! -> #REF! | G44: =E44/$J$8 -> #REF! | H44: =F44/$J$8 -> #REF!
C45: 38 | D45: Zadanie nr 39 - Długo i krótko działające analogi insuliny i barbituran | E45: =#REF! -> #REF! | F45: =#REF! -> #REF! | G45: =E45/$J$8 -> #REF! | H45: =F45/$J$8 -> #REF!
C46: 39 | D46: Zadanie nr 40 – Preaparat RTU | E46: =#REF! -> #REF! | F46: =#REF! -> #REF! | G46: =E46/$J$8 -> #REF! | H46: =F46/$J$8 -> #REF!
C47: 40 | D47: Zadanie nr 41 - Antybiotyki | E47: =#REF! -> #REF! | F47: =#REF! -> #REF! | G47: =E47/$J$8 -> #REF! | H47: =F47/$J$8 -> #REF!
C48: 41 | D48: Zadanie nr 43 - Witamina K1 | E48: =#REF! -> #REF! | F48: =#REF! -> #REF! | G48: =E48/$J$8 -> #REF! | H48: =F48/$J$8 -> #REF!
... C62: 55 | D62: Zadanie nr: 96 - Karty chipowe do monitora hemodynamicznego Lidco Rapid | E62: =#REF! -> #REF! | F62: =#REF! -> #REF! | G62: =E62/$J$8 -> #REF! | H62: =F62/$J$8 -> #REF!
C63: 56 | D63: Zadanie nr 97: Akcesoria do kardiomonitora BleaseSirius firmy Spacelabs Medical USA | E63: ='[1]zadanie 38'!#REF! -> #REF! | F63: =#REF! -> #REF! | G63: =E63/$J$8 -> #REF! | H63: =F63/$J$8 -> #REF!
C64: 57 | D64: Zadanie nr: 115 – Tracheotomia metodą Ciaglia dodatkowe | E64: =#REF! -> #REF! | F64: =#REF! -> #REF! | G64: =E64/$J$8 -> #REF! | H64: =F64/$J$8 -> #REF!
C65: 58 | D65: Zadanie nr 129 - Odczynniki i testy, probówki | E65: =#REF! -> #REF! | F65: =#REF! -> #REF! | G65: =E65/$J$8 -> #REF! | H65: =F65/$J$8 -> #REF!
C66: 59 | D66: Zadanie nr 132 - Parawany na kółkach | E66: =#REF! -> #REF! | F66: =#REF! -> #REF! | G66: =E66/$J$8 -> #REF! | H66: =F66/$J$8 -> #REF!
C67: 60 | D67: Zadanie nr 133 - Akcesoria rehabilitacyjne | E67: =#REF! -> #REF! | F67: =#REF! -> #REF! | G67: =E67/$J$8 -> #REF! | H67: =F67/$J$8 -> #REF!
C68: 61 | D68: Zadanie nr 134 osłonki na zęby | E68: =#REF! -> #REF! | F68: =#REF! -> #REF! | G68: =E68/$J$8 -> #REF! | H68: =F68/$J$8 -> #REF!
C69: 62 | D69: Zadanie nr:142 Laktator elektryczny z akcesoriami. | E69: =#REF! -> #REF! | F69: =#REF! -> #REF! | G69: =E69/$J$8 -> #REF! | H69: =F69/$J$8 -> #REF!
C70: 63 | D70: Zadanie nr 154 Kable do elektrod BTL 5000 | E70: =#REF! -> #REF! | F70: =#REF! -> #REF! | G70: =E70/$J$8 -> #REF! | H70: =F70/$J$8 -> #REF!
E71: =SUM(E8:E70) -> #REF! | F71: =SUM(F8:F70) -> #REF! | G71: =E71/$J$8 -> #REF! | H71: =F71/$J$8 -> #REF!
