Workbook
Name Print_Area_0: Zad.11!$A$1:$J$48
Name Print_Area_0: Zad.79!$A$1:$J$8

Sheet Zad.1
B1: ZOZ/DZP/PN/23/25
B2: Załącznik Nr: 9
A4: Zadanie nr: 1 - Cewniki, dreny, kanki, zgłębniki
A5: Lp. | B5: Nazwa produktu | C5: Jednostka miary | D5: Ilość | E5: Cena jednostkowa netto | F5: Wartość netto | G5: VAT | H5: Cena jednostkowa brutto | I5: Wartość brutto | J5: Producent/Nazwa handlowa/Numer katalogowy
A6: 1 | B6: Cewnik do odsysania Redon 12 F/70, z paskiem rtg silikonowane | C6: szt. | D6: 70
A7: 2 | B7: Cewnik do odsysania Redon 14 F/70, z paskiem rtg silikonowane | C7: szt. | D7: 560
A8: 3 | B8: Cewnik do odsysania Redon 16 F / 70, z paskiem rtg silikonowane | C8: szt. | D8: 280
A9: 4 | B9: Cewnik do odsysania Redon 18 F / 70, z paskiem rtg silikonowane | C9: szt. | D9: 100
A10: 5 | B10: Cewnik do odsysania Redon 20 F / 70, z paskiem rtg silikonowane | C10: szt. | D10: 20
A11: 6 | B11: Pojemnik typ Redon, sterylny o pojemności 200-250ml, końcówka schodkowa do załączenia drenów Redon, kształt płaski, pakowane w opakowanie papier folia. | C11: szt. | D11: 50
A12: 7 | B12: Cewnik do odsysania g. dróg oddech. C 4, dł. 40 cm | C12: szt. | D12: 50
A13: 8 | B13: Cewnik do odsysania g. dróg oddech. C 6, dł. 40 cm | C13: szt. | D13: 250
A14: 9 | B14: Cewnik do odsysania g. dróg oddech. C 8, dł. 40 cm | C14: szt. | D14: 1050
A15: 10 | B15: Cewnik do odsysania g. dróg oddech. C 10, dł. 40 cm | C15: szt. | D15: 2300
A16: 11 | B16: Cewnik do odsysania g. dróg oddech. C 12, dł. 40-60 cm | C16: szt. | D16: 1800
A17: 12 | B17: Cewnik do odsysania g. dróg oddech. C 14, dł. 50-60 cm | C17: szt. | D17: 12000
... A64: 59 | B64: Zgłębnik Sengstakena G-16 | C64: szt. | D64: 5
B65: RAZEM
B68: Data | H68: Podpis osoby/osób upoważnionej
B69: ……………………………………………. | I69: ……………………………….

Sheet Zad.2
B1: ZOZ/DZP/PN/23/25
B2: Załącznik Nr: 9
A4: Zadanie nr: 2 - Embolektomia, cewniki do żył centralnych, igły do znieczuleń
A5: Lp. | B5: Nazwa produktu | C5: Jednostka miary | D5: Ilość | E5: Cena jednostkowa netto | F5: Wartość netto | G5: VAT | H5: Cena jednostkowa brutto | I5: Wartość brutto | J5: Producent/Nazwa handlowa/Numer katalogowy
A6: 1 | B6: Cewnik do embolektomii F3/800 bal. 0,2 ml | C6: szt. | D6: 20
A7: 2 | B7: Cewnik do embolektomii F 4 / 800 bal. 0,7 ml | C7: szt. | D7: 10
A8: 3 | B8: Cewnik do embolektomii F 5/ 800 bal. 1,5 ml | C8: szt. | D8: 30
A9: 4 | B9: Cewnik do embolektomii F 6 / 800 bal. 2,0 ml | C9: szt. | D9: 20
A10: 5 | B10: Cewnik do żył centralnych met Seldingera 1- światł. 20 cm x 70 mm | C10: szt. | D10: 5
A11: 6 | B11: Cewnik do żył centralnych met Seldingera 2- światł. 20 cm x 70 mm | C11: szt. | D11: 50
A12: 7 | B12: Cewnik do żył centralnych met Seldingera 3- światł. 20 cm x 70 mm | C12: szt. | D12: 85
A13: 8 | B13: Cewnik pęcherzowo-miedniczkowy / szynowanie moczowodów / Dubble J 7 F 26 cm śr pętli 4 cm | C13: szt. | D13: 6
A14: 9 | B14: Dren do drenażu kl. piersiowej z trokarem 24 F | C14: szt. | D14: 30
A15: 10 | B15: Dren do drenażu kl. piersiowej z trokarem 28 F | C15: szt. | D15: 40
A16: 11 | B16: Igła do znieczuleń z ostrzem typu Pencil-Point o długości 88-90mm, w komplecie z igłą prowadzącą 20-22G, igła wykonana z wysokiej jakości stali nierdzewnej, przeźroczysta nasadka, ułatwiająca wizualizację płynu, karbowany uchwyt. 25-27G | C16: szt. | D16: 620
A17: 12 | B17: Igła do znieczuleń IPPS Quincke 18G-26G x 90mm Do wyboru przy zakupie | C17: szt. | D17: 50
... A21: 16 | B21: Zestaw do cystostomii: Katerer typu PIGTAIL 8F,9F,10F,12F,14F/45cm z poliuretanu slikonowego z igłą z koszulką rozrywealną 8F/80mm, 9F/80mm, 12F/120mm w komplecie, strykawka 10ml luer-lock, skalpel, kołnież mocujący, Opaska zaciskowa. Rozmiar do wyboru przy zakupie. | C21: 1kpl. | D21: 10
B22: RAZEM
B24: Data | H24: Podpis osoby/osób upoważnionej
B25: ……………………………………………. | I25: ……………………………….

Sheet Zad.3
B1: ZOZ/DZP/PN/23/25
B2: Załącznik Nr: 9
A3: Zadanie nr: 3 – Osłony na ramię C
A4: Lp. | B4: Nazwa produktu | C4: Jednostka miary | D4: Ilość | E4: Cena jednostkowa netto | F4: Wartość netto | G4: VAT | H4: Cena jednostkowa brutto | I4: Wartość brutto | J4: Producent/Nazwa handlowa/Numer katalogowy
A5: 1 | B5: Osłona sterylna na przewody tubus złożona teleskopowo 16 x 200 cm z taśmą do mocowania na końcach | C5: szt. | D5: 1120
A6: 2 | B6: Sterylny pokrowiec na ramię C aparatu rtg o wymiarach 100x160cm, wykonany z mocnej przezroczystej folii PE z 2 osłonami z gumką oraz 2 taśm. | C6: szt. | D6: 360
A7: Razem
B9: Data | H9: Podpis osoby/osób upoważnionej
B10: ……………………………………………. | I10: ……………………………….

Sheet Zad.4
B2: ZOZ/DZP/PN/23/25
B3: Załącznik Nr: 9
A4: Zadanie nr: 4 - Elektromedycyna
A5: Lp. | B5: Nazwa produktu | C5: Jednostka miary | D5: Ilość | E5: Cena jednostkowa netto | F5: Wartość netto | G5: VAT | H5: Cena jednostkowa brutto | I5: Wartość brutto | J5: Producent/Nazwa handlowa/Numer katalogowy
A6: 1 | B6: Elektrody do EKG z żelem dla noworodków | C6: Op=50 szt. | D6: 11
A7: 2 | B7: Elektrody do EKG z żelem dla dzieci | C7: Op=50 szt. | D7: 30
A8: 3 | B8: Elektrody do EKG do badań spoczynkowych 44-30mm w kształcie prostokąta | C8: Op=50 szt. | D8: 1200
A9: 4 | B9: Elektrody do EKG do badań holterowskich i wysiłkowych, prostokątna z podłuznym otworem do mocowania przewodu o wyminarach 55x40mm | C9: Op=50 szt. | D9: 600
A10: 5 | B10: Elektrody do EKG Holter do próby wysiłkowej prostokątna z zaokraglonymi rogami i wypustką o wymiarach 50x40mm | C10: Op=50 szt. | D10: 100
A11: 6 | B11: Elektroda do EKG z możliwością użycia w promieniach RTG dla dorosłych, okrągła o wymiarach 45x42mm z wypustką do badań spoczynkowych | C11: Op=50 szt. | D11: 150
A12: 7 | B12: Elektrody przedsercowe, przyssawkowe komplet 6 szt. dla dorosłych | C12: 1 komplet | D12: 15
A13: 8 | B13: Elektrody przedsercowe, przyssawkowe komplet 6 szt. dziecięce | C13: 1 komplet | D13: 5
A14: 9 | B14: Elektrody kończynowe, klamrowe komplet 4 szt. dla dorosłych | C14: 1 komplet | D14: 16
A15: 10 | B15: Elektrody kończynowe, klamrowe komplet 4 szt. dla dzieci | C15: 1 komplet | D15: 2
A16: 11 | B16: Elektroda do stymulacji serca typu Quick – Combo RTS | C16: op. 2 szt. | D16: 26
A17: 12 | B17: Elektroda silikonowo węglowa do elektroterapii pasująca do urządzenia BTL, rozmiar 6x6cm | C17: szt. | D17: 12
... A36: 31 | B36: Papier termiczny na rolce 57mm x 30m bez nadruku | C36: szt. | D36: 270
B37: RAZEM
B40: Data | H40: Podpis osoby/osób upoważnionej
B41: ……………………………………………. | I41: ……………………………….

Sheet Zad.5
B2: ZOZ/DZP/PN/23/25
B3: Załącznik Nr: 9
A4: Zadanie nr: 5 - Sterylizacja
A5: Lp. | B5: Nazwa produktu | C5: Jednostka miary | D5: Ilość | E5: Cena jednostkowa netto | F5: Wartość netto | G5: VAT | H5: Cena jednostkowa brutto | I5: Wartość brutto | J5: Producent/Nazwa handlowa/Numer katalogowy
A6: 1 | B6: Rękaw fol.- pap. bez fałdy, płaski 50 mm x 200m | C6: szt. | D6: 4
A7: 2 | B7: Rękaw fol.- pap. bez fałdy, płaski 75mm x 200m | C7: szt. | D7: 40
A8: 3 | B8: Rękaw fol.- pap. bez fałdy, płaski 100 mm x 200m | C8: szt. | D8: 35
A9: 4 | B9: Rękaw fol.- pap. bez fałdy, płaski 120mm x 200m | C9: szt. | D9: 35
A10: 5 | B10: Rękaw fol.- pap. bez fałdy, płaski 150 mm x 200m | C10: szt. | D10: 30
A11: 6 | B11: Rękaw fol.- pap. bez fałdy, płaski 200-210 mm x 200m | C11: szt. | D11: 35
A12: 7 | B12: Rękaw fol.- pap. bez fałdy, płaski 300mm x 200m | C12: szt. | D12: 20
A13: 8 | B13: Rękaw fol.-pap z fałdą 150 mm x 100m | C13: szt. | D13: 60
A14: 9 | B14: Rękaw fol.-pap z fałdą 200 mm x 100m | C14: szt. | D14: 20
A15: 10 | B15: Rękaw fol.-pap z fałdą 300 mm x 100m | C15: szt. | D15: 20
A16: 11 | B16: Rękaw fol.-pap z fałdą 400 mm x 100m | C16: szt. | D16: 20
A17: 12 | B17: Taśma neutralna 19 mm | C17: szt. | D17: 70
... A32: 27 | B32: Torebki papierowo-foliowe samoklejące 300 mm x 450 mm op. a 200 szt. | C32: op.=200szt | D32: 20
B33: RAZEM
B35: Poz 1-11
B36: Parametry techniczne:
A37: - | B37: gramatura min 60g/m2
A38: - | B38: wskaźniki sterylizacji umieszczone poza obszarem pakowania na linii zgrzewu
A39: - | B39: 2 wskaźniki sterylizacji: para wodna/tlenek etylenu
A40: - | B40: folia 6-warstwowa wraz z warstwą kleju
A41: - | B41: na każdym rękawie papierowo-foliowym umieszczony wymiar nominalny rękawa (długość i szerokość numer serii)
A42: - | B42: zgrzew fabryczny 3-kanałowy
B43: Poz 18
A44: - | B44: Polyolefin i folia połączone są 3-kanałowym zgrzewem fabrycznym, którego wytrzymałość wynosi 6 Nm.
A45: - | B45: Laminat foliowy wykonany z 6-warstwowego kompozytu poliestru i polipropylenu o grubości 50μm, oraz polyolefin o gramaturze 93g/m2
B47: Data | H47: Podpis osoby/osób upoważnionej
B48: ……………………………………………. | H48: ……………………………….

Sheet Zad.6
B2: ZOZ/DZP/PN/23/25
B3: Załącznik Nr: 9
A4: Zadanie nr: 6 – Rękawice diagnostyczne
A5: Lp. | B5: Nazwa produktu | C5: Jednostka miary | D5: Ilość | E5: Cena jednostkowa netto | F5: Wartość netto | G5: VAT | H5: Cena jednostkowa brutto | I5: Wartość brutto | J5: Producent/Nazwa handlowa/Numer katalogowy
A6: 1 | B6: Rękawice lateksowe,z zewnętrzną warstwą polimerową, diagnostyczne, bezpudrowe, niejałowe. Długość rękawic min:245mm, grubość na palcu min. 0,10mm, na dłoni min. 0,08mm, na mankiecie: min. 0,06mm. Teksturowane na całej powierzchni. Siła zrywu przed starzeniem min. 6N, po starzeniu min. 6N. Zawartość protein <70ug/g. AQL max. 1,5. Wyrób medyczny klasy I zgodnie z Rozporządzeniem (UE) 2017/745 oraz środek ochrony indywidualnej kat. III typ B zgodnie z Rozporządzeniem (UE) 2016/425. Zgodne z normą EN 455 część 1,2,3 i 4, EN ISO 374-1, EN ISO 374 – 2, EN ISO 374-4,EN ISO 374-5, EN 16523-1, EN ISO 21420. Odporność na wirusy wykazana zgodnie z normą EN ISO 374-5. Dopuszczenie do kontaktu z żywnością zgodnie z Rozporządzeniem WE 1935/2004, Rozporządzeniem WE 10/2011 oraz Rozporządzeniem WE 2023/2006 ( potwierdzone deklaracją producenta), Termin ważności 5 lat od daty produkcji. Rozmiar od XS-XL do wyboru przy zakupie. | C6: op.100szt | D6: 5000
A7: 2 | B7: Rękawice nitrylowe, bezpudrowe, niejałowe, mankiet rolowany, kolor niebieski, powierzchnia zewnętrzna teksturowana na końcach palców, powierzchnia wewnętrzna chlorowana, długość min 240mm. AQL max 1.0. Grubość na palcu min 0,12mm, na dłoni min. 0,10 mm, na mankiecie min. 0,08mm. Siła zrywu przed starzeniem 7N, po starzeniu min. 7N. Rekawice zgodne z Rozporządzeniem (UE) 2017/745 zakwalifikowane jako wyrób medyczny w klasie I oraz Rozporządzeniem (UE) 2016/425 o środkach ochrony indywidualnej w kategorii III typ B. Rękawice zgodne z normą EN 455 (1-4), zgodne z normą EN ISO 374-1, EN ISO 374 – 2, EN 374-4, EN 16523-1,EN ISO 374-5. Rękawice przebadane na przenikanie mikroorganizmów zgodnie z EN ISO 374-5 lub ASTM F1671:07.Brak wykrycia w rękawicy szkodliwych ftalanów i akceleratorów chemicznych. Potwierdzony badaniem z niezależnego laboratorium na brak przebicia rękawicy dla min. 40 cytostatyków przez min 240min. oraz dla fentanylu przez min 240min. wg ASTM D6978. Dopuszczone do kontaktu z żywnością zgodnie z Rozporządzeniem WE 1935/2004, Rozporządzeniem WE 10/2011 oraz Rozporządzeniem WE nr2023/2006 ( potwierdzone deklaracją producenta. Termin ważności 5 lat od daty produkcji Rozmiar XS-XL do wyboru przy zakupie. | C7: op. 100 szt | D7: 32000
A8: 3 | B8: Rękawice nitrylowe, bezpudrowe, niejałowe, o przedłużonym mankiecie, do procedur wysokiego ryzyka, wewnętrznie chlorowane, teksturowane na końcach palców, grubość ścianki na palcu min 0,14mm, na dłoni min. 0,10 mm, na mankiecie min. 0,07mm, o długości min 290mm, AQL 1.0, siła zrywu przed starzeniem min. 9 N, po starzeniu min.8 N. Rękawice odporne na przenikanie wirusów zgodnie z EN ISO 374-5 lub ASTM F1671:07. Potwierdzony badaniem z niezależnego laboratorium brak przebicia rękawicy dla min. 30 cytostatyków przez min 240min. oraz fentanylu przez min.240 min. wg ASTM D6978. Potwierdzony badaniami z niezależnego laboratorium zgodnie z ASTM F739 brak przebicia dla min. 5 związków o działaniu dezynfekcyjnym przez min.480 min. ( w tym 4% chlorheksydyny oraz przebicia dla min. 70% izopropanol przez min. 24 min. Potwierdzony badaniami z niezaleznego laboratorium brak wykrycia w rękawicy szkodliwych akceleratorów chemicznych. Rękawice zgodne z Rozporządzeniem(UE) 2017/745 w klasie I oraz Rozporządzeniem (UE) 2016/425 o środkach ochrony indywidualnej w kategorii III typ B, rękawice zgodne z EN 455 (1-4), zgodne z EN ISO 374-1, EN ISO 374-2, EN16523-1, EN ISO 374-4, EN ISO 374-5. Dopuszczone do kontaktu z żywnością zgodnie z Rozporządzeniem WE 1935/2004, Rozporządzeniem WE 10/2011 oraz Rozporządzeniem (WE) nr 2023/2006 (potwierdzone deklaracją producenta). Termin ważności 5 lat od daty produkcji.Rozmiar XS-XL do wyboru przy zakupie. | C8: op.100szt | D8: 2000
A9: 4 | B9: Rękawice nitrylowe, bezpudrowe, niejałowe, mankiet rolowany, kolor zielony. Powierzchnia zewnętrzna teksturowana na palcach. Powierzchnia wewnętrzna chlorowana. AQL max 1,5, siła zrywu przed starzeniem oraz po starzeniu min. 6,5 N ( potwierdzone badaniem z niezależnego laboratorium). Długość min. 245 mm, grubość pojedynczej ścianki na palcu min 0,09 mm, na dłoni min. 0,07 mm, na mankiecie min 0,06 mm. Potwierdzony badaniem z niezależnego laboratorium brak przenikania oprzez rękawicę dla min 12 cytostatykó przez min 240 min. wg ASTM D6978. Rękawice z formułą certyfikowanego, organicznego i oczyszczonego wyciągu z aloesu o właściwościach nawilżających i niskim potencjale zapalenia skóry. Ocena efektu nawilżenia skóry potwierdzona w testach z udziałem ludzi, przetestowane pod kątem uczuleń skóry potwierdzona badaniem Modifield Draize-95 Test. Rękawice odporne na przenikanie mikroorganizmów zgodnie z EN ISO 374-5. Rękawice odporne na przenikanie mikroorganizmów zgodnie z EN ISO 374-5. Rękawice zgodne z Rozporządzeniem (UE) 2017/745 zaklasyfikowane jako wyroby medyczne w klasie I oraz zgodne z Rozporządzeniem (ue) 2016/425 o środkach ochrony indywidualnej w kategorii III typ B. Rękawice zgodne z wymaganiami norm EN 455(1-4),EN ISO374-1, EN ISO 374-2, EN 374-4, EN ISO 374-5, EN ISO EN ISO 21420., rozmiar od XS-XL | C9: op.100szt | D9: 1000
A10: 5 | B10: Rękawice nitrylowe, bezpudrowe, niejałowe, mankiet rolowany, kolor fioletowy. Powierzchnia zewnętrzna teksturowana na palcach. Powierzchnia wewnętrzna chlorowana. Teksturowane końcówki palców o właściwościach adhezyjnch, w celu zapewnienia precyzji podczas pracy z małymi przedmiotami w środowisku zarówno suchym jak i mokrym ( potwierdzone oświadczeniem producenta). Długość rękawicy min 248 mm , AQL max 1,5. Grubość pojedynczej ścianki na palcu min 0,10 mm, na dłoni 0,06 mm. Minimalna wartość siły zrywu przed starzeniem i po starzeniu min 7N ( potwierdzone niezależnym badaniem). Rękawice zgodne z Rozporządzeniem (UE) 2017/745 zaklasyfikowane jako wyroby medyczne w klasie I oraz zgodne z Rozporządzeniem (UE) 2016/425 o środkach ochrony indywidualnej w kat III typ B, rękawice zgodne z EN 455 (1-4), zgodne z EN ISO 374-1, EN ISO 374-4, EN ISO 374-5. Rękawice odporne na przenikanie bakterii, grzybów i wirusów zgodnie z EN ISO 374-5. Zgodne z ASTM D6978 oraz potwierdzone badaniem z niezależnego laboratorium, brak przenikania przez rękawicę dla min 7 cytostatyków przez min 240 min. Opakowanie A 100 szt rozm S-XL | C10: op.=100 szt | D10: 1000
A11: 6 | B11: Rękawice foliowe PE , rozmiar M-L | C11: op=100szt. | D11: 600
B12: RAZEM
B16: Data | H16: Podpis osoby/osób upoważnionej
B17: ……………………………………………. | H17: ……………………………….

Sheet Zad.7
B2: ZOZ/DZP/PN/23/25
B3: Załącznik Nr: 9
B4: Zadanie nr: 7 – Kaniule, aparaty do przygotowywania i pobierania leków z butelek
A5: Lp. | B5: Nazwa produktu | C5: Jednostka miary | D5: Ilość | E5: Cena jednostkowa netto | F5: Wartość netto | G5: VAT | H5: Cena jednostkowa brutto | I5: Wartość brutto | J5: Producent/Nazwa handlowa/Numer katalogowy
A6: 1 | B6: Aparat do przygot. i pobierania leków z butelek z filtrem bakteryjnym 0,45 mikrometra z odpowietrznikiem z zamknięciem zatrzaskowym z mikrokolcem | C6: szt. | D6: 16000
A7: 2 | B7: Przyrząd do aspiracji leku z butelek, z wbudowanym filtrem bakteryjnym 0,45µm i filtrem cząsteczkowym 5µm, nieruchoma osłona otaczająca nasadkę łączącą ze strzykawką, zintegrowana zastawka zabezpieczająca lek przed wyciekaniem po odłączeniu od strzykawki. | C7: szt. | D7: 6000
A8: 3 | B8: Kaniula dożylna typu bezpiecznego z portem bocznym od G-24 do G-17 zaopatrzona w specjalny metalowy automatyczny zatrzask zabezpieczający koniec igły przed przypadkowym zakłuciem personelu z minimum 4 paskami kontroli pod promieniowaniem RTG membrana hydrofobowa, chroniąca przed wypływem krwi po założeniu kaniuli | C8: szt. | D8: 45000
A9: 4 | B9: Kaniula dożylna typu bezpiecznego bez portu bocznego z zaworem eliminujacym całkowicie wypływ krwi podczas kaniulacji, od G-24 do G-17 zaopatrzona w specjalny metalowy automatyczny zatrzask zabezpieczający koniec igły przed przypadkowym zakłuciem personelu z minimum 4 paskami kontroli pod promieniowaniem RTG membrana hydrofobowa, chroniąca przed wypływem krwi po założeniu kaniuli | C9: szt. | D9: 1000
A10: 5 | B10: Koreczki dwufunkcyjne do kaniul i strzykawek | C10: szt. | D10: 25200
A11: 6 | B11: Korek do wenflonu Luer Lock | C11: szt. | D11: 100000
A12: 7 | B12: Korek dezynfekcyjny zawierający 70% alkohol izopropylowy, sterylny, z aplikatorem umożliwiający sterylne podłączenie, bez możliwości kontaminacji obudowy koreczka przed podłączeniem. | C12: op=200szt. | D12: 10
A13: 8 | B13: Zestaw bezpieczny do przetoczeń płynów inf. z zastawkami : zatrzymującymi wypływ płynu przy odpowietrzaniu i zabezpieczającymi przed dostaniem się powietrza do drenu po infuzji, z odpowietrznikiem z filtrem p/bakteryjnym z wskaźnikiem BFE minimum 99,99999% zamykanym klapką, dwuczęściowa komora kroplowa z 15μm filtrem, zaciskiem rolkowym z zabezpieczeniem na kolec komory kroplowej dla zapewnienia bezpieczeństwa po użyciu (ostry kolec umożliwiający całkowite opróżnienie butelki), wolny od ftalanów | C13: szt. | D13: 60000
A14: 9 | B14: Igła do bezpiecznego pobierania leków ze zintegrowanym filtrem 5µm, zapobiegająca zanieczyszczeniom mechanicznym pobieranych leków - opakowanie typu folia/papier. | C14: szt. | D14: 400
A15: 10 | B15: Łącznik międzystrzykawkowy luer-lock umożliwiający swobodny transfer zawartości jednej strzykawki do drugiej - pakowane indywidualnie opak. folia/papier | C15: szt. | D15: 150
A16: 11 | B16: Przyrząd do transferu leków kolec- kolec | C16: szt. | D16: 100
A17: 12 | B17: Aparat do przetoczeń płynów infuzyjnych z odpowietrznikiem z filtrem p/bakteryjnym z wskaźnikiem BFE minimum 99,99999% zamykanym klapką, dwuczęściowa komora kroplowa z 15μm filtrem, zaciskiem rolkowym z zabezpieczeniem na kolec komory kroplowej dla zapewnienia bezpieczeństwa po użyciu (ostry kolec umożliwiający całkowite opróżnienie butelki), wolny od ftalanów | C17: szt. | D17: 1000
... A19: 14 | B19: Zestaw do przetoczeń płynów infuzyjnych światłoczułych z dwuczęściową komorą kroplową, odpowietrznikiem z filtrem p/bakteryjnym oraz miejscem na kolec komory kroplowej dla zapewnienia bezpieczeństwa po użyciu. Długość drenu 180 cm. Opakowanie pojedyncze, sterylne. | C19: szt. | D19: 1000
B20: RAZEM
B22: Data | H22: Podpis osoby/osób upoważnionej
B23: ……………………………………………. | H23: ……………………………….

Sheet Zad.8
B2: ZOZ/DZP/PN/23/25
B3: Załącznik Nr: 9
A4: Zadanie nr: 8 – Testy do sterylizacji.
A5: Lp. | B5: Nazwa produktu | C5: Jednostka miary | D5: Ilość | E5: Cena jednostkowa netto | F5: Wartość netto | G5: VAT | H5: Cena jednostkowa brutto | I5: Wartość brutto | J5: Producent/Nazwa handlowa/Numer katalogowy
A6: 1 | B6: Pakiet jednokrotnego użytku typu Bowie-Dick,symulujący pakiet porowaty pakowany w papier krepowy, Testzapewniają łatwą i jednoznaczną interpretację wyniku - zmiana koloru. | C6: 1 szt. | D6: 1600
A7: 2 | B7: Test wieloparametrowy typu MVI-S S-4 test parowy liniowe ułożenie wskaźnika | C7: op=250 | D7: 160
A8: 3 | B8: Szybki test do wykrywania protein i hemoglobiny. Parametry techniczne: wynik w czasie nie krótszym niż 10 minut, test składający się z tuby i nasączonego tamponu. Wynik w postaci zmiany barwy odczynnika na fioletową. Test zapewniający weryfikację HACCP/SSOP | C8: op.=24szt | D8: 6
A9: 4 | B9: Test jednorazowy kontroli mycia w myjniach dezynfektorach. | C9: op.=200szt | D9: 24
A10: 5 | B10: Test jednorazowy rutynowej kontroli w myjniach ultradźwiękowych. | C10: op=50szt | D10: 5
A11: 6 | B11: Uchwyt do mocowania testów z pozycji 4,5 | C11: 1szt | D11: 8
A12: 7 | B12: Test kontroli zgrzewu | C12: Op=250 szt | D12: 6
A13: 8 | B13: Zintegrowany test chemiczny Kl. 5 z ruchomą substancją wskaźnikową do pary wodnej. Zgodny z normą PN EN ISO 11140: 2014 lub równoważną, Test z ramką oddzielającą wynik pozytywny od negatywnego w celu poprawnej wizualizacji procesu rozróżnione kolorystycznie okienkami. | C13: Op=250 szt | D13: 60
B14: RAZEM
B17: Data | H17: Podpis osoby/osób upoważnionej
B18: ……………………………………………. | H18: ……………………………….

Sheet Zad.9
B1: ZOZ/DZP/PN/23/25
B2: Załącznik Nr: 9
B3: Zadanie nr: 9 Rękawice chirurgiczne
A4: Lp. | B4: Nazwa produktu | C4: Jednostka miary | D4: Ilość | E4: Cena jednostkowa[zł] netto | F4: Wartość [zł] netto | G4: VAT | H4: Cena jednostkowa [zł] brutto | I4: Wartość [zł] brutto | J4: Producent/Model/Nr katalogowy
A5: 1 | B5: rodzaj rękawicy: chirurgiczna, jałowa surowiec: lateks kauczuku naturalnego kolor: kremowy środek pudrujący: brak powierzchnia zewnętrzna: teksturowana na palcach i we wnętrzu dłoni powierzchnia wewnętrzna: ułatwiająca zakładanie rękawic na suchą i mokrą dłoń- powłoka hydrofobowa z hydrofilową substancją aktywowaną w zależności od środowiska wykończenie mankietu: rolowany, zakończony niechlorowaną opaską samoprzylepną średnia wartość siły zrywu: przed starzeniem 9N średnia wartość siły zrywu: po starzeniu: 9N typowa grubość (palec/dłoń/mankiet) : 0,25 ±0,03 mm/0,21 ±0,02 mm/0,17 ±0,02 mm Typowa długość: min. 300 mm Rozmiary: 6,0 – 9.0 AQL: 0.65 zawartość protein: < 20 μg/g potwierdzone przez niezależne laboratorium zgodność z normami produktowymi: EN ISO 21420, EN ISO 374-1, EN 374-2, EN 16523-1, EN 374-4, EN ISO 374-5, EN 455 (1-4), odporne na przenikanie wirusów zgodnie z EN ISO 374-5 lub ASTM F16781, potwierdzone przez producenta brak przebicia rękawicy dla min 27 cytostatyków przez min 240 min. zgodnie z ASTM D6978 trwałość: 3 lata sterylizacja: promieniowani Gamma rejestracja:Wyrób medyczny klasy Iia zgodnie z rozporządzeniem UE 2017/745 oraz środek ochrony indywidualnej kat III typ B zgodnie z rozporządzeniem (UE) 2016/425 | C5: para | D5: 17200
A6: 2 | B6: rodzaj rękawicy: chirurgiczna, jałowa , ortopedyczna surowiec: lateks kauczuku naturalnego kolor: brązowuy- eliminacja odblasku i refleksu środek pudrujący: brak powierzchnia zewnętrzna: teksturowana na palcach i we wnętrzu dłoni powierzchnia wewnętrzna: ułatwiająca zakładanie rękawic na suchą i mokrą dłoń- powłoka hydrofobowa z hydrofilową substancją aktywowaną w zależności od środowiska wykończenie mankietu: rolowany, zakończony niechlorowaną opaską samoprzylepną średnia wartość siły zrywu: przed starzeniem 9N średnia wartość siły zrywu: po starzeniu: 9N Kształt: anatomiczny, zakrzywione palce typowa grubość (palec/dłoń/mankiet) : 0,33 ±0,03 mm/0,31 ±0,03 mm/0,25 ±0,03 mm długość: min. 300 mm Rozmiary: 6,0 – 9.0 AQL: 0.65 zawartość protein: < 20 μg/g potwierdzone przez niezależne laboratorium zgodność z normami produktowymi: EN 388; EN ISO 21420, EN ISO 374-1, EN 374-2, EN 16523-1, EN 374-4, EN ISO 374-5, EN 455 (1-4), odporne na przenikanie wirusów zgodnie z EN ISO 374-5 lub ASTM F16781, potwierdzone przez producenta brak przebicia rękawicy dla min 27 cytostatyków przez min 240 min. zgodnie z ASTM D6978 trwałość: 3 lata sterylizacja: promieniowani Gamma rejestracja:Wyrób medyczny klasy Iia zgodnie z rozporządzeniem UE 2017/745 oraz środek ochrony indywidualnej kat III typ B zgodnie z rozporządzeniem (UE) 2016/425 | C6: para | D6: 3000
A7: 3 | B7: rodzaj rękawicy:mikrochirurgiczna, jałowa surowiec: lateks kauczuku naturalnego kolor: brązowy- eliminacja odblasku i refleksu środek pudrujący: brak Opakowanie zbiorcze ;50 par powierzchnia zewnętrzna: gładka z wykończeniem z mikroteksturą powierzchnia wewnętrzna: ułatwiająca zakładanie rękawic na suchą i mokrą dłoń- powłoka hydrofobowa z hydrofilową substancją aktywowaną w zależności od środowiska Kształt anatomiczny wykończenie mankietu: rolowany, zakończony niechlorowaną opaską samoprzylepną średnia wartość siły zrywu: przed starzeniem 9N średnia wartość siły zrywu: po starzeniu: 9N typowa grubość (palec/dłoń/mankiet) : 0,19 ±0,02 mm/0,19 ±0,03 mm/0,16 ±0,02 mm Typowa długość: min. 300 mm Rozmiary: 6,0 – 9.0 AQL: 0.65 zawartość protein: niski poziom protein lateksu max 10 μg/g potwierdzone przez niezależne laboratorium zgodność z normami produktowymi: EN ISO 21420, EN ISO 374-1, EN 374-2, EN 16523-1, EN 374-4, EN ISO 374-5, EN 455 (1-4), odporne na przenikanie wirusów zgodnie z EN ISO 374-5 lub ASTM F16781, potwierdzone przez producenta brak przebicia rękawicy dla min 27 cytostatyków przez min 240 min. zgodnie z ASTM D6978 trwałość: 3 lata sterylizacja: promieniowani Gamma rejestracja:Wyrób medyczny klasy Iia zgodnie z rozporządzeniem UE 2017/745 oraz środek ochrony indywidualnej kat III typ B zgodnie z rozporządzeniem (UE) 2016/425 | C7: para | D7: 2500
A8: 4 | B8: rodzaj rękawicy: syntetyczna jałowa surowiec: elastomer kolor: biały środek pudrujący: brak opakowanie zbiorcze 50 par powierzchnia zewnętrzna: mikrotekstura powierzchnia wewnętrzna: polimeryzowana wykończenie mankietu: rolowany typowa wartość siły zrywu: przed starzeniem min : 14 N typowa wartość siły zrywu: po starzeniu: min13 N kształt: anatomiczny typowa grubość (palec/dłoń/mankiet): (palec 0.22+/-0.02mm) / dłoń min 0.18 mm/ mankiet min 0.17 mm długość: min. 280 mm rozmiary: 6,0 – 9.0 AQL: 0.10 potwierdzone niezależnym badaniem zgodność z normami produktowymi Rękawice zgodne z EN 455(1-4), EN ISO 374-1, EN 374-2, EN 16523-1, EN ISO 374-4, EN ISO 374-5, EN ISO 21420, EN 421. Rękawice odporne na przenikanie wirusów zgodnie z EN ISO 374-5. Potwierdzony badaniem z niezależnego laboratorium brak przebicia rękawicy dla min. 17 cytostatyków przez min. 240 min. wg ASTM D6978. Rękawice zapobiegające alergiom -wolne od szkodliwych akceleratorów chemicznych (potwierdzone niezależnym badaniem) rejestracja : Wyrób medyczny klasy IIa zgodnie z dyrektywą MDD 93/42/EWG & 2007/47/EWG oraz środek ochrony indywidualnej kat. III typ B zgodnie z Rozporządzeniem UE 2016/425 | C8: para | D8: 700
A9: 5 | B9: rodzaj rękawicy: syntetyczna jałowa surowiec: elastomer kolor: zielony zewnątrz rękawicy, biały od wewnątrz środek pudrujący: brak opakowanie zbiorcze 40 par powierzchnia zewnętrzna: mikrotekstura powierzchnia wewnętrzna: polimeryzowana, do zabiegów wysokiego ryzyka, o trójwarstwowej strukturze, z płynem dezynfekującym w warstwie środkowej wykończenie mankietu: rolowany typowa wartość siły zrywu: przed starzeniem min : 10 N typowa wartość siły zrywu: po starzeniu: min 12 N kształt: anatomiczny typowa grubość (palec/dłoń/mankiet): (palec 0.29+/-0.03 mm)/dłoń min 0,24mm/mankiet min 0,15 mm długość: min. 280 mm rozmiary: 6,0 – 9.0 AQL: 0.10 potwierdzone niezależnym badaniem zgodność z normami produktowymi Rękawice zgodne z EN 455(1-4), EN ISO 374-1, EN 374-2, EN 16523-1, EN ISO 374-4, EN ISO 374-5, EN ISO 21420, EN 421. Rękawice odporne na przenikanie wirusów zgodnie z EN ISO 374-5. Rękawice zapobiegające alergiom -wolne od szkodliwych akceleratorów chemicznych (potwierdzone niezależnym badaniem. rejestracja : Wyrób medyczny klasy IIb zgodnie z dyrektywą MDD 93/42/EWG & 2007/47/EWG oraz środek ochrony indywidualnej kat. III typ B zgodnie z Rozporządzeniem UE 2016/425 | C9: para | D9: 400
A10: 6 | B10: rodzaj rękawicy: chirurgiczna, jałowa do stosowania w systemie podwójnego zakładania rękawic jako spodnia surowiec: lateks kauczuku naturalnego kolor: zielony środek pudrujący: brak powierzchnia zewnętrzna: gładka z wykończeniem z mikroteksturą powierzchnia wewnętrzna:z nawilżającą warstwą pielęgnacyjno-ochronną, która zapobiega wysuszaniu i pękaniu skóry, a także ułatwia zakładanie rękawic na sucho i na mokro oraz zmianę w trakcie operacji wykończenie mankietu: rolowany zakończony niechlorowaną opaską samoprzylepną średnia wartość siły zrywu: przed starzeniem: 9N średnia wartość siły zrywu: po starzeniu: 9N typowa gubość (palec/dłoń/mankiet) 0.19 ±0,02mm / 0.19 ±0,02mm/ 0.16 mm ±0,02mm Typowa długość: min. 300 mm rozmiary: 6,0 – 9.0 AQL: 0.65 zawartość protein: < 20 μg/g potwierdzone przez niezależne laboratorium zgodność z normami produktowymi: Rękawice zgodne z EN 455 (1-4), EN ISO 21420, EN ISO 374-1, EN 374-2, EN 16523-1, EN 374-4, EN ISO 374-5. Rękawice odporne na przenikanie wirusów zgodnie z EN ISO 374-5 lub ASTM F1671. Potwierdzony przez producenta brak przebicia rękawicy dla min. 26 cytostatyków przez min. 240 min. zgodnie z ASTM D6978. trwałość: 3 lata sterylizacja: promieniami gammma rejestracja: Wyrób medyczny klasy IIa zgodnie z Rozporządzeniem (UE) 2017/745 oraz środek ochrony indywidualnej kat. III typ B zgodnie z Rozporządzeniem (UE) 2016/425 | C10: para | D10: 400
A11: 7 | B11: Rękawice chirurgiczne, jałowe, z lateksu, w kolorze jasnokremowym, bezpudrowe, wewnętrznie polimeryzowane, o anatomicznym kształcie, z rolowanym mankietem i z teksturowaną powierzchnią. Długość min. 280 mm. Grubość na palcu 0.17 +/- 0.02 mm, na dłoni 0.15 +/- 0.02 mm oraz na mankiecie 0.13 +/- 0.02 mm. Potwierdzone badaniem w niezależnym laboratorium: niski poziom protein lateksu poniżej 20 µg/g ; siła zrywu przed starzeniem min. 16 N i po starzeniu min. 14 N. Poziom AQL 0.65. Wyrób medyczny klasy IIa zgodnie z dyrektywą MDD 93/42/EWG & 2007/47/EWG oraz środek ochrony indywidualnej kat. III typ B zgodnie z Rozporządzeniem (UE) 2016/425. Rękawice zgodne z EN 455(1-4), EN ISO 374-1, EN ISO 374-4, EN ISO 374-5, EN ISO 21420. Rękawice odporne na przenikanie wirusów zgodnie z EN ISO 374-5. Pakowane parami w szczelne opakowanie. Okres ważności 5 lat. Rozmiar od 6.0 do 9.0. | C11: Para | D11: 26000
A12: 8 | B12: Rękawice chirurgiczne, jałowe, lateksowe, pudrowane. Kształt anatomiczny, mankiet rolowany, dostępne w rozmiarach 6.0 – 9.0. Powierzchnia zewnętrzna teksturowana, powierzchnia wewnętrzna pudrowana (skrobia kukurydziana). Długość rękawicy minimum 280 mm, grubość na palcu 0.15 +/- 0.02 mm, na dłoni 0.13 +/- 0.02 mm oraz na mankiecie 0.12 +/- 0.02 mm. Potwierdzone badaniem w niezależnym laboratorium: niski poziom protein lateksu poniżej 30 µg/g oraz siła zrywu przed starzeniem mediana min. 15 N i po starzeniu mediana min. 13 N. Poziom AQL 0.65. Rękawice odporne na przenikanie bakterii, grzybów i wirusów zgodnie z EN ISO 374-5. Rękawice zaklasyfikowane w klasie IIa zgodnie z Dyrektywą 93/42/EWG & 2007/47/WE oraz jako środek ochrony indywidualnej w kategorii III typ B zgodnie z Rozporządzeniem (UE) 2016/425. Rękawice zgodne z wymaganiami norm EN 455(1-4), EN ISO 374-1, EN ISO 374-4, EN ISO 374-5, EN ISO 21420. Okres ważności 5 lat. | C12: para | D12: 17200
A13: 9 | B13: Rękawice chirurgiczne jałowe o wydłużonym mankiecie, lateksowe w kolorze naturalnym, bezpudrowe, ginekologiczne. Jałowe, Mankiet rolowany. Powierzchnia zewnętrzna teksturowana na palcach i na dłoni. Powierzchnia wewnętrzna z warstwą polimerową. Długość min. 400 mm. Grubość na palcu min. 0.19 mm, na dłoni min. 0.17 mm, na mankiecie min. 0.13 mm. Poziom protein lateksu ≤ 30µg/g. Poziom AQL 0.65. Wyrób medyczny klasy IIa zgodnie z Rozporządzeniem (UE) 2017/745 oraz środek ochrony indywidualnej kat. III typ B zgodnie z Rozporządzeniem (UE) 2016/425. Rękawice zgodne z EN 455 (1-4), EN ISO 21420, EN ISO 374-1, EN 374-2, EN 16523-1, EN 374-4, EN ISO 374-5. Rękawice odporne na przenikanie wirusów zgodnie z EN ISO 374-5 lub ASTM F1671. rozm 6,5, 7,5, 8,5 | C13: para | D13: 250
A14: 10 | B14: Rękawice chirurgiczne, neoprenowe w kolorze naturalnym, bezpudrowe. Wolne od lateksu i katalizatorów chemicznych, zapobiegające alergiom na lateks (typ I) i substancje chemiczne (typ IV). Jałowe, sterylizowane radiacyjnie (promieniami Gamma). Kształt anatomiczny z zakrzywionymi palcami. Mankiet o rolowanym zakończeniu z niechlorowaną opaską samoprzylepną. Powierzchnia zewnętrzna gładka z wykończeniem z mikroteksturą, silikonowana. Powierzchnia wewnętrzna zawierająca powłokę hydrofobową z hydrofilową substancją aktywowaną w zależności od środowiska, powlekana poliuretanem i silikonem. Typowa długość 301 mm. Grubość na palcu 0.14 ± 0.03 mm, na dłoni 0.13 ± 0.03 mm, na mankiecie 0.14 ± 0.03 mm. Poziom AQL 0.65. Typowa wartość siły zrywu przed starzeniem min. 11N i po starzeniu min. 12N. Wyrób medyczny klasy IIa zgodnie z Rozporządzeniem (UE) 2017/745 oraz środek ochrony indywidualnej kat. III typ B zgodnie z Rozporządzeniem (UE) 2016/425. Rękawice zgodne z EN 455 (1-4), EN ISO 21420, EN ISO 374-1, EN 374-2, EN 16523-1, EN 374-4, EN ISO 374-5. Rękawice odporne na przenikanie wirusów zgodnie z EN ISO 374-5 lub ASTM F1671. Rękawice chroniące przed skażeniem radioaktywnym zgodnie z normą EN 421. Potwierdzony przez producenta brak przebicia rękawicy dla min. 27 cytostatyków przez min. 240 min. oraz Karmustyny do 30 min. zgodnie z ASTM D6978. Pakowane parami w szczelne opakowania foliowe odporne na wilgoć. Opakowanie zbiorcze po 50 par. Okres trwałości 3 lata. Rozmiar od 6,0 do 9.0. | C14: para | D14: 3000
B15: RAZEM
B19: data ………………………………. | F19: podpis ……………………………………….

Sheet Zad.10
B1: ZOZ/DZP/PN/23/25
B2: Załącznik Nr: 9
A4: Zadanie nr: 10 - Strzykawki, igły
A5: Lp. | B5: Nazwa produktu | C5: Jednostka miary | D5: Ilość | E5: Cena jednostkowa netto | F5: Wartość netto | G5: VAT | H5: Cena jednostkowa brutto | I5: Wartość brutto | J5: Producent/Nazwa handlowa/Numer katalogowy
A6: Strzykawka dwuczęściowa, końcówka Luer, posiadająca tłok w kontrastującym kolorze (mlecznym) oraz czarną rozszerzoną skalę, musi posiadać zabezpieczenie przed wypadnięciem tłoka, nazwa producenta i typ strzykawki nadrukowane na cylindrze, op.100 szt., sterylna. Jeden producent. Parametry dla pozycji 1-4
A7: 1 | B7: 2 ml skala co 0,1ml x 100 szt. | C7: op.=100szt | D7: 1200
A8: 2 | B8: 5 ml skala co 0,2ml x 100 szt. | C8: op.=100szt | D8: 1400
A9: 3 | B9: 10 ml skala co 0,5ml x 100 szt. | C9: op.=100szt | D9: 1200
A10: 4 | B10: 20 ml skala co 1ml x 100 szt. | C10: op.=50szt | D10: 2600
A11: 5 | B11: Strzykawka jednorazowego użytku do tuberkuliny, o pojemności 1ml, 3- cześciowa typu Luer, gradacja skali 0,01 ml, sterylna, z dołożoną igłą w rozmiarze 0,45x13 mm lub 0,5x16mm, opakowanie A'100. | C11: op.=100szt | D11: 150
A12: 6 | B12: 100 ml Janeta z łącznikiem Luer,trzyczęściowa,wykonana z polipropylenu, skala w kolorze czarnym, zaopatrzona w dodatkowy stożek do łączenia z cewnikiem | C12: szt. | D12: 5000
A13: Strzykawki - szczelne, łatwy przesuw tłoka, wyraźna skala. Strzykawka musi mieć stożek usytuowany centralnie, przeźroczysty cylinder, pierścień ograniczający wysuwanie się tłoka, podziałkę skali rozszerzoną, nieścieralną, dobrze czytelną, wycechowaną w mililitrach, bezlateksowy gumowy tłok, cylinder strzykawki oznaczony nazwą własną i logo producenta. Wykonana z polipropylenu. Wykazane na liście producenta pomp infuzyjnych MEDIMA typ S2 i S300. Opis dla pozycji 7-10 | F13: =E13*D13 -> 0
A14: 7 | B14: 10ml x 100 szt., 3 częściowe | C14: op.=100szt | D14: 300
A15: 8 | B15: 20ml x 100 szt., 3 częściowe | C15: op.=100szt | D15: 1000
A16: 9 | B16: 50 ml do pomp 3 cz .do pomp Luer-Lock ze skalą dwustronną | C16: szt. | D16: 36000
A17: 10 | B17: 50 ml do pomp 3 cz .do pomp Luer-Lock do leków światłoczułych | C17: szt. | D17: 10000
A18: 11 | B18: Strzykawka 3-częściowa Luer-Lock model wymagany zgodnie z intrukcją producenta dializatora Primaflex 50ml | C18: szt. | D18: 5000
A19: Igły iniekcyjne o ostrzach zapewniających minimalny opór skóry, rurki pokryte silikonem, cienkościenne nasadki barwione zgodnie zkodem kolorów | F19: =E19*D19 -> 0
A20: 12 | B20: 0,45 x 13 mm | C20: op=100szt | D20: 65
A21: 13 | B21: 0,5 x 25 mm | C21: op=100szt | D21: 360
A22: 14 | B22: 0,5x40 mm | C22: op=100szt | D22: 50
A23: 15 | B23: 0,6 x 25 mm | C23: op=100szt | D23: 50
A24: 16 | B24: 0,6x30mm | C24: op=100szt | D24: 50
A25: 17 | B25: 0,7 x 30 mm | C25: op=100szt | D25: 180
A26: 18 | B26: 0,7x40 mm | C26: op=100szt | D26: 50
A27: 19 | B27: 0,8 x 40 mm | C27: op=100szt | D27: 700
A28: 20 | B28: 0,9 x 40 mm | C28: op=100szt | D28: 160
A29: 21 | B29: 1,1 x 40 mm | C29: op=100szt | D29: 500
A30: 22 | B30: 1,2 x 40 mm | C30: op=100szt | D30: 1700
A31: 23 | B31: 1,6 x 40 mm | C31: op=100szt | D31: 30
... A41: 33 | B41: Sterylna strzykawka o pojemności 10 ml, napełniona sterylnym roztworem soli fizjologicznej 0,9%, przeznaczona do procedury przepłukiwania wkłuć dożylnych, możliwa do użycia w polu operacyjnym (podwójnie sterylna). Sterylizowana wewnątrz i na zewnątrz. Wyrób zaklasyfikowany dla klasy IIb. | C41: szt. | D41: 3000
B42: RAZEM
B45: Data | H45: Podpis osoby/osób upoważnionej
B46: ……………………………………………. | I46: ……………………………….

Sheet Zad.11
B1: ZOZ/DZP/PN/23/25
B2: Załącznik Nr: 9
A4: Zadanie nr: 11 - Rurki
A5: Lp. | B5: Nazwa produktu | C5: Jednostka miary | D5: Ilość | E5: Cena jednostkowa netto | F5: Wartość netto | G5: VAT | H5: Cena jednostkowa brutto | I5: Wartość brutto | J5: Producent/Nazwa handlowa/Numer katalogowy
A6: 1 | B6: Rurki intubacyjne bez mankietu 2,0 – 4,5silikonowane, jałowe | C6: szt. | D6: 100
A7: Rurki intubacyjne z mankietem, ustno-nosowa, z termoplastycznego PCV, przeźroczysta, typ Murphy, linia RTG na całej dł., z czytelnym oznaczeniem znacznika głębokości i rozmiaru rurki na baloniku jałowe silikonowane | F7: =E7*D7 -> 0
A8: 2 | B8: Nr 2,5-9,5 co 0,5 do wyboru przy zakupie | C8: szt. | D8: 3050
A9: Rurki intubacyjne zbrojone z mankietem, typ Murphy, odporne na zginanie, znakowany balonik,rozmiar, jałowe, silikonowane | F9: =E9*D9 -> 0
A10: 3 | B10: Nr. 4,0-8,5 co 0,5 do wyboru przy zakupie | C10: szt. | D10: 450
A11: Rurki intubacyjne zbrojone z mankietem, typ Murphy, odporne na zginanie, znakowany balonik rozmiar, jałowe, silikonowane z prowadnicą | F11: =E11*D11 -> 0
A12: 4 | B12: nr. 6-9 co 0,5 do wyboru przy zakupie | C12: szt. | D12: 70
A13: 5 | B13: Rurka tracheostomijna z dwoma niskociśnieniowymi mankietami uszczelniającymi, wykonana z medycznej odmiany termoplastycznego PCV, atraumatycznie wykończone wszystkie elementy rurki, linia kontrastowa RTG, baloniki kontrolne z samouszczelniejącymi się zaworami. Rozmiary do wyboru przy zakupie 7,0-9,0 co 1,0 | C13: szt. | D13: 70
A14: 6 | B14: Rurka tracheostomijna zbrojona z ruchomym szyldem, wydłużona część dystalna i proksymalna, z niskociśnieniowym mankietam uszczelniającym, wykonana z medycznej odmiany termoplastycznego PCV, atraumatycznie wykończone wszystkie elementy rurki, linia kontrastowa RTG, balonik kontrolne z samouszczelniejącym się zaworem. Rozmiary do wyboru przy zakupie 7,0-10, co 1,0 | C14: szt. | D14: 10
A15: 7 | B15: Rurka tracheostomijna z ruchomym szyldem, wydłużona część dystalna i proksymalna, z niskociśnieniowym mankietam uszczelniającym, wykonana z medycznej odmiany termoplastycznego PCV, atraumatycznie wykończone wszystkie elementy rurki, linia kontrastowa RTG, balonik kontrolne z samouszczelniejącym się zaworem. Rozmiary do wyboru przy zakupie 7,0-10, co 1,0 | C15: szt. | D15: 10
A16: 8 | B16: Rurki ustno - gardłowe Guedel z medycznego PCV, barwne wkładki, zaokrąglone krawędzie, blokada przeciw zagryzieniu, jałowe,rozmiary od 000 do 6 do wyboru przy zamówieniu | C16: szt. | D16: 1200
A17: 9 | B17: Rurka nosowo-gardłowa 6-8mm | C17: szt. | D17: 10
A18: Rurki tracheostomijne z mankietem silikonowane, jałowe | F18: =E18*D18 -> 0
A19: 10 | B19: nr. 5,0-10 co 0,5 do wyboru przy zakupie | C19: szt. | D19: 80
A20: 11 | B20: Zestaw o min. składzie: rurka tracheostomijna KAN bez mankietu 1 szt., prowadnica 1 szt., kaniula wewnętrzna z łącznikiem 15mm 1 szt., kaniula wewnętrzna z kołnierzem 2 szt., miękka opaska mocująca, łącznik 15mm nasadka łącząca, korek dekaniulacyjny, nasadka kosmetyczna rozmiary rurek do wyboru przy zakupie : 5,0-10,0 mm | C20: 1 zestaw | D20: 15
A21: 12 | B21: Zestaw o min. składzie: rurka tracheostomijna KAN z mankietem 1 szt., prowadnica 1 szt., kaniula wewnętrzna z łącznikiem 15mm 1 szt., kaniula wewnętrzna z kołnierzem 2 szt., miękka opaska mocująca, łącznik 15mm nasadka łącząca, korek dekaniulacyjny, nasadka kosmetyczna rozmiary rurek do wyboru przy zakupie : 5,0-10,0 mm | C21: 1 zestaw | D21: 5
A22: 13 | B22: Zestaw o min. składzie: rurka tracheostomijna KAN bez mankietu,fenestracyjna 1 szt., prowadnica 1 szt., kaniula wewnętrzna z łącznikiem 15mm, z otworami 1 szt., kaniula wewnętrzna z łącznikiem 15mm, bez otworów fenestracyjnych 1 szt, kaniula wewnętrzna z kołnierzem, z otworami fenestracyjnymi 1 szt., miękka opaska mocująca, łącznik 15mm nasadka łącząca, korek dekaniulacyjny, nasadka kosmetyczna rozmiary rurek do wyboru przy zakupie : 5,0-10,0 mm | C22: 1 zestaw | D22: 10
A23: 14 | B23: Zestaw o min. składzie: rurka tracheostomijna KAN z mankietem,fenestracyjna 1 szt., prowadnica 1 szt., kaniula wewnętrzna z łącznikiem 15mm, z otworami 1 szt., kaniula wewnętrzna z łącznikiem 15mm, bez otworów fenestracyjnych 1 szt, kaniula wewnętrzna z kołnierzem, z otworami fenestracyjnymi 1 szt., miękka opaska mocująca, łącznik 15mm nasadka łącząca, korek dekaniulacyjny, nasadka kosmetyczna rozmiary rurek do wyboru przy zakupie : 5,0-10,0 mm | C23: 1 zestaw | D23: 5
A24: 15 | B24: Łącznik do drenów symetryczny, sterylny, O.D. 15mm I.D. 6mm | C24: szt | D24: 200
A25: Prowadnice do rurek intubacyjnych -metal, pokryty tworzywem, miękki koniec, jałowe | F25: =E25*D25 -> 0
A26: 16 | B26: Rozmiar 2-2,2 mm / 230 mm | C26: szt. | D26: 100
A27: 17 | B27: Rozmiar 3 mm / 340 mm | C27: szt. | D27: 300
A28: 18 | B28: Rozmiar 4 mm / 360 mm | C28: szt. | D28: 520
A29: 19 | B29: Rozmiar 5 mm / 370 mm | C29: szt. | D29: 350
A30: Prowadnice do trudnych intubacji bez futerału. Elastyczna, wzmocniona na całej długości, skalowana podziałka, zagięty koniec ułatwiający wprowadzanie, materiał o właściwościach poślizgowych, jałowe | F30: =E30*D30 -> 0
A31: 20 | B31: Rozmiar 1,6 x 600 mm | C31: szt. | D31: 10
A32: 21 | B32: Rozmiar 2,0 x 600 mm | C32: szt. | D32: 10
A33: 22 | B33: Rozmiar 5,0 długość 800mm | C33: szt. | D33: 40
A34: Prowadnice do wymiany rurek intubacyjnych z kanałem do wentylacji: w komplecie z łącznikiem 15mm i Luer Lock z zagiętym końcem, jałowa, elastyczna, wzmocniona na całej długości. | F34: =E34*D34 -> 0
A35: 23 | B35: Rozmiar 5,0 długość 800 mm | C35: szt. | D35: 30
A36: 24 | B36: Prowadnica do trudnej intubacji, z wygiętym zakończeniem, elastyczna, wzmocniona na całej długości, skalowana - wielorazowego użytku, śr. zewn. 3.3 i 5.0mm - długość 60-80cm | C36: szt. | D36: 60
A37: 25 | B37: Prowadnica do rurek intubacyjnych z możliwością podawania tlenu, z prostym lub wygiętym końcem dystalnym, elastyczna, wzmocniona na całej długości, skalowana, z wewnętrznym kanałem oraz łącznikiem 15mm i łącznikiem luer-lock, śr. zewn. 2.6, 3.3, 5.0 i 6.0mm - długość 60-83cm | C37: szt. | D37: 20
A38: 26 | B38: Opaska do rurek tracheostomijnych, jałowa. | C38: szt | D38: 310
A39: Rurka tracheostomijna metalowa z okienkiem | F39: =E39*D39 -> 0
A40: 27 | B40: nr.7 | C40: szt. | D40: 5
A41: 28 | B41: nr.8 | C41: szt. | D41: 10
...

Sheet Zad.12
B1: ZOZ/DZP/PN/23/25
B2: Załącznik Nr: 9
A4: Zadanie nr: 12 – Łyżki i rękojeści.
A5: Lp. | B5: Nazwa produktu | C5: Jednostka miary | D5: Ilość | E5: Cena jednostkowa netto | F5: Wartość netto | G5: VAT | H5: Cena jednostkowa brutto | I5: Wartość brutto | J5: Producent/Nazwa handlowa/Numer katalogowy
A6: 1 | B6: Łyżka jednorazowego użytku, metalowa, diodowa,współpracująca z rękojeściami standardowymi. Z wyraźnym nadrukiem rozmiaru na opakowaniu jednostkowym. Dostępne rozmiary łyżek: Mac 0- dł. 82mm, szer. 9mm, 1- dł. 92mm, szer 11,50mm, 2- dł. 114mm, szer. 14mm, 3- dł. 133mm, szer. 14mm , 4- dł. 158mm, szer. 14mm,5- dł. 174, szer. 14mm, Mill 00-dł. 65mm, szer.11,5mm, 0- dł. 76mm, szer. 11,5mm, 1- dł. 100mm, szer. 11,5mm, 2 – dł. 151mm, szer. 13mm, 3 – dł. 190mm, szer. 13, 4 – dł. 207, szer. 13mm. – do wyboru przez Zamawiającego Pakowane pojedynczo, zdezynfekowane, gotowe do użytku Współpracują ze wszystkimi rękojeściami w standardzie ISO 7376-1. Data przydatności i seria na jednostkowym opakowaniu każdej łyżki | C6: szt. | D6: 2200
A7: 2 | B7: Łyżki jednorazowe, metalowe: Metalowe łyżki światłowodowe, jednorazowego użytku z podstawą z tworzywa sztucznego. Z wyraźnym nadrukiem rozmiaru na opakowaniu jednostkowym. Wytrzymały materiał oraz ergonomiczny kształt Zaokrąglona końcówka łyżki i gładkie krawędzie zmniejszają ryzyko uszkodzeń Pakowane pojedynczo – gotowe do użytku Dostępne w rozmiarach Mac 00-dł. 72Mm, szer 9mm ,0- dł. 82mm, szer. 9mm, 1- dł. 94mm, szr. 11,50mm, 2- dł. 116mm, szer 14mm, 3- dł. 133mm, szer. 14mm, 4- dł. 159mm, szer 14mm, 5- dł. 172mm, szer. 14mm oraz Miller 000-dł. 58Mm, szer 11,5mm, 00-dł. 69mm, szer. 11,5mm, 0 – dł. 79mm, szer. 11,5mm, 1 – dł. 102mm, szer. 11,5mm, 2 – dł. 152mm, szer. 13mm 3 – dł. 193mm, szer. 13mm, 4 – dł. 209mm, szer. 13mm. do wyboru przez zamawiającego Współpracują z rękojeściami światłowodowymi w standardzie ISO 7376-3 Nie zawierają latexu Pakowanie folia-papier.Data przydatności i seria na jednostkowym opakowaniu każdej łyżki | C7: szt. | D7: 2200
A8: 3 | B8: Rękojeści wielorazowe LED, współpracujące z łyżkami z poz. 2 Mocne, jasne światło LED: 9500 lux, min. 50 000h pracy Do sterylizacji w systemach systemach nisko-temperaturowych oraz w autoklawie, po wyciągnięciu diody LED Dostępne w 3 rozmiarach: średni, krótki, pediatryczny Współpracują z łyżkami światłowodowymi w standardzie ISO 7376-3 | C8: szt. | D8: 15
A9: 4 | B9: Rękojeść wielorazowa klasyczna rozmiar standardowy, zasilanie bateryjne (baterie R-14), pediatryczna, krótka ( zasilanie bateryjne AA). Do wyboru przy zakupie. Rękojeść zgodne z normą ISO 7376-1 | C9: szt. | D9: 10
A10: 5 | B10: Rękojeść jednorazowa kompatybilna z łyżkami światłowodowymi z wbudowaną baterią do łyżek w normie ISO 7376-3 | C10: szt. | D10: 200
A11: 6 | B11: Łyżka do wideolaryngoskopu Is3-L jednorazowego użytku, wykonana z tworzywa, pakowana pojedynczo. Rozmiar S, M, L do wyboru przy zakupie. Opakowanie folia-papier, na opakowaniu czytelna informacja o rozmiarze łyżki. | C11: szt. | D11: 110
B12: Razem
B18: Data | F18: Podpis osoby/osób upoważnionej
B19: ……………………………………………. | F19: ……………………………….

Sheet Zad. 13
B1: ZOZ/DZP/PN/23/25
B2: Załącznik Nr: 9
A3: Zadanie nr: 13 Pojemniki z formaliną.
A4: Lp. | B4: Nazwa produktu | C4: Jednostka miary | D4: Ilość | E4: Cena jednostkowa netto | F4: Wartość netto | G4: VAT | H4: Cena jednostkowa brutto | I4: Wartość brutto | J4: Producent/Nazwa handlowa/Numer katalogowy
A5: 1 | B5: Pojemnik BiopSafe 60ml. Bezpieczny pojemnik tworzący system zamknięty do materiału biopsyjnego/histopatologicznego składający się z pokrywy zawierającej środek utrwalający i zbiornika. Pokrywa zbudowana z elementów : 1.Tłok zakończony nakłuwaczem 2.Folia aluminiowa zgrzana z nakrętką 3.Filtr zabezpieczający 4.Przycisk uwalniający substancję utrwalającą 5.Substancja utrwalająca - Formaldechyd 4% w roztworze wodnym (10% roztwór formaliny) i <2.5% metanol o łącznej objętości 60ml 5. Pokrywa wyposażona w gwint zewnętrzny. Zbiornik wyposażony w gwint wewnętrzny służący do zamknięcia i szczelnego połączenia z pokrywą. Substancja utrwalająca uwalniana po połączeniu pokrywy ze zbiornikiem i przez wciśnięcie przycisku wbudowanego w górną część pokrywy. | C5: op.=18 szt | D5: 60
A6: 2 | B6: Pojemnik BiopSafe 20ml. Bezpieczny pojemnik tworzący system zamknięty do materiału biopsyjnego/histopatologicznego składający się z pokrywy zawierającej środek utrwalający i zbiornika. Pokrywa zbudowana z elementów : 1.Tłok zakończony nakłuwaczem 2.Folia aluminiowa zgrzana z nakrętką 3.Filtr zabezpieczający 4.Przycisk uwalniający substancję utrwalającą 5.Substancja utrwalająca - Formaldechyd 4% w roztworze wodnym (10% roztwór formaliny) i <2.5% metanol o łącznej objętości 20ml 5. Pokrywa wyposażona w gwint zewnętrzny. Zbiornik wyposażony w gwint wewnętrzny służący do zamknięcia i szczelnego połączenia z pokrywą. Substancja utrwalająca uwalniana po połączeniu pokrywy ze zbiornikiem i przez wciśnięcie przycisku wbudowanego w górną część pokrywy. | C6: op=24szt. | D6: 250
B7: Razem
B10: Data | H10: Podpis osoby/osób upoważnionej
B11: ……………………………………………. | H11: ……………………………….

Sheet Zad. 14
B1: ZOZ/DZP/PN/23/25
B2: Załącznik Nr: 9
A3: Zadanie nr 14: Autoczytnik do inkubacji
A4: Lp. | B4: Nazwa produktu | C4: Jednostka miary | D4: Ilość | E4: Cena jednostkowa netto | F4: Wartość netto | G4: VAT | H4: Cena jednostkowa brutto | I4: Wartość brutto | J4: Producent/Nazwa handlowa/Numer katalogowy
A5: 1 | B5: Wskaźnik biologiczny o szybkim odczycie do pary wodnej (odczyt w autoczytniku po 24 minuty .) kompatybilny z autoczytnikiem Attest 490, zalecany przez producenta urządzenia. Fiolkowy wskaźnik biologiczny o szybkim odczycie do pary wodnej. Ostateczny odczyt wyniku negatywnego/zabicie bakterii po 24 minutach inkubacji. Wykrycie przez odczyt automatyczny fluorescencji w autoczytniku. Wskaźnik posiada wewnętrzny system kruszenia ampułki nie wymagający użycia zewnętrznego "kruszera". Kształt fiolki w kształcie litry "D" - dopasowany do kształtu komory autoczytnika. Nakrętka wskaźnika w kolorze brązowym. Na fiolce repozycjonowalna nierwąca się naklejka z miejscem do opisu oraz wskaźnik chemiczny. | C5: op=50szt. | D5: 75
B6: RAZEM
B9: Data | H9: Podpis osoby/osób upoważnionej
B10: ……………………………………………. | H10: ……………………………….

Sheet zad.15
B1: ZOZ/DZP/PN/23/25
B2: Załącznik Nr: 9
A3: Zadanie nr: 15 – Akcesoria do systemu ssącego i oddechowego
A4: Lp. | B4: Nazwa produktu | C4: Jednostka miary | D4: Ilość | E4: Cena jednostkowa netto | F4: Wartość netto | G4: VAT | H4: Cena jednostkowa brutto | I4: Wartość brutto | J4: Producent/Nazwa handlowa/Numer katalogowy
A5: 1 | B5: Wkład workowy jednorazowy z integralną zastawką zabezpieczającą, z maksymalnie 2 otworami w pokrywie worka. Kompatybilny z systemem RECEPTAL poj. 2 litry, z data ważności na każdym wkładzie. | C5: szt. | D5: 200
A6: 2 | B6: Trwały pojemnik/ kanister/ wielokrotnego użytku o śr. nie większej niż 11 cm z nietł. się tworzywa z podziałką co 25 ml, ze złączem do próżni, poj. 2 litry | C6: szt. | D6: 5
A7: 3 | B7: Linia monitorująca do próbkowania gazów, złącze typu męskie / żeńskie, dł. 3 m | C7: szt. | D7: 5
A8: 4 | B8: Pułapka wodna czarna typu D-fend do monitora f-my Datex - Ohmeda i Sirius | C8: szt. | D8: 20
A9: 5 | B9: Jednorazowy, układ oddechowy do respiratora dla dorosłych w składzie: 2 rury karbowane śr.2 2 mm z pamięcią kształtu, o dł. min 1,5 m, złączka Y, łącznik prosty 22m/22m | C9: szt. | D9: 50
A10: 6 | B10: Filtr p/bakteryjny z portem do kapnografii dla dorosłych o objętości oddechowej 180-250 ml bez wymiennika ciepła i wilgoci | C10: szt. | D10: 3200
A11: 7 | B11: Filtr p/bakteryjny z wymiennikiem ciepła i wilgoci, z portem do kapnografii dla dorosłych o objętości oddechowej 180-250 ml | C11: szt. | D11: 3800
A12: 8 | B12: Filtr p/bakteryjny z wymiennikiem ciepła i wilgoci, z portem do kapnografii, pediatryczny o objętości oddechowej 50-90 ml. | C12: szt. | D12: 300
A13: 9 | B13: Filtr p/bakteryjny z wymiennikiem ciepła i wilgoci z portem do kapnografii, noworodkowy o objętości oddechowej 25-40 ml. | C13: szt. | D13: 60
A14: 10 | B14: Wymiennik ciepła i wilgoci „sztuczny nos” do rurek tracheostomijny dla dorosłych bez drenu. | C14: szt. | D14: 300
A15: 11 | B15: Wapno sodowane do aparatu do zniecz. 4,5 kg | C15: szt. | D15: 26
A16: 12 | B16: Maska tlenowa, hypoalergiczna, bezzapachowa, przeźroczysta, wykonana z medycznej odmiany miękkiego PCV, do wysokich stężeń tlenu z przewodem tlenowym, z kulką do monitorowania oddechów i gumką naciągającą oraz rezerwuarem tlenowym | C16: szt. | D16: 200
... A40: 36 | B40: Czujnik SPO2 typu Masimo typu LNCS YI wielorazowy | C40: szt | D40: 2
B41: RAZEM
B43: Data | H43: Podpis osoby/osób upoważnionej
B44: ……………………………………………. | H44: ……………………………….

Sheet Zad 16
B2: ZOZ/DZP/PN/23/25
B3: Załącznik Nr: 9
A4: Zadanie nr: 16 - Akcesoria do aparatów elektrochirurgicznych.
A5: Lp. | B5: Nazwa produktu | C5: Jednostka miary | D5: Ilość | E5: Cena jednostkowa netto | F5: Wartość netto | G5: VAT | H5: Cena jednostkowa brutto | I5: Wartość brutto | J5: Producent/Model/Nr katalogowy
A6: 1 | B6: Jednorazowy uchwyt z elektrodą szpatułkową, 2 przyciski. | C6: op.25 szt | D6: 25
A7: 2 | B7: Kabel elektrody neutralnej jednorazowej, 4m | C7: szt. | D7: 6
A8: 3 | B8: Uchwyt typu ErgoPen do elektrody 4mm, wąski, 2 przyc., z kablem 4m, wtyk 3-bolc. | C8: szt. | D8: 4
A9: 4 | B9: Uchwyt typu ErgoPen do elektrody 4mm, wąski, 2 przyc., z kablem 4m, wtyk 1-bolc. | C9: szt. | D9: 2
A10: 5 | B10: Nóż prosty, 3,4x24 mm dł 45 mm do uchwytu Ergo Pen 4mm z dwoma przyciskami i kablem op. 5 szt | C10: op = 5 szt | D10: 5
A11: 6 | B11: Elektroda bierna jednorazowa, owalna z odseparowanym pierścieniem ekwipotencjalnym. Powierzchnia 85 cm2, powierzchnia pierścienia 23 cm2 , nie wymagająca orientacji dla dorosłych i dzieci, zapewniające maksymalne bezpieczeństwo dla pacjenta, wykonana na włókninie op. 50 szt. | C11: op=50 | D11: 75
A12: 7 | B12: Czyścik narzędzi elektrochirurgicznych op. 100 szt. | C12: op. | D12: 1
A13: 8 | B13: Kabel szczypiec bipolar. 5M, wtyk 2-bolc. 29 mm | C13: szt. | D13: 3
A14: 9 | B14: Kulka prosta 6 mm, dł. 100 mm | C14: szt. | D14: 2
A15: 10 | B15: Kabel monopolarny do laparoskopu, dł. 4m | C15: szt. | D15: 6
A16: 11 | B16: Wielorazowe kleszcze do zamykania naczyń zagięte z końcówką ceramiczną, dł. 210 mm z kablem dł. 4m, kompatybilne z diatermią typu VIO lub równoważne | C16: szt. | D16: 2
A17: 12 | B17: Wielorazowe kleszcze do zamykania naczyń zagięte z końcówką ceramiczną, dł. 270 mm z kablem dł. 4m, kompatybilne z diatermią typu VIO lub równoważne | C17: szt. | D17: 2
... A39: 34 | B39: Pinceta bipolarna 16,5cm koncówki 1mm | C39: szt. | D39: 2
B40: RAZEM:

Sheet Zad.17
B2: ZOZ/DZP/PN/23/25
B3: Załącznik Nr: 9
A4: Zadanie nr: 17– Pojemniki na próbki
A5: Lp. | B5: Nazwa produktu | C5: Jednostka miary | D5: Ilość | E5: Cena jednostkowa netto | F5: Wartość netto | G5: VAT | H5: Cena jednostkowa brutto | I5: Wartość brutto | J5: Producent/Nazwa handlowa/Numer katalogowy
A6: 1 | B6: Pojemnik na mocz 100-125 ml niesterylny z zakrętką zakręcaną | C6: szt. | D6: 25000
A7: 2 | B7: Pojemnik na mocz lub materiał biologiczny 50-60 ml sterylny z zakrętką zakręcaną | C7: szt. | D7: 12000
A8: 3 | B8: Pojemnik na kał z łopatką 20-25 ml | C8: szt. | D8: 2000
A9: 4 | B9: Pojemnik na kał z łopatką 20-25 ml sterylny | C9: szt. | D9: 2000
A10: 5 | B10: Zestaw do pobierania próbek z drzewa oskrzelowego z łącznikami pasującymi do wszystkich typów cewników do odsysania, przeźroczysta probówka o poj. 10ml, dodatkowa zakrętka oraz nalepka identyfikacyjna - sterylny | C10: szt. | D10: 500
B11: RAZEM
B14: Data | H14: Podpis osoby/osób upoważnionej
B15: ……………………………………………. | H15: ……………………………….

Sheet Zad.18
B2: ZOZ/DZP/PN/23/25
B3: Załącznik Nr: 9
A4: Zadanie nr: 18 – Nebulizacja i akcesoria do urządzeń.
A5: Lp. | B5: Nazwa produktu | C5: Jednostka miary | D5: Ilość | E5: Cena jednostkowa netto | F5: Wartość netto | G5: VAT | H5: Cena jednostkowa brutto | I5: Wartość brutto | J5: Producent/Nazwa handlowa/Numer katalogowy
A6: 1 | B6: Jednorazowy ustnik do spirometru o wymiarach: średnica wewnętrzna 20mm, średnica zewnętrzna 22mm, długość: 65mm +-1mm pakowane pojedynczo. | C6: Op=200 | D6: 10
A7: 2 | B7: Filtr antybakteryjny do spirometru odpowiedająca parametrom produktu firmy BTL | C7: Op=50 szt | D7: 60
A8: 3 | B8: Inhalator tłokowy do nebulizacji do stosowania w szpitalu do pracy ciągłej z wbudowanym manometrem z regulacją cisnienia 1,3-2,5 bar. Przepływ max. 16l/min., wielokość cząsteczek (MMAD) max 3,5µm, waga urzadzenia max 2,2 kg, | C8: szt | D8: 5
A9: 4 | B9: Nebulizator do kompresora Pari: wydajność 600mg/min, średnia masa cząsteczki MMD:3,5 µm, ilość czątek poniżej 5µm:67%, nadaje się do sterylizacji w autoklawie (ok. 100 razy w temp. 134oC), pojemnik na lek 2-8 ml | C9: szt | D9: 8
A10: 5 | B10: Maska miękka bez stabilizatora dla dorosłych | C10: szt | D10: 8
A11: 6 | B11: Turbinka do spirometru Microlab 8 ML 3500 | C11: szt. | D11: 1
A12: 7 | B12: Uchwyt do lampy ML501/701 | C12: szt. | D12: 10
A13: 8 | B13: Uchywt do lampy Marled/marlux | C13: szt | D13: 10
A14: 9 | B14: Maska dla dzieci współpracująca z nebulizatorami Pari- do sterylizacji w autoklawie (po założeniu stabilizatorów) | C14: szt | D14: 10
A15: 10 | B15: Maska w rozmiarach 0- dla wcześniaków,1 – dla noworodków i niemowląt od 0-1 roku życia, 2 – dla dzici 1-3 roku życia,3- dla dzieci powyżej 3 roku życia, w komplecie kolanko umożliwiające inhalację dziecka w pozycji leżącej - do sterylizacji w autoklawie | C15: szt | D15: 10
A16: 11 | B16: Nebulizator: - do inhalacji dzieci powyżej powyżej 4 roku życia oraz osób dorosłych- możliwość sterylizacji w autoklawie ok. 100 razy, temperatura sterylizacji 134st. C. Charakterystyka aerozolu (w połączeniu z kompresorem Pari Turbo Boy SX) Wydajność: 600mg/min średnia masa cząsteczki MMD 3,5um ilość cząstek poniżej 5um 67% | C16: szt | D16: 10
A17: 12 | B17: Nebulizator: - w połączeniu z maską do inhalacji noworodków - możliwość sterylizacji w autoklawie ok. 100 razy, temperatura sterylizacji 134st. C. Charakterystyka aerozolu (w połączeniu z kompresorem Pari Boy SX) Wydajność: 450mg/min Średnia masa cząsteczki MMD 2,2um ilość cząstek poniżej 5um 89% | C17: szt | D17: 10
... A19: 14 | B19: Dren do nebulizatora Pari | C19: szt | D19: 20
B20: RAZEM
B23: Data | H23: Podpis osoby/osób upoważnionej
B24: ……………………………………………. | H24: ……………………………….

Sheet Zad.19
B1: ZOZ/DZP/PN/23/25
B2: Załącznik Nr: 9
A3: Zadanie nr: 19- Test wód płodowych
A4: Lp. | B4: Nazwa produktu | C4: Jednostka miary | D4: Ilość | E4: Cena jednostkowa netto | F4: Wartość netto | G4: VAT | H4: Cena jednostkowa brutto | I4: Wartość brutto | J4: Producent/Nazwa handlowa/Numer katalogowy
A5: 1 | B5: Szybki test paskowy do wykrywania przedwczesnego pęknięcia błon płodowych u kobiet ciężarnych. Detekcja IGFBP-1. | C5: op=10 szt. | D5: 15
B6: RAZEM
B10: Data | H10: Podpis osoby/osób upoważnionej
B11: ……………………………………………. | H11: ……………………………….

Sheet zad. 20.
B2: ZOZ/DZP/PN/23/25
B3: Załącznik Nr: 9
A4: Zadanie nr: 20 - Różne
A5: Lp. | B5: Nazwa produktu | C5: Jednostka miary | D5: Ilość | E5: Cena jednostkowa netto | F5: Wartość netto | G5: VAT | H5: Cena jednostkowa brutto | I5: Wartość brutto | J5: Producent/Nazwa handlowa/Numer katalogowy
A6: 1 | B6: Igła przeznaczona dla dorosłych oraz dla dzieci powyżej 12 r.ż. Igła jest automatycznym wkłuciem doszpikowym, przeznaczonym do użycia u pacjentów, u których założenie obwodowego dostępu dożylnego jest bardzo trudne bądź niemożliwe. Szczególnie podczas działań ratunkowych. Opis: stały dostęp do naczynia; odpowiedni do przetaczania krwi; mało bolesna penetracja igły do kości gąbczastej; sprzęt jednorazowego użycia podnosi bezpieczeństwo; szybka infuzja płynów i leków; brak bezpośredniego kontaktu z krwią; szczególnie odpowiedni w sytuacjach zagrożenia życia (wypadki lotnicze i drogowe, trzęsienia ziemi, konflikty zbrojne, w medycynie katastrof, resuscytacji, planowe znieczulenia kostne) | C6: szt. | D6: 2
