Workbook
Name Print_Area_0: Zad.11!$A$1:$J$48
Name Print_Area_0: Zad.79!$A$1:$J$8

Sheet Zad.1
B1: ZOZ/DZP/PN/23/25
B2: Załącznik Nr: 9
A4: Zadanie nr: 1 - Cewniki, dreny, kanki, zgłębniki
A5: Lp. | B5: Nazwa produktu | C5: Jednostka miary | D5: Ilość | E5: Cena jednostkowa netto | F5: Wartość netto | G5: VAT | H5: Cena jednostkowa brutto | I5: Wartość brutto | J5: Producent/Nazwa handlowa/Numer katalogowy
A6: 1 | B6: Cewnik do odsysania Redon 12 F/70, z paskiem rtg silikonowane | C6: szt. | D6: 70
A7: 2 | B7: Cewnik do odsysania Redon 14 F/70, z paskiem rtg silikonowane | C7: szt. | D7: 560
A8: 3 | B8: Cewnik do odsysania Redon 16 F / 70, z paskiem rtg silikonowane | C8: szt. | D8: 280
A9: 4 | B9: Cewnik do odsysania Redon 18 F / 70, z paskiem rtg silikonowane | C9: szt. | D9: 100
A10: 5 | B10: Cewnik do odsysania Redon 20 F / 70, z paskiem rtg silikonowane | C10: szt. | D10: 20
A11: 6 | B11: Pojemnik typ Redon, sterylny o pojemności 200-250ml, końcówka schodkowa do załączenia drenów Redon, kształt płaski, pakowane w opakowanie papier folia. | C11: szt. | D11: 50
A12: 7 | B12: Cewnik do odsysania g. dróg oddech. C 4, dł. 40 cm | C12: szt. | D12: 50
A13: 8 | B13: Cewnik do odsysania g. dróg oddech. C 6, dł. 40 cm | C13: szt. | D13: 250
A14: 9 | B14: Cewnik do odsysania g. dróg oddech. C 8, dł. 40 cm | C14: szt. | D14: 1050
A15: 10 | B15: Cewnik do odsysania g. dróg oddech. C 10, dł. 40 cm | C15: szt. | D15: 2300
A16: 11 | B16: Cewnik do odsysania g. dróg oddech. C 12, dł. 40-60 cm | C16: szt. | D16: 1800
A17: 12 | B17: Cewnik do odsysania g. dróg oddech. C 14, dł. 50-60 cm | C17: szt. | D17: 12000
... A64: 59 | B64: Zgłębnik Sengstakena G-16 | C64: szt. | D64: 5
B65: RAZEM
B68: Data | H68: Podpis osoby/osób upoważnionej
B69: ……………………………………………. | I69: ……………………………….

Sheet Zad.2
B1: ZOZ/DZP/PN/23/25
B2: Załącznik Nr: 9
A4: Zadanie nr: 2 - Embolektomia, cewniki do żył centralnych, igły do znieczuleń
A5: Lp. | B5: Nazwa produktu | C5: Jednostka miary | D5: Ilość | E5: Cena jednostkowa netto | F5: Wartość netto | G5: VAT | H5: Cena jednostkowa brutto | I5: Wartość brutto | J5: Producent/Nazwa handlowa/Numer katalogowy
A6: 1 | B6: Cewnik do embolektomii F3/800 bal. 0,2 ml | C6: szt. | D6: 20
A7: 2 | B7: Cewnik do embolektomii F 4 / 800 bal. 0,7 ml | C7: szt. | D7: 10
A8: 3 | B8: Cewnik do embolektomii F 5/ 800 bal. 1,5 ml | C8: szt. | D8: 30
A9: 4 | B9: Cewnik do embolektomii F 6 / 800 bal. 2,0 ml | C9: szt. | D9: 20
A10: 5 | B10: Cewnik do żył centralnych met Seldingera 1- światł. 20 cm x 70 mm | C10: szt. | D10: 5
A11: 6 | B11: Cewnik do żył centralnych met Seldingera 2- światł. 20 cm x 70 mm | C11: szt. | D11: 50
A12: 7 | B12: Cewnik do żył centralnych met Seldingera 3- światł. 20 cm x 70 mm | C12: szt. | D12: 85
A13: 8 | B13: Cewnik pęcherzowo-miedniczkowy / szynowanie moczowodów / Dubble J 7 F 26 cm śr pętli 4 cm | C13: szt. | D13: 6
A14: 9 | B14: Dren do drenażu kl. piersiowej z trokarem 24 F | C14: szt. | D14: 30
A15: 10 | B15: Dren do drenażu kl. piersiowej z trokarem 28 F | C15: szt. | D15: 40
A16: 11 | B16: Igła do znieczuleń z ostrzem typu Pencil-Point o długości 88-90mm, w komplecie z igłą prowadzącą 20-22G, igła wykonana z wysokiej jakości stali nierdzewnej, przeźroczysta nasadka, ułatwiająca wizualizację płynu, karbowany uchwyt. 25-27G | C16: szt. | D16: 620
A17: 12 | B17: Igła do znieczuleń IPPS Quincke 18G-26G x 90mm Do wyboru przy zakupie | C17: szt. | D17: 50
... A21: 16 | B21: Zestaw do cystostomii: Katerer typu PIGTAIL 8F,9F,10F,12F,14F/45cm z poliuretanu slikonowego z igłą z koszulką rozrywealną 8F/80mm, 9F/80mm, 12F/120mm w komplecie, strykawka 10ml luer-lock, skalpel, kołnież mocujący, Opaska zaciskowa. Rozmiar do wyboru przy zakupie. | C21: 1kpl. | D21: 10
B22: RAZEM
B24: Data | H24: Podpis osoby/osób upoważnionej
B25: ……………………………………………. | I25: ……………………………….

Sheet Zad.3
B1: ZOZ/DZP/PN/23/25
B2: Załącznik Nr: 9
A3: Zadanie nr: 3 – Osłony na ramię C
A4: Lp. | B4: Nazwa produktu | C4: Jednostka miary | D4: Ilość | E4: Cena jednostkowa netto | F4: Wartość netto | G4: VAT | H4: Cena jednostkowa brutto | I4: Wartość brutto | J4: Producent/Nazwa handlowa/Numer katalogowy
A5: 1 | B5: Osłona sterylna na przewody tubus złożona teleskopowo 16 x 200 cm z taśmą do mocowania na końcach | C5: szt. | D5: 1120
A6: 2 | B6: Sterylny pokrowiec na ramię C aparatu rtg o wymiarach 100x160cm, wykonany z mocnej przezroczystej folii PE z 2 osłonami z gumką oraz 2 taśm. | C6: szt. | D6: 360
A7: Razem
B9: Data | H9: Podpis osoby/osób upoważnionej
B10: ……………………………………………. | I10: ……………………………….

Sheet Zad.4
B2: ZOZ/DZP/PN/23/25
B3: Załącznik Nr: 9
A4: Zadanie nr: 4 - Elektromedycyna
A5: Lp. | B5: Nazwa produktu | C5: Jednostka miary | D5: Ilość | E5: Cena jednostkowa netto | F5: Wartość netto | G5: VAT | H5: Cena jednostkowa brutto | I5: Wartość brutto | J5: Producent/Nazwa handlowa/Numer katalogowy
A6: 1 | B6: Elektrody do EKG z żelem dla noworodków | C6: Op=50 szt. | D6: 11
A7: 2 | B7: Elektrody do EKG z żelem dla dzieci | C7: Op=50 szt. | D7: 30
A8: 3 | B8: Elektrody do EKG do badań spoczynkowych 44-30mm w kształcie prostokąta | C8: Op=50 szt. | D8: 1200
A9: 4 | B9: Elektrody do EKG do badań holterowskich i wysiłkowych, prostokątna z podłuznym otworem do mocowania przewodu o wyminarach 55x40mm | C9: Op=50 szt. | D9: 600
A10: 5 | B10: Elektrody do EKG Holter do próby wysiłkowej prostokątna z zaokraglonymi rogami i wypustką o wymiarach 50x40mm | C10: Op=50 szt. | D10: 100
A11: 6 | B11: Elektroda do EKG z możliwością użycia w promieniach RTG dla dorosłych, okrągła o wymiarach 45x42mm z wypustką do badań spoczynkowych | C11: Op=50 szt. | D11: 150
A12: 7 | B12: Elektrody przedsercowe, przyssawkowe komplet 6 szt. dla dorosłych | C12: 1 komplet | D12: 15
A13: 8 | B13: Elektrody przedsercowe, przyssawkowe komplet 6 szt. dziecięce | C13: 1 komplet | D13: 5
A14: 9 | B14: Elektrody kończynowe, klamrowe komplet 4 szt. dla dorosłych | C14: 1 komplet | D14: 16
A15: 10 | B15: Elektrody kończynowe, klamrowe komplet 4 szt. dla dzieci | C15: 1 komplet | D15: 2
A16: 11 | B16: Elektroda do stymulacji serca typu Quick – Combo RTS | C16: op. 2 szt. | D16: 26
A17: 12 | B17: Elektroda silikonowo węglowa do elektroterapii pasująca do urządzenia BTL, rozmiar 6x6cm | C17: szt. | D17: 12
... A36: 31 | B36: Papier termiczny na rolce 57mm x 30m bez nadruku | C36: szt. | D36: 270
B37: RAZEM
B40: Data | H40: Podpis osoby/osób upoważnionej
B41: ……………………………………………. | I41: ……………………………….

Sheet Zad.5
B2: ZOZ/DZP/PN/23/25
B3: Załącznik Nr: 9
A4: Zadanie nr: 5 - Sterylizacja
A5: Lp. | B5: Nazwa produktu | C5: Jednostka miary | D5: Ilość | E5: Cena jednostkowa netto | F5: Wartość netto | G5: VAT | H5: Cena jednostkowa brutto | I5: Wartość brutto | J5: Producent/Nazwa handlowa/Numer katalogowy
A6: 1 | B6: Rękaw fol.- pap. bez fałdy, płaski 50 mm x 200m | C6: szt. | D6: 4
A7: 2 | B7: Rękaw fol.- pap. bez fałdy, płaski 75mm x 200m | C7: szt. | D7: 40
A8: 3 | B8: Rękaw fol.- pap. bez fałdy, płaski 100 mm x 200m | C8: szt. | D8: 35
A9: 4 | B9: Rękaw fol.- pap. bez fałdy, płaski 120mm x 200m | C9: szt. | D9: 35
A10: 5 | B10: Rękaw fol.- pap. bez fałdy, płaski 150 mm x 200m | C10: szt. | D10: 30
A11: 6 | B11: Rękaw fol.- pap. bez fałdy, płaski 200-210 mm x 200m | C11: szt. | D11: 35
A12: 7 | B12: Rękaw fol.- pap. bez fałdy, płaski 300mm x 200m | C12: szt. | D12: 20
A13: 8 | B13: Rękaw fol.-pap z fałdą 150 mm x 100m | C13: szt. | D13: 60
A14: 9 | B14: Rękaw fol.-pap z fałdą 200 mm x 100m | C14: szt. | D14: 20
A15: 10 | B15: Rękaw fol.-pap z fałdą 300 mm x 100m | C15: szt. | D15: 20
A16: 11 | B16: Rękaw fol.-pap z fałdą 400 mm x 100m | C16: szt. | D16: 20
A17: 12 | B17: Taśma neutralna 19 mm | C17: szt. | D17: 70
... A32: 27 | B32: Torebki papierowo-foliowe samoklejące 300 mm x 450 mm op. a 200 szt. | C32: op.=200szt | D32: 20
B33: RAZEM
B35: Poz 1-11
B36: Parametry techniczne:
A37: - | B37: gramatura min 60g/m2
A38: - | B38: wskaźniki sterylizacji umieszczone poza obszarem pakowania na linii zgrzewu
A39: - | B39: 2 wskaźniki sterylizacji: para wodna/tlenek etylenu
A40: - | B40: folia 6-warstwowa wraz z warstwą kleju
A41: - | B41: na każdym rękawie papierowo-foliowym umieszczony wymiar nominalny rękawa (długość i szerokość numer serii)
A42: - | B42: zgrzew fabryczny 3-kanałowy
B43: Poz 18
A44: - | B44: Polyolefin i folia połączone są 3-kanałowym zgrzewem fabrycznym, którego wytrzymałość wynosi 6 Nm.
A45: - | B45: Laminat foliowy wykonany z 6-warstwowego kompozytu poliestru i polipropylenu o grubości 50μm, oraz polyolefin o gramaturze 93g/m2
B47: Data | H47: Podpis osoby/osób upoważnionej
B48: ……………………………………………. | H48: ……………………………….

Sheet Zad.6
B2: ZOZ/DZP/PN/23/25
B3: Załącznik Nr: 9
A4: Zadanie nr: 6 – Rękawice diagnostyczne
A5: Lp. | B5: Nazwa produktu | C5: Jednostka miary | D5: Ilość | E5: Cena jednostkowa netto | F5: Wartość netto | G5: VAT | H5: Cena jednostkowa brutto | I5: Wartość brutto | J5: Producent/Nazwa handlowa/Numer katalogowy
A6: 1 | B6: Rękawice lateksowe,z zewnętrzną warstwą polimerową, diagnostyczne, bezpudrowe, niejałowe. Długość rękawic min:245mm, grubość na palcu min. 0,10mm, na dłoni min. 0,08mm, na mankiecie: min. 0,06mm. Teksturowane na całej powierzchni. Siła zrywu przed starzeniem min. 6N, po starzeniu min. 6N. Zawartość protein <70ug/g. AQL max. 1,5. Wyrób medyczny klasy I zgodnie z Rozporządzeniem (UE) 2017/745 oraz środek ochrony indywidualnej kat. III typ B zgodnie z Rozporządzeniem (UE) 2016/425. Zgodne z normą EN 455 część 1,2,3 i 4, EN ISO 374-1, EN ISO 374 – 2, EN ISO 374-4,EN ISO 374-5, EN 16523-1, EN ISO 21420. Odporność na wirusy wykazana zgodnie z normą EN ISO 374-5. Dopuszczenie do kontaktu z żywnością zgodnie z Rozporządzeniem WE 1935/2004, Rozporządzeniem WE 10/2011 oraz Rozporządzeniem WE 2023/2006 ( potwierdzone deklaracją producenta), Termin ważności 5 lat od daty produkcji. Rozmiar od XS-XL do wyboru przy zakupie. | C6: op.100szt | D6: 5000
A7: 2 | B7: Rękawice nitrylowe, bezpudrowe, niejałowe, mankiet rolowany, kolor niebieski, powierzchnia zewnętrzna teksturowana na końcach palców, powierzchnia wewnętrzna chlorowana, długość min 240mm. AQL max 1.0. Grubość na palcu min 0,12mm, na dłoni min. 0,10 mm, na mankiecie min. 0,08mm. Siła zrywu przed starzeniem 7N, po starzeniu min. 7N. Rekawice zgodne z Rozporządzeniem (UE) 2017/745 zakwalifikowane jako wyrób medyczny w klasie I oraz Rozporządzeniem (UE) 2016/425 o środkach ochrony indywidualnej w kategorii III typ B. Rękawice zgodne z normą EN 455 (1-4), zgodne z normą EN ISO 374-1, EN ISO 374 – 2, EN 374-4, EN 16523-1,EN ISO 374-5. Rękawice przebadane na przenikanie mikroorganizmów zgodnie z EN ISO 374-5 lub ASTM F1671:07.Brak wykrycia w rękawicy szkodliwych ftalanów i akceleratorów chemicznych. Potwierdzony badaniem z niezależnego laboratorium na brak przebicia rękawicy dla min. 40 cytostatyków przez min 240min. oraz dla fentanylu przez min 240min. wg ASTM D6978. Dopuszczone do kontaktu z żywnością zgodnie z Rozporządzeniem WE 1935/2004, Rozporządzeniem WE 10/2011 oraz Rozporządzeniem WE nr2023/2006 ( potwierdzone deklaracją producenta. Termin ważności 5 lat od daty produkcji Rozmiar XS-XL do wyboru przy zakupie. | C7: op. 100 szt | D7: 32000
A8: 3 | B8: Rękawice nitrylowe, bezpudrowe, niejałowe, o przedłużonym mankiecie, do procedur wysokiego ryzyka, wewnętrznie chlorowane, teksturowane na końcach palców, grubość ścianki na palcu min 0,14mm, na dłoni min. 0,10 mm, na mankiecie min. 0,07mm, o długości min 290mm, AQL 1.0, siła zrywu przed starzeniem min. 9 N, po starzeniu min.8 N. Rękawice odporne na przenikanie wirusów zgodnie z EN ISO 374-5 lub ASTM F1671:07. Potwierdzony badaniem z niezależnego laboratorium brak przebicia rękawicy dla min. 30 cytostatyków przez min 240min. oraz fentanylu przez min.240 min. wg ASTM D6978. Potwierdzony badaniami z niezależnego laboratorium zgodnie z ASTM F739 brak przebicia dla min. 5 związków o działaniu dezynfekcyjnym przez min.480 min. ( w tym 4% chlorheksydyny oraz przebicia dla min. 70% izopropanol przez min. 24 min. Potwierdzony badaniami z niezaleznego laboratorium brak wykrycia w rękawicy szkodliwych akceleratorów chemicznych. Rękawice zgodne z Rozporządzeniem(UE) 2017/745 w klasie I oraz Rozporządzeniem (UE) 2016/425 o środkach ochrony indywidualnej w kategorii III typ B, rękawice zgodne z EN 455 (1-4), zgodne z EN ISO 374-1, EN ISO 374-2, EN16523-1, EN ISO 374-4, EN ISO 374-5. Dopuszczone do kontaktu z żywnością zgodnie z Rozporządzeniem WE 1935/2004, Rozporządzeniem WE 10/2011 oraz Rozporządzeniem (WE) nr 2023/2006 (potwierdzone deklaracją producenta). Termin ważności 5 lat od daty produkcji.Rozmiar XS-XL do wyboru przy zakupie. | C8: op.100szt | D8: 2000
A9: 4 | B9: Rękawice nitrylowe, bezpudrowe, niejałowe, mankiet rolowany, kolor zielony. Powierzchnia zewnętrzna teksturowana na palcach. Powierzchnia wewnętrzna chlorowana. AQL max 1,5, siła zrywu przed starzeniem oraz po starzeniu min. 6,5 N ( potwierdzone badaniem z niezależnego laboratorium). Długość min. 245 mm, grubość pojedynczej ścianki na palcu min 0,09 mm, na dłoni min. 0,07 mm, na mankiecie min 0,06 mm. Potwierdzony badaniem z niezależnego laboratorium brak przenikania oprzez rękawicę dla min 12 cytostatykó przez min 240 min. wg ASTM D6978. Rękawice z formułą certyfikowanego, organicznego i oczyszczonego wyciągu z aloesu o właściwościach nawilżających i niskim potencjale zapalenia skóry. Ocena efektu nawilżenia skóry potwierdzona w testach z udziałem ludzi, przetestowane pod kątem uczuleń skóry potwierdzona badaniem Modifield Draize-95 Test. Rękawice odporne na przenikanie mikroorganizmów zgodnie z EN ISO 374-5. Rękawice odporne na przenikanie mikroorganizmów zgodnie z EN ISO 374-5. Rękawice zgodne z Rozporządzeniem (UE) 2017/745 zaklasyfikowane jako wyroby medyczne w klasie I oraz zgodne z Rozporządzeniem (ue) 2016/425 o środkach ochrony indywidualnej w kategorii III typ B. Rękawice zgodne z wymaganiami norm EN 455(1-4),EN ISO374-1, EN ISO 374-2, EN 374-4, EN ISO 374-5, EN ISO EN ISO 21420., rozmiar od XS-XL | C9: op.100szt | D9: 1000
A10: 5 | B10: Rękawice nitrylowe, bezpudrowe, niejałowe, mankiet rolowany, kolor fioletowy. Powierzchnia zewnętrzna teksturowana na palcach. Powierzchnia wewnętrzna chlorowana. Teksturowane końcówki palców o właściwościach adhezyjnch, w celu zapewnienia precyzji podczas pracy z małymi przedmiotami w środowisku zarówno suchym jak i mokrym ( potwierdzone oświadczeniem producenta). Długość rękawicy min 248 mm , AQL max 1,5. Grubość pojedynczej ścianki na palcu min 0,10 mm, na dłoni 0,06 mm. Minimalna wartość siły zrywu przed starzeniem i po starzeniu min 7N ( potwierdzone niezależnym badaniem). Rękawice zgodne z Rozporządzeniem (UE) 2017/745 zaklasyfikowane jako wyroby medyczne w klasie I oraz zgodne z Rozporządzeniem (UE) 2016/425 o środkach ochrony indywidualnej w kat III typ B, rękawice zgodne z EN 455 (1-4), zgodne z EN ISO 374-1, EN ISO 374-4, EN ISO 374-5. Rękawice odporne na przenikanie bakterii, grzybów i wirusów zgodnie z EN ISO 374-5. Zgodne z ASTM D6978 oraz potwierdzone badaniem z niezależnego laboratorium, brak przenikania przez rękawicę dla min 7 cytostatyków przez min 240 min. Opakowanie A 100 szt rozm S-XL | C10: op.=100 szt | D10: 1000
A11: 6 | B11: Rękawice foliowe PE , rozmiar M-L | C11: op=100szt. | D11: 600
B12: RAZEM
B16: Data | H16: Podpis osoby/osób upoważnionej
B17: ……………………………………………. | H17: ……………………………….

Sheet Zad.7
B2: ZOZ/DZP/PN/23/25
B3: Załącznik Nr: 9
B4: Zadanie nr: 7 – Kaniule, aparaty do przygotowywania i pobierania leków z butelek
A5: Lp. | B5: Nazwa produktu | C5: Jednostka miary | D5: Ilość | E5: Cena jednostkowa netto | F5: Wartość netto | G5: VAT | H5: Cena jednostkowa brutto | I5: Wartość brutto | J5: Producent/Nazwa handlowa/Numer katalogowy
A6: 1 | B6: Aparat do przygot. i pobierania leków z butelek z filtrem bakteryjnym 0,45 mikrometra z odpowietrznikiem z zamknięciem zatrzaskowym z mikrokolcem | C6: szt. | D6: 16000
A7: 2 | B7: Przyrząd do aspiracji leku z butelek, z wbudowanym filtrem bakteryjnym 0,45µm i filtrem cząsteczkowym 5µm, nieruchoma osłona otaczająca nasadkę łączącą ze strzykawką, zintegrowana zastawka zabezpieczająca lek przed wyciekaniem po odłączeniu od strzykawki. | C7: szt. | D7: 6000
A8: 3 | B8: Kaniula dożylna typu bezpiecznego z portem bocznym od G-24 do G-17 zaopatrzona w specjalny metalowy automatyczny zatrzask zabezpieczający koniec igły przed przypadkowym zakłuciem personelu z minimum 4 paskami kontroli pod promieniowaniem RTG membrana hydrofobowa, chroniąca przed wypływem krwi po założeniu kaniuli | C8: szt. | D8: 45000
A9: 4 | B9: Kaniula dożylna typu bezpiecznego bez portu bocznego z zaworem eliminujacym całkowicie wypływ krwi podczas kaniulacji, od G-24 do G-17 zaopatrzona w specjalny metalowy automatyczny zatrzask zabezpieczający koniec igły przed przypadkowym zakłuciem personelu z minimum 4 paskami kontroli pod promieniowaniem RTG membrana hydrofobowa, chroniąca przed wypływem krwi po założeniu kaniuli | C9: szt. | D9: 1000
A10: 5 | B10: Koreczki dwufunkcyjne do kaniul i strzykawek | C10: szt. | D10: 25200
A11: 6 | B11: Korek do wenflonu Luer Lock | C11: szt. | D11: 100000
A12: 7 | B12: Korek dezynfekcyjny zawierający 70% alkohol izopropylowy, sterylny, z aplikatorem umożliwiający sterylne podłączenie, bez możliwości kontaminacji obudowy koreczka przed podłączeniem. | C12: op=200szt. | D12: 10
A13: 8 | B13: Zestaw bezpieczny do przetoczeń płynów inf. z zastawkami : zatrzymującymi wypływ płynu przy odpowietrzaniu i zabezpieczającymi przed dostaniem się powietrza do drenu po infuzji, z odpowietrznikiem z filtrem p/bakteryjnym z wskaźnikiem BFE minimum 99,99999% zamykanym klapką, dwuczęściowa komora kroplowa z 15μm filtrem, zaciskiem rolkowym z zabezpieczeniem na kolec komory kroplowej dla zapewnienia bezpieczeństwa po użyciu (ostry kolec umożliwiający całkowite opróżnienie butelki), wolny od ftalanów | C13: szt. | D13: 60000
A14: 9 | B14: Igła do bezpiecznego pobierania leków ze zintegrowanym filtrem 5µm, zapobiegająca zanieczyszczeniom mechanicznym pobieranych leków - opakowanie typu folia/papier. | C14: szt. | D14: 400
A15: 10 | B15: Łącznik międzystrzykawkowy luer-lock umożliwiający swobodny transfer zawartości jednej strzykawki do drugiej - pakowane indywidualnie opak. folia/papier | C15: szt. | D15: 150
A16: 11 | B16: Przyrząd do transferu leków kolec- kolec | C16: szt. | D16: 100
A17: 12 | B17: Aparat do przetoczeń płynów infuzyjnych z odpowietrznikiem z filtrem p/bakteryjnym z wskaźnikiem BFE minimum 99,99999% zamykanym klapką, dwuczęściowa komora kroplowa z 15μm filtrem, zaciskiem rolkowym z zabezpieczeniem na kolec komory kroplowej dla zapewnienia bezpieczeństwa po użyciu (ostry kolec umożliwiający całkowite opróżnienie butelki), wolny od ftalanów | C17: szt. | D17: 1000
... A19: 14 | B19: Zestaw do przetoczeń płynów infuzyjnych światłoczułych z dwuczęściową komorą kroplową, odpowietrznikiem z filtrem p/bakteryjnym oraz miejscem na kolec komory kroplowej dla zapewnienia bezpieczeństwa po użyciu. Długość drenu 180 cm. Opakowanie pojedyncze, sterylne. | C19: szt. | D19: 1000
B20: RAZEM
B22: Data | H22: Podpis osoby/osób upoważnionej
B23: ……………………………………………. | H23: ……………………………….

Sheet Zad.8
B2: ZOZ/DZP/PN/23/25
B3: Załącznik Nr: 9
A4: Zadanie nr: 8 – Testy do sterylizacji.
A5: Lp. | B5: Nazwa produktu | C5: Jednostka miary | D5: Ilość | E5: Cena jednostkowa netto | F5: Wartość netto | G5: VAT | H5: Cena jednostkowa brutto | I5: Wartość brutto | J5: Producent/Nazwa handlowa/Numer katalogowy
A6: 1 | B6: Pakiet jednokrotnego użytku typu Bowie-Dick,symulujący pakiet porowaty pakowany w papier krepowy, Testzapewniają łatwą i jednoznaczną interpretację wyniku - zmiana koloru. | C6: 1 szt. | D6: 1600
A7: 2 | B7: Test wieloparametrowy typu MVI-S S-4 test parowy liniowe ułożenie wskaźnika | C7: op=250 | D7: 160
A8: 3 | B8: Szybki test do wykrywania protein i hemoglobiny. Parametry techniczne: wynik w czasie nie krótszym niż 10 minut, test składający się z tuby i nasączonego tamponu. Wynik w postaci zmiany barwy odczynnika na fioletową. Test zapewniający weryfikację HACCP/SSOP | C8: op.=24szt | D8: 6
A9: 4 | B9: Test jednorazowy kontroli mycia w myjniach dezynfektorach. | C9: op.=200szt | D9: 24
A10: 5 | B10: Test jednorazowy rutynowej kontroli w myjniach ultradźwiękowych. | C10: op=50szt | D10: 5
A11: 6 | B11: Uchwyt do mocowania testów z pozycji 4,5 | C11: 1szt | D11: 8
A12: 7 | B12: Test kontroli zgrzewu | C12: Op=250 szt | D12: 6
A13: 8 | B13: Zintegrowany test chemiczny Kl. 5 z ruchomą substancją wskaźnikową do pary wodnej. Zgodny z normą PN EN ISO 11140: 2014 lub równoważną, Test z ramką oddzielającą wynik pozytywny od negatywnego w celu poprawnej wizualizacji procesu rozróżnione kolorystycznie okienkami. | C13: Op=250 szt | D13: 60
B14: RAZEM
B17: Data | H17: Podpis osoby/osób upoważnionej
B18: ……………………………………………. | H18: ……………………………….

Sheet Zad.9
B1: ZOZ/DZP/PN/23/25
B2: Załącznik Nr: 9
B3: Zadanie nr: 9 Rękawice chirurgiczne
A4: Lp. | B4: Nazwa produktu | C4: Jednostka miary | D4: Ilość | E4: Cena jednostkowa[zł] netto | F4: Wartość [zł] netto | G4: VAT | H4: Cena jednostkowa [zł] brutto | I4: Wartość [zł] brutto | J4: Producent/Model/Nr katalogowy
A5: 1 | B5: rodzaj rękawicy: chirurgiczna, jałowa surowiec: lateks kauczuku naturalnego kolor: kremowy środek pudrujący: brak powierzchnia zewnętrzna: teksturowana na palcach i we wnętrzu dłoni powierzchnia wewnętrzna: ułatwiająca zakładanie rękawic na suchą i mokrą dłoń- powłoka hydrofobowa z hydrofilową substancją aktywowaną w zależności od środowiska wykończenie mankietu: rolowany, zakończony niechlorowaną opaską samoprzylepną średnia wartość siły zrywu: przed starzeniem 9N średnia wartość siły zrywu: po starzeniu: 9N typowa grubość (palec/dłoń/mankiet) : 0,25 ±0,03 mm/0,21 ±0,02 mm/0,17 ±0,02 mm Typowa długość: min. 300 mm Rozmiary: 6,0 – 9.0 AQL: 0.65 zawartość protein: < 20 μg/g potwierdzone przez niezależne laboratorium zgodność z normami produktowymi: EN ISO 21420, EN ISO 374-1, EN 374-2, EN 16523-1, EN 374-4, EN ISO 374-5, EN 455 (1-4), odporne na przenikanie wirusów zgodnie z EN ISO 374-5 lub ASTM F16781, potwierdzone przez producenta brak przebicia rękawicy dla min 27 cytostatyków przez min 240 min. zgodnie z ASTM D6978 trwałość: 3 lata sterylizacja: promieniowani Gamma rejestracja:Wyrób medyczny klasy Iia zgodnie z rozporządzeniem UE 2017/745 oraz środek ochrony indywidualnej kat III typ B zgodnie z rozporządzeniem (UE) 2016/425 | C5: para | D5: 17200
A6: 2 | B6: rodzaj rękawicy: chirurgiczna, jałowa , ortopedyczna surowiec: lateks kauczuku naturalnego kolor: brązowuy- eliminacja odblasku i refleksu środek pudrujący: brak powierzchnia zewnętrzna: teksturowana na palcach i we wnętrzu dłoni powierzchnia wewnętrzna: ułatwiająca zakładanie rękawic na suchą i mokrą dłoń- powłoka hydrofobowa z hydrofilową substancją aktywowaną w zależności od środowiska wykończenie mankietu: rolowany, zakończony niechlorowaną opaską samoprzylepną średnia wartość siły zrywu: przed starzeniem 9N średnia wartość siły zrywu: po starzeniu: 9N Kształt: anatomiczny, zakrzywione palce typowa grubość (palec/dłoń/mankiet) : 0,33 ±0,03 mm/0,31 ±0,03 mm/0,25 ±0,03 mm długość: min. 300 mm Rozmiary: 6,0 – 9.0 AQL: 0.65 zawartość protein: < 20 μg/g potwierdzone przez niezależne laboratorium zgodność z normami produktowymi: EN 388; EN ISO 21420, EN ISO 374-1, EN 374-2, EN 16523-1, EN 374-4, EN ISO 374-5, EN 455 (1-4), odporne na przenikanie wirusów zgodnie z EN ISO 374-5 lub ASTM F16781, potwierdzone przez producenta brak przebicia rękawicy dla min 27 cytostatyków przez min 240 min. zgodnie z ASTM D6978 trwałość: 3 lata sterylizacja: promieniowani Gamma rejestracja:Wyrób medyczny klasy Iia zgodnie z rozporządzeniem UE 2017/745 oraz środek ochrony indywidualnej kat III typ B zgodnie z rozporządzeniem (UE) 2016/425 | C6: para | D6: 3000
A7: 3 | B7: rodzaj rękawicy:mikrochirurgiczna, jałowa surowiec: lateks kauczuku naturalnego kolor: brązowy- eliminacja odblasku i refleksu środek pudrujący: brak Opakowanie zbiorcze ;50 par powierzchnia zewnętrzna: gładka z wykończeniem z mikroteksturą powierzchnia wewnętrzna: ułatwiająca zakładanie rękawic na suchą i mokrą dłoń- powłoka hydrofobowa z hydrofilową substancją aktywowaną w zależności od środowiska Kształt anatomiczny wykończenie mankietu: rolowany, zakończony niechlorowaną opaską samoprzylepną średnia wartość siły zrywu: przed starzeniem 9N średnia wartość siły zrywu: po starzeniu: 9N typowa grubość (palec/dłoń/mankiet) : 0,19 ±0,02 mm/0,19 ±0,03 mm/0,16 ±0,02 mm Typowa długość: min. 300 mm Rozmiary: 6,0 – 9.0 AQL: 0.65 zawartość protein: niski poziom protein lateksu max 10 μg/g potwierdzone przez niezależne laboratorium zgodność z normami produktowymi: EN ISO 21420, EN ISO 374-1, EN 374-2, EN 16523-1, EN 374-4, EN ISO 374-5, EN 455 (1-4), odporne na przenikanie wirusów zgodnie z EN ISO 374-5 lub ASTM F16781, potwierdzone przez producenta brak przebicia rękawicy dla min 27 cytostatyków przez min 240 min. zgodnie z ASTM D6978 trwałość: 3 lata sterylizacja: promieniowani Gamma rejestracja:Wyrób medyczny klasy Iia zgodnie z rozporządzeniem UE 2017/745 oraz środek ochrony indywidualnej kat III typ B zgodnie z rozporządzeniem (UE) 2016/425 | C7: para | D7: 2500
A8: 4 | B8: rodzaj rękawicy: syntetyczna jałowa surowiec: elastomer kolor: biały środek pudrujący: brak opakowanie zbiorcze 50 par powierzchnia zewnętrzna: mikrotekstura powierzchnia wewnętrzna: polimeryzowana wykończenie mankietu: rolowany typowa wartość siły zrywu: przed starzeniem min : 14 N typowa wartość siły zrywu: po starzeniu: min13 N kształt: anatomiczny typowa grubość (palec/dłoń/mankiet): (palec 0.22+/-0.02mm) / dłoń min 0.18 mm/ mankiet min 0.17 mm długość: min. 280 mm rozmiary: 6,0 – 9.0 AQL: 0.10 potwierdzone niezależnym badaniem zgodność z normami produktowymi Rękawice zgodne z EN 455(1-4), EN ISO 374-1, EN 374-2, EN 16523-1, EN ISO 374-4, EN ISO 374-5, EN ISO 21420, EN 421. Rękawice odporne na przenikanie wirusów zgodnie z EN ISO 374-5. Potwierdzony badaniem z niezależnego laboratorium brak przebicia rękawicy dla min. 17 cytostatyków przez min. 240 min. wg ASTM D6978. Rękawice zapobiegające alergiom -wolne od szkodliwych akceleratorów chemicznych (potwierdzone niezależnym badaniem) rejestracja : Wyrób medyczny klasy IIa zgodnie z dyrektywą MDD 93/42/EWG & 2007/47/EWG oraz środek ochrony indywidualnej kat. III typ B zgodnie z Rozporządzeniem UE 2016/425 | C8: para | D8: 700
A9: 5 | B9: rodzaj rękawicy: syntetyczna jałowa surowiec: elastomer kolor: zielony zewnątrz rękawicy, biały od wewnątrz środek pudrujący: brak opakowanie zbiorcze 40 par powierzchnia zewnętrzna: mikrotekstura powierzchnia wewnętrzna: polimeryzowana, do zabiegów wysokiego ryzyka, o trójwarstwowej strukturze, z płynem dezynfekującym w warstwie środkowej wykończenie mankietu: rolowany typowa wartość siły zrywu: przed starzeniem min : 10 N typowa wartość siły zrywu: po starzeniu: min 12 N kształt: anatomiczny typowa grubość (palec/dłoń/mankiet): (palec 0.29+/-0.03 mm)/dłoń min 0,24mm/mankiet min 0,15 mm długość: min. 280 mm rozmiary: 6,0 – 9.0 AQL: 0.10 potwierdzone niezależnym badaniem zgodność z normami produktowymi Rękawice zgodne z EN 455(1-4), EN ISO 374-1, EN 374-2, EN 16523-1, EN ISO 374-4, EN ISO 374-5, EN ISO 21420, EN 421. Rękawice odporne na przenikanie wirusów zgodnie z EN ISO 374-5. Rękawice zapobiegające alergiom -wolne od szkodliwych akceleratorów chemicznych (potwierdzone niezależnym badaniem. rejestracja : Wyrób medyczny klasy IIb zgodnie z dyrektywą MDD 93/42/EWG & 2007/47/EWG oraz środek ochrony indywidualnej kat. III typ B zgodnie z Rozporządzeniem UE 2016/425 | C9: para | D9: 400
A10: 6 | B10: rodzaj rękawicy: chirurgiczna, jałowa do stosowania w systemie podwójnego zakładania rękawic jako spodnia surowiec: lateks kauczuku naturalnego kolor: zielony środek pudrujący: brak powierzchnia zewnętrzna: gładka z wykończeniem z mikroteksturą powierzchnia wewnętrzna:z nawilżającą warstwą pielęgnacyjno-ochronną, która zapobiega wysuszaniu i pękaniu skóry, a także ułatwia zakładanie rękawic na sucho i na mokro oraz zmianę w trakcie operacji wykończenie mankietu: rolowany zakończony niechlorowaną opaską samoprzylepną średnia wartość siły zrywu: przed starzeniem: 9N średnia wartość siły zrywu: po starzeniu: 9N typowa gubość (palec/dłoń/mankiet) 0.19 ±0,02mm / 0.19 ±0,02mm/ 0.16 mm ±0,02mm Typowa długość: min. 300 mm rozmiary: 6,0 – 9.0 AQL: 0.65 zawartość protein: < 20 μg/g potwierdzone przez niezależne laboratorium zgodność z normami produktowymi: Rękawice zgodne z EN 455 (1-4), EN ISO 21420, EN ISO 374-1, EN 374-2, EN 16523-1, EN 374-4, EN ISO 374-5. Rękawice odporne na przenikanie wirusów zgodnie z EN ISO 374-5 lub ASTM F1671. Potwierdzony przez producenta brak przebicia rękawicy dla min. 26 cytostatyków przez min. 240 min. zgodnie z ASTM D6978. trwałość: 3 lata sterylizacja: promieniami gammma rejestracja: Wyrób medyczny klasy IIa zgodnie z Rozporządzeniem (UE) 2017/745 oraz środek ochrony indywidualnej kat. III typ B zgodnie z Rozporządzeniem (UE) 2016/425 | C10: para | D10: 400
A11: 7 | B11: Rękawice chirurgiczne, jałowe, z lateksu, w kolorze jasnokremowym, bezpudrowe, wewnętrznie polimeryzowane, o anatomicznym kształcie, z rolowanym mankietem i z teksturowaną powierzchnią. Długość min. 280 mm. Grubość na palcu 0.17 +/- 0.02 mm, na dłoni 0.15 +/- 0.02 mm oraz na mankiecie 0.13 +/- 0.02 mm. Potwierdzone badaniem w niezależnym laboratorium: niski poziom protein lateksu poniżej 20 µg/g ; siła zrywu przed starzeniem min. 16 N i po starzeniu min. 14 N. Poziom AQL 0.65. Wyrób medyczny klasy IIa zgodnie z dyrektywą MDD 93/42/EWG & 2007/47/EWG oraz środek ochrony indywidualnej kat. III typ B zgodnie z Rozporządzeniem (UE) 2016/425. Rękawice zgodne z EN 455(1-4), EN ISO 374-1, EN ISO 374-4, EN ISO 374-5, EN ISO 21420. Rękawice odporne na przenikanie wirusów zgodnie z EN ISO 374-5. Pakowane parami w szczelne opakowanie. Okres ważności 5 lat. Rozmiar od 6.0 do 9.0. | C11: Para | D11: 26000
A12: 8 | B12: Rękawice chirurgiczne, jałowe, lateksowe, pudrowane. Kształt anatomiczny, mankiet rolowany, dostępne w rozmiarach 6.0 – 9.0. Powierzchnia zewnętrzna teksturowana, powierzchnia wewnętrzna pudrowana (skrobia kukurydziana). Długość rękawicy minimum 280 mm, grubość na palcu 0.15 +/- 0.02 mm, na dłoni 0.13 +/- 0.02 mm oraz na mankiecie 0.12 +/- 0.02 mm. Potwierdzone badaniem w niezależnym laboratorium: niski poziom protein lateksu poniżej 30 µg/g oraz siła zrywu przed starzeniem mediana min. 15 N i po starzeniu mediana min. 13 N. Poziom AQL 0.65. Rękawice odporne na przenikanie bakterii, grzybów i wirusów zgodnie z EN ISO 374-5. Rękawice zaklasyfikowane w klasie IIa zgodnie z Dyrektywą 93/42/EWG & 2007/47/WE oraz jako środek ochrony indywidualnej w kategorii III typ B zgodnie z Rozporządzeniem (UE) 2016/425. Rękawice zgodne z wymaganiami norm EN 455(1-4), EN ISO 374-1, EN ISO 374-4, EN ISO 374-5, EN ISO 21420. Okres ważności 5 lat. | C12: para | D12: 17200
A13: 9 | B13: Rękawice chirurgiczne jałowe o wydłużonym mankiecie, lateksowe w kolorze naturalnym, bezpudrowe, ginekologiczne. Jałowe, Mankiet rolowany. Powierzchnia zewnętrzna teksturowana na palcach i na dłoni. Powierzchnia wewnętrzna z warstwą polimerową. Długość min. 400 mm. Grubość na palcu min. 0.19 mm, na dłoni min. 0.17 mm, na mankiecie min. 0.13 mm. Poziom protein lateksu ≤ 30µg/g. Poziom AQL 0.65. Wyrób medyczny klasy IIa zgodnie z Rozporządzeniem (UE) 2017/745 oraz środek ochrony indywidualnej kat. III typ B zgodnie z Rozporządzeniem (UE) 2016/425. Rękawice zgodne z EN 455 (1-4), EN ISO 21420, EN ISO 374-1, EN 374-2, EN 16523-1, EN 374-4, EN ISO 374-5. Rękawice odporne na przenikanie wirusów zgodnie z EN ISO 374-5 lub ASTM F1671. rozm 6,5, 7,5, 8,5 | C13: para | D13: 250
A14: 10 | B14: Rękawice chirurgiczne, neoprenowe w kolorze naturalnym, bezpudrowe. Wolne od lateksu i katalizatorów chemicznych, zapobiegające alergiom na lateks (typ I) i substancje chemiczne (typ IV). Jałowe, sterylizowane radiacyjnie (promieniami Gamma). Kształt anatomiczny z zakrzywionymi palcami. Mankiet o rolowanym zakończeniu z niechlorowaną opaską samoprzylepną. Powierzchnia zewnętrzna gładka z wykończeniem z mikroteksturą, silikonowana. Powierzchnia wewnętrzna zawierająca powłokę hydrofobową z hydrofilową substancją aktywowaną w zależności od środowiska, powlekana poliuretanem i silikonem. Typowa długość 301 mm. Grubość na palcu 0.14 ± 0.03 mm, na dłoni 0.13 ± 0.03 mm, na mankiecie 0.14 ± 0.03 mm. Poziom AQL 0.65. Typowa wartość siły zrywu przed starzeniem min. 11N i po starzeniu min. 12N. Wyrób medyczny klasy IIa zgodnie z Rozporządzeniem (UE) 2017/745 oraz środek ochrony indywidualnej kat. III typ B zgodnie z Rozporządzeniem (UE) 2016/425. Rękawice zgodne z EN 455 (1-4), EN ISO 21420, EN ISO 374-1, EN 374-2, EN 16523-1, EN 374-4, EN ISO 374-5. Rękawice odporne na przenikanie wirusów zgodnie z EN ISO 374-5 lub ASTM F1671. Rękawice chroniące przed skażeniem radioaktywnym zgodnie z normą EN 421. Potwierdzony przez producenta brak przebicia rękawicy dla min. 27 cytostatyków przez min. 240 min. oraz Karmustyny do 30 min. zgodnie z ASTM D6978. Pakowane parami w szczelne opakowania foliowe odporne na wilgoć. Opakowanie zbiorcze po 50 par. Okres trwałości 3 lata. Rozmiar od 6,0 do 9.0. | C14: para | D14: 3000
B15: RAZEM
B19: data ………………………………. | F19: podpis ……………………………………….

Sheet Zad.10
B1: ZOZ/DZP/PN/23/25
B2: Załącznik Nr: 9
A4: Zadanie nr: 10 - Strzykawki, igły
A5: Lp. | B5: Nazwa produktu | C5: Jednostka miary | D5: Ilość | E5: Cena jednostkowa netto | F5: Wartość netto | G5: VAT | H5: Cena jednostkowa brutto | I5: Wartość brutto | J5: Producent/Nazwa handlowa/Numer katalogowy
A6: Strzykawka dwuczęściowa, końcówka Luer, posiadająca tłok w kontrastującym kolorze (mlecznym) oraz czarną rozszerzoną skalę, musi posiadać zabezpieczenie przed wypadnięciem tłoka, nazwa producenta i typ strzykawki nadrukowane na cylindrze, op.100 szt., sterylna. Jeden producent. Parametry dla pozycji 1-4
A7: 1 | B7: 2 ml skala co 0,1ml x 100 szt. | C7: op.=100szt | D7: 1200
A8: 2 | B8: 5 ml skala co 0,2ml x 100 szt. | C8: op.=100szt | D8: 1400
A9: 3 | B9: 10 ml skala co 0,5ml x 100 szt. | C9: op.=100szt | D9: 1200
A10: 4 | B10: 20 ml skala co 1ml x 100 szt. | C10: op.=50szt | D10: 2600
A11: 5 | B11: Strzykawka jednorazowego użytku do tuberkuliny, o pojemności 1ml, 3- cześciowa typu Luer, gradacja skali 0,01 ml, sterylna, z dołożoną igłą w rozmiarze 0,45x13 mm lub 0,5x16mm, opakowanie A'100. | C11: op.=100szt | D11: 150
A12: 6 | B12: 100 ml Janeta z łącznikiem Luer,trzyczęściowa,wykonana z polipropylenu, skala w kolorze czarnym, zaopatrzona w dodatkowy stożek do łączenia z cewnikiem | C12: szt. | D12: 5000
A13: Strzykawki - szczelne, łatwy przesuw tłoka, wyraźna skala. Strzykawka musi mieć stożek usytuowany centralnie, przeźroczysty cylinder, pierścień ograniczający wysuwanie się tłoka, podziałkę skali rozszerzoną, nieścieralną, dobrze czytelną, wycechowaną w mililitrach, bezlateksowy gumowy tłok, cylinder strzykawki oznaczony nazwą własną i logo producenta. Wykonana z polipropylenu. Wykazane na liście producenta pomp infuzyjnych MEDIMA typ S2 i S300. Opis dla pozycji 7-10 | F13: =E13*D13 -> 0
A14: 7 | B14: 10ml x 100 szt., 3 częściowe | C14: op.=100szt | D14: 300
A15: 8 | B15: 20ml x 100 szt., 3 częściowe | C15: op.=100szt | D15: 1000
A16: 9 | B16: 50 ml do pomp 3 cz .do pomp Luer-Lock ze skalą dwustronną | C16: szt. | D16: 36000
A17: 10 | B17: 50 ml do pomp 3 cz .do pomp Luer-Lock do leków światłoczułych | C17: szt. | D17: 10000
A18: 11 | B18: Strzykawka 3-częściowa Luer-Lock model wymagany zgodnie z intrukcją producenta dializatora Primaflex 50ml | C18: szt. | D18: 5000
A19: Igły iniekcyjne o ostrzach zapewniających minimalny opór skóry, rurki pokryte silikonem, cienkościenne nasadki barwione zgodnie zkodem kolorów | F19: =E19*D19 -> 0
A20: 12 | B20: 0,45 x 13 mm | C20: op=100szt | D20: 65
A21: 13 | B21: 0,5 x 25 mm | C21: op=100szt | D21: 360
A22: 14 | B22: 0,5x40 mm | C22: op=100szt | D22: 50
A23: 15 | B23: 0,6 x 25 mm | C23: op=100szt | D23: 50
A24: 16 | B24: 0,6x30mm | C24: op=100szt | D24: 50
A25: 17 | B25: 0,7 x 30 mm | C25: op=100szt | D25: 180
A26: 18 | B26: 0,7x40 mm | C26: op=100szt | D26: 50
A27: 19 | B27: 0,8 x 40 mm | C27: op=100szt | D27: 700
A28: 20 | B28: 0,9 x 40 mm | C28: op=100szt | D28: 160
A29: 21 | B29: 1,1 x 40 mm | C29: op=100szt | D29: 500
A30: 22 | B30: 1,2 x 40 mm | C30: op=100szt | D30: 1700
A31: 23 | B31: 1,6 x 40 mm | C31: op=100szt | D31: 30
... A41: 33 | B41: Sterylna strzykawka o pojemności 10 ml, napełniona sterylnym roztworem soli fizjologicznej 0,9%, przeznaczona do procedury przepłukiwania wkłuć dożylnych, możliwa do użycia w polu operacyjnym (podwójnie sterylna). Sterylizowana wewnątrz i na zewnątrz. Wyrób zaklasyfikowany dla klasy IIb. | C41: szt. | D41: 3000
B42: RAZEM
B45: Data | H45: Podpis osoby/osób upoważnionej
B46: ……………………………………………. | I46: ……………………………….

Sheet Zad.11
B1: ZOZ/DZP/PN/23/25
B2: Załącznik Nr: 9
A4: Zadanie nr: 11 - Rurki
A5: Lp. | B5: Nazwa produktu | C5: Jednostka miary | D5: Ilość | E5: Cena jednostkowa netto | F5: Wartość netto | G5: VAT | H5: Cena jednostkowa brutto | I5: Wartość brutto | J5: Producent/Nazwa handlowa/Numer katalogowy
A6: 1 | B6: Rurki intubacyjne bez mankietu 2,0 – 4,5silikonowane, jałowe | C6: szt. | D6: 100
A7: Rurki intubacyjne z mankietem, ustno-nosowa, z termoplastycznego PCV, przeźroczysta, typ Murphy, linia RTG na całej dł., z czytelnym oznaczeniem znacznika głębokości i rozmiaru rurki na baloniku jałowe silikonowane | F7: =E7*D7 -> 0
A8: 2 | B8: Nr 2,5-9,5 co 0,5 do wyboru przy zakupie | C8: szt. | D8: 3050
A9: Rurki intubacyjne zbrojone z mankietem, typ Murphy, odporne na zginanie, znakowany balonik,rozmiar, jałowe, silikonowane | F9: =E9*D9 -> 0
A10: 3 | B10: Nr. 4,0-8,5 co 0,5 do wyboru przy zakupie | C10: szt. | D10: 450
A11: Rurki intubacyjne zbrojone z mankietem, typ Murphy, odporne na zginanie, znakowany balonik rozmiar, jałowe, silikonowane z prowadnicą | F11: =E11*D11 -> 0
A12: 4 | B12: nr. 6-9 co 0,5 do wyboru przy zakupie | C12: szt. | D12: 70
A13: 5 | B13: Rurka tracheostomijna z dwoma niskociśnieniowymi mankietami uszczelniającymi, wykonana z medycznej odmiany termoplastycznego PCV, atraumatycznie wykończone wszystkie elementy rurki, linia kontrastowa RTG, baloniki kontrolne z samouszczelniejącymi się zaworami. Rozmiary do wyboru przy zakupie 7,0-9,0 co 1,0 | C13: szt. | D13: 70
A14: 6 | B14: Rurka tracheostomijna zbrojona z ruchomym szyldem, wydłużona część dystalna i proksymalna, z niskociśnieniowym mankietam uszczelniającym, wykonana z medycznej odmiany termoplastycznego PCV, atraumatycznie wykończone wszystkie elementy rurki, linia kontrastowa RTG, balonik kontrolne z samouszczelniejącym się zaworem. Rozmiary do wyboru przy zakupie 7,0-10, co 1,0 | C14: szt. | D14: 10
A15: 7 | B15: Rurka tracheostomijna z ruchomym szyldem, wydłużona część dystalna i proksymalna, z niskociśnieniowym mankietam uszczelniającym, wykonana z medycznej odmiany termoplastycznego PCV, atraumatycznie wykończone wszystkie elementy rurki, linia kontrastowa RTG, balonik kontrolne z samouszczelniejącym się zaworem. Rozmiary do wyboru przy zakupie 7,0-10, co 1,0 | C15: szt. | D15: 10
A16: 8 | B16: Rurki ustno - gardłowe Guedel z medycznego PCV, barwne wkładki, zaokrąglone krawędzie, blokada przeciw zagryzieniu, jałowe,rozmiary od 000 do 6 do wyboru przy zamówieniu | C16: szt. | D16: 1200
A17: 9 | B17: Rurka nosowo-gardłowa 6-8mm | C17: szt. | D17: 10
A18: Rurki tracheostomijne z mankietem silikonowane, jałowe | F18: =E18*D18 -> 0
A19: 10 | B19: nr. 5,0-10 co 0,5 do wyboru przy zakupie | C19: szt. | D19: 80
A20: 11 | B20: Zestaw o min. składzie: rurka tracheostomijna KAN bez mankietu 1 szt., prowadnica 1 szt., kaniula wewnętrzna z łącznikiem 15mm 1 szt., kaniula wewnętrzna z kołnierzem 2 szt., miękka opaska mocująca, łącznik 15mm nasadka łącząca, korek dekaniulacyjny, nasadka kosmetyczna rozmiary rurek do wyboru przy zakupie : 5,0-10,0 mm | C20: 1 zestaw | D20: 15
A21: 12 | B21: Zestaw o min. składzie: rurka tracheostomijna KAN z mankietem 1 szt., prowadnica 1 szt., kaniula wewnętrzna z łącznikiem 15mm 1 szt., kaniula wewnętrzna z kołnierzem 2 szt., miękka opaska mocująca, łącznik 15mm nasadka łącząca, korek dekaniulacyjny, nasadka kosmetyczna rozmiary rurek do wyboru przy zakupie : 5,0-10,0 mm | C21: 1 zestaw | D21: 5
A22: 13 | B22: Zestaw o min. składzie: rurka tracheostomijna KAN bez mankietu,fenestracyjna 1 szt., prowadnica 1 szt., kaniula wewnętrzna z łącznikiem 15mm, z otworami 1 szt., kaniula wewnętrzna z łącznikiem 15mm, bez otworów fenestracyjnych 1 szt, kaniula wewnętrzna z kołnierzem, z otworami fenestracyjnymi 1 szt., miękka opaska mocująca, łącznik 15mm nasadka łącząca, korek dekaniulacyjny, nasadka kosmetyczna rozmiary rurek do wyboru przy zakupie : 5,0-10,0 mm | C22: 1 zestaw | D22: 10
A23: 14 | B23: Zestaw o min. składzie: rurka tracheostomijna KAN z mankietem,fenestracyjna 1 szt., prowadnica 1 szt., kaniula wewnętrzna z łącznikiem 15mm, z otworami 1 szt., kaniula wewnętrzna z łącznikiem 15mm, bez otworów fenestracyjnych 1 szt, kaniula wewnętrzna z kołnierzem, z otworami fenestracyjnymi 1 szt., miękka opaska mocująca, łącznik 15mm nasadka łącząca, korek dekaniulacyjny, nasadka kosmetyczna rozmiary rurek do wyboru przy zakupie : 5,0-10,0 mm | C23: 1 zestaw | D23: 5
A24: 15 | B24: Łącznik do drenów symetryczny, sterylny, O.D. 15mm I.D. 6mm | C24: szt | D24: 200
A25: Prowadnice do rurek intubacyjnych -metal, pokryty tworzywem, miękki koniec, jałowe | F25: =E25*D25 -> 0
A26: 16 | B26: Rozmiar 2-2,2 mm / 230 mm | C26: szt. | D26: 100
A27: 17 | B27: Rozmiar 3 mm / 340 mm | C27: szt. | D27: 300
A28: 18 | B28: Rozmiar 4 mm / 360 mm | C28: szt. | D28: 520
A29: 19 | B29: Rozmiar 5 mm / 370 mm | C29: szt. | D29: 350
A30: Prowadnice do trudnych intubacji bez futerału. Elastyczna, wzmocniona na całej długości, skalowana podziałka, zagięty koniec ułatwiający wprowadzanie, materiał o właściwościach poślizgowych, jałowe | F30: =E30*D30 -> 0
A31: 20 | B31: Rozmiar 1,6 x 600 mm | C31: szt. | D31: 10
A32: 21 | B32: Rozmiar 2,0 x 600 mm | C32: szt. | D32: 10
A33: 22 | B33: Rozmiar 5,0 długość 800mm | C33: szt. | D33: 40
A34: Prowadnice do wymiany rurek intubacyjnych z kanałem do wentylacji: w komplecie z łącznikiem 15mm i Luer Lock z zagiętym końcem, jałowa, elastyczna, wzmocniona na całej długości. | F34: =E34*D34 -> 0
A35: 23 | B35: Rozmiar 5,0 długość 800 mm | C35: szt. | D35: 30
A36: 24 | B36: Prowadnica do trudnej intubacji, z wygiętym zakończeniem, elastyczna, wzmocniona na całej długości, skalowana - wielorazowego użytku, śr. zewn. 3.3 i 5.0mm - długość 60-80cm | C36: szt. | D36: 60
A37: 25 | B37: Prowadnica do rurek intubacyjnych z możliwością podawania tlenu, z prostym lub wygiętym końcem dystalnym, elastyczna, wzmocniona na całej długości, skalowana, z wewnętrznym kanałem oraz łącznikiem 15mm i łącznikiem luer-lock, śr. zewn. 2.6, 3.3, 5.0 i 6.0mm - długość 60-83cm | C37: szt. | D37: 20
A38: 26 | B38: Opaska do rurek tracheostomijnych, jałowa. | C38: szt | D38: 310
A39: Rurka tracheostomijna metalowa z okienkiem | F39: =E39*D39 -> 0
A40: 27 | B40: nr.7 | C40: szt. | D40: 5
A41: 28 | B41: nr.8 | C41: szt. | D41: 10
A42: 29 | B42: nr.9 | C42: szt. | D42: 2
A43: 30 | B43: Szczoteczki do mycia rurek tracheostomijnych | C43: szt. | D43: 100
B44: RAZEM
B47: Data | H47: Podpis osoby/osób upoważnionej
B48: ……………………………………………. | H48: ……………………………….

Sheet Zad.12
B1: ZOZ/DZP/PN/23/25
B2: Załącznik Nr: 9
A4: Zadanie nr: 12 – Łyżki i rękojeści.
A5: Lp. | B5: Nazwa produktu | C5: Jednostka miary | D5: Ilość | E5: Cena jednostkowa netto | F5: Wartość netto | G5: VAT | H5: Cena jednostkowa brutto | I5: Wartość brutto | J5: Producent/Nazwa handlowa/Numer katalogowy
A6: 1 | B6: Łyżka jednorazowego użytku, metalowa, diodowa,współpracująca z rękojeściami standardowymi. Z wyraźnym nadrukiem rozmiaru na opakowaniu jednostkowym. Dostępne rozmiary łyżek: Mac 0- dł. 82mm, szer. 9mm, 1- dł. 92mm, szer 11,50mm, 2- dł. 114mm, szer. 14mm, 3- dł. 133mm, szer. 14mm , 4- dł. 158mm, szer. 14mm,5- dł. 174, szer. 14mm, Mill 00-dł. 65mm, szer.11,5mm, 0- dł. 76mm, szer. 11,5mm, 1- dł. 100mm, szer. 11,5mm, 2 – dł. 151mm, szer. 13mm, 3 – dł. 190mm, szer. 13, 4 – dł. 207, szer. 13mm. – do wyboru przez Zamawiającego Pakowane pojedynczo, zdezynfekowane, gotowe do użytku Współpracują ze wszystkimi rękojeściami w standardzie ISO 7376-1. Data przydatności i seria na jednostkowym opakowaniu każdej łyżki | C6: szt. | D6: 2200
A7: 2 | B7: Łyżki jednorazowe, metalowe: Metalowe łyżki światłowodowe, jednorazowego użytku z podstawą z tworzywa sztucznego. Z wyraźnym nadrukiem rozmiaru na opakowaniu jednostkowym. Wytrzymały materiał oraz ergonomiczny kształt Zaokrąglona końcówka łyżki i gładkie krawędzie zmniejszają ryzyko uszkodzeń Pakowane pojedynczo – gotowe do użytku Dostępne w rozmiarach Mac 00-dł. 72Mm, szer 9mm ,0- dł. 82mm, szer. 9mm, 1- dł. 94mm, szr. 11,50mm, 2- dł. 116mm, szer 14mm, 3- dł. 133mm, szer. 14mm, 4- dł. 159mm, szer 14mm, 5- dł. 172mm, szer. 14mm oraz Miller 000-dł. 58Mm, szer 11,5mm, 00-dł. 69mm, szer. 11,5mm, 0 – dł. 79mm, szer. 11,5mm, 1 – dł. 102mm, szer. 11,5mm, 2 – dł. 152mm, szer. 13mm 3 – dł. 193mm, szer. 13mm, 4 – dł. 209mm, szer. 13mm. do wyboru przez zamawiającego Współpracują z rękojeściami światłowodowymi w standardzie ISO 7376-3 Nie zawierają latexu Pakowanie folia-papier.Data przydatności i seria na jednostkowym opakowaniu każdej łyżki | C7: szt. | D7: 2200
A8: 3 | B8: Rękojeści wielorazowe LED, współpracujące z łyżkami z poz. 2 Mocne, jasne światło LED: 9500 lux, min. 50 000h pracy Do sterylizacji w systemach systemach nisko-temperaturowych oraz w autoklawie, po wyciągnięciu diody LED Dostępne w 3 rozmiarach: średni, krótki, pediatryczny Współpracują z łyżkami światłowodowymi w standardzie ISO 7376-3 | C8: szt. | D8: 15
A9: 4 | B9: Rękojeść wielorazowa klasyczna rozmiar standardowy, zasilanie bateryjne (baterie R-14), pediatryczna, krótka ( zasilanie bateryjne AA). Do wyboru przy zakupie. Rękojeść zgodne z normą ISO 7376-1 | C9: szt. | D9: 10
A10: 5 | B10: Rękojeść jednorazowa kompatybilna z łyżkami światłowodowymi z wbudowaną baterią do łyżek w normie ISO 7376-3 | C10: szt. | D10: 200
A11: 6 | B11: Łyżka do wideolaryngoskopu Is3-L jednorazowego użytku, wykonana z tworzywa, pakowana pojedynczo. Rozmiar S, M, L do wyboru przy zakupie. Opakowanie folia-papier, na opakowaniu czytelna informacja o rozmiarze łyżki. | C11: szt. | D11: 110
B12: Razem
B18: Data | F18: Podpis osoby/osób upoważnionej
B19: ……………………………………………. | F19: ……………………………….

Sheet Zad. 13
B1: ZOZ/DZP/PN/23/25
B2: Załącznik Nr: 9
A3: Zadanie nr: 13 Pojemniki z formaliną.
A4: Lp. | B4: Nazwa produktu | C4: Jednostka miary | D4: Ilość | E4: Cena jednostkowa netto | F4: Wartość netto | G4: VAT | H4: Cena jednostkowa brutto | I4: Wartość brutto | J4: Producent/Nazwa handlowa/Numer katalogowy
A5: 1 | B5: Pojemnik BiopSafe 60ml. Bezpieczny pojemnik tworzący system zamknięty do materiału biopsyjnego/histopatologicznego składający się z pokrywy zawierającej środek utrwalający i zbiornika. Pokrywa zbudowana z elementów : 1.Tłok zakończony nakłuwaczem 2.Folia aluminiowa zgrzana z nakrętką 3.Filtr zabezpieczający 4.Przycisk uwalniający substancję utrwalającą 5.Substancja utrwalająca - Formaldechyd 4% w roztworze wodnym (10% roztwór formaliny) i <2.5% metanol o łącznej objętości 60ml 5. Pokrywa wyposażona w gwint zewnętrzny. Zbiornik wyposażony w gwint wewnętrzny służący do zamknięcia i szczelnego połączenia z pokrywą. Substancja utrwalająca uwalniana po połączeniu pokrywy ze zbiornikiem i przez wciśnięcie przycisku wbudowanego w górną część pokrywy. | C5: op.=18 szt | D5: 60
A6: 2 | B6: Pojemnik BiopSafe 20ml. Bezpieczny pojemnik tworzący system zamknięty do materiału biopsyjnego/histopatologicznego składający się z pokrywy zawierającej środek utrwalający i zbiornika. Pokrywa zbudowana z elementów : 1.Tłok zakończony nakłuwaczem 2.Folia aluminiowa zgrzana z nakrętką 3.Filtr zabezpieczający 4.Przycisk uwalniający substancję utrwalającą 5.Substancja utrwalająca - Formaldechyd 4% w roztworze wodnym (10% roztwór formaliny) i <2.5% metanol o łącznej objętości 20ml 5. Pokrywa wyposażona w gwint zewnętrzny. Zbiornik wyposażony w gwint wewnętrzny służący do zamknięcia i szczelnego połączenia z pokrywą. Substancja utrwalająca uwalniana po połączeniu pokrywy ze zbiornikiem i przez wciśnięcie przycisku wbudowanego w górną część pokrywy. | C6: op=24szt. | D6: 250
B7: Razem
B10: Data | H10: Podpis osoby/osób upoważnionej
B11: ……………………………………………. | H11: ……………………………….

Sheet Zad. 14
B1: ZOZ/DZP/PN/23/25
B2: Załącznik Nr: 9
A3: Zadanie nr 14: Autoczytnik do inkubacji
A4: Lp. | B4: Nazwa produktu | C4: Jednostka miary | D4: Ilość | E4: Cena jednostkowa netto | F4: Wartość netto | G4: VAT | H4: Cena jednostkowa brutto | I4: Wartość brutto | J4: Producent/Nazwa handlowa/Numer katalogowy
A5: 1 | B5: Wskaźnik biologiczny o szybkim odczycie do pary wodnej (odczyt w autoczytniku po 24 minuty .) kompatybilny z autoczytnikiem Attest 490, zalecany przez producenta urządzenia. Fiolkowy wskaźnik biologiczny o szybkim odczycie do pary wodnej. Ostateczny odczyt wyniku negatywnego/zabicie bakterii po 24 minutach inkubacji. Wykrycie przez odczyt automatyczny fluorescencji w autoczytniku. Wskaźnik posiada wewnętrzny system kruszenia ampułki nie wymagający użycia zewnętrznego "kruszera". Kształt fiolki w kształcie litry "D" - dopasowany do kształtu komory autoczytnika. Nakrętka wskaźnika w kolorze brązowym. Na fiolce repozycjonowalna nierwąca się naklejka z miejscem do opisu oraz wskaźnik chemiczny. | C5: op=50szt. | D5: 75
B6: RAZEM
B9: Data | H9: Podpis osoby/osób upoważnionej
B10: ……………………………………………. | H10: ……………………………….

Sheet zad.15
B1: ZOZ/DZP/PN/23/25
B2: Załącznik Nr: 9
A3: Zadanie nr: 15 – Akcesoria do systemu ssącego i oddechowego
A4: Lp. | B4: Nazwa produktu | C4: Jednostka miary | D4: Ilość | E4: Cena jednostkowa netto | F4: Wartość netto | G4: VAT | H4: Cena jednostkowa brutto | I4: Wartość brutto | J4: Producent/Nazwa handlowa/Numer katalogowy
A5: 1 | B5: Wkład workowy jednorazowy z integralną zastawką zabezpieczającą, z maksymalnie 2 otworami w pokrywie worka. Kompatybilny z systemem RECEPTAL poj. 2 litry, z data ważności na każdym wkładzie. | C5: szt. | D5: 200
A6: 2 | B6: Trwały pojemnik/ kanister/ wielokrotnego użytku o śr. nie większej niż 11 cm z nietł. się tworzywa z podziałką co 25 ml, ze złączem do próżni, poj. 2 litry | C6: szt. | D6: 5
A7: 3 | B7: Linia monitorująca do próbkowania gazów, złącze typu męskie / żeńskie, dł. 3 m | C7: szt. | D7: 5
A8: 4 | B8: Pułapka wodna czarna typu D-fend do monitora f-my Datex - Ohmeda i Sirius | C8: szt. | D8: 20
A9: 5 | B9: Jednorazowy, układ oddechowy do respiratora dla dorosłych w składzie: 2 rury karbowane śr.2 2 mm z pamięcią kształtu, o dł. min 1,5 m, złączka Y, łącznik prosty 22m/22m | C9: szt. | D9: 50
A10: 6 | B10: Filtr p/bakteryjny z portem do kapnografii dla dorosłych o objętości oddechowej 180-250 ml bez wymiennika ciepła i wilgoci | C10: szt. | D10: 3200
A11: 7 | B11: Filtr p/bakteryjny z wymiennikiem ciepła i wilgoci, z portem do kapnografii dla dorosłych o objętości oddechowej 180-250 ml | C11: szt. | D11: 3800
A12: 8 | B12: Filtr p/bakteryjny z wymiennikiem ciepła i wilgoci, z portem do kapnografii, pediatryczny o objętości oddechowej 50-90 ml. | C12: szt. | D12: 300
A13: 9 | B13: Filtr p/bakteryjny z wymiennikiem ciepła i wilgoci z portem do kapnografii, noworodkowy o objętości oddechowej 25-40 ml. | C13: szt. | D13: 60
A14: 10 | B14: Wymiennik ciepła i wilgoci „sztuczny nos” do rurek tracheostomijny dla dorosłych bez drenu. | C14: szt. | D14: 300
A15: 11 | B15: Wapno sodowane do aparatu do zniecz. 4,5 kg | C15: szt. | D15: 26
A16: 12 | B16: Maska tlenowa, hypoalergiczna, bezzapachowa, przeźroczysta, wykonana z medycznej odmiany miękkiego PCV, do wysokich stężeń tlenu z przewodem tlenowym, z kulką do monitorowania oddechów i gumką naciągającą oraz rezerwuarem tlenowym | C16: szt. | D16: 200
... A40: 36 | B40: Czujnik SPO2 typu Masimo typu LNCS YI wielorazowy | C40: szt | D40: 2
B41: RAZEM
B43: Data | H43: Podpis osoby/osób upoważnionej
B44: ……………………………………………. | H44: ……………………………….

Sheet Zad 16
B2: ZOZ/DZP/PN/23/25
B3: Załącznik Nr: 9
A4: Zadanie nr: 16 - Akcesoria do aparatów elektrochirurgicznych.
A5: Lp. | B5: Nazwa produktu | C5: Jednostka miary | D5: Ilość | E5: Cena jednostkowa netto | F5: Wartość netto | G5: VAT | H5: Cena jednostkowa brutto | I5: Wartość brutto | J5: Producent/Model/Nr katalogowy
A6: 1 | B6: Jednorazowy uchwyt z elektrodą szpatułkową, 2 przyciski. | C6: op.25 szt | D6: 25
A7: 2 | B7: Kabel elektrody neutralnej jednorazowej, 4m | C7: szt. | D7: 6
A8: 3 | B8: Uchwyt typu ErgoPen do elektrody 4mm, wąski, 2 przyc., z kablem 4m, wtyk 3-bolc. | C8: szt. | D8: 4
A9: 4 | B9: Uchwyt typu ErgoPen do elektrody 4mm, wąski, 2 przyc., z kablem 4m, wtyk 1-bolc. | C9: szt. | D9: 2
A10: 5 | B10: Nóż prosty, 3,4x24 mm dł 45 mm do uchwytu Ergo Pen 4mm z dwoma przyciskami i kablem op. 5 szt | C10: op = 5 szt | D10: 5
A11: 6 | B11: Elektroda bierna jednorazowa, owalna z odseparowanym pierścieniem ekwipotencjalnym. Powierzchnia 85 cm2, powierzchnia pierścienia 23 cm2 , nie wymagająca orientacji dla dorosłych i dzieci, zapewniające maksymalne bezpieczeństwo dla pacjenta, wykonana na włókninie op. 50 szt. | C11: op=50 | D11: 75
A12: 7 | B12: Czyścik narzędzi elektrochirurgicznych op. 100 szt. | C12: op. | D12: 1
A13: 8 | B13: Kabel szczypiec bipolar. 5M, wtyk 2-bolc. 29 mm | C13: szt. | D13: 3
A14: 9 | B14: Kulka prosta 6 mm, dł. 100 mm | C14: szt. | D14: 2
A15: 10 | B15: Kabel monopolarny do laparoskopu, dł. 4m | C15: szt. | D15: 6
A16: 11 | B16: Wielorazowe kleszcze do zamykania naczyń zagięte z końcówką ceramiczną, dł. 210 mm z kablem dł. 4m, kompatybilne z diatermią typu VIO lub równoważne | C16: szt. | D16: 2
A17: 12 | B17: Wielorazowe kleszcze do zamykania naczyń zagięte z końcówką ceramiczną, dł. 270 mm z kablem dł. 4m, kompatybilne z diatermią typu VIO lub równoważne | C17: szt. | D17: 2
... A39: 34 | B39: Pinceta bipolarna 16,5cm koncówki 1mm | C39: szt. | D39: 2
B40: RAZEM:

Sheet Zad.17
B2: ZOZ/DZP/PN/23/25
B3: Załącznik Nr: 9
A4: Zadanie nr: 17– Pojemniki na próbki
A5: Lp. | B5: Nazwa produktu | C5: Jednostka miary | D5: Ilość | E5: Cena jednostkowa netto | F5: Wartość netto | G5: VAT | H5: Cena jednostkowa brutto | I5: Wartość brutto | J5: Producent/Nazwa handlowa/Numer katalogowy
A6: 1 | B6: Pojemnik na mocz 100-125 ml niesterylny z zakrętką zakręcaną | C6: szt. | D6: 25000
A7: 2 | B7: Pojemnik na mocz lub materiał biologiczny 50-60 ml sterylny z zakrętką zakręcaną | C7: szt. | D7: 12000
A8: 3 | B8: Pojemnik na kał z łopatką 20-25 ml | C8: szt. | D8: 2000
A9: 4 | B9: Pojemnik na kał z łopatką 20-25 ml sterylny | C9: szt. | D9: 2000
A10: 5 | B10: Zestaw do pobierania próbek z drzewa oskrzelowego z łącznikami pasującymi do wszystkich typów cewników do odsysania, przeźroczysta probówka o poj. 10ml, dodatkowa zakrętka oraz nalepka identyfikacyjna - sterylny | C10: szt. | D10: 500
B11: RAZEM
B14: Data | H14: Podpis osoby/osób upoważnionej
B15: ……………………………………………. | H15: ……………………………….

Sheet Zad.18
B2: ZOZ/DZP/PN/23/25
B3: Załącznik Nr: 9
A4: Zadanie nr: 18 – Nebulizacja i akcesoria do urządzeń.
A5: Lp. | B5: Nazwa produktu | C5: Jednostka miary | D5: Ilość | E5: Cena jednostkowa netto | F5: Wartość netto | G5: VAT | H5: Cena jednostkowa brutto | I5: Wartość brutto | J5: Producent/Nazwa handlowa/Numer katalogowy
A6: 1 | B6: Jednorazowy ustnik do spirometru o wymiarach: średnica wewnętrzna 20mm, średnica zewnętrzna 22mm, długość: 65mm +-1mm pakowane pojedynczo. | C6: Op=200 | D6: 10
A7: 2 | B7: Filtr antybakteryjny do spirometru odpowiedająca parametrom produktu firmy BTL | C7: Op=50 szt | D7: 60
A8: 3 | B8: Inhalator tłokowy do nebulizacji do stosowania w szpitalu do pracy ciągłej z wbudowanym manometrem z regulacją cisnienia 1,3-2,5 bar. Przepływ max. 16l/min., wielokość cząsteczek (MMAD) max 3,5µm, waga urzadzenia max 2,2 kg, | C8: szt | D8: 5
A9: 4 | B9: Nebulizator do kompresora Pari: wydajność 600mg/min, średnia masa cząsteczki MMD:3,5 µm, ilość czątek poniżej 5µm:67%, nadaje się do sterylizacji w autoklawie (ok. 100 razy w temp. 134oC), pojemnik na lek 2-8 ml | C9: szt | D9: 8
A10: 5 | B10: Maska miękka bez stabilizatora dla dorosłych | C10: szt | D10: 8
A11: 6 | B11: Turbinka do spirometru Microlab 8 ML 3500 | C11: szt. | D11: 1
A12: 7 | B12: Uchwyt do lampy ML501/701 | C12: szt. | D12: 10
A13: 8 | B13: Uchywt do lampy Marled/marlux | C13: szt | D13: 10
A14: 9 | B14: Maska dla dzieci współpracująca z nebulizatorami Pari- do sterylizacji w autoklawie (po założeniu stabilizatorów) | C14: szt | D14: 10
A15: 10 | B15: Maska w rozmiarach 0- dla wcześniaków,1 – dla noworodków i niemowląt od 0-1 roku życia, 2 – dla dzici 1-3 roku życia,3- dla dzieci powyżej 3 roku życia, w komplecie kolanko umożliwiające inhalację dziecka w pozycji leżącej - do sterylizacji w autoklawie | C15: szt | D15: 10
A16: 11 | B16: Nebulizator: - do inhalacji dzieci powyżej powyżej 4 roku życia oraz osób dorosłych- możliwość sterylizacji w autoklawie ok. 100 razy, temperatura sterylizacji 134st. C. Charakterystyka aerozolu (w połączeniu z kompresorem Pari Turbo Boy SX) Wydajność: 600mg/min średnia masa cząsteczki MMD 3,5um ilość cząstek poniżej 5um 67% | C16: szt | D16: 10
A17: 12 | B17: Nebulizator: - w połączeniu z maską do inhalacji noworodków - możliwość sterylizacji w autoklawie ok. 100 razy, temperatura sterylizacji 134st. C. Charakterystyka aerozolu (w połączeniu z kompresorem Pari Boy SX) Wydajność: 450mg/min Średnia masa cząsteczki MMD 2,2um ilość cząstek poniżej 5um 89% | C17: szt | D17: 10
... A19: 14 | B19: Dren do nebulizatora Pari | C19: szt | D19: 20
B20: RAZEM
B23: Data | H23: Podpis osoby/osób upoważnionej
B24: ……………………………………………. | H24: ……………………………….

Sheet Zad.19
B1: ZOZ/DZP/PN/23/25
B2: Załącznik Nr: 9
A3: Zadanie nr: 19- Test wód płodowych
A4: Lp. | B4: Nazwa produktu | C4: Jednostka miary | D4: Ilość | E4: Cena jednostkowa netto | F4: Wartość netto | G4: VAT | H4: Cena jednostkowa brutto | I4: Wartość brutto | J4: Producent/Nazwa handlowa/Numer katalogowy
A5: 1 | B5: Szybki test paskowy do wykrywania przedwczesnego pęknięcia błon płodowych u kobiet ciężarnych. Detekcja IGFBP-1. | C5: op=10 szt. | D5: 15
B6: RAZEM
B10: Data | H10: Podpis osoby/osób upoważnionej
B11: ……………………………………………. | H11: ……………………………….

Sheet zad. 20.
B2: ZOZ/DZP/PN/23/25
B3: Załącznik Nr: 9
A4: Zadanie nr: 20 - Różne
A5: Lp. | B5: Nazwa produktu | C5: Jednostka miary | D5: Ilość | E5: Cena jednostkowa netto | F5: Wartość netto | G5: VAT | H5: Cena jednostkowa brutto | I5: Wartość brutto | J5: Producent/Nazwa handlowa/Numer katalogowy
A6: 1 | B6: Igła przeznaczona dla dorosłych oraz dla dzieci powyżej 12 r.ż. Igła jest automatycznym wkłuciem doszpikowym, przeznaczonym do użycia u pacjentów, u których założenie obwodowego dostępu dożylnego jest bardzo trudne bądź niemożliwe. Szczególnie podczas działań ratunkowych. Opis: stały dostęp do naczynia; odpowiedni do przetaczania krwi; mało bolesna penetracja igły do kości gąbczastej; sprzęt jednorazowego użycia podnosi bezpieczeństwo; szybka infuzja płynów i leków; brak bezpośredniego kontaktu z krwią; szczególnie odpowiedni w sytuacjach zagrożenia życia (wypadki lotnicze i drogowe, trzęsienia ziemi, konflikty zbrojne, w medycynie katastrof, resuscytacji, planowe znieczulenia kostne) | C6: szt. | D6: 2
A7: 2 | B7: Igła przeznaczona dla dzieci poniżej 12 r.ż. Igła jest automatycznym wkłuciem doszpikowym, przeznaczonym do użycia u pacjentów, u których założenie obwodowego dostępu dożylnego jest bardzo trudne bądź niemożliwe. Szczególnie podczas działań ratunkowych. Opis: stały dostęp do naczynia; odpowiedni do przetaczania krwi; mało bolesna penetracja igły do kości gąbczastej; sprzęt jednorazowego użycia podnosi bezpieczeństwo; szybka infuzja płynów i leków; brak bezpośredniego kontaktu z krwią; szczególnie odpowiedni w sytuacjach zagrożenia życia (wypadki lotnicze i drogowe, trzęsienia ziemi, konflikty zbrojne, w medycynie katastrof, resuscytacji, planowe znieczulenia kostne) | C7: szt. | D7: 3
A8: 3 | B8: Igła do karpuli 0,4x38mm | C8: op=100szt | D8: 3
A9: 4 | B9: Igła do płukania kanalików łzowych - jednorazowego użytku | C9: Op=10 szt | D9: 4
A10: 5 | B10: Kieliszek plast. do leków 30ml skala co 1ml w pięciu kolorach. | C10: Op=80 szt. | D10: 2250
A11: 6 | B11: Nakładka do kieliczków jednorazowych | C11: Op=90 szt. | D11: 40
A12: 7 | B12: Kruszarka do leków, wielorazowa do miażdżenia tabletek bezpośrednio w kieliszku jednorazowym. | C12: szt. | D12: 5
A13: 8 | B13: Koszula pacjenta z spunlance 45g/m2 rozmiar 80x90cm | C13: szt. | D13: 1200
A14: 9 | B14: Kompres żelowy (okład) chłodząco / rozgrzewający wielorazowy, nadający się do dezynfekcji, 18-20 x 28-30cm | C14: szt | D14: 10
A15: 10 | B15: Kompres żelowy (okład) chłodząco/rozgrzewający wielorazowy, nadający się do dezynfekcji, 9-11 x 26-28cm | C15: szt. | D15: 10
A16: 11 | B16: Marker skórny 2 końcówki, jałowy | C16: op. 25 szt | D16: 2
A17: 12 | B17: Nożyczki / bocianki / do otwierania klemów | C17: szt. | D17: 50
... A49: 44 | B49: Mankiety wielorazowe do szybkiego przetaczania płynów infuzyjnych o objętości 500-1000ml z manometrem zegarowym i pomką. | C49: szt | D49: 12
B50: RAZEM
B52: Data | H52: Podpis osoby/osób upoważnionej
B53: ……………………………………………. | H53: ……………………………….

Sheet Zad 21
A1: Załącznik nr 9
A2: ZOZ/DZP/PN/23/25
A3: Zadanie nr 21 - Butelki do receptury
A4: Lp. | B4: Nazwa produktu | C4: Jednostka miary | D4: Ilość | E4: Cena jednostkowa[zł] netto | F4: Wartość [zł] netto | G4: VAT | H4: Cena jednostkowa [zł] brutto | I4: Wartość [zł] brutto | J4: Producent/Nazwa handlowa/Numer katalogowy
A5: 1 | B5: Butelka 30 ml z nakrętką i ktoplomierzem sterylna | C5: szt. | D5: 300
A6: 2 | B6: Butelka 125 ml z korkiem sterylna | C6: szt. | D6: 150
A7: 3 | B7: Etykiety „Trucizna” | C7: Op=100 szt | D7: 1
A8: 4 | B8: Etykieta „zmieszać przed użyciem” | C8: Op=100 szt | D8: 1
A9: 5 | B9: Etykiety na krople oczne pomarańczowe samoprzylepne. | C9: Op=100 szt | D9: 5
A10: 6 | B10: Etykiety pomarańczowe samoprzylepne | C10: Op=100 szt | D10: 20
A11: 7 | B11: Podkładki pergaminowe śr. 100 mm | C11: Op=500 szt | D11: 15
A12: 8 | B12: Pudełko na maść zakręcane | C12: porcja po 1szt z gwintem o poj 100g lub 125ml | D12: 1500
A13: 9 | B13: Torebki rec białe 50g nr 7(100x150) | C13: Op=100 szt | D13: 3
A14: 10 | B14: Torebki rec białe 75g nr 9(120x170) | C14: Op=100 szt | D14: 3
A15: 11 | B15: Torebki rec pomar 50g nr 7(100x150) | C15: Op=100 szt | D15: 3
A16: 12 | B16: Torebki rec pomar 75g nr 9(120x170) | C16: Op=100 szt | D16: 3
B17: Razem
B20: Data | H20: Podpis osoby/osób upoważnionej
B21: ……………………………………………. | H21: …………………… | I21: ……………………………….

Sheet Zad. 22
B2: ZOZ/DZP/PN/23/25
B3: Załącznik Nr: 9
B4: Zadanie nr 22 Kaniule bezpieczne.
A5: Lp. | B5: Nazwa produktu | C5: Jednostka miary | D5: Ilość | E5: Cena jednostkowa[zł] netto | F5: Wartość [zł] netto | G5: VAT | H5: Cena jednostkowa [zł] brutto | I5: Wartość [zł] brutto | J5: Producent/Nazwa handlowa/Numer katalogowy
A6: 1 | B6: Kaniula dotętnicza 20 G 1,1 x 45 mm, przepływ 49 ml/min., cewnik z PTFE, z zaworem odcinającym - suwakowo-kulkowym typu Flowswitch w kolorze czerwonym, ze skrzydełkami z otworami do przyszycia do skóry pacjenta, sterylne, jednorazowego użytku. Produkt nie zawierający DEHP, PVC oraz naturalnego lateksu. Sterylizowane tlenkiem etylenu. Czas stosowania max 30 dni potwierdzony przez producenta w instrukcji użycia znajdującej się w każdym opakowaniu handowym. | C6: szt. | D6: 1200
A7: 2 | B7: Bezpieczna kaniula dożylna przeznaczona do małych, delikatnych żył u pacjentów neonatologicznych, pediatrycznych i osób starszych. Posiadająca wyjmowany uchwyt w którym schowane są skrzydełka kaniuli,ułatwiające kaniulację naczynia. Bez dodatkowego portu górnego. Kaniula widoczna w promieniach RTG, 6 wtopionych pasków radiocieniujących. Wykonana z unikalnego poliuretanu, biokompatybilnego, o potwierdzonym klinicznie wpływie na zmniejszenie ryzyka wystąpienia zakrzepowego zapalenia żył. Dodatkowy otwór przy ostrzu igły umożliwiający natychmiastowe wzrokowe potwierdzenie wejścia do naczynia podczas kaniulacji (system 3-krotnego potwierdzenia wypływu krwi). Sterylna, jednorazowego użytku, pakowana pojedynczo w opakowanie typu blister papier/folia w rozmiarach 26G dł 19 mm, prędkość przepływu 14 ml/min ,24 G długość 19mm,,prędkość przeplywu 19 ml/min Rozmiar do wyboru przy zakupie. | C7: szt. | D7: 2000
A8: 3 | B8: Bezpieczna kaniula dożylna wykonana z biokompatybilnego poliuretanu. Posiadająca dodatkowy, samodomykający się port do wstrzyknięć, min. 5 pasków kontrastujących w promieniach RTG. Możliwość identyfikacji radiologicznej położenia końca kaniuli. Posiadająca zastawkę bezzwrotną zapobiegającą wypływowi krwi. Posiadająca zabezpieczenie igły w postaci plastikowej osłonki o gładkich krawędziach z systemem kapilar zapobiegających zakłuciu się oraz zachlapaniu krwią. Pozbawiona jakichkolwiek ostrych elementów wchodzących w skład mechanizmu zabezpieczającego kaniulę, a jej konstrukcja ma chronić personel medyczny przed przypadkowym zakłuciem/zadraśnięciem/ zachlapaniem krwią, uniemożliwiając jednocześnie powtórne użycie cewnika. Kaniula dożylna bezpieczna - sterylna, jednorazowego użytku, pakowana pojedynczo, wyraźne oznaczenie rozmiaru i daty ważności na opakowaniu jednostkowym. Wykonana z biokompatybilnego poliuretanu nowej generacji (badania kliniczne). Hypoalergiczna, termoplastyczna, odporna na zginanie (tzw. pamięć kształtu) z samodomykającym się portem iniekcyjnym oraz zastawką bezzwrotną zapobiegającą wypływowi krwi, elastyczne skrzydełka ułatwiające bezpieczne mocowanie widoczne w rtg, konstrukcja kaniuli eliminująca ryzyko ekspozycji na krew podczas kaniulacji naczyń. Posiadająca plastikową osłonkę z systemem kapilar zapobiegających zakłuciu się oraz zachlapaniu krwią, która w pełni zamyka ostrze i światło igły. rodukt nie zawiera PVC, DEHP ani naturalnego lateksu. Sterylizowane radiacyjnie Rozmiary : 0,9 mmx25mm-22G( niebieski) przepływ 42 ml/min. 1,1x32mm -20G (różowy)przepływ 67 ml/min 1,3x32mm-18G( zielony)przepływ 103ml/min 1,3x45mm-18G( zielony)przepływ 103ml/min 1,5x45mm-17G(biały)przepływ 133ml/min 1,8x45mm-16G(szary) przepływ236ml/min 2,0x45mm-14G(pomarańczowy)270 ml/min do wyboru przy zakupie; | C8: szt. | D8: 21000
A9: 4 | B9: Kaniula bezpieczna i.v. w systemie zamkniętym, typu motylkowego z pasywnym zabezpieczeniem ostrza, wykonana z silikonowanego poliuretanu z minimum 5-cioma paskami cieniującymi w RTG wtopionymi w strukturę materiału i, z rozgałęzionym podwójnie portem luer-lok na transparentnym przedłużeniu z klemą. Minimum jedna odnoga portu zabezpieczona transparentnym zaworem bezigłowym, druga odnoga zabezpieczona usuwalnym filtrem hydrofobowym. Rozmiary 24G-18G do wyboru przy zakupie | C9: szt. | D9: 200
A10: 5 | B10: Wężyk do kaniuli donaczyniowej z podwójnym przedłużaczem 15 cm zakończony systemem dostępu naczyniowego z końcówką typu Luer posiadającą membramę silikonową aktywowaną połączeniem luer przy obu końcach. dren o średnicy wewnętrznej 2,8 mm, przedłużenie z zaciskiem przesuwanym, przemieszczanie płynu neutralne w wypadku stosowania zestawu przedłużającego i zacisku.objętość wypełnienia 1,14 ml , wytrzymały na ciśnienie 45 PSI | C10: szt. | D10: 100
A11: 6 | B11: Kranik odcinający do terapii dożylnej, trójdrożny z przedłużaczem* 7cm bez DEHP, z dodatkowym portem iniekcyjnym, wykonany z poliwęglanu -tworzywa odpornego na mechaniczne pęknięcia oraz na wszystkie leki w tym również na działanie lipidów i leków do chemioterapii. Białe trójramienne pokrętło umożliwiające swobodną i precyzyjną obsługę kraników i podwójny: optyczny i wyczuwalny identyfikator pozycji otwarty/zamknięty, jałowy, j.u. objętość wypełnienia 0,8 ml, sterylizowany radiacyjnie .Opakowanie typu blister-pack. . Pakowany pojedyńczo z widoczną datą ważności. Sterylizowany R. | C11: szt. | D11: 5500
A12: 7 | B12: Kranik odcinający do terapii dożylnej, trójdrożny, wykonany z poliwęglanu-tworzywa odpornego na mechaniczne pęknięcia oraz na wszystkie leki w tym również na działanie lipidów i leków do chemioterapii. Białe trójramienne pokrętło umożliwiające swobodną i precyzyjną obsługę kraników i podwójny: optyczny i wyczuwalny identyfikator pozycji otwarty/zamknięty, jałowy, j.u., Niezależnie obracająca się nakrętka luer lock umożliwiająca podłączenie kranika z innym złączem luer lock bez konieczności skręcania/obracania łączonych elementów. Wyposażony w znaczniki : czerwony dla oznaczenia linii tętniczej, niebieski dla oznaczenia linii żylnej. Wytrzymałość kranika 3 bary, objętość wypełnienia 0,2-0,22 ml, . Sterylny (sterylizowany promieniami beta).Opakowanie medyczne typu blister. | C12: szt. | D12: 4500
A13: 8 | B13: Bezpieczna kaniula w systemie zamkniętym wykonana z biokompatybilnego poliuretanu z 6 paskami RTG, przeznaczona do wlewów pod wysokim ciśnieniem, umożliwiająca współpracę ze wstrzykiwaczami kontrastu przy ustawieniu 325 psi i szybką podaż kontrastu, cewnik kaniuli posiadający trzy wycięte laserowo otwory w kształcie łzy redukujące: * natężenie przepływu podawanego płynu i tym samym podrażnienie naczynia oraz * ryzyko wynaczynienia środka kontrastowego do tkanek, posiadająca otwór przy ostrzu igły umozliwiający natychmiastowe potwierdzenie wejścia do naczynia podczas kaniulacji posiadająca drenik przedłużający odporny na wysokie ciśnienie podaży płynu. Rozmiar 22G x 25 mm (niebieska) max prędkość przepływu 6,5ml/s | C13: op=20szt | D13: 20
A14: 9 | B14: Bezpieczna kaniula w systemie zamkniętym wykonana z biokompatybilnego poliuretanu z 6 paskami RTG, przeznaczona do wlewów pod wysokim ciśnieniem, umożliwiająca współpracę ze wstrzykiwaczami kontrastu przy ustawieniu 325 psi i szybką podaż kontrastu, cewnik kaniuli posiadający trzy wycięte laserowo otwory w kształcie łzy redukujące: * natężenie przepływu podawanego płynu i tym samym podrażnienie naczynia oraz * ryzyko wynaczynienia środka kontrastowego do tkanek, posiadająca otwór przy ostrzu igły umozliwiający natychmiastowe potwierdzenie wejścia do naczynia podczas kaniulacji posiadająca drenik przedłużający odporny na wysokie ciśnienie podaży płynu. Rozmiar 20G x 25 mm (różowa) max prędkość przepływu 10,0ml/s | C14: op=20szt | D14: 10
A15: 10 | B15: Bezpieczna kaniula w systemie zamkniętym wykonana z biokompatybilnego poliuretanu z 6 paskami RTG, przeznaczona do wlewów pod wysokim ciśnieniem, umożliwiająca współpracę ze wstrzykiwaczami kontrastu przy ustawieniu 325 psi i szybką podaż kontrastu, cewnik kaniuli posiadający trzy wycięte laserowo otwory w kształcie łzy redukujące: * natężenie przepływu podawanego płynu i tym samym podrażnienie naczynia oraz * ryzyko wynaczynienia środka kontrastowego do tkanek, posiadająca otwór przy ostrzu igły umozliwiający natychmiastowe potwierdzenie wejścia do naczynia podczas kaniulacji posiadająca drenik przedłużający odporny na wysokie ciśnienie podaży płynu. Rozmiar 20G x 30-32 mm (rózowa) max prędkość przepływu 10,0 ml/s | C15: op=20szt | D15: 5
A16: 11 | B16: Bezpieczna kaniula w systemie zamkniętym wykonana z biokompatybilnego poliuretanu z 6 paskami RTG, przeznaczona do wlewów pod wysokim ciśnieniem, umożliwiająca współpracę ze wstrzykiwaczami kontrastu przy ustawieniu 325 psi i szybką podaż kontrastu, cewnik kaniuli posiadający trzy wycięte laserowo otwory w kształcie łzy redukujące: * natężenie przepływu podawanego płynu i tym samym podrażnienie naczynia oraz * ryzyko wynaczynienia środka kontrastowego do tkanek, posiadająca otwór przy ostrzu igły umozliwiający natychmiastowe potwierdzenie wejścia do naczynia podczas kaniulacji posiadająca drenik przedłużający odporny na wysokie ciśnienie podaży płynu. Rozmiar 18G x 30-32 mm (zielona) max prędkość przepływu 15 ml/s | C16: op=20szt | D16: 5
B17: RAZEM
B20: Data | H20: Podpis osoby/osób upoważnionej
B21: ……………………………………………. | H21: ……………………………….

Sheet Zad. 23
B2: ZOZ/DZP/PN/23/25
B3: Załącznik Nr: 9
A4: Zadanie nr: 23- Nasadka do amniotomii
A5: Lp. | B5: Nazwa produktu | C5: Jednostka miary | D5: Ilość | E5: Cena jednostkowa netto | F5: Wartość netto | G5: VAT | H5: Cena jednostkowa brutto | I5: Wartość brutto | J5: Producent/Nazwa handlowa/Numer katalogowy
A6: 1 | B6: Haczyk 25cm do wykonania bezpiecznej amniotomii. | C6: op=100szt | D6: 10
B7: RAZEM
B9: Oświadczam, że oferowany przedmiot zamówienia jest zgodny z opisem i spełnia wymagane parametry techniczne.
B11: Data | H11: Podpis osoby/osób upoważnionej
B12: ……………………………………………. | H12: ……………………………….

Sheet Zad.24
B1: ZOZ/DZP/PN/23/25
B2: Załącznik Nr: 9
B3: Zadanie nr: 24 - Buty 2
A4: Lp. | B4: Nazwa produktu | C4: Jednostka miary | D4: Ilość | E4: Cena jednostkowa[zł] netto | F4: Wartość [zł] netto | G4: VAT | H4: Cena jednostkowa [zł] brutto | I4: Wartość [zł] brutto | J4: Producent/Model/Nr katalogowy
A5: 1 | B5: - Obuwie na sale operacyjne - z możliwością prania w temp. 90 st. C - Możliwość prania i sterylizacji w autoklawach w temp. do 135 st. C - Damsko-męskie - dostępne w rozmiarach 34- 48 - Zgodne z normą PN-EN ISO 20347:2012 - Posiadające aktualny certyfikat wydany przez jednostkę notyfikowaną. - Wykonane w całości z materiału SEBS antystatycznego - Obuwie wykonane w jednym odlewie bez wstawek w części wewnętrznej obuwia - Posiadające wkładkę na stałe zamontowaną w obuwiu – nie wyjmowaną - Perforowane cholewki po obu bokach obuwia na 2/3 jego długości - min 7 otworów poprawiających cyrkulację powietrza, z zabezpieczeniem przed przedostawaniem się płynów od góry do wnętrza obuwia - Absorbcja energii w części piętowej. - Bez kołka antystatycznego w części piętowej - Kolory do wyboru przez Zamawiającego: biały, niebieski, zielony, pomarańczowy, j. niebieski– według aktualnych potrzeb - pasek na piętę jako dodatkowa opcja - Widoczne oznaczenie rozmiaru na pięcie. | C5: para | D5: 30
B6: RAZEM
B8: Data | H8: Podpis osoby/osób upoważnionej
B9: ……………………………………………. | H9: ……………………………….

Sheet Zad.25
B1: ZOZ/DZP/PN/23/25
B2: Załącznik Nr: 9
A3: Zadanie nr: 25- Opatrunek hemostatyczny do tętnic
A4: Lp. | B4: Nazwa produktu | C4: Jednostka miary | D4: Ilość | E4: Cena jednostkowa netto | F4: Wartość netto | G4: VAT | H4: Cena jednostkowa brutto | I4: Wartość brutto | J4: Producent/Nazwa handlowa/Numer katalogowy
A5: 1. | B5: Hemostatyczny opatrunek stosowany po usunięciu igły z tętnicy promieniowej lub tętnicy grzbietowej stopy. Stosowany np. po pomiarze cisnienia tętniczego lub gazometrii. Efekt hemostatyczny zaperwnia kompresja za pomocą chłonnej podkładki warstwowej o grubości 9mm z plastikową płytką o raz taśmy, z wielokierunkową rozciągliwością dla skutecznego zabezpieczenia miejsca wkłucia. Nacisk wzrasta proporcjonalnie do długości naciąganej taśmy. Nie powoduje zmniejszenia przepływu krwi. Wwymiar opatrunku przed rozciągnięciem 40x120mm, podkładka o owalnym kształcie dł. 27mm, z plastikową płytką. Opatrunek sterylny. | C5: op. = 30 szt | D5: 15
B6: Razem
B9: Data | H9: Podpis osoby/osób upoważnionej
B10: ……………………………………………. | H10: ……………………………….

Sheet Zad.26
B2: ZOZ/DZP/PN/23/25
B3: Załącznik Nr: 9
A4: Zadanie nr: 26 – Klipsy
A5: Lp. | B5: Nazwa produktu | C5: Jednostka miary | D5: Ilość | E5: Cena jednostkowa netto | F5: Wartość netto | G5: VAT | H5: Cena jednostkowa brutto | I5: Wartość brutto | J5: Producent/Nazwa handlowa/Numer katalogowy
A6: 1 | B6: Klipsy tytanowe, sterylne, pakowane w zasobniki po z taśmą samoprzylepną, rozmiar M/L, pasujące do klipsownicy STORZ | C6: 1 zasobnik 6 szt. | D6: 420
A7: 2 | B7: Klipsy tytanowe, sterylne, pakowane w zasobniki po . z taśmą samoprzylepną, rozmiar M/L, pasujące do klipsownicy STORZ | C7: 1 zasobnik 4 szt | D7: 200
B8: RAZEM
B11: Data | H11: Podpis osoby/osób upoważnionej
B12: ……………………………………………. | H12: ……………………………….

Sheet Zad 27
B1: ZOZ/DZP/PN/23/25
B2: Załącznik Nr: 9
A3: Zadanie nr: 27 – Zestaw do toalety jamy ustnej
A4: Lp. | B4: Nazwa produktu | C4: Jednostka miary | D4: Ilość | E4: Cena jednostkowa netto | F4: Wartość netto | G4: VAT | H4: Cena jednostkowa brutto | I4: Wartość brutto | J4: Producent/Model/Nr katalogowy
A5: 1 | B5: Zestaw do toalety jamy ustnej zawierający w jednym fabrycznym opakowaniu: 1 szczoteczkę do zębów z odsysaniem z ukośną manualną zastawką do regulacji siły odsysania, z 2 otworami ssącymi oraz z impregnowaną gąbką na górnej powierzchni, 15 ml płynu do płukania jamy ustnej bez zawartości etanolu, w saszetce,1 gąbka-aplikator z poprzecznym pofałdowaniem,1 saszetkę z 3 g preparatu nawilżającego do ust na bazie wodnej. Każde pojedyncze opakowanie zestawu typu blister pełni jednocześnie funkcję pojemnika na płyn. | C5: szt | D5: 3500
B6: RAZEM
B9: Data | H9: Podpis osoby/osób upoważnionej
B10: ……………………………………………. | H10: ……………………………….

Sheet Zad.28
B1: ZOZ/DZP/PN/23/25
B2: Załącznik Nr: 9
A3: Zadanie nr: 28 - Odsysanie pola operacyjnego
A4: Lp. | B4: Nazwa produktu | C4: Jednostka miary | D4: Ilość | E4: Cena jednostkowa netto | F4: Wartość netto | G4: VAT | H4: Cena jednostkowa brutto | I4: Wartość brutto | J4: Producent/Nazwa handlowa/Numer katalogowy
A5: 1 | B5: Dren, wąż do ssaka z końcówką lejkowatą z jednej strony, z drugiej zakończoną łącznikiem typu finger-tip z kontrolą odsysania kompatybilną z cewnikami do odsysania górnych dróg oddechowych, długość drenu 210 cm przekrój 24CH, fi wewnętrzne 5,6mm, zewnętrzne 8mm, jałowy. | C5: szt. | D5: 1200
A6: 2 | B6: Dren, wąż do ssaka zakończenia z obu stron lejkowate, długość 210-220 cm, przekrój 24Ch, fi wewnętrzne 5,6mm, zewnętrzne 8mm,jałowy | C6: szt. | D6: 4300
A7: 3 | B7: Dren do odsysania pola operacyjnego połączony końcówką standardową typu Yankauer, z otworami szczytowymi, bez oliwkowatego zakończenia o przekroju 21CH bez kontroli odsysania, o długości 210-220cm o przekroju 24CH, jałowy | C7: szt. | D7: 500
A8: 4 | B8: Końcówka do odsysania pola operacyjnego z wymiennym filtrem w rączce z załączoną końcówką o długości 15 i 23 w komplecie, lub 15 i 23 cm do wyboru przy zakupie, jałowa. | C8: szt. | D8: 100
A9: 5 | B9: Łącznik typu finger-tip z kontrolą odsysania do drenu z pozycji 2, kompatybilną z cewnikami do odsysania górnych dróg oddechowych, | C9: szt. | D9: 2800
B10: RAZEM
B12: Data | H12: Podpis osoby/osób upoważnionej
B13: ……………………………………………. | H13: ……………………………….

Sheet Zad.29
B2: ZOZ/DZP/PN/23/25
B3: Załącznik Nr: 9
B4: Zadanie nr: 29 - Cewniki do terapii
A5: Lp. | B5: Nazwa produktu | C5: Jednostka miary | D5: Ilość | E5: Cena jednostkowa[zł] netto | F5: Wartość [zł] netto | G5: VAT | H5: Cena jednostkowa [zł] brutto | I5: Wartość [zł] brutto | J5: Producent/Nazwa handlowa/Numer katalogowy
A6: 1 | B6: Trzykanałowy cewnik do wkłuć centralnych wykonany z termowrażliwego poliuretanu w całości kontrastujący w RTG wprowadzany techniką Seldingera. Znaczniki odległości od 9cm od dystalnego końca cewnika co 1 cm. Cewnik w rozmiarze 7,5FR (światła 14G, 18G, 18G), długość cewnika 20cm . Użytkownik może wybrać jeden z dwóch wariantów wprowadzacza : igłę lub krótką kaniulę. Każdy zestaw zawiera : Cewnik trzykanałowy, Igła do nakłucia 18G/70mm, krótka kaniula 18G, Prowadnik typu „J” 60cm, ze znacznikami głębokości z elastyczną dystalną końcówką, dylatator, dodatkowe skrzydełka mocujące, 3 zatyczki z membraną do wstrzyknięć, skalpel, strzykawka 5ml | C6: szt. | D6: 110
A7: 2 | B7: Czterokanałowy cewnik do wkłuć centralnych wykonany z termowrażliwego poliuretanu w całości kontrastujący w RTG wprowadzany techniką Seldingera. Znaczniki odległości od 9cm od dystalnego końca cewnika co 1 cm. Cewnik w rozmiarze 8,5FR (światła 16G, 14G, 18G, 18G), długość cewnika 20cm . Użytkownik może wybrać jeden z dwóch wariantów wprowadzacza : igłę lub krótką kaniulę. Każdy zestaw zawiera : cewnik czterokanałowy, igła do nakłucia 18G/70mm, krótka kaniula 18G, prowadnik typu "J" 60cm ze znacznikami głębokości z elastyczną dystalną końcówką, dylatator, dodatkowe skrzydełka mocujące, 4 zatyczki z membraną do wstrzyknięć, skalpel, strzykawka 5ml | C7: szt. | D7: 150
A8: 3 | B8: Cewnik dotętniczy wprowadzany metodą Seldingera wykonany z polietylenu, widoczny w RTG. W zestawie igła do wprowadzania, prowadnik. Cewnik w rozmiarach: 3FR o długościach 6cm, igła wprowadzająca 20G/38cm, prowadnik 0,53mm/20cm, 4FR o długościach 8, 10cm, igła wprowadzająca 19G/54cm, prowadnik 0,71mm/30cm dla długości 18cm igła wprowadzająca 19G/68cm, prowadnik 0,1mm/46cm, 4,5FR o długości 18cm, igła wprowadzająca 17G/70cm, prowadnik 0,9mm/46cm, 5FR/18cm, igła wprowadzająca 16G/70cm, prowadnik 1,1mm/46cm. Rozmiary 4FR/18cm, 4,5F/18cm, 5FR/18cm w zestawie zawierają dodatkowo polietylenową przedłużkę 30cm, strzykawkę 5ml, trójdrożny zawór regulujący przepływ. | C8: szt. | D8: 50
A9: 4 | B9: Podwójny cewnik do diagnostycznego płukania oskrzelowo-pęcherzykowego ( pobieranie do diagnostyki zapalenia płuc), dystalna końcówka zewnętrznego cewnika jest zamknięta zatyczką polietylenową glikolową , cewnik zewnętrzny cieniujący RTG o ś ,2,0x2,7mm (9F) dł 60cm | C9: szt. | D9: 70
A10: 5 | B10: Igła do blokady nerwów obwodowych pokryta drobinkami szkła, całkowicie echogeniczna ( do samej końcówki igły), ze szlifem ułatwiającym penetrację przez skórę, a zarazem zapewniającym maksymalną widoczność, ze znacznikami odległości co 1 cm, odkręcana przedłużka 50 cm (objętość 1 ml) pozwalająca na podłączenie strzykawki bezpośrednio do igły jeżeli zachodzi taka potrzeba. Kabel podłączeniowy 60 cm przymocowany z tyłu igły wskazujący na kierunek szlifu igły. Kompatybilna ze wszystkimi neurostymulatorami. Igła w rozmiarach:23G/25mm, 23G/35mm, 22G/50mm, 21G/85mm,21G/100mm, 20G/120mm, 20G/150mm. | C10: szt. | D10: 1200
A11: 6 | B11: Antybakteryjny trzykanałowy cewnik do wkłuć centralnych wykonany z termowrażliwego poliuretanu w całości kontrastujący w RTG, inkorporowany aktywnym srebrem, wprowadzany techniką Seldingera. Znaczniki odległości od 9cm od dystalnego końca cewnika co 1 cm. Cewnik w rozmiarze 7,5FR (światła 14G, 18G, 18G), długość cewnika 16cm lub 20cm do wyboru przez Zamawiającego. Użytkownik może wybrać jeden z dwóch wariantów wprowadzacza : igłę lub krótką kaniulę. Każdy zestaw zawiera : Cewnik trzykanałowy, Igła do nakłucia 18G/70mm, krótka kaniula 18G, Prowadnik typu „J” 60cm, ze znacznikami głębokości z elastyczną dystalną końcówką, dylatator, dodatkowe skrzydełka mocujące, 3 zatyczki z membraną do wstzryknięć, skalpel, strzykawka 5ml | C11: szt. | D11: 20
A12: 7 | B12: Antybakteryjny czterokanałowy cewnik do wkłuć centralnych wykonany z termowrażliwego poliuretanu inkorporowany aktywnym srebrem, w całości kontrastujący w RTG wprowadzany techniką Seldingera. Znaczniki odległości od 9cm od dystalnego końca cewnika co 1 cm | C12: szt. | D12: 20
A13: 8 | B13: Cewnik pępowinowy 3,5F, 4F | C13: szt. | D13: 20
A14: 9 | B14: System bezigłowy o objętości martwej 0,02ml, o zerowym wypływie wstecznym z silikonowa podzielna membraną w obudowę wbudowany mechanizm srężynowy. Opakowanie folia-papier , lub w bezdotykowym aplikatorze. Do wyboru przy zakupie przez zamawiającego | C14: szt. | D14: 5000
A15: 10 | B15: Rampa 4 -kranikowa z portem bocznym, z drenem 50 cm. | C15: szt. | D15: 600
A16: 11 | B16: Specjalnie zaprojektowany do przezściennego wytwarzania przetoki jelita czczego za pomocą igły. Tacka zawiera: - 1 silikonowy cewnik, całkowicie kontrastujący w XRO, długość 60cm średnica 2.0 x 3.2mm - 1 wprowadzacz typu Desilet - 1 igła typu Alena Fr 10 - 1 końcówka uciskowa (kod 2196.30) - 1 17G igła długość 98mm - 2 łączniki | C16: szt. | D16: 10
B17: Razem
B19: Na czas trwania umowy wymagane jest użyczenie 1 szt. neurostymulatora. Koszt użyczenia należy wliczyć w cenę oferty.
B22: Data | G22: Podpis osoby/osób upoważnionej
B23: ……………………………………………. | G23: ……………………………….

Sheet Zad 30
B1: ZOZ/DZP/PN/23/25
B2: Załącznik Nr: 9
A3: Zadanie nr: 30 - Oznaczniki chirurgiczne
A4: Lp. | B4: Nazwa produktu | C4: Jednostka miary | D4: Ilość | E4: Cena jednostkowa netto | F4: Wartość netto | G4: VAT | H4: Cena jednostkowa brutto | I4: Wartość brutto | J4: Producent/Model/Nr katalogowy
A5: 1 | B5: Oznaczniki chir. poliestrowe, taśmy dziane, posiadające trwałe wymiary poprzeczne i podłużne x 10 szt., jałowe, nie strzępiące się. (różne kolory do wyboru: biały, czerwony, żółty, niebieski) (rozmiar 2 lub równoważny) | C5: 1op.=10szt | D5: 14
B6: RAZEM
B9: Data | H9: Podpis osoby/osób upoważnionej
B10: ……………………………………………. | H10: ……………………………….

Sheet Zad.31
B1: ZOZ/DZP/PN/23/25
B2: Załącznik Nr: 9
A3: Zadanie nr: 31 – Akcesoria anestezjologiczne
B4: Nazwa produktu | C4: Jednostka miary | D4: Ilość | E4: Cena jednostkowa netto | F4: Wartość netto | G4: VAT | H4: Cena jednostkowa brutto | I4: Wartość brutto | J4: Producent/Model/Nr katalogowy
A5: 1 | B5: Maski twarzowe, anestezjologiczne, jednorazowego użytku, w rozmiarach od 1-6 kodowane kolorem, przeźroczyste, wykonane z PCW bez szkodliwych ftalanów i lateksu. Maska zawiera miękki, elastyczny mankiet powietrzny, bez zaworu, dopasowujący się do kształtu twarzy pacjenta. | C5: szt. | D5: 3600
A6: 2 | B6: Pełnotwarzowa, wielorazowa maska do nieinwazyjnej wentylacji oraz CPAP, obejmująca wyłącznie usta i nos pacjenta, wyposażona w wsparcie czołowe z możliwością regulacji nachylenia za pomocą wbudowanego w maskę pokrętła. Wszystkie elementy wspierające się na twarzy pacjenta wyposażone w poduszki żelowe zapewniające szczelność oraz komfort pacjenta. Maska łatwa w montażu, wyposażona w dedykowaną opaskę mocującą z unikalnymi zatrzaskami magnetycznymi, zapewniającymi szybkie i łatwe pozycjonowanie maski. Wyposażona w port kapno oraz niebieskie obrotowe kolanko w zakresie 360 stopni. W zestawie szablony rozmiarowe dla łatwej identyfikacji rozmiaru maski S, M lub L.Maska nie zawiera: lateksu, PVC, DEHP, DBP, BBP, PBB, PBDE. Dostępna w rozmiarach S, M, L, XL | C6: szt. | D6: 20
A7: 3 | B7: Układ anestezjologiczny pediatryczny, jednorazowego użytku, mikrobiologicznie czysty, składający się z rur o średnicy 15mm: dwóch ramion o długości 150cm oraz trzeciej rury o długości 110cm z workiem oddechowym bez lateksu o pojemności 1L. Układ wykonany z EVA, PE, PP bez lateksu i PVC. Przeznaczony do wentylacji pacjentów o wadze 5-40kg. Układ zabezpieczony czerwonym kapturkiem, pozwalającym na zachowanie czystości układu do momentu jego użycia. Pakowany we folię. | C7: szt. | D7: 200
A8: 4 | B8: Układ anestezjologiczny dla dorosłych,średnica rur i złączy 22 mm, jednorazowy, mikrobiologicznie czysty, wyprodukowany z wysokiej jakości materiału: PP, TPE, CR, PE, bez lateksu. Zestaw zawiera: ramię wdechowe i wydechowe o stałej długości 180 cm zakończone od strony pacjenta rozłącznym trójnikiem Y oraz łącznikiem kątowym z portem Luer Lock, zabezpieczonym zintegrowanym koreczkiem, złącza usztywnione; ramię do worka o stałej długości 150 cm, worek oddechowy bezlateksowy o pojemności 2L wraz z łącznikiem do worka. Worek w okolicy szyjki wewnątrz zaopatrzony w koszyczek zapobiegający sklejaniu się jego powierzchni. Układ zabezpieczony czerwonym kapturkiem, pozwalającym na zachowanie czystości układu do momentu jego użycia. Pakowany we folię. | C8: szt. | D8: 1500
A9: 5 | B9: Układ anestezjologiczny dla noworodków z AutoBreath | C9: szt. | D9: 100
A10: 6 | B10: Układ anestezjologiczny do Venstar Cavina | C10: szt. | D10: 100
A11: 7 | B11: Łącznik oddechowy- martwa przestrzeń-jednorazowego użycia, gładka powierzchnia wewnętrzna, długość 15cm wraz z podwójnie obrotowym łącznikiem kątowym, mikrobiologicznie czysty, bez lateksu i PVC. Złącze kątowe posiada port próbkowania gazów oraz port do ssania/ bronchoskopii. | C11: szt. | D11: 2500
A12: 8 | B12: Filtr do inkubatora Isolette C2000 | C12: szt. | D12: 8
B13: RAZEM
B16: Data | H16: Podpis osoby/osób upoważnionej
B17: ……………………………………………. | H17: ……………………………….

Sheet Zad.32
B1: ZOZ/DZP/PN/23/25
B2: Załącznik Nr: 9
A3: Zadanie nr: 32 - Części wymienne do aparatów f - my Drager
A4: Lp. | B4: Nazwa produktu | C4: Jednostka miary | D4: Ilość | E4: Cena jednostkowa netto | F4: Wartość netto | G4: VAT | H4: Cena jednostkowa brutto | I4: Wartość brutto | J4: Producent/Nazwa handlowa/Numer katalogowy
A5: 1 | B5: Czujnik przepływu służący do pomiaru objętości przepływających gazów w aparatach do znieczulania oraz respiratorach firmy Drager Przeznaczony do dezynfekcji, a nie do sterylizacji, z czytnikiem RIFD. Opakowanie zbiorcze 5szt. | C5: op=5 szt. | D5: 6
A6: 2 | B6: Czujnik jednorazowy na palec dla dorosłych z pianki typu MS16445 | C6: Op=24 szt | D6: 5
A7: 3 | B7: Pułapka wodna do monitorowania gazów anestetycznych przystosowana do pracy z dostępnymi na rynku aparatami Drager, zapewniająca zabezpieczenie modułu pomiarowego przed wilgocią, wyposażona w dwa zintegrowane filtry hydrofobowe. Czas pracy 4 tyg., nie podlegająca sterylizacji. Opakowanie zbiorcze 12szt. | C7: op=12szt | D7: 8
A8: 4 | B8: Czujnik tlenu do aparatu Fabius GS typu premium Oxygen sensor | C8: szt. | D8: 8
A9: 5 | B9: Mankiet 23-33/33cm, 23-33/43cm,23-33/53cm, 31-40cm/40cm, 38-50cm/50cm, 38-50cm/50cm do pomiaru ciśnienia. | C9: szt. | D9: 10
A10: 6 | B10: Mankiet NIPC, wielokrotnego użytku, kompatybilne. rozmiar XS, S, 12–19 cm / 19 cm 17–25 cm / 29 cm | C10: szt. | D10: 12
A11: 7 | B11: Dren łączący NIPC, do monitorów Infinity | C11: szt. | D11: 4
A12: 8 | B12: Linia próbkująca do Scio (dren pomiarowy) do monitorowania stężenia gazów anestetycznych CO2, O2, N2O; jednorazowego użytku, mikrobiologicznie czysta, wolne od latexu, dł 250cm, końcówki męskie, kompatybilna z pułapką WaterLock 2. Opakowanie zbiorcze 10szt-niepodzielne. | C12: op=10szt | D12: 8
A13: 9 | B13: Moduł przewodowy do MultiMed 5, wieloparametrowy, do pomiarów EWKG, SpO2, Temperatury, Oddechu, długość 1,5 m, kompatybilny z kardiomonitorami Drager | C13: szt. | D13: 1
A14: 10 | B14: Przedłużacz do Sp02 Nellcor / Drager; kompatybilny z modułem MultiMed 5 do kardiomonitorów Drager, dł. 1m | C14: szt. | D14: 4
A15: 11 | B15: Czujnik do SpO2, na palec,wielokrotnego użytku, kompatybilny z przedłużaczem SpO2 Nellcor/Drager do modułu MultiMed5. | C15: szt. | D15: 6
A16: 12 | B16: Przewód EKG 3-odprowadzeniowy 2-pinowy, kompatybilny z MultiMed 5 do kardiomonitorów Draeger, dł 1m. | C16: szt. | D16: 4
... A20: 16 | B20: Nebulizator do Savina | C20: szt. | D20: 4
A21: 17 | B21: Mankiet 31-40cm/55cm Rozmiar L+ | D21: 2
A22: 18 | B22: Przedłużacz Spo2 do Nelcor z kablem 2m | D22: 3
A23: 19 | B23: Kostka przeciwzakłóceniowa EKG ESU | D23: 2
A24: 20 | B24: Kabel EKG 5 odprowadzeń, 2 piny | D24: 1
A25: 21 | B25: Jednorazowe wkłady kompatybilne z ssakiem Vacu smart, 700ml z wkładką żelową i bez żelu do wyboru przy zakupie. | C25: op=25szt. | D25: 24
A26: 22 | B26: Zbiornik na wydzielinę wielokrotnego użytku PSU 700ml | C26: szt. | D26: 5
A27: 23 | B27: Filtr p/bakteryjny do ssaków przy aparacie Primus | C27: Op=20 szt | D27: 1
A28: 24 | B28: Czujnik spo2 do Vista 120 2,5m | C28: szt. | D28: 2
A29: 25 | B29: Przewód przejściowy EKG do Vista 120 | C29: szt. | D29: 2
A30: 26 | B30: Kabel ekg 3 -odporadzeniowy Do Vista 120 | C30: szt. | D30: 2
A31: 27 | B31: Kabel EkG 5-odpowadzeniowy do Vista 120 | C31: szt. | D31: 2
A32: 28 | B32: Dren NIPC do Vista 120 | C32: szt. | D32: 2
A33: 29 | B33: Mankiet 20,5-28cm do Vista 120 | C33: szt. | D33: 2
A34: 30 | B34: Mankiet 27-35cm do Vista 120 | C34: szt. | D34: 2
A35: 31 | B35: Mankiet 34-43 cm do Vista 120 | C35: szt. | D35: 2
A36: 32 | B36: Wapno sodowane 1,2 l | C36: szt. | D36: 36
... A44: 40 | B44: Czujnik typu Masimo® RD-SET DC-IP, dla dzieci, wielokrotnego użytku | C44: szt. | D44: 1
B45: RAZEM
B48: Data | H48: Podpis osoby/osób upoważnionej
B49: ……………………………………………. | H49: ……………………………….

Sheet Zad. 33
B2: ZOZ/DZP/PN/23/25
B3: Załącznik Nr: 9
A4: Zadanie nr: 33 Pasy do unieruchamiania pacjentów
A5: Lp. | B5: Nazwa produktu | C5: Jednostka miary | D5: Ilość | E5: Cena jednostkowa netto | F5: Wartość netto | G5: VAT | H5: Cena jednostkowa brutto | I5: Wartość brutto | J5: Producent/Nazwa handlowa/Numer katalogowy
A6: 1 | B6: 2 opaski na nadgarstki + 4 zamki magnetyczne + 1 klucz magnetycznych rozmiar M/L. Dostępne rozmiary M (19-25 cm, szer. 8 cm), L (24-30 cm. Szer. 8 cm ) do wyboru przez zamawiającego | C6: kpl. | D6: 6
A7: 2 | B7: 1 pas na łóżko wraz z 2 pasami na kostki + 4 zamkami magnetycznymi + 1 klucz magnetyczny | C7: kpl. | D7: 6
B8: RAZEM
B10: Oświadczam, że oferowany przedmiot zamówienia jest zgodny z opisem i spełnia wymagane parametry techniczne.
B12: data ………………………………. | G12: podpis ……………………………………….

Sheet Zad.34
B1: ZOZ/DZP/PN/23/25
B2: Załącznik Nr: 9
A3: Zadanie nr: 34- Akcesoria do Neopuff
A4: Lp. | B4: Nazwa produktu | C4: Jednostka miary | D4: Ilość | E4: Cena jednostkowa netto | F4: Wartość netto | G4: VAT | H4: Cena jednostkowa brutto | I4: Wartość brutto | J4: Producent/Nazwa handlowa/Numer katalogowy
A5: 1 | B5: Dren z zastawką do aparatu Neopuff | C5: szt. | D5: 50
B6: Razem
B9: Data | H9: Podpis osoby/osób upoważnionej
B10: ……………………………………………. | H10: ……………………………….

Sheet Zad.35
B1: ZOZ/DZP/PN/23/25
B2: Załącznik Nr: 9
A4: Zadanie nr: 35 -Maty dekontaminacyjne
B5: Nazwa produktu | C5: Jednostka miary | D5: Ilość | E5: Cena jednostkowa netto | F5: Wartość netto | G5: VAT | H5: Cena jednostkowa brutto | I5: Wartość brutto | J5: Producent/Nazwa handlowa/Numer katalogowy
A6: 1 | B6: Mata dekontaminacja 60 x115cm, niebieska. Opis produktu: Mata składająca się z 30 cienkich arkuszy lepnych wykonanych z folii pozbawionej metali ciężkich, substancja lepna na bazie akrylu, powłoka grzybobójcza hamująca rozwój bakterii na macie, w rogu maty małe numerowane etykietki umożliwiające łatwe usuwanie kolejnych warstw. | C6: 1op = 30 arkuszy | D6: 48
B7: RAZEM
B12: Data | H12: Podpis osoby/osób upoważnionej
B13: ……………………………………………. | H13: ……………………………….

Sheet Zad 36
B1: ZOZ/DZP/PN/23/25
B2: Załącznik Nr: 9
A3: Zadanie nr: 36 – Stojaki na kroplówki
A4: Lp. | B4: Nazwa produktu | C4: Jednostka miary | D4: Ilość | E4: Cena jednostkowa netto | F4: Wartość netto | G4: VAT | H4: Cena jednostkowa brutto | I4: Wartość brutto | J4: Producent/Model/Nr katalogowy
A5: 1 | B5: Stojak do kroplówek z uchwytem na worek,z możliwością zawieszenia pompy infuzyjnej, na kółkach,obudowa podstawy zalana tworzywem sztucznym, na 5 kółkach min 2 z blokadą listwą zasilającą min 3 gniazda i przewodem minimum 3 metrów | C5: szt. | D5: 8
A6: 2 | B6: Stojak na kroplówki z podstawą pięcioramienną na kółkach | C6: szt. | D6: 12
B7: RAZEM
B10: Data | H10: Podpis osoby/osób upoważnionej
B11: ……………………………………………. | H11: ……………………………….

Sheet Zad.37
B1: ZOZ/DZP/PN/23/25
B2: Załącznik Nr: 9
A4: Zadanie nr: 37 - Etykiety do sterylizacji
A5: Lp. | B5: Nazwa produktu | C5: Jednostka miary | D5: Ilość | E5: Cena jednostkowa netto | F5: Wartość netto | G5: VAT | H5: Cena jednostkowa brutto | I5: Wartość brutto | J5: Producent/Nazwa handlowa/Numer katalogowy
A6: 1 | B6: Etykieta podwójnie samoprzylepna z miejscem na 6 pól. Kompatybilna z metkownicą trzyrzędową BLITZ | C6: rolka | D6: 252
B7: RAZEM
B10: Data | H10: Podpis osoby/osób upoważnionej
B11: ……………………………………………. | H11: ……………………………….

Sheet Zad.38
B1: ZOZ/DZP/PN/23/25
B2: Załącznik Nr: 9
B4: Zadanie nr: 38 – System odsysania.
A5: Lp. | B5: Nazwa produktu | C5: Jednostka miary | D5: Ilość | E5: Cena jednostkowa netto | F5: Wartość netto | G5: VAT | H5: Cena jednostkowa brutto | I5: Wartość brutto | J5: Producent/Nazwa handlowa/Numer katalogowy
A6: 1 | B6: Pojemniki wielorazowego użytku na wkłady workowe, wykonane z przeźroczystego tworzywa ze skala pomiarową, wyposażone w zintegrowany zaczep do mocowania oraz króciec obrotowy typu schodkowego do przyłączenia próżni , pojemność 1000ml, przystosowane do zawieszenia na aparatach anestezjologicznych (wymagany spłaszczony kształt) | C6: szt. | D6: 12
A7: 2 | B7: Pojemniki wielorazowego użytku na wkłady workowe, wykonane z przeźroczystego tworzywa ze skala pomiarową, wyposażone w zintegrowany zaczep do mocowania oraz króciec obrotowy typu schodkowego do przyłączenia próżni pojemność 2000ml | C7: szt. | D7: 30
A8: 3 | B8: Pojemniki wielorazowego użytku na wkłady workowe, wykonane z przeźroczystego tworzywa ze skala pomiarową, wyposażone w zintegrowany zaczep do mocowania oraz króciec obrotowy typu schodkowego do przyłączenia próżni, pojemność 3000ml | C8: szt. | D8: 18
A9: 4 | B9: Wymienne zapasowe przyłącza do próżni do mocowania na pojemnikach wielorazowych | C9: szt. | D9: 20
A10: 5 | B10: Zestaw: wkład workowy 1000ml z drenem 180cm z końcówkami żeńską i męską do podłączenia cewników, zapakowany razem w 1 opakowanie | C10: szt. | D10: 1300
A11: 6 | B11: Wkłady workowe jednorazowego użytku, z trwale dołączoną pokrywą, z zastawką zapobiegającą wypływowi wydzieliny do źródła próżni, dużym otworem do pobierania próbek, posiadające w pokrywie tylko jeden króciec łączący (wymagany króciec obrotowy typu schodkowego) , pojemność 2000 ml | C11: szt. | D11: 4500
A12: 7 | B12: Wkłady workowe jednorazowego użytku, z trwale dołączoną pokrywą, z zastawką zapobiegającą wypływowi wydzieliny do źródła próżni, dużym otworem do pobierania próbek, posiadające w pokrywie tylko jeden króciec łączący (wymagany króciec obrotowy typu schodkowego) , pojemność 3000 ml | C12: szt. | D12: 1650
A13: 8 | B13: Uchwyt uniwersalny sprężynowy do mocowania pojemników na szynie wąskiej | C13: szt. | D13: 10
A14: 9 | B14: Uchwyt z obejmą do mocowania pojemników na aparatach anestezjologicznych | C14: szt. | D14: 4
A15: 10 | B15: Mata absorpcyjna na rozlane wydzieliny na bloku operacyjnym rozmiar120 x 60cm, wchłaniająca ok. 6 litrów płynów, zawierająca preparat żelujący w osłonie z włóknistej tkaniny | C15: szt. | D15: 100
A16: 11 | B16: Wózek na kółkach do montowania zestawu wkładów wielorazowych | C16: szt. | D16: 2
A17: 12 | B17: Filtr hydrofobowy do ssaka | C17: szt. | D17: 100
A18: 13 | B18: Zestaw do drenażu opłucnej dwu-butlowy z portem dla dorosłych z butlą na wydzielinę o pojemności minimum 3000 ml oraz butlę do regulacji siły ssania za pomocą słupa wody | C18: szt. | D18: 55
B19: RAZEM
B22: Data | H22: Podpis osoby/osób upoważnionej
B23: ……………………………………………. | H23: ……………………………….

Sheet Zad 39
B1: ZOZ/DZP/PN/23/25
B2: Załącznik Nr: 9
A4: Zadanie nr: 39– Akcesoria do HFNC
A5: Lp. | B5: Nazwa produktu | C5: Jednostka miary | D5: Ilość | E5: Cena jednostkowa netto | F5: Wartość netto | G5: VAT | H5: Cena jednostkowa brutto | I5: Wartość brutto | J5: Producent/Model/Nr katalogowy
A6: 1 | B6: Maska do terapii tlenowej HFNC (high flow nasal cannula), wykonana z przezroczystego, nietoksycznego PCV, nie zawierająca lateksu posiadająca regulowaną blaszkę na nos oraz gumkę mocującą, wyposażona w dren o długości w zakresie 30-40 cm. Uniwersalna maska kompatybilna z układami oddechowymi aparatów do terapii HFNC. Produkt zalecany do użytku przez 14 dni pediatryczne - XS, S, M do wyboru przy zakupie. | C6: szt | D6: 50
A7: 2 | B7: Maska do terapii tlenowej HFNC (high flow nasal cannula), wykonana z przezroczystego, nietoksycznego PCV, nie zawierająca lateksu posiadająca regulowaną blaszkę na nos oraz gumkę mocującą, wyposażona w dren o długości w zakresie 30-40 cm. Uniwersalna maska kompatybilna z układami oddechowymi aparatów do terapii HFNC. Produkt zalecany do użytku przez 14 dni dla dorosłych M, L, XL do wyboru przy zakupie. | C7: szt | D7: 50
A8: 3 | B8: Kaniula donosowa niemowlęca i dziecięca, do terapii tlenowej wysokim przepływem, przystosowana do współpracy z podgrzewanymi układami oddechowymi , przewód kaniuli (uzbrojony) odporny na zagniatanie, mocowanie kaniuli do dziecka za pomocą przylepców hydrokoloidowych. Połączenie kaniuli z mocowaniem za pomocą „Rzep Podkładki” umożliwiającej wielokrotne zdejmowanie i regulację położenia kaniuli. Konstrukcja kaniuli zapewnia dopływ dwóch niezależnych strumieni gazowych, w konsekwencji nie popadających w turbulencję przy ujściu. Maksymalny przepływ gazu: 20L/min lub 25L/min do wyboru zamawiającego. Kaniula donosowa dla dzieci do terapii tlenowej wysokim przepływem, przystosowana do współpracy z podgrzewanymi układami oddechowym waga pacjenta 12-22kg oraz niemowlęca waga pacjenta: 3 – 8 kg. Kaniule nosowe o średnicy 2,9 mm i 3,2 mm | C8: szt | D8: 50
A9: 4 | B9: Adapter do połączenia masek do terapii tlenowej HFNC kompatybilny z pozycją 1 i 2 i układami do aparatów F&P | C9: szt | D9: 50
A10: 5 | B10: Łyżki do urządzenia do intubacji Provu nowej generacji, łączące nowoczesną technologię wizualizacji z unikalnym systemem naprowadzania ETT rozmiar MAC 1-4 do wyboru przy zakupie. | C10: szt. | D10: 10
A11: 6 | B11: Łyżki do urządzenia do intubacji Provu nowej generacji, łączące nowoczesną technologię wizualizacji z unikalnym systemem naprowadzania ETT rozmiar Mill 00, 0, 1 do wyboru przy zakupie. | C11: szt. | D11: 10
B12: RAZEM
B15: Data | H15: Podpis osoby/osób upoważnionej
B16: ……………………………………………. | I16: ……………………………….

Sheet Zad 40
B1: ZOZ/DZP/PN/23/25
B2: Załącznik Nr: 9
A3: Zadanie nr: 40 - Akcesoria do histeroskopii i laparoskopii
A4: Lp. | B4: Nazwa produktu | C4: Jednostka miary | D4: Ilość | E4: Cena jednostkowa netto | F4: Wartość netto | G4: VAT | H4: Cena jednostkowa brutto | I4: Wartość brutto | J4: Producent/Model/Nr katalogowy
A5: 1 | B5: Uszczelka do laparoskopu 50x5 | C5: szt. | D5: 20
A6: 2 | B6: Uszczelka do laparoskopu 60x12 | C6: szt. | D6: 20
A7: 3 | B7: Uszczelka do laparoskopu 60x10 | C7: szt. | D7: 20
A8: 4 | B8: Uszczelka do laparoskopu 50x4 | C8: szt. | D8: 20
A9: 5 | B9: Uszczelka walcowata do płaszcza histeroskopu 0,8 mm | C9: szt. | D9: 20
A10: 6 | B10: Zatyczka gumowa do przyłącza luer-lock op=10szt | C10: op=10szt | D10: 4
A11: 7 | B11: Dren insuflacyjny, do pokryw słoja. | C11: szt. | D11: 14
A12: 8 | B12: Przyłącze typu Luer-Lock, męskie nasuwane na dren | C12: szt. | D12: 6
A13: 9 | B13: Filtr gazu do pomp ssąco-płuczących f-my Karl Storz, niesterylny. | C13: op.10szt. | D13: 6
A14: 10 | B14: Igła Verresa wielorazowa z przyłączem luer 15cm | C14: szt. | D14: 2
A15: 11 | B15: Kaniula zatokowa typu v.EICKEN-CASTELNUOVO, z LUER-Lock, giętka, kształt S, śr. zew. 2,5 mm, dł. 12,5 cm | C15: szt. | D15: 2
A16: 12 | B16: Kaniula zatokowa typu v.EICKEN, z LUER-Lock, długo zakrzywiona, śr. zew. 4 mm, dł. 15 cm | C16: szt. | D16: 2
... A57: 53 | B57: Pojemnik, kosz do sterylizacji optyk z poz 51, 52 | C57: szt. | D57: 3
B58: RAZEM
B61: Data | H61: Podpis osoby/osób upoważnionej
B62: ……………………………………………. | H62: ……………………………….

Sheet Zad.41
B1: ZOZ/DZP/PN/23/25
B2: Załącznik Nr: 9
A3: Zadanie nr: 41- Punkcje
A4: Lp. | B4: Nazwa produktu | C4: Jednostka miary | D4: Ilość | E4: Cena jednostkowa netto | F4: Wartość netto | G4: VAT | H4: Cena jednostkowa brutto | I4: Wartość brutto | J4: Producent/Nazwa handlowa/Numer katalogowy
A5: 1 | B5: Zestaw do punkcji opłucnej 3-igłowy typu Toraset | C5: szt. | D5: 120
A6: 2 | B6: Igła do punkcji z talerza biodrowego 1,8 x 45 mm 15G | C6: szt. | D6: 80
A7: 3 | B7: Igła do trepanobiopsji 8G x 100mm z elementem wycinającym | C7: szt. | D7: 10
A8: 4 | B8: Zestaw z igłą do trepanobiopsji 8G x 100mm. Igła do trepanobiopsji - wersja z zewnętrzną kaniulą ekstrakcyjną, wygodny, ergonomiczny uchwyt typu „młotek”,piramidalnie zakończony mandryn, zewnętrzny element wycinający w pełni diagnostyczny, nieuszkodzony bioptat, w uchwycie kaniuli gniazdo typu Luer-Lock, wypychacz bioptatu, zatyczka, prowadnica. | C8: szt. | D8: 10
B9: RAZEM
B11: Data | H11: Podpis osoby/osób upoważnionej
B12: ……………………………………………. | H12: ……………………………….

Sheet Zad.42
B1: ZOZ/DZP/PN/23/25
B2: Załącznik Nr: 9
A3: Zadanie nr: 42 – Koszule dla pacjentów
A4: Lp. | B4: Nazwa produktu | C4: Jednostka | D4: Ilość | E4: Cena jednostkowa netto | F4: Wartość netto | G4: VAT | H4: Cena jednostkowa brutto | I4: Wartość brutto | J4: Producent/Nazwa handlowa/Numer katalogowy
A5: 1 | B5: Koszula wykonana z tkaniny bawełniano-poliestrowej min 45% bawełny, białej, bądź z nadrukiem, o gramaturze 130-140g/m2. Kroje: koszula pacjenta rozcięta z tyłu po całości, wiązana na troki, z zakładką umożliwiającą osłoniecie pacjenta w miejscu rozcięciaq, rekaw krótki; Koszula pacjenta rozcietqa z tyłu po całości, wiązana na troki, z zakładką osłoniecie pacjenta w miejscu rozciecia, krótki rękaw z napami; koszula połozniza z rozcieciem z przodu, wiązanym na dwie pary troków, Rozmiary M/L, XL/XXL. Rozmiary i rodzaj koszuli do wyboru przy zakupie. | C5: szt. | D5: 250
B6: Razem
B8: Data | H8: Podpis osoby/osób upoważnionej
B9: ……………………………………………. | H9: ……………………………….

Sheet Zad.43
B2: ZOZ/DZP/PN/23/25
B3: Załącznik Nr: 9
A4: Zadanie nr: 43 – Pieluchy dla dorosłych
A5: L.p. | B5: Przedmiot zamówienia | C5: Jm | D5: Ilość opakowań | E5: Cena jednostkowa netto za opak. | F5: Wartość netto | G5: VAT | H5: Cena jednostkowa brutto za opak. | I5: Wartość brutto | J5: Producent/Nazwa handlowa/Numer katalogowy
A6: 1 | B6: Pieluchomajtki oddychające na całej powierzchni, nie zawierające lateksu, posiadające dwa elastyczne ściągacze taliowe, podwójny wkład chłonny z superabsorbentem, podwójne przylepcorzepy umożliwiające wielokrotne zapinanie i odpinanie, hydrofobowe falbanki boczne, "dzienne", rozmiar XL (obwód 130-170 cm), chłonność nie mniej niż 2600g | C6: op. a30 szt. | D6: 500
A7: 2 | B7: Pieluchomajtki oddychające na całej powierzchni, nie zawierające lateksu, posiadające dwa elastyczne ściągacze taliowe, podwójny wkład chłonny z superabsorbentem, podwójne przylepcorzepy umożliwiające wielokrotne zapinanie i odpinanie, hydrofobowe falbanki boczne, "dzienne", rozmiar L (obwód 100-150 lub 110-150 cm), chłonność nie mniej niż 2200g | C7: op. a30 szt. | D7: 3500
A8: 3 | B8: Pieluchomajtki oddychające na całej powierzchni, nie zawierające lateksu, posiadające dwa elastyczne ściągacze taliowe, podwójny wkład chłonny z superabsorbentem, podwójne przylepcorzepy umożliwiające wielokrotne zapinanie i odpinanie, hydrofobowe falbanki boczne, "dzienne" rozmiar M (obwód 75-110 cm), chłonność nie mniej niż 2000g | C8: op. a30 szt. | D8: 1000
A9: 4 | B9: Pieluchomajtki oddychające na całej powierzchni, nie zawierające lateksu, posiadające dwa elastyczne ściągacze taliowe, podwójny wkład chłonny z superabsorbentem, podwójne przylepcorzepy umożliwiające wielokrotne zapinanie i odpinanie, hydrofobowe falbanki boczne o zwiększonej chłonności "nocne" rozmiar L (obwód 100-150 lub 110-150 cm), chłonność nie mniej niż 2800g | C9: op. a30 szt. | D9: 600
A10: 5 | B10: Pieluchomajtki oddychające na całej powierzchni, nie zawierające lateksu, posiadające dwa elastyczne ściągacze taliowe, podwójny wkład chłonny z superabsorbentem, podwójne przylepcorzepy umożliwiające wielokrotne zapinanie i odpinanie, hydrofobowe falbanki boczne o zwiększonej chłonności "nocne" rozmiar M (obwód 75-110 cm), chłonność nie mniej niż 2600g | C10: op. a30 szt. | D10: 600
A11: 6 | B11: Majtki chłonne przeznaczone dla osób ze średnim i ciężkim nietrzymaniem moczu. Warstwy wierzchnia i spodnia wykonane z miękkich włóknin. Wkład chłonny z pulpy celulozowej z superabsorbentem. Warstwa rozprowadzająca (EDS). Ochronę przed wyciekami zapewniają osłonki boczne wzdłuż wkładu chłonnego oraz falbanki z przędzą elastyczną w obszarze pachwinowym. Indykator wilgotności – nadruk tuszem rozmywający się pod wpływem kontaktu z cieczą. Warstwa zewnętrzna paroprzepuszczalna na całej powierzchni. Tasiemka do zawijania zużytego wyrobu umieszczona w tylnej części. Chłonność min.1400g, obwód 80-110cm, | C11: op=10szt | D11: 50
A12: 7 | B12: Majtki chłonne przeznaczone dla osób ze średnim i ciężkim nietrzymaniem moczu. Warstwy wierzchnia i spodnia wykonane z miękkich włóknin. Wkład chłonny z pulpy celulozowej z superabsorbentem. Warstwa rozprowadzająca (EDS). Ochronę przed wyciekami zapewniają osłonki boczne wzdłuż wkładu chłonnego oraz falbanki z przędzą elastyczną w obszarze pachwinowym. Indykator wilgotności – nadruk tuszem rozmywający się pod wpływem kontaktu z cieczą. Warstwa zewnętrzna paroprzepuszczalna na całej powierzchni. Tasiemka do zawijania zużytego wyrobu umieszczona w tylnej części. Chłonność min.1600g, obwód 100-135cm, | C12: op=10szt | D12: 50
A13: 8 | B13: Pielucha anatomiczna w rozmiarze 28-35x50-64cm chłonności 1100-1200 gram lub mililitrów | C13: op. a30 szt. | D13: 4600
A14: 9 | B14: Podkład chłonny 90x60 cm | C14: op= 30szt. | D14: 2200
B15: RAZEM
B17: Data | H17: Podpis osoby/osób upoważnionej
B18: ……………………………………………. | H18: ……………………………….

Sheet Zad.44
B1: ZOZ/DZP/PN/23/25
B2: Załącznik Nr: 9
A3: Zadanie nr: 44 Elektrody do Tensa
A4: Lp. | B4: Nazwa produktu | C4: Jednostka miary | D4: Ilość | E4: Cena jednostkowa[zł] netto | F4: Wartość [zł] netto | G4: VAT | H4: Cena jednostkowa [zł] brutto | I4: Wartość [zł] brutto | J4: Producent/Model/Nr katalogowy
A5: 1 | B5: Elektrody wielorazowe do elektrostymulatora kompratybilne z urządzeniem Mamatens My Time TENS Care. | C5: Kpl 4 szt | D5: 90
B6: Razem
B8: Data | G8: Podpis osoby/osób upoważnionej
B9: ……………………………………………. | G9: ……………………………….

Sheet Zad.45
B1: ZOZ/DZP/PN/23/25
B2: Załącznik Nr: 9
A3: Zadanie nr: 45 - Pojemniki HDPE.
A4: Lp. | B4: Nazwa produktu | C4: Jednostka miary | D4: Ilość | E4: Cena jednostkowa netto | F4: Wartość netto | G4: VAT | H4: Cena jednostkowa brutto | I4: Wartość brutto | J4: Producent/Nazwa handlowa/Numer katalogowy
A5: 1 | B5: Pojemnik HDPE lub PP pojemność 120ml śr pojemnika 58x69mm | C5: szt | D5: 500
A6: 2 | B6: Pojemnik HDPE lub PP pojemność 200ml śr pojemnika 60x79mm | C6: szt | D6: 1200
A7: 3 | B7: Pojemnik HDPE lub PP pojemność 520ml śr pojemnika 94x117mm | C7: szt | D7: 750
A8: 4 | B8: Pojemnik HDPE lub PP pojemność 1200ml śr pojemnika 132x127mm | C8: szt | D8: 300
A9: 5 | B9: Pojemnik HDPE lub PP pojemność 2300ml średnica wlotu 88mm śr pojemnika 174x132mm | C9: szt | D9: 200
A10: 6 | B10: Pojemnik z polipropylenu do transportu i przechowywania materiałów tkankowych Pojemność 3400ml wymiar minimalny: 202x156mm | C10: szt. | D10: 150
A11: 7 | B11: Pojemnik z polipropylenu do transportu i przechowywania materiałów tkankowych. Pojemność 5600ml wymiar minimalny: 224x174mm | C11: szt. | D11: 120
A12: 8 | B12: Pojemnik z polipropylenu do transportu i przechowywania materiałów tkankowych. Pojemność 10600ml wymiar minimalny: 289x226mm | C12: szt. | D12: 50
B13: RAZEM
B19: Data | H19: Podpis osoby/osób upoważnionej
B20: ……………………………………………. | H20: ……………………………….

Sheet Zad.46
B1: ZOZ/DZP/PN/23/25
B2: Załącznik Nr: 9
A3: Zadanie nr: 46 – Igła z kulką
A4: Lp. | B4: Nazwa produktu | C4: Jednostka miary | D4: Ilość | E4: Cena jednostkowa netto | F4: Wartość netto | G4: VAT | H4: Cena jednostkowa brutto | I4: Wartość brutto | J4: Producent/Nazwa handlowa/Numer katalogowy
A5: 1 | B5: Jałowe, jednorazowe narzędzie chirurgiczne wykonane z austenitycznej stali nierdzewnej o wymiarach, 18G(1,2x81mm) z końcówką luer, | C5: op.=25szt | D5: 20
B6: RAZEM
B10: Data | I10: Podpis osoby/osób upoważnionej
B11: ……………………………………………. | I11: ……………………………….

Sheet Zad 47
B1: ZOZ/DZP/PN/23/25
B2: Załącznik Nr: 9
A3: Zadanie nr: 47 - Pojemniki na odpady
A4: Lp. | B4: Nazwa produktu | C4: Jednostka miary | D4: Ilość | E4: Cena jednostkowa netto | F4: Wartość netto | G4: VAT | H4: Cena jednostkowa brutto | I4: Wartość brutto | J4: Producent/Model/Nr katalogowy
A5: 1 | B5: Pojemnik na igły pojemność 0,7 litra | C5: szt. | D5: 600
A6: 2 | B6: Pojemnik na igły pojemność 2,0 litry, wysokość min. 220mm, | C6: szt. | D6: 8000
A7: 3 | B7: Pojemnik na igły pojemność 1,0-1,4 litra 120mm | C7: szt. | D7: 3000
A8: 4 | B8: Pojemnik na igły pojemność 5 litrów z rączką | C8: szt. | D8: 1300
A9: 5 | B9: Pojemnik na odpady medyczne pojemność 10 litrów z rączką | C9: szt. | D9: 100
A10: 6 | B10: Pojemnik na odpady medyczne pojemność 20-25 litrów z rączką | C10: szt. | D10: 50
B11: RAZEM
B15: Data | H15: Podpis osoby/osób upoważnionej
B16: ……………………………………………. | H16: ……………………………….

Sheet Zad 48
B1: ZOZ/DZP/PN/23/25
B2: Załącznik Nr: 9
A4: Zadanie nr: 48 - Kaniule teflonowe i przyrządy
A5: Lp. | B5: Nazwa produktu | C5: Jednostka miary | D5: Ilość | E5: Cena jednostkowa netto | F5: Wartość netto | G5: VAT | H5: Cena jednostkowa brutto | I5: Wartość brutto | J5: Producent/Model/Nr katalogowy
A6: 1 | B6: Kaniula dożylna 0,7 24G dł. 19mm przepływ 23ml/min. Ze skrzydełkami. Wykonana z teflonu. | C6: szt. | D6: 2500
A7: 2 | B7: Kaniula dożylna 22 G (0,8-0,9) dł. 25 mm z portem, z teflonu, ze skrzydełkami. Do wkłuć dożylnych. | C7: szt. | D7: 1000
A8: 3 | B8: Kaniula dożylna 20 G (0,8-1,1) dł. 32 mm z portem, z teflonu, ze skrzydełkami. Do wkłuć dożylnych. | C8: szt. | D8: 200
A9: 4 | B9: Kaniula dożylna 18 G (0,9-1,3) dł. 32 mm z portem, z teflonu, ze skrzydełkami. Do wkłuć dożylnych. | C9: szt. | D9: 200
A10: 5 | B10: Przyrząd do pomiaru ośrodkowego ciśnienia żylnego | C10: szt. | D10: 100
A11: 6 | B11: Przyrząd do szybkiego przetaczana krwi | C11: szt. | D11: 400
A12: 7 | B12: Przyrząd do transfuzji komora kropl. o poj. 18 ml wolna od PCV,dren wolny od ftalanów z filtrem o śr. oczek 200 m/mikr.Długość przyrządu 150 cm | C12: szt. | D12: 3500
A13: 8 | B13: Przedłużacz do pomp inf. 150 cm | C13: szt. | D13: 11000
A14: 9 | B14: Przedłużacz do pomp inf. 120 cm | C14: szt. | D14: 1000
A15: 10 | B15: Przedłużacz do pomp inf. 150 cm, bursztynowy, | C15: szt. | D15: 2300
A16: 11 | B16: Łącznik kolec – luerlock | C16: szt. | D16: 100
A17: 12 | B17: Kaniula bezpieczna dożylna w systemie zamkniętym z fabrycznie zintegrowanym drenem zakończonym podwójnym rozgałęzieniem (jedno zakończone przeźroczystym neutralnym zaworem dostępu naczyniowego z przeźroczystą silikonową membraną zakończoną równo z konektorem, drugie zakończone koncówką luer-lock z korkiem z filterm hydrofobowym i nasadką luer) osłonka igły chroniąca przed zakłuciem, cewnik wykonany z PUR, min. 3 pasków radiocieniujących, okienko kontrolne na ostrzu igły umożliwiające pojawienie się krwi pomiędzy igłą a cewnikiem - potwierdzający wejście do naczynia podczas kaniulacji, sylikonowe zdejmowalne skrzydełka,rozmiary: 24G, 22G, 20G, 18G - wg potrzeb Zamawiającego, opakowanie sztywne zapobiegające utracie jałowości. System bezftalanowy. Rozmiar: 24G (0,7x19mm przepływ 18ml/min), Kaniule w każdej pozycji jednego producenta | C17: szt. | D17: 200
... A22: 17 | B22: Aparat do szybkiego przygotowania kroplówki i bezpiecznej infuzji z portem bezigłowym– przeźroczysty mocny kolec o powierzchni satynowanej uniemożliwiającej wysuwanie się z butelki (zgodny z normą ISO) ze zintegrowanym filtrem powietrza o skuteczności VFE i BFE min. 99,99%, przeciwbakteryjnym, samozamykającym się korkiem, dolna część komory kroplowej elastyczna w celu łatwego ustawienia płynu, precyzyjny zacisk rolkowy z miejscem na kolec komory kroplowej oraz miejscem do podwieszenia drenu, filtr hydrofobowy 15 µm na końcu drenu zabezpieczajacy przed wyciekiem płynu z drenu podczas jego wypełnania, filtr hydrofilny w komorze kroplowej zabezpieczający przed dostaniem się powietrza do drenu. Dren o długości min. 180 cm z dodatkowym portem bezigłowym do podawania leków. Opaska stabilizujaca zabezpiecza aparat przed przypadkowym zainfekowaniem. Aparat nie zawiera lateksu i ftalanów i jest niepirogenny. Opakowanie papier-folia. | C22: szt. | D22: 3000
B23: RAZEM
B26: Data | F26: Podpis osoby/osób upoważnionej
B27: ……………………………………………. | F27: ……………………………….

Sheet Zad.49
B1: ZOZ/DZP/PN/23/25
B2: Załącznik Nr: 9
A3: Zadanie nr: 49 - Żarówki
A4: Lp. | B4: Nazwa produktu | C4: Jednostka miary | D4: Ilość | E4: Cena jednostkowa netto | F4: Wartość netto | G4: VAT | H4: Cena jednostkowa brutto | I4: Wartość brutto | J4: Producent/Nazwa handlowa/Numer katalogowy
A5: 1 | B5: Żarówki typ EFR, trzonek GZ6,35, W150, V15, średnica 50, odbłyśnik tak | C5: szt. | D5: 10
A6: 2 | B6: zarówki do l. oper., trzonek G6,35, W150, V24, odbłyśnik nie | C6: szt. | D6: 10
A7: 3 | B7: Żarówki do l. oper., trzonek G6,35, W120, V24, odbłyśnik nie | C7: szt. | D7: 10
A8: 4 | B8: oprawka ceramiczna do lamp Martin ML 501/701 do żarówek z pozycji :2,3 | C8: szt. | D8: 20
B9: RAZEM
B11: Data | H11: Podpis osoby/osób upoważnionej
B12: ……………………………………………. | H12: ……………………………….

Sheet Zad 50
B1: ZOZ/DZP/PN/23/25
B2: Załącznik Nr: 9
B3: Zadanie nr: 50 - Akcesoria do respiratora Bennet
A4: Lp. | B4: Nazwa produktu | C4: Jednostka miary | D4: Ilość | E4: Cena jednostkowa[zł] netto | F4: Wartość [zł] netto | G4: VAT | H4: Cena jednostkowa [zł] brutto | I4: Wartość [zł] brutto | J4: Producent/Model/Nr katalogowy
A5: 1 | B5: Wydechowy filtr jednorazowego użytku zintegrowany z pojemnikiem na skropliny, jednopacjentowy, kompatybilny z respiratorem Puritan Bennet 980 | C5: op=12szt. | D5: 30
A6: 2 | B6: Wdechowy filtr jednorazowego użytku kompatybilny z respiratorem Puritan Bennet 980 | C6: op=12szt. | D6: 40
A7: 3 | B7: Filtr p/bakteryjny wdechowy kompatybilny z respiratorem Bennet 980 | C7: 1szt. | D7: 120
A8: 4 | B8: Filtr p/bakteryjny wydechowy kompatybilny z respiratorem Bennet | C8: 1szt. | D8: 4
A9: 5 | B9: Wdechowy filtr bakteryjny do Puritan Bennett™980 , wielorazowego użytku (Re/Flex™ 22 mm) | C9: szt. | D9: 8
A10: 6 | B10: Filtr wydechowy do Puritan Bennett™980 dla dzieci i dorosłych, wielorazowego użytku | C10: szt. | D10: 5
A11: 7 | B11: Zbiornik na skropliny do Puritan Bennett™980 | C11: szt. | D11: 5
A12: 8 | B12: Jednorazowe czujniki CO2 do respiratora Bennett 980 | C12: szt. | D12: 10
A13: 9 | B13: Zatyczka zbiornika na skropliny do respiratora Puritan Bennet 980 | C13: szt. | D13: 5
A14: 10 | B14: Uszczelka do pojemnika na skropliny do filtra wydechowego wielorazowego wydechowego do respiratora Puritan Bennet 980 | C14: szt. | D14: 5
B15: Razem
B18: Data | G18: Podpis osoby/osób upoważnionej
B19: ……………………………………………. | G19: ……………………………….

Sheet Zad.51
B1: ZOZ/DZP/PN/23/25
B2: Załącznik Nr: 9
A3: Zadanie 51- System zbiórki kału.
A4: Lp. | B4: Nazwa produktu | C4: Jednostka miary | D4: Ilość | E4: Cena jednostkowa netto | F4: Wartość netto | G4: VAT | H4: Cena jednostkowa brutto | I4: Wartość brutto | J4: Producent/Nazwa handlowa/Numer katalogowy
A5: 1 | B5: Jednorazowy system do kontrolowanej zbiórki luźnego stolca wyposażony w: silikonowy rękaw o długości 167 cm z wbudowaną w strukturę silikonu na całej długości substancją neutralizującą nieprzyjemne zapachy; balonik retencyjny z niebieską kieszonką dla umieszczenia palca wiodącego; port do napełniania balonika retencyjnego z sygnalizatorem, który wypełnia się, gdy balonik osiągnie wielkość optymalną dla pacjenta oraz port do irygacji umożliwiający także doodbytnicze podanie leków, z klamrą zamykającą światło drenu w celu utrzymania leku w miejscu podania. System zawiera port do pobierania próbek stolca, pasek koralikowy do podwieszania kompatybilny z ramami łóżek szpitalnych i z miejscem na opis. System przebadany klinicznie (ocena bezpieczeństwa stosowania systemu do 29 dni), czas utrzymania systemu do 29 dni, biologicznie czysty. W zestawie 3 worki do zbiórki stolca, o pojemności 1000 ml, z zastawką zabezpieczającą przed wylaniem zawartości skalowane co 25 ml oraz z filtrem węglowym. W sklad zestawu wchodzi 1 system i 3 worki po 1000ml. | C5: 1 zestaw | D5: 25
A6: 2 | B6: Kompatybilne z zestawem worki do zbiórki stolca o pojemności 1000ml nieprzezroczyste, z okienkiem podglądu, skalowane co 25ml, w tym numerycznie co 100ml, z filtrem węglowym, zastawką zabezpieczającą przed wylaniem zawartości, biologicznie czyste. | C6: Op=10 sztuk | D6: 20
B7: Razem
B10: Data | G10: Podpis osoby/osób upoważnionej
B11: ……………………………………………. | G11: ……………………………….

Sheet Zad.52
B1: ZOZ/DZP/PN/23/25
B2: Załącznik Nr: 9
A3: Zadanie nr: 52 – Narzędzia i kontenery
A4: Lp. | B4: Nazwa produktu | C4: Jednostka miary | D4: Ilość | E4: Cena jednostkowa netto | F4: Wartość netto | G4: VAT | H4: Cena jednostkowa brutto | I4: Wartość brutto | J4: Producent/Nazwa handlowa/Numer katalogowy
A5: 1 | B5: Kontener do sterylizacji pracujący w systemie otwartym (bezfiltrowy) o wymiarach290x290x220mm+/-5mm,kontener posiadający system automatycznego plombowania(niewymagający stosowania plomb jednorazowego uzytku). Pojemnik składający się z wanny i pokrywy. Wanna kontenera wykonana w technologii bezszwowej z jednego kawałka aluminium, z anodyzowana powierzchnią, posiadająca po obu stronach wskażniik sterylizacji, uchwyty do przenoszenia oraz po dwa miejsca na tabliczki opisowe. Pokrywa wykonana z anodyzowanego, litego aluminium z jednym zintegrowanym labiryntowym dyskiem bariery mikrobiologicznej, wyposażona w zewnetrzny wskażnik bariery mikrobiologicznej. Pokrywy kolorowe do wyboru przez Zamawaiającego z min. 5 kolorów/. Bariera mikrobiologiczna z nieograniczoną liczba sterylizacji.Montaż/demontaż bariery bez użycia narzędzi przypomocy jednej ręki. Na pokrywie, wannie i filtrze numer seryjny, nazwa producenta, znak CE i numer katalogowy. Kontener wyposażony w : kosz wykonany ze stali nierdzewnej wyposażony w uchwyty do wyjmowania z wanny rozmiar 240x251x94mm +/- 5mm, mata silikonowa typu „jeżyk” 234x244 +/-5mm | C5: kpl | D5: 1
A6: 2 | B6: Kontener do sterylizacji pracujący w systemie otwartym (bezfiltrowy) o wymiarach290x290x135mm+/-5mm,kontener posiadający system automatycznego plombowania(niewymagający stosowania plomb jednorazowego uzytku). Pojemnik składający się z wanny i pokrywy. Wanna kontenera wykonana w technologii bezszwowej z jednego kawałka aluminium, z anodyzowana powierzchnią, posiadająca po obu stronach wskażniik sterylizacji, uchwyty do przenoszenia oraz po dwa miejsca na tabliczki opisowe. Pokrywa wykonana z anodyzowanego, litego aluminium z jednym zintegrowanym labiryntowym dyskiem bariery mikrobiologicznej, wyposażona w zewnetrzny wskażnik bariery mikrobiologicznej. Pokrywy kolorowe do wyboru przez Zamawaiającego z min. 5 kolorów/. Bariera mikrobiologiczna z nieograniczoną liczba sterylizacji.Montaż/demontaż bariery bez użycia narzędzi przypomocy jednej ręki. Na pokrywie, wannie i filtrze numer seryjny, nazwa producenta, znak CE i numer katalogowy. Kontener wyposażony w : kosz wykonany ze stali nierdzewnej wyposażony w uchwyty do wyjmowania z wanny rozmiar 240x251x44mm +/- 5mm, mata silikonowa typu „jeżyk” 234x244 +/-5mm | C6: kpl | D6: 1
A7: 3 | B7: Kontener do sterylizacji pracujący w systemie otwartym (bezfiltrowy) o wymiarach 590x290x270mm+/-5mm,kontener posiadający system automatycznego plombowania(niewymagający stosowania plomb jednorazowego uzytku). Pojemnik składający się z wanny i pokrywy. Wanna kontenera wykonana w technologii bezszwowej z jednego kawałka aluminium, z anodyzowana powierzchnią, posiadająca po obu stronach wskażniik sterylizacji, uchwyty do przenoszenia oraz po dwa miejsca na tabliczki opisowe. Pokrywa wykonana z anodyzowanego, litego aluminium z dwoma zintegrowanym labiryntowym dyskiem bariery mikrobiologicznej, wyposażona w zewnetrzny wskażnik bariery mikrobiologicznej. Pokrywy kolorowe do wyboru przez Zamawaiającego z min. 5 kolorów/. Bariera mikrobiologiczna z nieograniczoną liczba sterylizacji.Montaż/demontaż bariery bez użycia narzędzi przypomocy jednej ręki. Na pokrywie, wannie i filtrze numer seryjny, nazwa producenta, znak CE i numer katalogowy. | C7: kpl | D7: 1
A8: 4 | B8: Kontener do sterylizacji pracujący w systemie otwartym (bezfiltrowy) o wymiarach 460x290x150mm+/-5mm,kontener posiadający system automatycznego plombowania(niewymagający stosowania plomb jednorazowego uzytku). Pojemnik składający się z wanny i pokrywy. Wanna kontenera wykonana w technologii bezszwowej z jednego kawałka aluminium, z anodyzowana powierzchnią, posiadająca po obu stronach wskażniik sterylizacji, uchwyty do przenoszenia oraz po dwa miejsca na tabliczki opisowe. Pokrywa wykonana z anodyzowanego, litego aluminium z jednym zintegrowanym labiryntowym dyskiem bariery mikrobiologicznej, wyposażona w zewnetrzny wskażnik bariery mikrobiologicznej. Pokrywy kolorowe do wyboru przez Zamawaiającego z min. 5 kolorów/. Bariera mikrobiologiczna z nieograniczoną liczba sterylizacji.Montaż/demontaż bariery bez użycia narzędzi przypomocy jednej ręki. Na pokrywie, wannie i filtrze numer seryjny, nazwa producenta, znak CE i numer katalogowy :Kontener wyposażony w : kosz wykonany ze stali nierdzewnej wyposażony w uchwyty do wyjmowania z wanny rozmiar 410x251x64mm +/- 5mm, mata silikonowa typu „jeżyk” 394x244 +/-5mm | C8: kpl | D8: 1
A9: 5 | B9: Kontener do sterylizacji pracujący w systemie otwartym (bezfiltrowy) o wymiarach 590x290x170mm+/-5mm,kontener posiadający system automatycznego plombowania(niewymagający stosowania plomb jednorazowego uzytku). Pojemnik składający się z wanny i pokrywy. Wanna kontenera wykonana w technologii bezszwowej z jednego kawałka aluminium, z anodyzowana powierzchnią, posiadająca po obu stronach wskażniik sterylizacji, uchwyty do przenoszenia oraz po dwa miejsca na tabliczki opisowe. Pokrywa wykonana z anodyzowanego, litego aluminium z dwoma zintegrowanym labiryntowym dyskiem bariery mikrobiologicznej, wyposażona w zewnetrzny wskażnik bariery mikrobiologicznej. Pokrywy kolorowe do wyboru przez Zamawaiającego z min. 5 kolorów/. Bariera mikrobiologiczna z nieograniczoną liczba sterylizacji.Montaż/demontaż bariery bez użycia narzędzi przypomocy jednej ręki. Na pokrywie, wannie i filtrze numer seryjny, nazwa producenta, znak CE i numer katalogowy. . Kontener wyposażony w : Kontener wyposażony w : kosz wykonany ze stali nierdzewnej wyposażony w uchwyty do wyjmowania z wanny rozmiar 532x251x94mm +/- 5mm, mata silikonowa typu „jeżyk” 524x244 +/-5m | C9: kpl | D9: 1
A10: 6 | B10: Kleszcze naczyniowe Pean, standard, odgiete dł. 16,5cm cm | C10: szt. | D10: 5
A11: 7 | B11: Kleszcze naczyniowe Pean,standard, proste, dł. 14,5 cm | C11: szt. | D11: 5
A12: 8 | B12: Kleszcze naczyniowe Kocher (Ochsner), 1x2 z., proste, dł. 24 cm | C12: szt. | D12: 1
A13: 9 | B13: Kleszcze naczyniowe Kocher (Ochsner), 1x2 z., proste, dł. 22,5 cm | C13: szt. | D13: 5
A14: 10 | B14: Kleszcze naczyniowe Kocher (Ochsner), 1x2 z., proste, dł. 20,5 cm | C14: szt. | D14: 5
A15: 11 | B15: Nożyczki preparacyjne Kilner ze szlifem super cut, dł. 12cm | C15: szt. | D15: 3
A16: 12 | B16: Pinceta anatomiczna standard prosta dł. 18 cm | C16: szt. | D16: 10
... A57: 53 | B57: Ssak Luer fi 3,5mm dł. części roboczej 110mm, dł. 16,5cm | C57: szt. | D57: 2
B58: RAZEM
B61: Data | H61: Podpis osoby/osób upoważnionej
B62: ……………………………………………. | H62: ……………………………….
B67: Wymogi dla poz. 9-47: - parametry oferowanych narzędzi potwierdzić oryginalnym katalogiem; - certyfikaty i parametry przedstawione w formie oryginału lub kopii; - narzędzia fabrycznie nowe, nieregenerowane, nieużywane, - narzędzia pakowane pojedynczo, każde w osobnym opakowaniu, - narzędzia ocechowane numerem katalogowym, nazwą producenta, - dostawca zapewni serwis na terenie Unii Europejskiej, gwarancyjny i pogwarancyjny w formie kompleksowej naprawy instrumentów wraz z wymianą twardych wkładek oraz niezbędnych części i pełną obróbkę powierzchni. Serwis dostawcy certyfikowany normami :ISO EN 13485 - narzędzia muszą być wykonane ze stali zgodnie z DIN 58298, ISO 13402, ISO 7741, ISO 7151, DIN 58295 spełniać standard dla stali ISO 7153-1 oraz dla poszczególnych grup wyrobów, posiadać stal wg norm DIN (wraz z potwierdzeniem parametrów stali certyfikatem producenta): nożyczki- X38CrMoV15 - twardość stali w zakresie 50-58 HRC dla wszystkich rodzi nożyczek kleszczyki, podważki, klemy - X20Cr13- twardość stali w zakresie 42-50 HRC; imadła - X20Cr13 - twardość stali w zakresie 42-50 HRC; Imadła z twardą wkładką - X20Cr13 lub X30Cr13- twardość stali w zakresie 42-50HRC; retraktory- X20Cr13 lub X5CrNi18-10- twardość stali w zakresie 185 HV 10;
B74: Data | H74: Podpis osoby/osób upoważnionej
B75: ……………………………………………. | H75: ……………………………….

Sheet Zad.53
B1: ZOZ/DZP/PN/23/25
B2: Załącznik Nr: 9
B3: Zadanie nr: 53 - Kaseta do podgrzewania płynów infuzyjnych
A4: Lp. | B4: Nazwa produktu | C4: Jednostka miary | D4: Ilość | E4: Cena jednostkowa netto | F4: Wartość netto | G4: VAT | H4: Cena jednostkowa brutto | I4: Wartość brutto | J4: Producent/Nazwa handlowa/Numer katalogowy
A5: 1 | B5: Kaseta do podgrzewania płynów infuzyjnych standardowa do 400ml/min do urządzenia Fluido Sa200 | C5: szt. | D5: 20
B6: RAZEM
B11: Data | H11: Podpis osoby/osób upoważnionej
B12: ……………………………………………. | H12: ……………………………….

Sheet Zad.54
B2: ZOZ/DZP/PN/23/25
B3: Załącznik Nr: 9
A5: Zadanie nr: 54– Okularki do fototerapii
A6: Lp. | B6: Nazwa produktu | C6: Jednostka miary | D6: Ilość | E6: Cena jednostkowa netto | F6: Wartość netto | G6: VAT | H6: Cena jednostkowa brutto | I6: Wartość brutto | J6: Producent/Nazwa handlowa/Numer katalogowy
A7: 1 | B7: Ergonomiczne okularki do fototerapii wykonane są z bardzo miękkiej, łatwo dopasowującej się i przezroczystej folii poliuretanowej pokrytej z jednej strony miękką, silikonową powierzchnią. Okularki są przeznaczone do stosowania u pacjentów z wrażliwą i delikatną skórą, takich jak noworodki; zapewniają skuteczne umiejscowienie oraz całkowicie bezbolesne ich zdjęcie. Delikatna przyczepność żelowej warstwy silikonowej zapewnia właściwą ochronę oczu podczas całego procesu fototerapii; można używać wielokrotnie dla jednego pacjenta. Nie zawierają lateksu; Nie zawierają kleju Rozmiary do wyboru przy zakupie DROBNY <900g 90 x 38,5 MAŁY <1000g 110 x 47 ŚREDNI >1000g 130 x 60 | C7: op= 50szt. | D7: 8
B8: RAZEM
B11: Data | H11: Podpis osoby/osób upoważnionej
B12: ……………………………………………. | I12: ……………………………….

Sheet Zad.55
B1: ZOZ/DZP/PN/23/25
B2: Załącznik Nr: 9
A3: Zadanie nr: 55- Taśmy retrakcyjne.
A4: Lp. | B4: Nazwa produktu | C4: Jednostka miary | D4: Ilość | E4: Cena jednostkowa[zł] netto | F4: Wartość [zł] netto | G4: VAT | H4: Cena jednostkowa [zł] brutto | I4: Wartość [zł] brutto | J4: Producent/Nazwa handlowa/Numer katalogowy
A5: 1 | B5: Taśmy retrakcyjne wykonane z nieprzepuszczalnej dla promieni rentgenowskich bawełny do wewnątrzoperacyjnej izolacji, znakowania, mechanicznego podtrzymywania i podwiązywania organów, naczyń krwionośnych, ścięgien i nerwów. 8 mm x 75cm, biały lub, niebieski do wyboru przy zakupie. | C5: Op=24 szt. | D5: 30
B6: RAZEM
B8: Data | G8: Podpis osoby/osób upoważnionej
B9: ……………………………………………. | G9: ……………………………….

Sheet Zad.56
B1: ZOZ/DZP/PN/23/25
B2: Załącznik Nr: 9
A3: Zadanie nr: 56 - Intubacja.
A4: Lp. | B4: Nazwa produktu | C4: Jednostka miary | D4: Ilość | E4: Cena jednostkowa netto | F4: Wartość netto | G4: VAT | H4: Cena jednostkowa brutto | I4: Wartość brutto | J4: Producent/Model/Nr katalogowy
A5: 1 | B5: Rurka intubacyjna z niskociśnieniowym mankietem uszczelniającym o dużej objętości, wykonana z termoczułego materiału z oczkiem Murphy'ego i nitką RTG wzdłuż całej rurki, z wyraźnym i dokładnym oznaczeniem rozmiaru w min. 2 miejscach na rurce, czytelna skala głębokości co 2 cm, wyraźny podwójny oring do okola rurki; rozmiar 3,0-10,0. Sterylna. Długość rurki uzależniona od rozmiaru i zawierająca się w przedziale 160 mm do 320 mm. Półtransparentny zdejmowany łącznik 15 mm. | C5: szt. | D5: 1000
A6: 2 | B6: Rurka nosowo-gardłowa służąca do odsysania oraz do zabezpieczenia drożności dróg oddechowych, wnętrze rurki, dostosowane specjalnie do łatwego wprowadzania cewników do odsysania rozmiary do wyboru przy zakupie 6,5- 8,5 co 0,5 | C6: szt. | D6: 20
A7: 3 | B7: Rurka tracheostomijna z przedłużoną częścią dystalną, posiadająca kaniulę wewnętrzną, miękki obrotowy kołnierz rurki, mankiet typu "duża objętość-niskie ciśnienie", dwuelementowy regulowany ogranicznik do stabilizacji kaniuli, atraumatycznie wykończone wszystkie elementy, rozmiary do wyboru przy zakupie 5,0-8,0 co 1,0 | C7: szt. | D7: 10
A8: 4 | B8: Rurka tracheostomijna z przedłużoną częścią proksymalną, posiadająca kaniulę wewnętrzną, miękki obrotowy kołnierz rurki, mankiet typu "duża objętość-niskie ciśnienie", dwuelementowy regulowany ogranicznik do stabilizacji kaniuli, atraumatycznie wykończone wszystkie elementy,rozmiary do wyboru przy zakupie 5,0-8,0 co 1,0 | C8: szt. | D8: 5
A9: 5 | B9: Rurka dooskrzelowa typu Robert Show z mankietem tchawiczym z poliuretanu i makietem dooskrzelowym z PCV, znaczniki RTG na zakończeniu dystalnym rurki, ponad mankietem dooskrzelowym oraz przy wejściu do tchawicy W zestawie min. dwa cewniki do odsysania oraz złączka Y wraz z zestawem złączy. Baloniki kontrolne oraz dreny łączące z rurką oraz zestaw złączy zgodne z kolorem danego mankietu. Położenie mankietu zapisane na baloniku kontrolnym. Prawa, rozmiar 35-41 i lewa 28-41 do wyboru przy zakupie. | C9: szt. | D9: 5
A10: 6 | B10: Rurka intubacyjna dwudrożna tchawiczo-przełykowa typu Combitube do szybkiej intubacji, zapewniająca drożność dróg oddechowych po założeniu zarówno do tchawicy jak i przełyku w sytuacjach nagłych, podwójne światło, dwa mankiety uszczelniające: krtaniowy i przełykowy, linia kontrastująca w RTG, dodatkowe oznaczenie głębokości w postaci dwóch pełnych ringów nad mankietem krtaniowym, dodatkowo w zestawie min. strzykawki: 20ml i 140ml oraz cewnik do odsysania - sterylna. rozmiaty do wyboru przy zakupie 37Fr i 41 Fr. | C10: szt. | D10: 2
A11: 7 | B11: Filtr oddechowy antybakteryjny/antywirusowy dla dorosłych z celulozowym, wyraźnie oddzielonym wymiennikiem ciepła i wilgoci - mechaniczny (bez warstwy elektrostatycznej), membrana filtrująca hydrofobowa, harmonijkowa, mała waga własna i przestrzeń martwa, port kapno, skuteczność filtracji dla bakterii i wirusów z powietrza min. 99,99% - sterylny - czas użytkowania do 24 godz. | C11: szt. | D11: 3000
A12: 8 | B12: Filtr antybakteryjny, antywirusowy, dla dorosłych, z elektrostatyczną warstwą filtrującą, z portem kapno, sterylny, o skuteczności filtracji dla bakterii i wirusów 99,999% o przestrzeni martwej 36ml, waga max. 19g, Skuteczność filtracyjna względem NaCl ≥ 97,100 % | C12: szt. | D12: 1000
A13: 9 | B13: Rurka tracheostomijna z niskoobjętościowym, niskociśnieniowym mankietem w kształcie stożka, stopniowo zwężającym się ku dołowi, wykonane z miękkiego materiału na bazie plastyfikatora wolnego od DEHP (bez ftalanów) z wyraźnie miękkim, nieprzylegającym na całej powierzchni dla mniejszej traumatyzacji stomii przezroczystym ruchomym szyldem (w płaszczyźnie góra-dół), (obrót szyldu umożliwia dopasowanie do warunków anatomicznych pacjenta) jednorazową kaniulą wewnętrzną mocowaną na rurce za pomocą specjalnego zatrzasku. W komplecie obturator oraz taśma do mocowania. Rurki posiadają bezpieczny zawór balonika pilotowego. Rozmiary do wyboru przy zakupie: 6,5 (śr. wewn. 6,5 mm, śr. zewn., 9,4 mm, dł. 30 mm); 7.0 (śr. wewn 7,0 mm, śr zewn. 10,1 mm); 7,5 (śr. wewn. 7,5 mm, śr. zewn. 10,8 mm); 8,0 (śr. wewn. 8.0 mm, śr. zewn. 11,4 mm); 8,5 (śr wewn. 8,5 mm, śr. zewn. 12,2 mm) 9,0 (śr. wewn. 9,0, śr. zewn. 12,7 mm), 10,0 (śr. wew. 10,0 mm, śr. zewn. 13,8 mm). Rurka do przedłużonego zastosowania. Rozmiar rurki, średnice wewn. i zewn. oraz rozmiar serii oznaczone na szyldzie rurki wraz z kodowaniem kolorystycznym uzależnionym od rozmiaru rurki. Sterylne. | C13: szt. | D13: 50
B14: RAZEM
B17: Data | H17: Podpis osoby/osób upoważnionej
B18: ……………………………………………. | H18: ……………………………….

Sheet Zad 57
B1: ZOZ/DZP/PN/23/25
B2: Załącznik Nr: 9
A3: Zadanie nr: 57 Układ oddechowy do Trilogy
A4: Lp. | B4: Nazwa produktu | C4: Jednostka miary | D4: Ilość | E4: Cena jednostkowa netto | F4: Wartość netto | G4: VAT | H4: Cena jednostkowa brutto | I4: Wartość brutto | J4: Producent/Model/Nr katalogowy
A5: 1 | B5: Jednopacjentowe, jednorazowe, pasywne układy oddechowe z portem wydechowym, 2 filtrami, linią proksymalną ciśnienia i uchwytem, kompatybilny z urządzeniem Trilogy. | C5: Op = 10 szt. | D5: 6
B6: RAZEM
B9: Data | H9: Podpis osoby/osób upoważnionej
B10: ……………………………………………. | H10: ……………………………….

Sheet Zad.58
B1: ZOZ/DZP/PN/23/25
B2: Załącznik Nr: 9
A3: Zadanie nr: 58 - Zestaw do drenażu aktywnego
A4: Lp. | B4: Nazwa produktu | C4: Jednostka miary | D4: Ilość | E4: Cena jednostkowa[zł] netto | F4: Wartość [zł] netto | G4: VAT | H4: Cena jednostkowa [zł] brutto | I4: Wartość [zł] brutto | J4: Producent/Nazwa handlowa/Numer katalogowy
A5: 1 | B5: Zestaw do drenażu opłucnej (aktywnego z opcją grawitacyjną z zastawką wodną , komora kolekcyjna o pojemności 2100ml z wersją lub dwoma drenami 1000ml+1100ml) do wyboru przy zakupie, wyskalowana co 5ml do objetości 200ml I co 10ml do 2000ml, komora wodnej regulacji siły ssania, zastawka bezpieczeństwa do uwolnienia wysokiego ciśnienia, automatyczny zawór uwalniający ciśnienie dodatnie, wypełnienie zastawki pozwala na monitoring ciśnienia, diagnozowanie przecieku, oraz zapobiega przed powrotem drenowanej treści pacjenta, samouszczelniający bezigłowy port do pobierania próbek,dren łączący, wysokość do 25cm, uchwyt do noszenia i powiedzenia, sterylny, podwójnie pakowany. | C5: szt | D5: 20
B6: Razem
B9: Data | G9: Podpis osoby/osób upoważnionej
B10: ……………………………………………. | G10: ……………………………….

Sheet Zad.59
B1: ZOZ/DZP/PN/23/25
B2: Załącznik Nr: 9
A3: Zadanie nr: 59 - Strzykawki do gazometrii.
A4: Lp. | B4: Nazwa produktu | C4: Jednostka miary | D4: Ilość | E4: Cena jednostkowa[zł] netto | F4: Wartość [zł] netto | G4: VAT | H4: Cena jednostkowa [zł] brutto | I4: Wartość [zł] brutto | J4: Producent/Nazwa handlowa/Numer katalogowy
A5: 1 | B5: Strzykawka sterylna, do pobierania krwi tętniczej, żylnej i innych mateiałów, metodą aspiracji w ilości do 1,7ml, heparynizowana suchą, wysokoskoncentrowaną heparyną litową, elektrolitowo zbilansowaną jonami wapnia, sodu, oraz potasu, z systemem bezkontaktowego usuwania pęcherzyk powietrza ze strzykawki i bezkontaktowego podawania materiału do analizatora , z wewnętrznym urządzeniem wspomagającym mieszanie próbki, zakończenie luer, | C5: szt. | D5: 10300
A6: 2 | B6: Strzykawka do gazometrii napylona heparyną zbalansowana (zredukowaną) wapniem 2ml | C6: szt. | D6: 6500
B7: Razem
B10: Data | G10: Podpis osoby/osób upoważnionej
B11: ……………………………………………. | G11: ……………………………….

Sheet Zad.60
B1: ZOZ/DZP/PN/23/25
B2: Załącznik Nr: 9
A3: Zadanie nr: 60 – Pozycjoner pod głowę
A4: Lp. | B4: Nazwa produktu | C4: Jednostka miary | D4: Ilość | E4: Cena jednostkowa netto | F4: Wartość netto | G4: VAT | H4: Cena jednostkowa brutto | I4: Wartość brutto | J4: Producent/Nazwa handlowa/Numer katalogowy
A5: 1 | B5: Pozycjonery przeciwodleżynowe pod głowę o wymiarach 200x50 mm. Wykonane z pianki wiskoelastycznej i medycznego żelu silikonowego, pokryte poliuretanem, rozkładające ciężar ciała i obniżające nacisk powierzchniowy do bezpiecznego poziomu, chroniące przed ryzykiem podrażnienia nerwów, wielokrotnego użytku, o właściwościach nie powodujących podrażnień dla skóry - potwierdzone badaniami wg. normy ISO 10993-10 (Biologiczna ocena wyrobów medycznych – test na podrażnianie uczulanie skóry) i ISO 10993-1 (Biologiczna ocena wyrobów medycznych – ocena biokompatybilności) lub równoważnej, do dezynfekcji ogólnie dostępnymi środkami, żel nie wycieka w przypadku przecięcia powłoki, przezierne dla promieni RTG, nieprzewodzące ładunków elektrycznych, wolne od lateksu, gwarancja na wady fabryczne minimum 24 m-ce | C5: szt. | D5: 2
A6: 2 | B6: Pozycjonery przeciwodleżynowe, Półwałek o wymiarach 505x92x75 mm. Wykonane z medycznego żelu silikonowego, pokryte poliuretanem, rozkładające ciężar ciała i obniżające nacisk powierzchniowy do bezpiecznego poziomu, chroniące przed ryzykiem podrażnienia nerwów, wielokrotnego użytku, o właściwościach nie powodujących podrażnień dla skóry - potwierdzone badaniami wg. normy ISO 10993-10 (Biologiczna ocena wyrobów medycznych – test na podrażnianie uczulanie skóry) i ISO 10993-1 (Biologiczna ocena wyrobów medycznych – ocena biokompatybilności) lub równoważnej, do dezynfekcji ogólnie dostępnymi środkami, żel nie wycieka w przypadku przecięcia powłoki, przezierne dla promieni RTG, nieprzewodzące ładunków elektrycznych, wolne od lateksu, gwarancja na wady fabryczne minimum 24 m-ce | C6: szt. | D6: 2
B7: RAZEM
B12: Data | H12: Podpis osoby/osób upoważnionej
B13: ……………………………………………. | H13: ……………………………….

Sheet Zad. 61
B2: ZOZ/DZP/PN/23/25
B3: Załącznik Nr: 9
B4: Zadanie nr: 61 - System do mierzenia ciśnienia śródbrzusznego.
A5: Lp. | B5: Nazwa produktu | C5: Jednostka miary | D5: Ilość | E5: Cena jednostkowa[zł] netto | F5: Wartość [zł] netto | G5: VAT | H5: Cena jednostkowa [zł] brutto | I5: Wartość [zł] brutto | J5: Producent/Nazwa handlowa/Numer katalogowy
A6: 1 | B6: Zestaw do pomiaru cisnienia śródbrzusznego z przetwornikiem wyposażony w linie płuczącą z przesuwna klemą zaciskową i aparatem kroplowym z wbudowanym filtrem cząskowym z 2 kranikami trójdrożnymi. Łącznik typu T na linii płuczącej, dren do podłączenia cewnika Foley’a zakończony uniwersalnym łącznikiem schodkowym, dren z gumowym łącznikiem do podłączenia zestawu do zbiórki moczu, strzykawka L/L 50-60ml, Zestaw kompatybilny z monitorami poprzez przewód RJ. Dodatkowo w zestawie zamkniety system do pomiaru diurezy godzinowej, składający się z komory pomiarowej ( bez wewnętrznych komór wstępnych i pośrednich) do dokładności pomiaru min. 1ml do 20 ml i pojemności 500ml z przeźroczystymi ściankami ułatwiającymi dokładny odczyt i wizualizację moczu z workiem 2 l, filtrem hydrofobowym w komorze i worku, drenu z odpowietrzaniem o dł. 150cm ze spiralą antyzałamaniową, portem bezigłowym do pobierania próbek moczu w łączniku, uniwersalnym systemem mocującym, do stosowania do 7 dni u pacjenta. | C6: szt. | D6: 70
B7: Razem
B9: Data | G9: Podpis osoby/osób upoważnionej
B10: ……………………………………………. | G10: ……………………………….

Sheet Zad.62
B2: ZOZ/DZP/PN/23/25
B3: Załącznik Nr: 9
A4: Zadanie nr: 62 - Drobny sprzęt wielorazowy
A5: Lp. | B5: Nazwa produktu | C5: Jednostka miary | D5: Ilość | E5: Cena jednostkowa[zł] netto | F5: Wartość [zł] netto | G5: VAT | H5: Cena jednostkowa [zł] brutto | I5: Wartość [zł] brutto | J5: Producent/Nazwa handlowa/Numer katalogowy
A6: 1 | B6: Aparat do mierzenia ciśnienia dla dzieci z kompletem 3 mankietów różnej wielkości | C6: szt. | D6: 3
A7: 2 | B7: Ciśnieniomierz automatyczny z mankietem naramiennym dla dorosłych z zasilaniem bateryjnym | C7: szt. | D7: 10
A8: 3 | B8: Aparat do mierzenia ciśnienia zegarowy dla dorosłych z gruszką zintegrowaną z mankietem ze słuchawkami z etui | C8: szt. | D8: 7
A9: 4 | B9: Aparat do mierzenia ciśnienia zegarowy dla dorosłych z gruszką osobno podpięta do mankietu 2-żyłowego z mankietem ze słuchawkami z etui | C9: szt. | D9: 4
A10: 5 | B10: Słuchawki lekarskie dla dorosłych typu Littmann lub równoważne spełniajace wymagania: Rodzaj membrany :‎ Pojedyncza dwutonowa membrana Rodzaj oliwek ‎: ‎ Miękkie Średnica małej membrany :‎ ‎ 3,3 cm Średnica membrany‎ : ‎ 4,3 cm Technologia głowicy ‎: ‎ Dwustronna Waga głowicy ‎: ‎ 82 g Waga netto‎ : ‎ 150 g Konstrukcja przewodu ‎: ‎ Pojedyncze światło przewodu Dodatkowe oliwki‎ : ‎ Tak Dodatkowy adaptor ‎: ‎Tak Skala akustyczna ‎: ‎ 7 Długość‎: ‎ 69 cm | C10: szt. | D10: 2
A11: 6 | B11: Słuchawki lekarskie do badania dzieci typu Littmann lub równoważne spełniajace wymagania: Średnica małej membrany‎ : 2,5 cm Średnica membrany‎ : 3,3 cm Technologia głowicy‎ : Dwustronna Waga głowicy‎ : 40 g Waga netto‎ : 105 g Pacjent‎ : Noworodek,‎ Dziecko Skala akustyczna : 7 Długość‎ : 71 cm Rodzaj membrany‎ : "Płynąca" membrana Rodzaj oliwek‎ : Miękkie | C11: szt. | D11: 2
A12: 7 | B12: Słuchawki lekarskie do badania noworodków typu Littmann lub równoważne spełniajace wymagania: Skala akustyczna : 7 Długość‎ : 71 cm Pacjrent : Noworodek Okres Gwarancji :‎ 3 lata Pacjent‎ : Noworodek, Rodzaj membrany‎ : "Płynąca" membrana Rodzaj oliwek‎ : Miękkie Średnica małej membrany‎ : 3,3 cm Średnica membrany ‎: 2,7 cm Technologia głowicy‎ : Dwustronna Waga głowicy‎ : 30 g Waga netto‎ : 95 g | C12: szt. | D12: 2
A13: 8 | B13: Latarka lekarska | C13: szt. | D13: 2
A14: 9 | B14: Szczypce Magilla do intubacji 15-17cm | C14: szt. | D14: 2
A15: 10 | B15: Szczypce Magilla do intubacji 19-22 cm | C15: szt. | D15: 2
A16: 11 | B16: Szczypce Magilla do intubacji 24-26 cm | C16: szt. | D16: 4
A17: 12 | B17: Moździeż z pistlem Fi 96-110 | C17: szt. | D17: 10
... A31: 26 | B31: Termometr elektroniczny, bezdotykowy do mierzenia temperatury ciała | C31: szt. | D31: 20
B32: Razem
B35: Uwaga:
B36: Zamawiający nie wymaga wyrobu medycznego w poz : 12,14,15
B38: Data | G38: Podpis osoby/osób upoważnionej
B39: ……………………………………………. | G39: ……………………………….

Sheet Zad.63
B1: ZOZ/DZP/PN/23/25
B2: Załącznik Nr: 9
A3: Zadanie nr: 63 Cewnik Swana-Ganza
A4: Lp. | B4: Nazwa produktu | C4: Jednostka miary | D4: Ilość | E4: Cena jednostkowa[zł] netto | F4: Wartość [zł] netto | G4: VAT | H4: Cena jednostkowa [zł] brutto | I4: Wartość [zł] brutto | J4: Producent/Model/Nr katalogowy
A5: 1 | B5: Standardowy cewnik Swana-Ganza do pomiaru metodą termodylucji Kompatybilny z kablem Nihon Cohden K962 wraz czujnikiem kompatybilnym z Edwardsem [NKD-ED/93528] | C5: Op=5 szt. | D5: 2
A6: 2 | B6: Osłona przepływowa iniektatu CO-Set+ | C6: Op=8 szt. | D6: 3
B7: RAZEM
B9: ………………………………………………….. | F9: ……………………………………………
B10: Data | F10: Podpis osoby/osób uprawnionej

Sheet Zad.64
B1: ZOZ/DZP/PN/23/25
B2: Załącznik Nr: 9
B3: Zadanie nr: 64 - Koce grzewcze
A4: Lp. | B4: Nazwa produktu | C4: Jednostka miary | D4: Ilość | E4: Cena jednostkowa netto | F4: Wartość netto | G4: VAT | H4: Cena jednostkowa brutto | I4: Wartość brutto | J4: Producent/Nazwa handlowa/Numer katalogowy
A5: 1 | B5: Koce jednorazowe do ogrzewania pacjenta 2270mm x 1330mm do 10% dla dorosłych kompatybilny z systemem Mistral-Air | C5: szt. | D5: 85
A6: 2 | B6: Koce jednorazowe do ogrzewania pacjenta 1660mm x 1330mm z tolerancją 10% w górę, dla dorosłych kompatybilny z systemem Mistral-Air | C6: szt. | D6: 30
B7: RAZEM
B11: Data | H11: Podpis osoby/osób upoważnionej
B12: ……………………………………………. | H12: ……………………………….

Sheet Zad.65
B1: ZOZ/DZP/PN/23/25
B2: Załącznik Nr: 9
A3: Zadanie nr 65 - Worki do moczu
A4: Lp. | B4: Nazwa produktu | C4: Jednostka miary | D4: Ilość | E4: Cena jednostkowa netto | F4: Wartość netto | G4: VAT | H4: Cena jednostkowa brutto | I4: Wartość brutto | J4: Producent/Nazwa handlowa/Numer katalogowy
A5: 1 | B5: Wieszak do worków na mocz przy łóżku | C5: szt. | D5: 800
A6: 2 | B6: Worek do moczu z odprowadzeniem i zastawką zwrotna, jałowy 2000ml | C6: szt. | D6: 20000
A7: 3 | B7: Worek do moczu z odprowadzeniem i zastawką zwrotna, jałowy 750-1000ml do mocowania przy nodze | C7: szt. | D7: 200
A8: 4 | B8: Worek do moczu z odprowadzeniem i zastawką zwrotna, jałowy 2000ml, 7-dniowy z portem. | C8: szt. | D8: 200
B9: RAZEM
B10: Oświadczam, że oferowany przedmiot zamówienia jest zgodny z opisem i spełnia wymagane parametry techniczne.
B11: Data | H11: Podpis osoby/osób upoważnionej
B12: ……………………………………………. | H12: ………………….. | I12: ……………………………….

Sheet Zad.66
B1: ZOZ/DZP/PN/23/25
B2: Załącznik Nr: 9
A3: Zadanie nr: 66 - Myjki.
A4: Lp. | B4: Nazwa produktu | C4: Jednostka miary | D4: Ilość | E4: Cena jednostkowa netto | F4: Wartość netto | G4: VAT | H4: Cena jednostkowa brutto | I4: Wartość brutto | J4: Producent/Nazwa handlowa/Numer katalogowy
A5: 1 | B5: Myjka w formie rękawic Dwuwarstwowa, jednorazowa myjka do mycia ciała w formie półokrągłej rękawicy. Nasączona jednostronnie środkami myjącymi o neutralnym pH 5,5, wykonana z jednej strony (części myjącej) z poliestru, z drugiej strony z włókniny. Obie warstwy myjki nie podfoliowane. Rozmiar 14 cm x 20 cm,(+,-2cm) gramatura 90g/m2. Produkowana zgodnie z wymaganiami. Czystość mikrobiologiczna na brak zawartości Pseudomonas aeruginosa, Candida albicans, Staphylococcus aureus oraz pozbawiony latexu. Opakowanie jednostkowe a'10 sztuk z nadrukowanym składem. Produkt pakowany w opakowanie foliowe.. | C5: op. 20szt. | D5: 8600
A6: 2 | B6: Szczoteczki do chirurgicznego mycia rąk, jednorazowego użytku. Produkt zaopatrzony jest z jednej strony w nylonową szczotkę, a z drugiej w miękką gąbkę. jego kształt zapewnia użytkownikowi wysoki komfort i łatwość posługiwania się. Każda szczoteczka zaopatrzona jest w szpatułkę do czyszczenia paznokci, szczoteczka jest sucha, gotowa do użycia bezpośrednio po wyjęciu z opakowania, wymiary:8x5x4cm, nasączone 4% chlorheksydyną pakowane zbiorczo w formie dyspensera | C6: szt. | D6: 7000
A7: 3 | B7: Szczoteczki do chirurgicznego mycia rąk, jednorazowego użytku. Produkt zaopatrzony jest z jednej strony w nylonową szczotkę, a z drugiej w miękką gąbkę. jego kształt zapewnia użytkownikowi wysoki komfort i łatwość posługiwania się. Każda szczoteczka zaopatrzona jest w szpatułkę do czyszczenia paznokci, szczoteczka jest sucha, gotowa do użycia bezpośrednio po wyjęciu z opakowania, wymiary:8x5x4cm, pakowane zbiorczo w formie dyspensera | C7: szt. | D7: 2000
A8: 4 | B8: Gotowa do użycia, jednorazowa gąbka nasączona 25ml antyseptycznym, myjącym roztworem glukonianu chlorheksydyny o stężeniu wagowym 4 % (nie zawierająca mydła). Rozmiar 12cm x 7,5 cm x 2,3 cm(+,-0,5cm) wykonana z poliuretanu. Stosowana do antyseptycznego mycia ciała i oczyszczania skóry, wymaga spłukiwania. Pakowana pojedynczo Opakowanie blistrowe z systemem łatwego rozdzieralnego otwarcia. Wyrób nie zawiera latexu. | C8: szt. | D8: 5500
A9: 5 | B9: Czepek do bezwodnego mycia głowy Jednorazowy czepek do bezwodnego mycia głowy. Zewnętrzna warstwa polietylenowa, wewnętrzna warstwa włókniny nasączony substancjami myjącymi oraz odżywką. Nie wymagający namoczenia oraz spłukiwania. Zawierający w składzie m.in. kokamidopropylobetainę oraz dioctan glutaminianu tetrasodowego. Pakowany pojedynczo, z możliwością podgrzania w mikrofalówce (20 sek. w 800W). Zapachowy, pakowany pojedynczo. Na opakowaniu nadrukowany skład oraz instrukcja użycia Nie zawiera latexu. Termin ważności: 24 m-ce od daty produkcji. Zarejestrowany jako produkt kosmetyczny | C9: szt | D9: 100
B10: RAZEM
B14: Data | H14: Podpis osoby/osób upoważnionej
B15: ……………………………………………. | H15: ……………………………….

Sheet Zad.67
B1: ZOZ/DZP/PN/23/25
B2: Załącznik Nr: 9
A3: Zadanie nr: 67 - Wyroby z masy celulozowej
A4: Lp. | B4: Nazwa produktu | C4: Jednostka miary | D4: Ilość | E4: Cena jednostkowa netto | F4: Wartość netto | G4: VAT | H4: Cena jednostkowa brutto | I4: Wartość brutto | J4: Producent/Nazwa handlowa/Numer katalogowy
A5: 1 | B5: Kaczka męska wykonana z pulpy celulozowej; wymiary 250 x 115 x 115mm; waga 37.5g (+/- 5g); pojemność: 800ml odporność na przesiąkanie: 4 godz.; odporność na temp cieczy: 35stC (+/- 3stC); ilość w opakowaniu: 100 szt.; Znak Ce oraz nazwa producenta na jednostkowym produkcie umożliwiająca identyfikację | C5: szt. | D5: 17600
A6: 2 | B6: Basen jednorazowy płaski 1900 – 2100ml, odporność na przesiąkanie: 4 godz.; odporność na temp cieczy: 35stC (+/- 3stC); ilość w opakowaniu: 100 szt.; Znak Ce oraz nazwa producenta na jednostkowym produkcie umożliwiająca identyfikację | C6: szt. | D6: 2500
A7: 3 | B7: Przykrywka jednorazowa do basenu płaskiego poz nr 2 ( Mozliwość utylizacji w maceratorze ) | C7: szt. | D7: 300
A8: 4 | B8: Podstawa pod basen jednorazowy z pozycji 2 | C8: szt. | D8: 20
A9: 5 | B9: Miska nerkowata 690-710ml, odporność na przesiąkanie: 4 godz.; odporność na temp cieczy: 35stC (+/- 3stC); ilość w opakowaniu: 260 szt.: Znak Ce oraz nazwa producenta na jednostkowym produkcie umożliwiająca identyfikacje | C9: szt. | D9: 20000
A10: 6 | B10: Miska do mycia pacjenta wykonana z pulpy celulozowej; wymiary 330 x 255 x 100mm; waga 58.5g (+/- 3 g); Pojemność: 3-4 litry; odporność na przesiąkanie: 2 godziny; przystosowana do ciepłej wody z detergentem, do temperatury 45 stopni C; | C10: szt. | D10: 15000
A11: 7 | B11: Miska Mała Ogólnego zastosowania ( Nocnik Dziecięcy ) wymiary 233x86 mm pojemność robocza 1 litr Odporność na przesiąkanie dla zawartości o temperaturze do 35 stopni 4 godziny Znak Ce oraz nazwa producenta na jednostkowym produkcie umożliwiająca identyfikacja | C11: szt. | D11: 2000
A12: 8 | B12: Podstawka pod miskę ogólnego zastosowania ( Nocnik ) kompatybilna z pozycją nr 7 | C12: szt. | D12: 5
A13: 9 | B13: Przykrywka do miski ogólnego zastosowania ( Nocnik ) kompatybilna z pozycją nr. 7 ( Możliwość utylizacji w maceratorze ) | C13: szt. | D13: 500
A14: 10 | B14: Miska do mycia pacjenta wykonana z pulpy celulozowej; wymiary 365 x 258 x 170mm; wysokość ścian naczynia co najmniej 16 centymetrów od podstawy; waga 95g (+/- 5 g); pojemność: 6 litrów; odporność na przesiąkanie: 2 godziny;przystosowana do ciepłej wody z detergentem, do temperatury 45 stopni C; | C14: szt. | D14: 500
B15: Razem
B17: Pojemniki jednorazowego użytku do utylizacji ludzkich odpadów bytowych. Produkt wykonany z regenerowanych włókien celulozy, klejony naturalnym woskiem z dodatkiem żywicy ze środkiem pomocniczym zapobiegającym osadzaniu i pienieniu
B20: Data | H20: Podpis osoby/osób upoważnionej
B21: ……………………………………………. | I21: ……………………………….

Sheet Zad.68
B1: ZOZ/DZP/PN/23/25
B2: Załącznik Nr: 9
B3: Zadanie nr: 68 - Zestawy cewników, igły.
A4: Lp. | B4: Nazwa produktu | C4: Jednostka miary | D4: Ilość | E4: Cena jednostkowa netto | F4: Wartość netto | G4: VAT | H4: Cena jednostkowa brutto | I4: Wartość brutto | J4: Producent/Nazwa handlowa/Numer katalogowy
A5: 1 | B5: Igła z ostrzem typu Pencil Point z bocznym otworem, przezroczysty uchwyt lock ze wskaźnikiem położenia szlifu igły, z pryzmatem zmieniającym barwę po wypełnieniu PMR G-25 x 3,5cala (0,53x88 ) z prowadnicą | C5: szt. | D5: 2500
A6: 2 | B6: Igła z ostrzem typu Pencil Point z bocznym otworem, przezroczysty uchwyt lock, ze wskaźnikiem położenia szlifu igły, z pryzmatem zmieniającym barwę po wypełnieniu PMR G-27 x 3,5cala (0,42x88 ) z prowadnicą | C6: szt. | D6: 1000
A7: 3 | B7: Igła z ostrzem typu Pencil Point z bocznym otworem, przezroczysty uchwyt lock, z pryzmatem zmieniającym barwę po wypełnieniu PMR G-22 x 3,5cala (0,7x88 ) | C7: szt. | D7: 100
A8: 4 | B8: Igła do znieczuleń zewnątrzoponowych G 16 1,7x80 typ TUOHY zakrzywiona, ze skrzydełkami mocowanymi na stałe igła oznaczona, co 1cm celem kontroli gł. wkłucia, wzmocniona mandrynem z tworzywa sztucznego do wyboru przy zakupie. | C8: szt. | D8: 50
A9: 5 | B9: Igła do znieczuleń z ostrzem typu Pencil-Point o długości 103mm, w komplecie z igłą prowadzącą 20-22G, igła wykonana z wysokiej jakości stali nierdzewnej, eleiptyczny, uchwyt z wskaźnikiem położenia szlifu w uchwycie igły i mandrynu, pryzmat wizualizacyjny, zmieniający barwę pod wpływem płynu mózgowo-rdzeniowego - konstrukcja uchwytów igły i prowadnicy zapewnia skrócenie długości roboczej igły o mniej niż 12mm 25G-27G | C9: szt. | D9: 300
A10: 6 | B10: Igła do nakłuć lędźwiowych i znieczuleń - typu Standard - z ostrzem typu Quincke, idealnie dopasowany mandryn, przeźroczysta nasadka, ułatwiająca wizualizację płynu, eleiptyczny, wygodny uchwyt z wskaźnikiem położenia szlifu w uchwycie igły i mandrynu, pryzmat wizualizacyjny, zmianijący barwę pod wpływem płynu .mózgowo-rdzeniowego 19 G /1.1mm/ x 88-90mm oraz 22 G /0.7mm/ x 38-40mm. | C10: szt. | D10: 50
A11: 7 | B11: Igła zewnątrzoponowa TUOHY 18 G, sterylna apirogenna, wykonana z wysokiej klasy stali, 16-18G /1.7-1.3mm/ x 80-90mm | C11: szt. | D11: 50
A12: 8 | B12: Igła zewnątrzoponowa TUOHY 18 G, sterylna apirogenna, wykonana z wysokiej klasy stali , 18G x 150mm | C12: szt. | D12: 50
A13: 9 | B13: Igła do przepłukiwania portów 22Gx25mm zakrzywiona | C13: szt. | D13: 150
A14: 10 | B14: Zestaw do połączonego znieczulenia podpajęczynówkowego i zewnątrzoponowego. W zestawie igła Tuohy 18G-20G x 88 mm do wyboru przy zakupie, z dodatkowym otworem umożliwiającym wprowadzenie końca igły podpajeczynówkowej typu Pencil Point 27G. Cewnik zewnątrzoponowy z miękką końcówką Soft tip, filtr, strzykawka LOR 10ML , system mocowania igły PP w igle Tuohy | C14: op=10szt | D14: 5
A15: 11 | B15: Igła stosowana do długotrwałych infuzji przystosowana do iniekcji pod wysokim ciśnieniem do 325 psi (22,4 bary) elastyczne skrzydełka dla ułatwienia nakłucia portu i mocowania ostrze igły ze specjalnym szlifem łyżeczkowym w celu wydłużenia okresu użytkowania silikonowej membrany nie zwiera lateksu i DEHP dren z zaciskiem  długość drenu: 200 +/- 10 mm w rozmiarach do wyboru: 19Gx15mm do 22Gx25mm | C15: szt | D15: 200
A16: 12 | B16: Igła stosowana do długotrwałych infuzji elastyczne skrzydełka dla ułatwienia nakłucia portu i mocowania ostrze igły ze specjalnym szlifem łyżeczkowym w celu wydłużenia okresu użytkowania silikonowej membrany nie zwiera lateksu i DEHP (skrzydełka) dren z zaciskiem (bez PCV) długość drenu: 200 +/- 10 mm łącznik Y w rozmiarach do wyboru: 19Gx20mm do 22Gx25mm | C16: szt | D16: 200
... A27: 23 | B27: Igła 0,8 x 120 mm do blokad nerwowych typu sterican | C27: szt. | D27: 600
B28: RAZEM
B30: Data | H30: Podpis osoby/osób upoważnionej
B31: ……………………………………………. | H31: ……………………………….

Sheet Zad.69
B1: ZOZ/DZP/PN/23/25
B2: Załącznik Nr: 9
A3: Zadanie nr: 69 - Skalpele jednorazowe
A4: Lp. | B4: Nazwa produktu | C4: Jednostka miary | D4: Ilość | E4: Cena jednostkowa netto | F4: Wartość netto | G4: VAT | H4: Cena jednostkowa brutto | I4: Wartość brutto | J4: Producent/Nazwa handlowa/Numer katalogowy
A5: 1 | B5: Nożyk chirurgiczny jednorazowy typu skalpel z mechanizmem powalającym na bezpieczne chowanie oraz wysuwanie ostrza, wraz z blokadą, w rękojeści skala w cm i calach, mechanizm blokady ze słyszalnym kliknięciem i wizualizacją. Rozmiar nr 10,11,15,20,22 | C5: op. 25 szt | D5: 300
B6: RAZEM
B8: Data | H8: Podpis osoby/osób upoważnionej
B9: ……………………………………………. | H9: ……………………………….

Sheet Zad.70
B1: ZOZ/DZP/PN/23/25
B2: Załącznik Nr: 9
A3: Zadanie nr: 70 Pasy do KTG
A4: Lp. | B4: Nazwa produktu | C4: Jednostka miary | D4: Ilość | E4: Cena jednostkowa netto | F4: Wartość netto | G4: VAT | H4: Cena jednostkowa brutto | I4: Wartość brutto | J4: Producent/Model/Nr katalogowy
A5: 1 | B5: Jednorazowy pas brzuszny: żółty, z zapinką. Wymiary: 1.3m (4’3") długi, 60mm (2.36") szeroki, kompatybilny z KTG Philips AVALON FM20 | C5: Op=100 szt | D5: 12
A6: 2 | B6: Wielorazowy pas brzuszny: Szary, zmywalny, wodoodporny, możliwość przycięcia do wymaganej długości, z zapinką Wymiary: 1.3m (4’3”) długi, 50mm (1.96”) szeroki, kompatybilny z KTG Philips AVALON FM20 | C6: op=5szt | D6: 3
B7: Razem
B10: Data | H10: Podpis osoby/osób upoważnionej
B11: ……………………………………………. | H11: ……………………………….

Sheet Zad.71
B1: Załącznik Nr 9 | H1: ZOZ/DZP/PN/4/25
B2: ZOZ/DZP/PN/23/25
A3: Zadanie nr 71 - Tracheostomia i konikotomia
A4: Lp. | B4: Nazwa produktu | C4: Jednostka miary | D4: Ilość | E4: Cena jednostkowa netto | F4: Wartość netto | G4: VAT | H4: Cena jednostkowa brutto | I4: Wartość brutto | J4: Producent/Model/Nr katalogowy
A5: 1 | B5: Kompletny zestaw do przezskórnej tracheotomii metodą Griggsa. W Zestawie min.: Kompletny zestaw do przezskórnej tracheotomii metodą Griggsa, z wielorazowym peanem, zawierający skalpel, kaniulę z igłą i strzykawką do identyfikacji tchawicy, prowadnicę Seldingera, rozszerzadło oraz rurkę tracheostomijną z wbudowanym przewodem do odsysania z przestrzeni podgłośniowej z mankietem niskociśnieniowym, posiadającą sztywny samoblokujący się mandryn z otworem na prowadnicę Seldingera. Pakowany na jednej, sztywnej tacy umożliwiającej szybkie otwarcie zestawu. Rozmiary: 7,0mm, 8,0mm, 9,0mm | C5: szt. | D5: 2
A6: 2 | B6: Zestaw do przezskórnej tracheostomii metodą Griggsa, w zestawie min.: skalpel, kaniula z igłą i strzykawką do identyfikacji tchawicy, prowadnica Seldingera, rozszerzadło, rurka tracheostomijna z mankietem niskociśnieniowym i samoblokującym się mandrynem z otworem na prowadnicę Seldingera, możliwość odsysania z przestrzeni pogłośniowej, pakowany na jednej,sztywnej tacy umożliwiającej szybkie otwarcie zestawu. Rozmiary do wyboru podczas zakupu 7,0 -8,0 - 9,0 | C6: kpl. | D6: 40
A7: 3 | B7: Rurka tracheostomijna z regulowanym położeniem kołnierza, mechanizm blokujący, umożliwiający przesuwanie kołnierza wzdłuż osi rurki oraz obracanie o 360°, ze standardowym mankietem niskociśnienowym, wykonana z silikowanego PCV, oznaczenie na rurce jej rozmiaru. Rozmiary do wtboru podczas zakupu 7,0-8,0-9,0 | C7: szt. | D7: 10
A8: 4 | B8: Rurka tracheotomijna z odsysaniem z przestrzeni podgłośniowej, z miękkim, cienkościennym mankietem niskociśnieniowym oraz systemem ograniczania wzrostu ciśnienia wewnątrz mankietu typu Soft Seal lub równoważnym z balonikiem kontrolnym wyraźnie wskazującym na wypełnienie mankietu (płaski przed wypełnieniem), oznaczenie na rurce jej rozmiaru, nazwa marki oraz producenta, wykonana z termoplastycznego PCV, przeżroczysty kołnierz z oznaczeniem rozmiaru i długości rurki, samoblokujący się mandryn z otworem na prowadnicę Seldingera umożliwiający założenie bądź wymianę rurki. Rozmiary do wyboru podczas zakupu 7,0-9,0 co 0,5 | C8: szt. | D8: 70
A9: 5 | B9: Zestaw do punkcji opłucnej ( / osierdzia / otrzewnej) o składzie: igła Veressa; cewnik z poliuretanu, widoczny w rtg, w rozmiarach 9Ch lub 12Ch, do 29 dni, z układem automatycznych zastawek jednokierunkowych (możliwość przełączenia w tryb drenażu z pominięciem zastawek); strzykawka luer lock 30ml worek do drenażu 2000ml z kranikiem spustowym; skalpel z zatrzaskowym zabezpieczeniem ostrza przed zakłuciem; łącznik luer lock /stożkowy linia do przedłużenia cewnika dł. 50cm, zacisk nożyczkowy; komplet mocowań cewnika do skóry pacjenta. | C9: szt | D9: 60
A10: 6 | B10: Rurka intubacyjna z mankietem typu Soft-Seal lub równoważna i odsysaniem z nad mankietu. Rurka intubacyjna z mankietem zwężającym się ku dołowi, o potwierdzonej badaniami klinicznymi obniżonej przenikalności dla podtlenku azotu, z wbudowanym przewodem do odsysania, z otworem Murphy’ego, balonik kontrolny wskazujący na stan wypełnienia mankietu z oznaczeniem nazwy producenta, średnicy rurki i mankietu oraz rodzaju mankietu, dodatkowe oznaczenie rozmiaru na korpusie rurki w miejscu widocznym po zaintubowaniu jak i na łączniku, linia Rtg na całej długości rurki, skala centymetrowa podana na korpusie rurki, sterylna, jednorazowa, rozmiary od 6,0 do 9,0 mm co 0,5 mm. | C10: szt | D10: 180
A11: 7 | B11: Rurka tracheostomijna z regulowanym położeniem kołnierza. Rurka tracheostomijna z regulowanym położeniem kołnierza, wykonana z czystego silikonu, z mankietem typu Aire-Cuf, zbrojona, z centymetrowymi znacznikami głębokości, z oznaczeniem na kołnierzu średnicy wew. i zew. długości, rodzaju i średnicy mankietu, z obturatorem i łącznikiem 15mm, w zestawie z opaską do mocowania, sterylna, rozmiary: Śr. wew. (mm) / Śr. zew. (mm) / Długość (mm) 6,0 / 9,2 / 110 7,0 / 10,6 / 120 8,0 / 11,0 / 130 9,0 / 12,3 / 140 | C11: szt | D11: 3
A12: 8 | B12: Wyskalowana, zbrojona rurka tracheostomijna z mankietem niskociśnieniowym z balonikiem kontrolnym wyraźnie wskazującym na wypełnienie mankietu (płaski przed wypełnieniem) posiadający oznaczenia rozmiaru rurki oraz rodzaju i średnicy mankietu, wykonana z termoplastycznego PCW, zbrojona drutem, z elastycznym, przezroczystym regulowanym kołnierzem z zaciskiem utrzymującym właściwą pozycję, z oznaczeniem rozmiaru na giętkich skrzydełkach, z samoblokującym się mandrynem z otworem na cewnik prowadzący, w zestawie cienkościenna elastyczna kaniula z PTFE, gąbka do czyszczenia kaniuli, miękka opaska mocująca i klin do odłączania rurki. Rozmiary: 7mm, 8mm i 9mm | C12: szt | D12: 3
A13: 9 | B13: Opaska do rurki tracheostomijnej. Miękka, szeroka opaska do rurki tracheostomijnej dla dorosłych, długość: 46cm plus rzep. | C13: szt | D13: 150
A14: 10 | B14: Zastawka Heimlicha z workiem 2000ml: zastawka przeciwzwrotna zapobiegająca powrotowi odessanego płynu do pacjenta, zakończona obustronnie łącznikiem schodkowym umożliwiającym połączenie z workiem i drenem od pacjenta, z workiem o pojemności 2000ml wyskalowanym co 100ml, z odpowietrznikiem i zaworem spustowym, dren łączący pomiędzy workiem, a zastawką minimum 40cm. | C14: szt | D14: 10
A15: 11 | B15: łącznik luer/lock do systemu drenażowego | C15: szt | D15: 100
A16: 12 | B16: Zatrzaskowy system mocowania cewnika do skóry pacjenta z przezroczystą, sztywną, płaską częścią zatrzaskową, gąbkową częścią przylepną, niskoprofilowy (wysokość do 5mm), rozmiary 18G i 16G/17G. | C16: szt | D16: 620
B17: RAZEM
B20: Data | H20: Podpis osoby/osób upoważnionej
B21: ……………………………………………. | H21: ……………………………….

Sheet Zad.72
B1: ZOZ/DZP/PN/23/25
B2: Załącznik Nr: 9
B3: Zadanie nr: 72- Staplery
A4: Lp. | B4: Nazwa produktu | C4: Jednostka miary | D4: Ilość | E4: Cena jednostkowa netto | F4: Wartość netto | G4: VAT | H4: Cena jednostkowa brutto | I4: Wartość brutto | J4: Producent/Nazwa handlowa/Numer katalogowy
A5: 1. | B5: Stapler okrężny o średnicy zewnętrznej kowadełka 25,5mm i średnicy ostrza 17mm, zakrzywiony jednorazowego użytku do stosowania wewnętrznego. Kowadełko zaopatrzone w otwór do przeciągania szwu prowadzącego.Stapler z zintegrowaną automatyczną blokadą bezpieczeństwa, oraz systemem obrotowego ostrza.16 zszywek ze stopu tytanu w dwóch rzędach z kontrolowanym dociskiem tkanki i regulowaną wysokością zszywek w zakresie od 1mm do 2,5mm.Pokrętło regulacyjne „motylkowe” ułatwiające zamykanie i otwieranie staplera, z opcją podwójnej prędkości, | C5: Szt. | D5: 2
A6: 2. | B6: Stapler okrężny o średnicy zewnętrznej kowadełka 29,5mm i średnicy ostrza 20,5 mm zakrzywiony jednorazowego użytku do stosowania wewnętrznego. Kowadełko zaopatrzone w otwór do przeciągania szwu prowadzącego.Stapler z zintegrowaną automatyczną blokadą bezpieczeństwa, oraz systemem obrotowego ostrza.16 zszywek ze stopu tytanu w dwóch rzędach z kontrolowanym dociskiem tkanki i regulowaną wysokością zszywek w zakresie od 1mm do 2,5mm.Pokrętło regulacyjne „motylkowe” ułatwiające zamykanie i otwieranie staplera, z opcją podwójnej prędkości, | C6: Szt. | D6: 6
A7: 3. | B7: Stapler okrężny o średnicy zewnętrznej kowadełka 33,5mm i średnicy ostrza 24,8 mm zakrzywiony jednorazowego użytku do stosowania wewnętrznego. Kowadełko zaopatrzone w otwór do przeciągania szwu prowadzącego.Stapler z zintegrowaną automatyczną blokadą bezpieczeństwa, oraz systemem obrotowego ostrza.16 zszywek ze stopu tytanu w dwóch rzędach z kontrolowanym dociskiem tkanki i regulowaną wysokością zszywek w zakresie od 1mm do 2,5mm.Pokrętło regulacyjne „motylkowe” ułatwiające zamykanie i otwieranie staplera, z opcją podwójnej prędkości, | C7: Szt. | D7: 4
A8: 4. | B8: Stapler okrężny jednorazowego użytku do stosowania wewnętrznego, prosty, umożliwiający wykonanie zespolenia bez przecinających się linii zszywek. Stapler o średnicy zewnętrznej kowadełka 29,5mm i średnicy ostrza 20,5 mm. 24 zszywki wykonane ze stopu tytanu, o wysokości 5mm przed zamknięciem oraz 1,00 do 2,50 mm po zamknięciu. Wysokość obudowy 4mm, pojemność główki staplera 12,6mm.Stapler z 4 otworami trakcyjnymi pozwalające na wciągnięcie linii zszywek i tkanki do główki staplera, wzmocnione ostrze i system jego uwalniania (Power cut) wraz z akcesoriami trans analnymi do wykonania zespolenia bez przecinających się linii zszywek (anoskop, 2 trokary pomocnicze, szydełko, zestaw do oceny szczelności | C8: Szt. | D8: 5
A9: 5. | B9: Stapler okrężny jednorazowego użytku do stosowania wewnętrznego, prosty, umożliwiający wykonanie zespolenia bez przecinających się linii zszywek. Stapler o średnicy zewnętrznej kowadełka 33,5mm i średnicy ostrza 24,8 mm. 32 zszywki i wykonane ze stopu tytanu, o wysokości 5mm przed zamknięciem oraz 1,00 do 2,50 mm po zamknięciu. Wysokość obudowy 4mm, pojemność główki staplera 12,6mm.Stapler z 4 otworami trakcyjnymi pozwalające na wciągnięcie linii zszywek i tkanki do główki staplera, wzmocnione ostrze i system jego uwalniania (Power cut) wraz z akcesoriami trans analnymi do wykonania zespolenia bez przecinających się linii zszywek (anoskop, 2 trokary pomocnicze, szydełko, zestaw do oceny szczelności | C9: Szt. | D9: 5
A10: 6. | B10: Stapler liniowy z nożem wbudowanym w ładunek, w rozmiarze 60 o długości linii zszywek 65mm i długości linii cięcia 59mm, jednorazowego użytku do stosowania wewnętrznego.Stapler z dwustronną dźwignią do wystrzelenia ładunku wraz z przyciskiem szybkiego zwalniania.Wskaźnik końca linii cięcia,ruchomy ładunek zabezpieczający przed przypadkowym wystrzeleniem,oraz systemy zabezpieczające zespolenie: łańcuch pozycjonujący tkanki – zapobiega ześlizgiwaniu się tkanki z końcówek roboczych narzędzia, początek i koniec zespolenia na długości min.1,5 zszywki poza linią cięcia, system kontroli dźwigni zapewniający równoczesne zamykanie końcówek roboczych narzędzia i równomierną kompresję tkanki, -64 zszywek ze stopu tytanu o wysokości 4,5 mm ułożonych w dwóch rzędach, dla grubości tkanki od 1,8mm do 2mm. | C10: Szt. | D10: 7
A11: 7. | B11: Ładunek do staplera liniowego z nożem dł.60-zszywki 4,5(kolor zielony) | C11: Szt. | D11: 8
A12: 8. | B12: Stapler liniowy z nożem wbudowanym w ładunek, w rozmiarze 80 o długości linii zszywek 85mm i długości linii cięcia 79mm, jednorazowego użytku do stosowania wewnętrznego.Stapler z dwustronną dźwignią do wystrzelenia ładunku wraz z przyciskiem szybkiego zwalniania.Wskaźnik końca linii cięcia,ruchomy ładunek zabezpieczający przed przypadkowym wystrzeleniem,oraz systemy zabezpieczające zespolenie: łańcuch pozycjonujący tkanki – zapobiega ześlizgiwaniu się tkanki z końcówek roboczych narzędzia, początek i koniec zespolenia na długości min.1,5 zszywki poza linią cięcia, system kontroli dźwigni zapewniający równoczesne zamykanie końcówek roboczych narzędzia i równomierną kompresję tkanki,84 zszywek ze stopu tytanu o wysokości 3,8mm ułożonych w dwóch rzędach, dla grubości tkanki od 1mm do 1,5mm. | C12: Szt. | D12: 9
A13: 9. | B13: Ładunek do staplera liniowego z nożem dł.80-zszywki 3,8(kolor niebieski) | C13: Szt. | D13: 10
A14: 10. | B14: Stapler liniowy z nożem wbudowanym w ładunek, w rozmiarze 80 o długości linii zszywek 85mm i długości linii cięcia 79mm, jednorazowego użytku do stosowania wewnętrznego.Stapler z dwustronną dźwignią do wystrzelenia ładunku wraz z przyciskiem szybkiego zwalniania.Wskaźnik końca linii cięcia,ruchomy ładunek zabezpieczający przed przypadkowym wystrzeleniem,oraz systemy zabezpieczające zespolenie: łańcuch pozycjonujący tkanki – zapobiega ześlizgiwaniu się tkanki z końcówek roboczych narzędzia, początek i koniec zespolenia na długości min.1,5 zszywki poza linią cięcia, system kontroli dźwigni zapewniający równoczesne zamykanie końcówek roboczych narzędzia i równomierną kompresję tkanki,84 zszywek ze stopu tytanu o wysokości 4,5mm ułożonych w dwóch rzędach, dla grubości tkanki od 1mm do 1,5mm. | C14: Szt. | D14: 11
A15: 11. | B15: Ładunek do staplera liniowego z nożem dł.80-zszywki 4,5(kolor zielony) | C15: Szt. | D15: 12
A16: 12. | B16: Stapler liniowy z nożem wbudowanym w ładunek, w rozmiarze 100 o długości linii zszywek 105mm i długości linii cięcia 99mm, jednorazowego użytku do stosowania wewnętrznego.Stapler z dwustronną dźwignią do wystrzelenia ładunku wraz z przyciskiem szybkiego zwalniania.Wskaźnik końca linii cięcia,ruchomy ładunek zabezpieczający przed przypadkowym wystrzeleniem,oraz systemy zabezpieczające zespolenie: łańcuch pozycjonujący tkanki – zapobiega ześlizgiwaniu się tkanki z końcówek roboczych narzędzia, początek i koniec zespolenia na długości min.1,5 zszywki poza linią cięcia, system kontroli dźwigni zapewniający równoczesne zamykanie końcówek roboczych narzędzia i równomierną kompresję tkanki,104 zszywek ze stopu tytanu o wysokości 3,8mm ułożonych w dwóch rzędach, dla grubości tkanki od 1mm do 1,5mm. | C16: Szt. | D16: 13
... A18: 14. | B18: Skalpel bezpieczny ze sali węglowej FIG10,11,15,20 do wyboru przy zakupie | C18: op.=10 szt | D18: 35
B19: RAZEM
B22: Data | H22: Podpis osoby/osób upoważnionej
B23: ……………………………………………. | H23: ……………………………….

Sheet Zad.73
B1: ZOZ/DZP/PN/23/25
B2: Załącznik Nr: 9
A3: Zadanie nr: 73 - Obuwie operacyjne
A4: Lp. | B4: Nazwa produktu | C4: Jednostka miary | D4: Ilość | E4: Cena jednostkowa netto | F4: Wartość netto | G4: VAT | H4: Cena jednostkowa brutto | I4: Wartość brutto | J4: Producent/Nazwa handlowa/Numer katalogowy
A5: 1 | B5: Buty operacyjne : Buty operacyjne zielone, niebieskie, białe, fioletowe. Rozmiary: 36, 37, 38. 39. 40, 41, 42, 43, 44, 45, 46, 47. Obuwie operacyjne wykonane z tworzywa sztucznego. Obuwie ma zapełnić trwałość – ma być wykonane z jednego odlewu, wolne od klejenia czy innego łączenia poszczególnych elementów, bez elementów ruchomych w postaci pasków zabezpieczających stopę przed wysunięciem. Obuwie ma zapewnić wysoki komfort użytkowania: ma posiadać otwory wentylacyjne po bokach oraz anatomicznie wyprofilowaną powierzchnię styku ze stopą w części śródstopia. Obuwie ma zapewnić bezpieczeństwo użytkowania dzięki płaskiej podeszwie z dopuszczalnym prześwitem w części śródstopia nie wyższym niż 10mm mierzonym od podeszwy do płaszczyzny styku obuwia z podłożem, oraz podwyższonemu oparciu pięty o wysokości nie mniejszej niż 30mm mierzonej od wewnętrznej strony buta, w celu zabezpieczenia stopy przed wysunięciem się. Łatwa identyfikacja rozmiaru ma być zapewniona dzięki wytłoczeniu rozmiaru buta na jego pięcie. Antypoślizgowe dzięki wyprofilowanej podeszwie, antystatyczne. Nadające się do mycia i dezynfekcji w maksymalnej temp. 85 stopni. Gwarancja na 5 lat. | C5: para | D5: 20
A6: 2 | B6: Obuwie operacyjne: wykonane z tworzywa SEBS spełniające wymagania dla środków ochrony osobistej klasy 1 wg dyrektywy EEC 89/686. Obuwie ma zapewnić trwałość – ma być wykonane z jednego odlewu, wolne od klejenia czy też innego łączenia poszczególnych elementów, bez ruchomych elementów w postaci pasków zabezpieczających stopę przed wypadaniem. Tworzywo, z którego wykonane jest obuwie ma zapewnić wysoką elastyczność na poziomie minimum 85% przed zerwaniem, przy czym minimalna siła zrywająca powinna być nie mniejsza niż 6MPa (wytrzymałość na rozciąganie przy zrywaniu). Obuwie ma zapewnić wysoki komfort użytkowania: ma posiadać otwory wentylacyjne po bokach oraz anatomicznie wyprofilowaną powierzchnie styku ze stopą w części śródstopia oraz pod palcami stopy. Obuwie ma dodatkowo minimalizować potliwość stopy poprzez posiadanie wypustków po wewnętrznej stronie podbicia, dzięki czemu stworzona będzie poduszka powietrzna między stopą i powierzchnią wewnętrzną buta. Obuwie powinno być wyposażone w wypustki na powierzchni styku ze stopą, przyczyniające się do podniesienia komfortu użytkowania obuwia, poprzez masowanie powierzchni stopy oraz poprawiające krążenie krwi. Obuwie ma zapewnić bezpieczeństwo użytkowania dzięki płaskiej, urzeźbionej podeszwie, zapewniającej antypoślizgowość i podniesionej części tylnej w celu zabezpieczenia stopy przed wysunięciem się. Obuwie ma zapewnić łatwą identyfikację rozmiaru zapewnioną dzięki wytłoczeniu rozmiaru buta na jego pięcie. Pełna rozmiarówka do wyboru przy zakupie. Gwarancja na 2 lata. Kolor zielony i niebieski. Obuwie nadające się do prania w temperaturze 90 st. C i sterylizacji w temperaturze 134 st. C. | C6: para | D6: 30
B7: RAZEM
B10: Data | H10: Podpis osoby/osób upoważnionej
B11: ……………………………………………. | H11: ……………………………….

Sheet Zad.74
B1: ZOZ/DZP/PN/23/25
B2: Załącznik Nr: 9
B3: Zadanie nr: 74 - Ostrza do strzygarek
A4: Lp | B4: Nazwa produktu | C4: Jednostka | D4: Ilość | E4: Cena jednostkowa netto | F4: Wartość netto | G4: VAT | H4: Cena jednostkowa brutto | I4: Wartość brutto | J4: Producent/Nazwa handlowa/Numer katalogowy
A5: 1 | B5: Ostrza jednokrotnego użytku o szerokości 38mm umożliwiające wymianę bezdotykowo, kompatybilne z posiadaną strzygarką 3M model 9661 | C5: op=50szt | D5: 30
A6: 2 | B6: Strzygarka pozwalająca na użytkowanie ostrzy z pozycji 1 | C6: szt | D6: 6
A7: 3 | B7: Ładowarka do strzygarki z pozycji 2 | C7: szt | D7: 6
B8: RAZEM
B12: Data | H12: Podpis osoby/osób upoważnionej
B13: ……………………………………………. | H13: ……………………………….

Sheet Zad 75
B1: ZOZ/DZP/PN/23/25
B2: Załącznik Nr: 9
A3: Zadanie nr: 75 - Pieluchy dla dzieci
A4: Lp. | B4: Nazwa produktu | C4: Jednostka miary | D4: Ilość | E4: Cena jednostkowa [zł] netto | F4: Wartość [zł] netto | G4: VAT | H4: Cena jednostkowa [zł] brutto | I4: Wartość [zł] brutto | J4: Producent/Model/Nr katalogowy
A5: 1 | B5: Pieluszki dla dzieci oddychająca warstwie zewnętrzna zapewniająca stały dostęp powietrza do delikatnej skóry dziecka. Superchłonny wkład pokryty miękką włókniną o strukturze mikrooczek - która dzięki swej budowie umożliwia wchłanianie nie tylko moczu, ale i wolnych stolców. Pieluszki z wycięciem na kikut pępowinowy. Elastyczne falbanki znajdujące się wewnątrz po bokach pieluszki. Mocne rzepy - zapięcia wielokrotnego użytku zapewniające właściwe mocowanie pieluszki. Brak elementów lateksowych i chlorowanych, dla dzieci o wadze od 2 do 5 kilogramów, | C5: szt | D5: 2100
A6: 2 | B6: Pieluszki dla dzieci oddychająca warstwie zewnętrzna zapewniająca stały dostęp powietrza do delikatnej skóry dziecka. Superchłonny wkład pokryty miękką włókniną o strukturze mikrooczek - która dzięki swej budowie umożliwia wchłanianie nie tylko moczu, ale i wolnych stolców. Elastyczne falbanki znajdujące się wewnątrz po bokach pieluszki. Mocne rzepy - zapięcia wielokrotnego użytku zapewniające właściwe mocowanie pieluszki. Brak elementów lateksowych i chlorowanych dla dzieci o wadze od 3 do 6 kilogramów, o wadze od 8 do 18 kilogramów, o wadze od 9 do 20 kilogramów. Do wyboru przy zakupie. | C6: szt | D6: 500
B7: Razem
B10: Data | G10: Podpis osoby/osób upoważnionej
B11: ……………………………………………. | H11: ……………………………….

Sheet Zad.76
B1: ZOZ/DZP/PN/23/25
B2: Załącznik Nr: 9
A3: Zadanie nr: 76 - Wzierniki i szczoteczki ginekologiczne
A4: Lp. | B4: Nazwa produktu | C4: Jednostka miary | D4: Ilość | E4: Cena jednostkowa netto | F4: Wartość netto | G4: VAT | H4: Cena jednostkowa brutto | I4: Wartość brutto | J4: Producent/Nazwa handlowa/Numer katalogowy
A5: 1 | B5: Wziernik ginekologiczny, dopochwowy, sterylny, jednorazowy, rozmiar od XXS, XS, S, M do L | C5: szt. | D5: 11000
A6: 2 | B6: Szczoteczka cytologiczna sterylna typu „grzebyk”, „wachlarz”. | C6: szt. | D6: 2500
A7: 3 | B7: Szczoteczka cytologiczna sterylna typu „spiralka” | C7: szt. | D7: 600
B8: RAZEM
B11: Data | H11: Podpis osoby/osób upoważnionej
B12: ……………………………………………. | H12: ……………………………….

Sheet Zad. 77
B1: ZOZ/DZP/PN/23/25
B2: Załącznik Nr: 9
A3: Zadanie nr: 77 – Fartuch RTG
A4: Lp. | B4: Nazwa produktu | C4: Jednostka miary | D4: Ilość | E4: Cena jednostkowa[zł] netto | F4: Wartość [zł] netto | G4: VAT | H4: Cena jednostkowa [zł] brutto | I4: Wartość [zł] brutto | J4: Producent/Model/Nr katalogowy
A5: 1 | B5: Fartuch chirurgiczny zabezpieczający przód i boki użytkownika. Skrzyżowane na plecach pasy mocujące z zakończeniem typu rzep służą do zapięcia fartucha w pasie. Fartuch łatwy w zdejmowaniu z przeznaczeniem do użycia na salach operacyjnych. Model: z dwuwarstwowego bezołowiowego materiału typu EDGE BILAYER z równoważnikiem osłabienia promieniowania: z przodu: 0,50 mm Pbw rozmiarach: Obwód kladki piersiowej 97-108(cm), 109-120(cm), pow. 120(cm) Wzrost: 159-170cm, 171-182 cm. Do wyboru przy zakupie. | C5: szt | D5: 2
A6: 2 | B6: Osłona chroniąca obszar szyi podczas ekspozycji rentgenowskiej. Wykonana w formie stójki ze „śliniakiem” z zapięciem typu „rzep”. Model: z materiału dwuwarstwowego bezołowiowego typu EDGE BILAYER Z równoważnikiem osłabienia promieniowania: 0,50 mm Pb w rozmiarach: M, L do wyboru przy zakupie. | C6: szt | D6: 2
B7: RAZEM
B10: Data | H10: Podpis osoby/osób upoważnionej
B11: ……………………………………………. | H11: ……………………………….

Sheet Zad.78
B1: ZOZ/DZP/PN/23/25
B2: Załącznik Nr: 9
A3: Zadanie nr: 78 - Paski do glukometrów
A4: Lp. | B4: Nazwa produktu | C4: Jednostka miary | D4: Ilość | E4: Cena jednostkowa netto | F4: Wartość netto | G4: VAT | H4: Cena jednostkowa brutto | I4: Wartość brutto | J4: Producent/Nazwa handlowa/Numer katalogowy
A5: 1 | B5: Paski do glukometru do pomiaru stężenia glukozy w krwi włośniczkowej, żylnej, tętniczej i noworodkowej, ze względów epidemiologicznych pakowane pojedynczo, | C5: op. 100pasków | D5: 600
B6: RAZEM
A9: Paski do glukometrów z pozycji 1 mają być: pakowane pojedynczo w celu zapobiegnięcia zanieczyszczeniu paska, objętość próbki krwi 0,5μl, każde opakowanie pasków może posiadać chip, zakres hematokrytu 0%-70%, metoda enzymatyczna GDH-NAD lub GDH-FAD, Zakres pomiaru 10-600 mg/dL
A11: Należy dostarczyć 50szt. glukometrów których cena ma być wliczona w cenę pasków
A12: Glukometry mają posiadać czujnik minimalnej objętości próbki krwi, kodowany chipem lub nie z opakowania pasków testowych, posiada zabezpieczenie w postaci komunikatu o nieprawidłowej dacie przydatności do użycia przy kodowaniu chipem. Pomiar powinien się odbywać do 5 sekund.
B17: Data | H17: Podpis osoby/osób upoważnionej
B18: ……………………………………………. | H18: ……………………………….

Sheet Zad.79
B2: ZOZ/DZP/PN/23/25
B3: Załącznik Nr: 9
A4: Zadanie nr: 79 - Worki i narzędzia do laparoskopii.
A5: Lp. | B5: Nazwa produktu | C5: Jednostka miary | D5: Ilość | E5: Cena jednostkowa netto | F5: Wartość netto | G5: VAT | H5: Cena jednostkowa brutto | I5: Wartość brutto | J5: Producent/Nazwa handlowa/Numer katalogowy
A6: 1 | B6: Worek laparoskopowy ekstrakcyjny, jednorazowego użytku, z samorozprężającym drutem, z pamięcią kształtu, tuba odłączana, pojemność 200ml, wym. 95x161 mm, dedykowany do płaszczy trokarów o śr. 10/12mm (op. 10szt.) | C6: op.=10szt | D6: 50
A7: 2 | B7: Kleszcze grasper laparoskopowy CLAW jednorazowego użytku, kompletny, obrotowe 360 stopni.Obie bransze aktywne,pełne, narzędzie na powierzchni bransz wyposażone we wsteczne zęby chwytne a część dystalna zakończona zębami 1x2, rączka plastikowa z blokada na palec wskazujący, śr. 5mm, dł. 330mm, dł. bransz 16,5mm 1op (12 szt.) | C7: op.=12szt | D7: 2
A8: 3 | B8: Disektor laparoskopowy MARYLAND, narzędzie kompletne, obrotowe 360 stopni, jednorazowego użytku. Obie bransze aktywne, zakrzywione w lewo, delikatne, rączka plastikowa bez blokady, sr. 5mm, dł. bransz 19mm, dł. robocza 330mm (op.12 szt.) | C8: op.=12szt | D8: 2
A9: 4 | B9: Uszczelka silikonowa wewntrzna do trokarów Easyport, 10-12,5mm | C9: Op=5 szt | D9: 4
A10: 5 | B10: Uszczelka silikonowa wewntrzna do trokarów Easyport, 5mm | C10: Op=5 szt | D10: 2
A11: 6 | B11: Nożyczki laparoskopowe monopolarne, jednorazowego użytku, zagięte,obrotowe 360 stopni, rączka bez blokady, dł. 330mm, dł. ostrzy 17mm, śr. 5mm (op.5szt.). Wymóg posiadania w ofercie ww.nożyczek o dł.450mm oraz 330mm z branszami o dł.12mm | C11: op=5szt | D11: 7
A12: 7 | B12: Płaszcz trokara, jednorazowego użytku, karbowany, z uszczelką oraz kranikiem do insuflacji, o śr. 5mm i dł. 100mm, w komplecie z bezpiecznym gwoździem trokara w postaci płaskiego wysuwanego nożą w kształcie litery "V", aktywacja za pomocą oznaczonego kolorystycznie przycisku na rękojeści gwoździa, dedykowanym do płaszcza o śr. 5mm (op./5 szt.). Każdy płaszcz i gwóźdź znakowanie średnicy kaniuli. | C12: op=5szt | D12: 2
A13: 8 | B13: Zestaw dwóch płaszczy trokara jednorazowego użytku o śr. 10 mm oraz dł. tubusa 100 mm, w komplecie z gwoździem bezpiecznym trokara, z samocofającym się ostrzem. Płaszcze karbowane, przezroczyste, z opisem średnicy, posiadający uszczelkę oraz kranik do insuflacji. Płaszcze 2 – częściowe z odłączaną auto redukcją. Gwóźdź z opisem średnicy, plastikowy posiadający wysuwane metalowe ostrze. Uszczelki dolna oraz górna pokryte dodatkowo warstwą teflonu zmniejszającą tarcie podczas aplikacji i ekstrakcji narzędzi o dużych średnicach (op./5 szt.). Możliwość oferowania samej auto-redukcji. | C13: op=5szt | D13: 2
A14: 9 | B14: Płaszcz trokara, jednorazowego użytku, karbowany, z uszczelką oraz kranikiem do insuflacji, o śr. 10mm i dł. 100mm, w komplecie z bezpiecznym gwoździem trokara w postaci płaskiego wysuwanego nożą w kształcie litery "V", aktywacja za pomocą oznaczonego kolorystycznie przycisku na rękojeści gwoździa, dedykowanym do płaszcza o śr. 10mm (op./5 szt.).do wyboru przy zakupie. Płaszcz wyposażony w autoredukcję do śr.5mm. Każdy płaszcz i gwóźdź znakowanie średnicy kaniuli. | C14: op=5szt | D14: 5
A15: 10 | B15: Płaszcz trokara, jednorazowego użytku, karbowany, z uszczelką oraz kranikiem do insuflacji, o śr. 12mm i dł. 100mm, w komplecie z bezpiecznym gwoździem trokara w postaci płaskiego wysuwanego noża w kształcie litery "V", aktywacja za pomocą oznaczonego kolorystycznie przycisku na rękojeści gwoździa, dedykowanym do płaszcza o śr. 12mm (op./5 szt.).do wyboru przy zakupie. Płaszcz wyposażony w autoredukcję do śr.5mm. Każdy płaszcz i gwóźdź znakowanie średnicy kaniuli. | C15: op=5szt | D15: 5
A16: 11 | B16: Płaszcz trokara, dedykowany do narzędzi o śr.5mm, wykonany z tworzywa sztucznego PEEK i PPSU, wielorazowego użytku, bez limitu cykli sterylizacji, 3-częściowy, z metalowym i rozbieralnym zaworem do insuflacji. Wyposażony w uszczelkę wewnętrzną silikonową w kształcie "stożka”, kaniula skośna i gwintowana, dł.kaniuli 10cm. | C16: szt. | D16: 1
A17: 12 | B17: Płaszcz trokara, dedykowany do narzędzi o śr.10mm, wykonany z tworzywa sztucznego PEEK i PPSU, wielorazowego użytku, bez limitu cykli sterylizacji, 3-częściowy, z metalowym i rozbieralnym zaworem do insuflacji. Wyposażony w uszczelkę wewnętrzną silikonową w kształcie "stożka”, kaniula skośna i gwintowana, dł.kaniuli 10cm. | C17: szt. | D17: 1
... A34: 29 | B34: Światłowód w osłonie medyczny wnieprzeżroczystej osłonie śr.3,5mm,dł.3 m światłowód | C34: szt. | D34: 1
B35: RAZEM
B37: Data | H37: Podpis osoby/osób upoważnionej
B38: ……………………………………………. | H38: ……………………………….

Sheet Zad. 80
B2: ZOZ/DZP/PN/23/25
B3: Załącznik Nr: 9
A4: Zadanie nr: 80- Worki do stomii
A5: Lp. | B5: Nazwa produktu | C5: Jednostka miary | D5: Ilość | E5: Cena jednostkowa netto | F5: Wartość netto | G5: VAT | H5: Cena jednostkowa brutto | I5: Wartość brutto | J5: Producent/Model/Nr katalogowy
A6: 1 | B6: Worek jednoczęściowy, do stomii otwarty ( płaski przylepiec, hydrokoloidowy) | C6: szt | D6: 50
A7: 2 | B7: Worek jednoczęściowy, do stomii otwarty ( przylepiec wypukły typu convex), min. 3 rodzaje z systemem zapobiegającym podciekaniu, | C7: szt | D7: 50
A8: 3 | B8: Worek dwuczęściowy, do stomii otwarty | C8: szt | D8: 50
A9: 4 | B9: Przylepiec do worków stomijnych dwuczęściowych ( płaski przylepiec, hydrokoloidowy) | C9: szt | D9: 50
A10: 5 | B10: Worek dwuczęściowy, do stomii otwarty, | C10: szt | D10: 50
A11: 6 | B11: Przylepiec do worków stomijnych dwuczęściowych do stomii otwarty ( przylepiec wypukły typu convex) min. 2 rodzaje z systemem zapobiegającym podciekaniu, | C11: szt | D11: 50
A12: 7 | B12: Cewnik zewnętrzny, silikonowy, samoprzylepny jednoczęściowy w rozmiarach od 23 do 40mm, 5 rozmiarów do wyboru. | C12: szt | D12: 50
A13: 8 | B13: Przylepiec do worków urostomijnych dwuczęściowych do stomii otwarty ( przylepiec wypukły typu convex) min. 2 rodzaje z systemem zapobiegającym podciekaniu, | C13: szt | D13: 45
A14: 9 | B14: Worek dwuczęściowy, do urostomii otwarty. | C14: szt | D14: 50
B15: Razem
B18: Data | H18: Podpis osoby/osób upoważnionej
B19: ……………………………………………. | H19: ……………………………….

Sheet Zad 81
B1: ZOZ/DZP/PN/23/25
B2: Załącznik Nr: 9
A3: Zadanie nr: 81 – System oznakowania
A4: Lp. | B4: Nazwa produktu | C4: Jednostka miary | D4: Ilość | E4: Cena jednostkowa[zł] netto | F4: Wartość [zł] netto | G4: VAT | H4: Cena jednostkowa [zł] brutto | I4: Wartość [zł] brutto | J4: Producent/Model/Nr katalogowy
A5: SYSTEM ZNAKOWANIA STRZYKAWEK
A6: System składający się z pojedynczych, plastikowych kartridżów z samoprzylepnymi etykietami kodowanymi kolorami. Pojedyncze kartridże można ze sobą łączyć i rozdzielać według potrzeb za pomocą zaczepów. Etykiety zgodne z międzynarodowym kodem koloru, który odpowiada konspektowi międzynarodowych standardów proponowanych przez Amerykańskie Stowarzyszenie Analiz i Materiałów D4777-94. Samoprzylepne dozowanie pozwala na obsługę jednoręczną. Etykiety oznaczone substancją czynną.
A7: 1 | B7: Jeden kartridż zawiera 600 etykiet | C7: szt. | D7: 80
A8: 2 | B8: Uchwyt metalowy lakierowany proszkowo, odporny na działanie środków dezynfekcyjnych, łatwy do utrzymania czystości, mieszczący 7 kartridży | C8: szt. | D8: 3
A9: 3 | B9: Uchwyt metalowy lakierowany proszkowo, odporny na działanie środków dezynfekcyjnych, łatwy do utrzymania czystości, mieszczący 11 kartridży | C9: szt. | D9: 3
A10: 4 | B10: Rampa metalowa lakierowana proszkowo, odporna na działanie środków dezynfekcyjnych, mieszcząca 7 strzykawek. | C10: szt. | D10: 3
A11: SYSTEM ZNAKOWANIA LINII DO KROPLÓWEK | F11: =E11*D11 -> 0
A12: System składający się z pojedynczych, plastikowych kartridżów z samoprzylepnymi etykietami kodowanymi kolorami. Pojedyncze kartridże można ze sobą łączyć i rozdzielać według potrzeb za pomocą zaczepów. Etykiety zgodne z międzynarodowym kodem koloru, który odpowiada konspektowi międzynarodowych standardów proponowanych przez Amerykańskie Stowarzyszenie Analiz i Materiałów D4777-94. Samoprzylepne dozowanie pozwala na obsługę jednoręczną. Etykiety oznaczone substancją czynną. | F12: =E12*D12 -> 0
A13: 5 | B13: Jeden kartridż zawiera 200 etykiet | C13: szt. | D13: 80
B14: Razem
A18: Data | F18: Podpis osoby/osób upoważnionej
A19: ……………………………………………. | F19: ……………………………….

Sheet Zad 82
B1: ZOZ/DZP/PN/23/25
B2: Załącznik Nr: 9
A3: Zadanie nr: 82 – System zamknięty do odsysania pacjenta
A4: Lp. | B4: Nazwa produktu | C4: Jednostka | D4: Ilość | E4: Cena jednostkowa netto | F4: Wartość Netto | G4: VAT | H4: Cena jednostkowa brutto | I4: Wartość brutto | J4: Producent/Model/Nr katalogowy
A5: 1 | B5: System zamknięty do odsysania pacjenta o czasie użytkowania do min. 72 godz., do rurek intubacyjnych o dł. 54cm i tracheostomijnych o dł. 30,5cm, podwójnie obrotowy łącznik, samodomykająca się zastawka komory płuczącej oddzielająca samoistnie cewnik od pacjenta, możliwość rozdwojenia drenów poprzez pełną kompatybilność z łącznikiem Y poniżej, port typu MDI do wziewnej podaży ciśnieniowej aerozoli, w jednym zestawie osobno zapakowane min.12 fiolek soli fizjologicznej a 15ml. Rozmiary do wyboru przy zakupie Ch 14 i Ch16. | C5: szt. | D5: 1000
A6: 2 | B6: Zestaw dwóch łączników do zamkniętego systemu do odsysania pacjenta: jednopłaszczyznowy łącznik Y umożliwiający rozdwojenie drenów oraz łącznik z bezkontaktową zastawka do kontroli odsysania (jeden koniec gładki, drugi schodkowy), pakowany w komplecie w worek foliowy lub opakowanie folia/papier, produkt sterylny lub mikrobiologicznie czysty. Kompatybilny z poz 1 | C6: szt. | D6: 1000
A7: 3 | B7: Fiolka soli fizjologicznej o poj 15ml do płukania zamknietego systemu do odsysania pacjenta z zakończeniem kompatybilnym z portem do płukania zaoferowanego systemu z poz 1 | C7: szt. | D7: 2000
B8: Razem
B11: Data | G11: Podpis osoby/osób upoważnionej
B12: ……………………………………………. | G12: ……………………………….

Sheet Zad.83
B1: ZOZ/DZP/PN/23/25
B2: Załącznik Nr: 9
A3: Zadanie nr: 83 – Laryngoskopy jednorazowe.
A4: Lp. | B4: Nazwa produktu | C4: Jednostka miary | D4: Ilość | E4: Cena jednostkowa[zł] netto | F4: Wartość [zł] netto | G4: VAT | H4: Cena jednostkowa [zł] brutto | I4: Wartość [zł] brutto | J4: Producent/Nazwa handlowa/Numer katalogowy
A5: 1 | B5: Jednorazowa łyżka do laryngoskopu, światłowodowa, typ Macintosh. Łyżka wykonana z chirurgicznej stali nierdzewnej, kompatybilna z rękojeściami w standardzie ISO 7376 (tzw. Zielony Standard). Antyrefleksyjna, satynowa powierzchnia. Końcówka łyżki od strony pacjenta atraumatyczna, zaokrąglona (przekrój w formie walca), pogrubiona. Światłowód osłonięty, zapewniający mocne skupienie światła. Stopka mocująca wykonana z tworzywa sztucznego w kolorze zielonym, połączona z łyżką wspawanym wewnątrz hakiem ze stali nierdzewnej widocznym na zewnątrz. Mocowanie łyżki w rękojeści sprężynowym zatrzaskiem kulkowym w postaci 2 kulek stabilizujących oraz metalowym hakiem wewnątrz stopki. Łyżka przetestowana pod kątem wytrzymałości w połączeniu z rękojeścią siłą nacisku 20 kg (Potwierdzić oświadczeniem producenta - załączyć do oferty) Na górnej części łyżki wyraźnie oznaczony: rozmiar i typ łyżki, symbol CE, numer katalogowy, symbol „nie do powtórnego użycia” (przekreślona cyfra 2). Na bocznej części łyżki logo z nazwą producenta. Rozmiar łyżki - kodowany kolorem na opakowaniu / dł. x szer.: #0 - czerwony / dł. 61.0 mm x szer. 8.5 mm #1 - biały / dł. 75 mm x szer. 11.5 mm #2 - niebieski / dł. 93.0 mm x szer. 12.5 mm #3 - żółty / dł. 110.0 mm x szer. 13.5 mm #4 - różowy / dł. 135.0 mm x szer. 14.0 mm #5 - zielony / dł. 156.0 mm x szer. 14.0 mm Opakowanie jednostkowe - podwójna folia. Łatwe do otwarcia saszetki, oznaczone symbolem strzałki, wskazującym miejsce otwarcia opakowania. Na opakowaniu jednostkowym etykieta zawierająca: rozmiar, długość i typ łyżki, nr katalogowy, nr seryjny (LOT) oraz w postaci kodu QR. Opakowanie oznaczone nazwą i logiem producenta. Produkt bez zawartości lateksu, czysty mikrobiologicznie. | C5: szt | D5: 100
A6: 2 | B6: Jednorazowa łyżka do laryngoskopu, światłowodowa, typ Miller. Łyżka wykonana z chirurgicznej stali nierdzewnej, kompatybilna z rękojeściami w standardzie ISO 7376 (tzw. zielony standard). Antyrefleksyjna, satynowa powierzchnia. Łyżka w kształcie rynienki. Końcówka łyżki od strony pacjenta atraumatyczna, płaska z zaokrągloną krawędzią. Światłowód osłonięty, zapewniający mocne skupienie światła. Stopka mocująca wykonana z tworzywa sztucznego w kolorze zielonym połączona z łyżką wspawanym wewnątrz hakiem ze stali nierdzewnej widocznym na zewnątrz. Mocowanie łyżki w rękojeści sprężynowym zatrzaskiem kulkowym w postaci 2 kulek stabilizujących oraz metalowym hakiem wewnątrz stopki. Łyżka przetestowana pod kątem wytrzymałości w połączeniu z rękojeścią siłą nacisku 20 kg. (Potwierdzić oświadczeniem producenta - załączyć do oferty) Na górnej części łyżki wyraźnie oznaczony: rozmiar i typ łyżki, symbol CE, numer katalogowy, symbol „nie do powtórnego użycia” (przekreślona cyfra 2), logo z nazwą producenta. Rozmiar łyżki - kodowany kolorem na opakowaniu / dł. x szer.: #00- morski / dł. 44.0 mm x szer. 10.5 mm #0 - fioletowy / dł. 55.0 mm x szer. 10.5 mm #1 - pomarańczowy / dł. 81.0 mm x szer. 10.5 mm #2 - szary / dł. 131.0 mm x szer. 13.0 mm #3 - łososiowy / dł. 171.0 mm x szer. 13.0 mm #4 - grafitowy / dł. 182.0 mm x szer. 17.0 mm Opakowanie jednostkowe - podwójna folia. Łatwe do otwarcia saszetki. Na opakowaniu jednostkowym oznaczony: rozmiar, długość i typ łyżki, nr katalogowy, nr seryjny (LOT), nazwa i logo producenta. Produkt bez zawartości lateksu, czysty mikrobiologicznie. | C6: szt | D6: 100
A7: 3 | B7: Jednorazowa łyżka do laryngoskopu, światłowodowa, do trudnych intubacji typ McCoy (ruchoma końcówka łyżki). Łyżka wykonana z chirurgicznej stali nierdzewnej, kompatybilna z rękojeściami w standardzie ISO 7376 (tzw. Zielony Standard). Antyrefleksyjna, satynowa powierzchnia. Końcówka łyżki od strony pacjenta atraumatyczna, zaokrąglona (przekrój w formie walca), pogrubiona. Światłowód osłonięty, zapewniający mocne skupienie światła. Stopka mocująca wykonana z tworzywa sztucznego w kolorze zielonym, połączona z łyżką wspawanym wewnątrz hakiem ze stali nierdzewnej widocznym na zewnątrz. Mocowanie łyżki w rękojeści sprężynowym zatrzaskiem kulkowym w postaci 2 kulek stabilizujących oraz metalowym hakiem wewnątrz stopki. Łyżka przetestowana pod kątem wytrzymałości w połączeniu z rękojeścią siłą nacisku 20 kg. (Potwierdzić oświadczeniem producenta - załączyć do oferty) Na górnej części łyżki wyraźnie oznaczony: rozmiar i typ łyżki, symbol CE, numer katalogowy, symbol „nie do powtórnego użycia” (przekreślona cyfra 2). Na bocznej krawędzi oznaczone logo z nazwą producenta. Rozmiar łyżki - kodowany kolorem na opakowaniu / dł. x szer.: #2 - niebieski / dł. 93.0 mm x szer. 12.5 mm #3 - żółty / dł. 110.0 mm x szer. 13.5 mm #4 - fioletowy / dł. 135.0 mm x szer. 14.0 mm Opakowanie jednostkowe - folia. Łatwe do otwarcia saszetki. Na opakowaniu jednostkowym podany: rozmiar, długość i typ łyżki, nr katalogowy, nr seryjny (LOT). Opakowanie oznaczone nazwą i logiem producenta. Produkt bez zawartości lateksu, czysty mikrobiologicznie. | C7: szt | D7: 25
A8: 4 | B8: Rękojeść do laryngoskopu, jednorazowa z zainstalowaną baterią o napięciu 6V oraz wbudowanym źródłem światła - LED, gotowa do użytku po wyjęciu z opakowania. Rękojeść metalowa z podłużnymi frezami zapewniającymi pewny chwyt, zakończona zakrętką z tworzywa sztucznego w kolorze zielonym, identyfikującą tzw. zielony standard ISO 7376. Rękojeść po użyciu umożliwiająca szybkie wyjęcie baterii w celu ich bezpiecznej utylizacji. Przetestowana pod kątem wytrzymałości w połączeniu z łyżką siłą nacisku 20 kg. (Potwierdzić oświadczeniem producenta - załączyć do oferty) Na bocznych ściankach rękojeści oznaczenia tj: symbol CE, numer katalogowy, symbol „nie do powtórnego użycia” (przekreślona cyfra 2), logo i nazwa producenta. # rozmiar standard , krótka, pediatryczna Opakowanie folia. Możliwość przetestowania działania rękojeści bez jej otwierania. Łatwe do otwarcia saszetki, oznaczone symbolem strzałki, wskazującym miejsce otwarcia opakowania. Na opakowaniu jednostkowym etykieta zawierająca: rozmiar, nr katalogowy, datę ważności, nr serii (LOT), kod QR. Opakowanie oznaczone nazwą i logiem producenta. Produkt bez zawartości lateksu, czysty mikrobiologicznie. | C8: szt | D8: 100
A9: 5 | B9: Jednorazowy zestaw laryngoskopowy, nierozłączalny (łyżka połączona z rękojeścią na stałe), gotowy do użytku po wyjęciu z opakowania, zgodny z normą ISO 7376. W skład zestawu wchodzi: łyżka typ Macintosh z chirurgicznej stali nierdzewnej oraz rękojeść z tworzywa sztucznego z poprzecznymi frezami w postaci okręgów oraz zainstalowaną baterią 6V. Możliwość szybkiego i bezdotykowego wyjęcia baterii po użyciu w celu ich bezpiecznej utylizacji. Łyżka z wbudowanym źródłem światła typu LED o oraz antyrefleksyjną, satynową powierzchnią. Końcówka od strony pacjenta atraumatyczna, zaokrąglona (przekrój w formie walca), pogrubiona. Zestaw przetestowany pod kątem wytrzymałości połączenia siłą nacisku 15 kg. (Potwierdzić oświadczeniem producenta - załączyć do oferty) Na górnej części łyżki podane informacje tj.: rozmiar i typ łyżki, symbol CE, numer katalogowy, symbol „nie do powtórnego użycia” (przekreślona cyfra 2). Na bocznej krawędzi łyżki logo i nazwa producenta. Rozmiar zestawu - kodowany kolorem na opakowaniu / dł. x szer. /typ rękojeści: #0 - czerwony / dł. 61.0 mm x szer. 8.5 mm rękojeść pediatryczna #1 - biały / dł. 75.0 mm x szer. 11.5 mm rękojeść pediatryczna #2 - niebieski / dł. 93.0 mm x szer. 12.5 mm rękojeść dla dorosłych #3 - żółty / dł. 110.0 mm x szer. 13.5 mm rękojeść dla dorosłych #4 - różowy / dł. 135.0 mm x szer. 14.0 mm rękojeść dla dorosłych #5 - zielony / dł. 156.0 mm x szer. 14.0 mm rękojeść dla dorosłych Możliwości sprawdzenia wszystkich elementów oraz poprawności działania zestawu w opakowaniu bez potrzeby jego otwierania. Opakowanie jednostkowe foliowe. Łatwe do otwarcia saszetki, oznaczone symbolem strzałki, wskazującym miejsce otwarcia opakowania. Na opakowaniu jednostkowym etykieta zawierająca: rozmiar, długość i typ łyżki, typ rękojeści, nr katalogowy, datę ważności, nr serii (LOT), kod QR. Opakowanie oznaczone nazwą i logiem producenta. Okres ważności 3 lata. Produkt czysty mikrobiologicznie. | C9: szt | D9: 100
