Workbook
Name Excel_BuiltIn_Print_Area: 'Zadanie nr 7'!$A$1:$J$1
Name Excel_BuiltIn_Print_Area_14_1: #REF!
Name Excel_BuiltIn_Print_Area_16_1: #REF!
Name Excel_BuiltIn_Print_Area_17_1: #REF!
Name Excel_BuiltIn_Print_Area_18_1: #REF!
Name Excel_BuiltIn_Print_Area_19_1: #REF!
Name Excel_BuiltIn_Print_Area_2_1: 'Zadanie nr 2'!$A$3:$I$20
Name Excel_BuiltIn_Print_Area_22_1: #REF!
Name Excel_BuiltIn_Print_Area_22_1_1: #REF!
Name Excel_BuiltIn_Print_Area_24_1: #REF!
Name Excel_BuiltIn_Print_Area_3_1: #REF!
Name Excel_BuiltIn_Print_Area_3_1_1: 'Zadanie nr 3'!$A$3:$J$29
Name Excel_BuiltIn_Print_Area_3_1_1_1: 'Zadanie nr 3'!$A$3:$J$28
Name Excel_BuiltIn_Print_Area_4_1: 'Zadanie nr 4'!$A$3:$J$13
Name Excel_BuiltIn_Print_Area_5_1: #REF!
Name Excel_BuiltIn_Print_Area_6_1: 'Zadanie nr 6'!$A$3:$J$10
Name Excel_BuiltIn_Print_Area_7_1: 'Zadanie nr 7'!$A$3:$J$7
Name Excel_BuiltIn_Print_Titles_17: #REF!
Name Print_Area_0: #REF!
Name Print_Area_0: #REF!
Name Print_Area_0: #REF!
Name Print_Area_0: #REF!
Name Print_Area_0: #REF!
Name Print_Area_0: #REF!
Name Print_Area_0: #REF!

Sheet Zadanie nr 1
A1: Załacznik nr 9 do SWZ
A2: ZOZ/DZP/PN/21/26
A3: Zadanie nr 1- Leki różne
A4: Lp. | B4: Nazwa produktu | C4: Jednostka miary | D4: Ilość | E4: Cena jednostkowa[zł] netto | F4: Wartość [zł] netto | G4: VAT | H4: Cena jednostkowa [zł] brutto | I4: Wartość [zł] brutto | J4: EAN
A5: 1 | B5: Acarbosum 50 mg | C5: op. 30 tabl | D5: 5
A6: 2 | B6: Acetylcysteinum inj. iv. lub dooskrzelowo (roztwór) 300 mg/3 ml | C6: porcja po 5 amp. 3 ml | D6: 150
A7: 3 | B7: Acetylcysteinum tabl musujące. 200 mg | C7: porcja po 20 szt. | D7: 10
A8: 4 | B8: Acetylcysteinum tabl. musujące 600 mg | C8: porcja po 10 tabl. | D8: 100
A9: 5 | B9: Aciclovirum 800mg | C9: porcja po 30 szt | D9: 16
A10: 6 | B10: Aciclovir 250mg inj | C10: porcja po 5 fiol. | D10: 15
A11: 7 | B11: Acidum aceticum dilutum 3% | C11: porcja po 100ml | D11: 15
A12: 8 | B12: Acidum aceticym + Delphinum consolida | C12: butelka po 100ml | D12: 7
A13: 9 | B13: Acidum acetylsalicylicum tabl. 75 mg | C13: porcja po 60 tabl. | D13: 100
A14: 10 | B14: Acidum acetylsalicylicum tabl. powl. dojelitowe 150 mg | C14: porcja po 60 tabl. | D14: 30
A15: 11 | B15: Acidum acetylsalicylicum tabl 300 mg | C15: porcja po 20tabl | D15: 2
A16: 12 | B16: Acidum acetylsalicylicum tabl 500 mg | C16: porcja po 10 tabl. | D16: 2
... A382: 378 | B382: Zuclopenthixol 50 mg / 1 ml inj roztw.d/wstrz | C382: op. 5 amp | D382: 3
B383: RAZEM
B385: ………………………………………………….. | E385: ……………………………………………
B386: Data | E386: Podpis osoby/osób uprawnionej

Sheet Zadanie nr 2
A1: Załacznik nr 9 do SWZ
A2: ZOZ/DZP/PN/21/26
A3: Zadanie nr 2 - Płyny infuzyjne 2
A4: Lp. | B4: Nazwa produktu | C4: Jednostka miary | D4: Ilość | E4: Cena jednostkowa[zł] netto | F4: Wartość [zł] netto | G4: VAT | H4: Cena jednostkowa [zł] brutto | I4: Wartość [zł] brutto | J4: Producent/Nazwa handlowa | K4: EAN
A5: 1 | B5: Aqua rozpuszczalnik do iniekcji | C5: porcja po 100 poj. 10 ml | D5: 200
A6: 2 | B6: Natrii chloridum inj. iv. 100 mg/ml ampułki plastikowe 10ml | C6: porcja po 1 op. 100szt | D6: 25
A7: 3 | B7: Natrii chloridum inj. (roztwór) 9 mg/ml ampułki bezigłowe | C7: porcja po 50 poj. 10 ml | D7: 800
A8: 4 | B8: Aqua rozpuszczalnik do iniekcji | C8: worek porcja po 100ml | D8: 500
A9: 5 | B9: Aqua rozpuszczalnik do iniekcji | C9: porcja po 500ml | D9: 2300
A10: 6 | B10: Aqua rozpuszczalnik do iniekcji | C10: porcja po 100ml | D10: 240
A11: 7 | B11: Glucosum inj. iv. (roztwór) 100 mg/ml | C11: szt. płyn 10% 100ml | D11: 520
A12: 8 | B12: Glucosum inj. iv. (roztwór) 50 mg/ml | C12: szt. płyn 5%. 100 ml | D12: 600
A13: 9 | B13: Glucosum | C13: szt. płyn 5% 250 ml | D13: 1350
A14: 10 | B14: Glucosum | C14: szt. płyn 5% 500 ml | D14: 8000
A15: 11 | B15: Solutio Ringeri | C15: szt. płyn 500 ml | D15: 3900
A16: 12 | B16: Solutio Ringeri | C16: szt. płyn 1000 ml | D16: 940
... A28: 24 | B28: Mannitolum inj. iv. (roztwór) 200 mg/ml | C28: porcja po 1 but. 250 ml | D28: 50
B29: RAZEM
B31: …W pozycjach 5-22 Zamawiający wymaga flakonu posiadającego dwa różnej wielkości samouszczelniające się porty, nie wymagające dezynfekcji przed pierwszym użyciem zgodnie z ChPL……………………………………………..
B33: ………………………………………………….. | F33: ……………………………………………
B34: Data | F34: Podpis osoby/osób uprawnionej

Sheet Zadanie nr 3
A1: Załacznik nr 9 do SWZ
A2: ZOZ/DZP/PN/21/26
A3: Zadanie nr 3 - Płyny infuzyjne 3
A4: Lp. | B4: Nazwa produktu | C4: Jednostka miary | D4: Ilość | E4: Cena jednostkowa[zł] netto | F4: Wartość [zł] netto | G4: VAT | H4: Cena jednostkowa [zł] brutto | I4: Wartość [zł] brutto | J4: Producent/Nazwa handlowa | K4: EAN
A5: 1 | B5: Woda jałowa do przepłukiwań | C5: butelka zakręcana 1000ml | D5: 600
A6: 2 | B6: Natrium chloratum płyn do infuzji | C6: szt. płyn 0,9% 100 ml | D6: 42000
A7: 3 | B7: Natrium chloratum płyn do infuzji | C7: szt. płyn 0,9% 250 ml | D7: 14000
A8: 4 | B8: Natrium chloratum płyn do infuzji | C8: szt. płyn 0,9% 500 ml | D8: 12000
A9: 5 | B9: Natrium chloratum płyn do infuzji | C9: szt. płyn 0,9% 1000 ml | D9: 2000
A10: 6 | B10: PWE (Na,K,Ca,Mg,Cl +octan) | C10: szt. płyn 250ml | D10: 1000
A11: 7 | B11: PWE (Na,K,Ca,Mg,Cl +octan) | C11: szt. płyn 500 ml | D11: 28000
A12: 8 | B12: PWE (Na,K,Ca,Mg,Cl + octan) | C12: szt. płyn 1000 ml | D12: 4500
A13: 9 | B13: Glucosum | C13: szt. płyn 10% 500 ml | D13: 400
A14: 10 | B14: Glucosum | C14: szt. płyn 40% 500 ml | D14: 120
A15: 11 | B15: Natrium chloratum do przepłukiwania 0,9% | C15: szt. płyn 100 ml | D15: 2200
A16: 12 | B16: Natrium chloratum do przepłukiwania 0,9% | C16: szt. płyn 250 ml | D16: 1500
... A25: 21 | B25: Lekko hipotoniczny płyn ze specjalnym wskazaniem do stosowania w przypadku mocno zwapnionych cewników. Typu Uro-Tainer Solutio Suby G Skład: Na 100 ml: kwas cytrynowy jednowodny 3,23 g, glukonolakton 0,6 g, łagodny tlenek magnezu 2,8 g, bikarbonat sodowy 0,7 g, wersenian disodowy 2H2O 0,01 g rozpuszczone w wodzie do wstrzykiwań. PH = 4 | C25: op=10flakonów x 100ml | D25: 10
B26: RAZEM
B29: Warunki wymagane:
B30: Poz 11-16 roztwór konfekcjonowany we flakonie stojącym typu „ampułka”
B31: Poz 2-10 flakon posiadający dwa jednakowe samouszczelniające się porty chronione aluminiowymi kapslami, nie wymagający dezynfekcji przy pierwszym użyciu, czytelna etykieta ze skalą w granicach 3-7 umożliwiającą monitoring podaży płynów z opakowania od 250 do 1000ml, dodatkowa przestrzeń do dodania leków minimum 70ml dla płynów infuzyjnych o pojemności 100ml, minimum 110ml dla płynów infuzyjnych o pojemności 250ml, minimum 150ml dla płynów infuzyjnych o pojemności 500ml i minimum 200ml dla pojemników o pojemności 1000ml
B33: ………………………………………………….. | F33: ……………………………………………
B34: Data | F34: Podpis osoby/osób uprawnionej

Sheet Zadanie nr 4
A1: Załacznik nr 9 do SWZ
A2: ZOZ/DZP/PN/21/26
A3: Zadanie nr 4 - Enoxaparinum
A4: Lp. | B4: Nazwa produktu | C4: Jednostka miary | D4: Ilość | E4: Cena jednostkowa[zł] netto | F4: Wartość [zł] netto | G4: VAT | H4: Cena jednostkowa [zł] brutto | I4: Wartość [zł] brutto | J4: Producent/Nazwa handlowa | K4: EAN
A5: 1 | B5: HDCz 2000 j.m. Anty Xa /20 mg | C5: Op=10 amp.strz | D5: 230
A6: 2 | B6: HDCz 4000 j.m. anty Xa/ 40mg | C6: Op=10 amp.strz | D6: 2000
A7: 3 | B7: HDCz 6000 j.m. anty Xa/ 60mg | C7: Op=10 amp.strz | D7: 600
A8: 4 | B8: HDCz 8000 j.m. anty Xa /80 mg | C8: Op=10 amp.strz | D8: 130
A9: 5 | B9: HDCz 10000 j.m. anty Xa 100 mg | C9: Op=10 amp.strz | D9: 13
A10: 6 | B10: HDCz 30000 j.m. anty Xa 300 mg/3ml | C10: fiol. | D10: 10
A11: 7 | B11: HDCz 15000 j.m.anty Xa 150mg/ml | C11: Op=10 amp.strz | D11: 10
A12: 8 | B12: HDCz 12000 j.m.anty Xa 120mg/0,8ml | C12: Op=10 amp.strz | D12: 10
B13: RAZEM
B16: ……………………………………….. | F16: ……………………………………………
B17: Data | F17: Podpis osoby/osób uprawnionej

Sheet Zadanie nr 5.
A1: Załącznik nr 9
A2: ZOZ/DZP/PN/21/26
A3: Zadanie nr 5 - Dostawa płynów i akcesoriów wraz z dzierżawą aparatu do ciągłych zabiegów nerkozastępczych i plazmaforezy
A4: Lp. | B4: Nazwa produktu | C4: Jednostka miary | D4: Ilość | E4: Cena jednostkowa[zł] netto | F4: Wartość [zł] netto | G4: VAT | H4: Cena jednostkowa [zł] brutto | I4: Wartość [zł] brutto | J4: Producent/Nazwa handlowa/Model
A5: 1 | B5: CRRT i ciągła płynoterapia prowadzone u pacjentów z ostrą niewydolnością nerek, nadmiernym obciążeniem płynami lub w obu wymienionych stanach. Zestaw- wielkość filtra 1,5m² | C5: zestaw | D5: 400
A6: 2 | B6: Roztwór do hemofiltracji/hemodializy stosowanay jako płyn substytucyjny i dializacyjny, w skład którego wchodzą: Na+ 140 mmol/l; K+ 4 mmol/l; Ca2+ 0 mmol/l; Mg2+ 0,75 mmol/l; Cl- 122 mmol/l; HCO3- 22 mmol/l; HP042- 1 mmol/l; osmolarność 290 mOsm/l; opakowanie: worek 5l, dwukomorowy, wyposażony w port luer oraz port iniekcyjny - oznakowany kolorowym kapslem | C6: szt | D6: 4000
A7: 3 | B7: Roztwór do hemofiltracji skład: cytrynian 18 mmol/l, Na+ 140 mmol/l, Cl- 86 mmol/l; teoretyczna osmolarność: 244 mOsm/l; opakowanie: worek 5l wyposażony w port luer oraz port iniekcyjny - oznakowany kolorowym kapslem | C7: szt | D7: 4300
A8: 4 | B8: Linia wapnia do przeprowadzania zabiegów cytrynianowo-wapniowych metodą antykoagulacji | C8: szt | D8: 400
A9: 5 | B9: Pozaustrojowy obwód jednorazowego użytku przeznaczony do stosowania w CRRT. Zestaw składający się z filtra kapilarnego do hemodializy/dializatora, z powierzchnią wewnętrzną trwale powleczoną wysoce oczyszczoną heparyną wieprzową oraz drenów. Zestaw umożliwiający usuwanie różnych mediatorów zapalnych, w tym: cytokin i endotoksyn, metodą dyfuzji, konwekcji i adsorpcji. | C9: zestaw | D9: 50
A10: 6 | B10: Worek ściekowy 5 i 9 litrów do wyboru przy zakupie | D10: 60
A11: 7 | B11: Zestaw do plazmaferezy z filtrem typu TPE 2000 | C11: 1 zestaw | D11: 48
A12: 8 | B12: Wymiennik krew-gaz, zestaw do usuwania dwutlenku węgla | C12: 1 zestaw | D12: 4
A13: 9 | B13: Dzierżawa 1 aparatu do zabiegów nerkozastępczych zgodnych z opisem w załączniku nr 2-5 poz 1 | C13: 1 miesiąc | D13: 25
A14: 10 | B14: Dzierżawa 2 aparatów do zabiegów nerkozastępczych zgodnych z opisem w załączniku nr 2-5 poz 2 | C14: 1 miesiąc | D14: 25
B15: Razem
A18: 1. Wykonawca powinien podać wszystkie akcesoria, płyny, odczynniki i inne niewymienione materiały niezbędne do wykonania podanej ilości zabiegów oraz dokonać ich wyceny.
A19: 2. Oferowane płyny powinny posiadać aktualne karty charakterystyk, które winny być dostarczone wraz z pierwszą dostawą.
A20: 3. Termin przydatności do użycia powinien być nie krótszy niż 9 miesięcy od daty dostawy.
A21: 4. Wielkość opakowania zbiorczego zamawianego jednorazowo nie może być większa niż zestaw dla ilości zabiegów w przeliczeniu wykonanych w ciągu trzech miesięcy.
A22: 5. Płyny i akcesoria powinny pochodzić od jednego producenta.
A23: 6. Zamawiający wymaga aby zaoferowane płyny, akcesoria i inne materiały zużywalne do zabiegu były wskazane w instrukcji producenta aparatu.
B28: ……………………………………….. | F28: ……………………………………………
B29: Data | F29: Podpis osoby/osób uprawnionej

Sheet Zadanie nr 6
A1: Załacznik nr 9 do SWZ
A2: ZOZ/DZP/PN/21/26
A3: Zadanie nr 6 - Leki różne 2
A4: Lp. | B4: Nazwa produktu | C4: Jednostka miary | D4: Ilość | E4: Cena jednostkowa[zł] netto | F4: Wartość [zł] netto | G4: VAT | H4: Cena jednostkowa [zł] brutto | I4: Wartość [zł] brutto | J4: Producent/Nazwa handlowa | K4: EAN
A5: 1 | B5: Gliclazidum tabl. retard 60 mg | C5: op. 90tabl | D5: 10
A6: 2 | B6: Indapamidum tabl. powl. retard 1,5 mg | C6: op. 108 tabl. | D6: 10
A7: 3 | B7: Iwabradyna 5 mg | C7: op. 112 tabl. | D7: 10
A8: 4 | B8: Perindoprilum tabl. 5 mg | C8: porcja po 1 op. 90 szt. | D8: 30
A9: 5 | B9: Perindoprilum tabl. 10 mg | C9: porcja po 1 op. 90 szt. | D9: 20
A10: 6 | B10: Trimetazidinum tabl. powl. retard 35 mg | C10: op. 90 tabl. | D10: 10
A11: 7 | B11: Preparat złożony Perindopril 10mg + Amlodypinum 10mg | C11: op. 90 tabl. | D11: 10
A12: 8 | B12: Preparat złożony Perindopril 5mg + Amlodypinum 5mg | C12: op. 90 tabl. | D12: 10
A13: 9 | B13: perindoprilum z algininą 5+ indapamidum1,25+ Amlodypinum 5mg | C13: op.90 tabl. | D13: 5
A14: 10 | B14: Tianeptinum natricum 12.5 mg | C14: op.108 tabl | D14: 5
B15: RAZEM
B18: ……………………………………….. | F18: ……………………………………………
B19: Data | F19: Podpis osoby/osób uprawnionej

Sheet Zadanie nr 7
A1: Załacznik nr 9 do SWZ
A2: ZOZ/DZP/PN/21/26
A3: Zadanie nr 7 - Albuminy
A4: Lp. | B4: Nazwa produktu | C4: Jednostka miary | D4: Ilość | E4: Cena jednostkowa[zł] netto | F4: Wartość [zł] netto | G4: VAT | H4: Cena jednostkowa [zł] brutto | I4: Wartość [zł] brutto | J4: Producent/Nazwa handlowa | K4: EAN
A5: 1 | B5: Albumina ludzka 20 % 50 ml | C5: flak 50 ml | D5: 200
A6: 2 | B6: Albumina ludzka 20 % 100 ml | C6: flak 100 ml | D6: 400
B7: RAZEM
B12: ………………………………………………….. | F12: ……………………………………………
B13: Data | F13: Podpis osoby/osób uprawnionej

Sheet Zadanie nr 8
A1: Załacznik nr 9 do SWZ
A2: ZOZ/DZP/PN/21/26
A3: Zadanie nr 8 – Leki różne 14
A4: Lp. | B4: Nazwa produktu | C4: Jednostka miary | D4: Ilość | E4: Cena jednostkowa[zł] netto | F4: Wartość [zł] netto | G4: VAT | H4: Cena jednostkowa [zł] brutto | I4: Wartość [zł] brutto | J4: Producent/Nazwa handlowa | K4: EAN
A5: 1 | B5: Aluminii acetas żel do użytku zewnętrznego 75g | C5: porcja po 1 op. | D5: 100
A6: 2 | B6: Bisoprololum tabl. powl. 5 mg | C6: porcja po 30 tabl. | D6: 200
A7: 3 | B7: Bisoprololum tabl. powl. 2,5 mg | C7: porcja po 30 tabl. vel 28 | D7: 140
A8: 4 | B8: Bisoprololum tabl. powl. 1,25 mg | C8: porcja po 30 tabl. vel 28 | D8: 30
A9: 5 | B9: Ketoprofenum inj. (roztwór) 100 mg/2 ml i.v./i.m | C9: porcja po 10 amp. 2 ml | D9: 300
A10: 6 | B10: Ketoprofenum tabl. powl. 100 mg | C10: porcja po 30 tabl. | D10: 100
A11: 7 | B11: Ferrosi oxidum dextranum complexum inj. im. (roztwór) 50 mg Fe+++/ml | C11: porcja po 50 amp. 2 ml | D11: 1
A12: 8 | B12: Ferrum hydroxide 50 mg/5ml syrop | C12: Porcja po 100 ml | D12: 2
A13: 9 | B13: Ferrum oxydatum saccharatum inj. iv. (roztwór) 20 mg Fe+++/ml | C13: porcja po 5 amp. 5 ml | D13: 20
A14: 10 | B14: Metoprololi sucinate 23,75 mg o spowolnionym uwalnianiu | C14: porcja po 30 tabl. o przed. uw. | D14: 70
A15: 11 | B15: Metoprololi sucinate 47,5 mg o przedłużonym uwalnianiu | C15: porcja po 30 tabl. o przed. uw. | D15: 60
A16: 12 | B16: Metoprololi sucinate 95 mg o przedłużonym uwalnianiu | C16: porcja po 30 tabl. o przed. uw. | D16: 40
... A19: 15 | B19: pantoprazol 40 mg | C19: porcja po 56 tabl. dojel. | D19: 80
B20: RAZEM
B24: ………………………………………………….. | F24: ……………………………………………
B25: Data | F25: Podpis osoby/osób uprawnionej

Sheet Zadanie nr 9
A1: Załacznik nr 9 do SWZ
A2: ZOZ/DZP/PN/21/26
A3: Zadanie nr 9 - Leki anestezjologiczne
A4: Lp. | B4: Nazwa produktu | C4: Jednostka miary | D4: Ilość | E4: Cena jednostkowa[zł] netto | F4: Wartość [zł] netto | G4: VAT | H4: Cena jednostkowa [zł] brutto | I4: Wartość [zł] brutto | J4: Producent/Nazwa handlowa | K4: EAN
A5: 1 | B5: Bupivacainum inj. dotkankowe (roztwór) 5 mg/ml spinalna jałowa pojedyńczo pakowana | C5: porcja po 5 amp. 4 ml | D5: 300
A6: 2 | B6: Lidocainum inj. iv. lub dotkankowe (roztwór) 20 mg/ml /50 ml / | C6: porcja po 5 fiol. 50 ml | D6: 2
A7: 3 | B7: Lidocainum + Prilocainum krem znieczulający | C7: porcja po 1 tuba 30 g | D7: 10
A8: 4 | B8: Bupivacainum+Epinephrinum inj. dotkankowe (roztwór) 5 mg/ml | C8: porcja po 5 fiol. 20 ml vel amp. | D8: 50
A9: 5 | B9: Mivacurii chloridum inj. iv. (roztwór) 2 mg/ml | C9: porcja po 5 amp. 5 ml | D9: 50
A10: 6 | B10: Mivacurii chloridum inj. iv. (roztwór) 20 mg/10 ml | C10: porcja po 5 amp. 10 ml | D10: 30
A11: 7 | B11: Propofolum EDTA 10mg/ml | C11: porcja po 50ml ampułkostrzykawka | D11: 10
A12: 8 | B12: Propofolum EDTA 10mg/ml | C12: porcja po 20ml x 5amp | D12: 50
A13: 9 | B13: Remifentanil 5mg proszek do sporządenia konc. Roz. /do wstrzykiwań inf. | C13: op=5fiol | D13: 30
A14: 10 | B14: Remifentanil 2mg proszek do sporządenia konc. Roz. /do wstrzykiwań inf. | C14: op=5fiol | D14: 3
A15: 11 | B15: Sugammadex 100mg/ml a 2 ml | C15: porcja po 10 fiol. 2 ml | D15: 40
B16: RAZEM
B19: ………………………………………….. | F19: ……………………………………………
B20: Data | F20: Podpis osoby/osób uprawnionej

Sheet Zadanie nr 10
A1: Załacznik nr 9 do SWZ
A2: ZOZ/DZP/PN/21/26
A3: Zadanie nr 10 - Sevofluran
A4: Lp. | B4: Nazwa produktu | C4: Jednostka miary | D4: Ilość | E4: Cena jednostkowa[zł] netto | F4: Wartość [zł] netto | G4: VAT | H4: Cena jednostkowa [zł] brutto | I4: Wartość [zł] brutto | J4: Producent/Nazwa handlowa | K4: EAN
A5: 1 | B5: Sevofluranum płyn do anestezji wziewnej kompatybilny z aparatem do znieczulenia firmy Draeger system zamknięty oraz system otwarty do wyboru przy zakupie. | C5: porcja po 1 op. 250 ml | D5: 102
A6: 2 | B6: Desfluranum 240ml | C6: op=240ml | D6: 36
B7: RAZEM
B10: Dla poz 1
B11: Na czas trwania umowy wymagane jest udostępnienie do użytku zamawiajacego 6 parowników do urządzeń: - Drager Primus/Fabius z parownikiem Drager Vapor 2000 z auto exclusin - 4 szt. - Drager Fabius z parownikiem Vapor 2000, selectatec - 2 szt. Koszt użyczenia należy wliczyć w cenę oferty.
B12: Dla poz. 2
B13: Na czas trwania umowy wymagane jest udostępnienie do użytku zamawiajacego 3 szt. parowników do aparatu Drager. Koszt użyczenia należy wliczyć w cenę oferty.
B15: Data | F15: Podpis osoby/osób upoważnionej
B16: ……………………………………………. | F16: ……………………………….

Sheet Zadanie nr 11
A1: ZOZ/DZP/PN/21/26
A2: Załącznik Nr: 9
A3: Zadanie nr 11 - Mleko + preparaty dietetyczne
A4: Lp. | B4: Nazwa produktu | C4: Jednostka miary | D4: Ilość | E4: Cena jednostkowa[zł] netto | F4: Wartość [zł] netto | G4: VAT | H4: Cena jednostkowa [zł] brutto | I4: Wartość [zł] brutto | J4: Producent/Nazwa handlowa | K4: EAN
A5: 1 | B5: Mieszanka początkowa w płynie dla niemowląt z dodatkiem frukto i galaktooligosacharydów. Minimalny poziom białka 1,3g/100ml, maksymalny poziom żelaza0,53mg/100ml | C5: porcja po 1 op, x 24szt 90 ml | D5: 100
A6: 2 | B6: Mieszanka początkowa w płynie dla niemowląt z dodatkiem frukto i galaktooligosacharydów, nukleotydów oraz postbiotyków. Minimalny poziom białka 1,3g/100ml, maksymalny poziom żelaza0,53mg/100ml, z scGOS:lcFOS 9:1. | C6: porcja po 1 op.x 24szt 90 ml | D6: 50
A7: 3 | B7: Mieszanka początkowa w proszku dla niemowląt z dodatkiem frukto i galaktooligosacharydów, nukleotydów oraz postbiotyków. Minimalny poziom białka 1,3g/100ml, maksymalny poziom żelaza0,53mg/100ml, z scGOS:lcFOS 9:1. | C7: Porcja po 350 g | D7: 15
A8: 4 | B8: Mleko zastępcze początkowe od urodzenia zawierające galakto- i fukto- oligosacharydy (9:1) proszek do p. roztworu doustnego. | C8: porcja po 1 op. 350 g | D8: 15
A9: 5 | B9: Mleko zastępcze od 6 miesiąca zawierające galakto- i fukto- oligosacharydy (9:1) proszek do p. roztworu doustnego. | C9: porcja po 1 op. 350 g | D9: 20
A10: 6 | B10: Mleko zastępcze od 6 miesiąca zawierające galakto- i fukto- oligosacharydy (9:1), z dodatkiem kleiku ryżowego, proszek do p. roztworu doustnego. | C10: porcja po 1 op. 350 g | D10: 20
A11: 7 | B11: Mleko zastępcze powyżej 1 roku zawierające galakto- i fukto- oligosacharydy (9:1), proszek do p. roztworu doustnego, białko 1,3g/100ml | C11: porcja po 1 op. 350 g | D11: 30
A12: 8 | B12: Mleko zastępcze powyżej 1 roku zawierające galakto- i fukto- oligosacharydy (9:1), z dodatkiem kleiku ryżowego, proszek do p. roztworu doustnego. | C12: porcja po 1 op. 600 g | D12: 18
A13: 9 | B13: Mleko modyfikowane początkowe dla niemowląt od urodzenia z zawartością białka 1,24g/100ml, zawierające w składzie białko OPTI PRO, proszek | C13: Porcja po 650 g | D13: 10
A14: 10 | B14: Mleko modyfikowane początkowe dla niemowląt po 6 miesiącu, z zawartością białka 1,14g/100ml, zawierające w składzie białko OPTI PRO, | C14: Porcja po 650 g | D14: 15
A15: 11 | B15: Mleko modyfikowane początkowe dla niemowląt po 9 miesiącu, z zawartością białka 1g/100ml, zawierające w składzie białko OPTI PRO, proszek | C15: Porcja po 800 g | D15: 15
A16: 12 | B16: Mleko modyfikowane początkowe dla zdrowych niemowląt od urodzenia, u których istnieje podwyższone ryzyko wystąpienia reakcji alergicznych na białka mleka krowiego zawierające w składzie częściowo hydrolizowane białka serwatkowe OPTI PRO HA | C16: Porcja po 400g | D16: 15
... A49: 45 | B49: Butelka jednorazowa gotowa do użytku dla niemowląt z nakrętką. Objętość w przedziale 230ml | C49: szt | D49: 300
B50: RAZEM
B53: ………………………………………….. | F53: ……………………………………………
B54: Data | F54: Podpis osoby/osób uprawnionej

Sheet Zadanie nr 12
A1: Załacznik nr 9 do SWZ
A2: ZOZ/DZP/PN/21/26
A3: Zadanie nr 12 – Leki ZOL
A4: Lp. | B4: Nazwa produktu | C4: Jednostka miary | D4: Ilość | E4: Cena jednostkowa[zł] netto | F4: Wartość [zł] netto | G4: VAT | H4: Cena jednostkowa [zł] brutto | I4: Wartość [zł] brutto | J4: Producent/Nazwa handlowa | K4: EAN
A5: 1 | B5: Dexamethasonum tabl. 1 mg | C5: porcja po 20 tabl. | D5: 15
A6: 2 | B6: Dexamethasonum tabl. 4 mg | C6: porcja po 20 tabl. | D6: 10
A7: 3 | B7: Donepezilum 5mg | C7: porcja po 28szt | D7: 10
A8: 4 | B8: Donepezilum 10mg | C8: porcja po 28 tabl.uleg. Rozp. W jamie ustnej | D8: 70
A9: 5 | B9: Duloksetyna 30mg | C9: porcja po 28 szt. | D9: 11
A10: 6 | B10: Eplerenonum 50mg | C10: porcja po 30 szt. | D10: 30
A11: 7 | B11: Eplerenonum 25mg | C11: porcja po 30 szt. | D11: 40
A12: 8 | B12: Escitalopram 10mg | C12: porcja po 28tabl.powl. | D12: 120
A13: 9 | B13: Fludrocortison 0,1 mg tabl | C13: op po 20 tabl. | D13: 32
A14: 10 | B14: Formoterolum proszek do inhalacji w kaps. 0,012 mg | C14: porcja po 60 kaps. | D14: 10
A15: 11 | B15: Formoterolum proszek aerozol 0,012 mg | C15: porcja po 120 dawek | D15: 5
A16: 12 | B16: Hydroxyzinum draż. 10 mg | C16: porcja po 30 tabl. powl. | D16: 60
... A43: 39 | B43: Zolpidem tabl.10 mg | C43: op.20 tabl. powl. | D43: 80
B44: RAZEM
B46: Data | G46: Podpis osoby/osób upoważnionej
B47: ……………………………………………. | G47: ……………………………….

Sheet Zadanie nr 13
A1: Załacznik nr 9 do SWZ
A2: ZOZ/DZP/PN/21/26
A3: Zadanie nr 13: Pulmonologia
A4: Lp. | B4: Nazwa produktu | C4: Jednostka miary | D4: Ilość | E4: Cena jednostkowa[zł] netto | F4: Wartość [zł] netto | G4: VAT | H4: Cena jednostkowa [zł] brutto | I4: Wartość [zł] brutto | J4: Producent/Nazwa handlowa | K4: EAN
A5: 1 | B5: 5 mikrogramów formoterolu fumaranu dwuwodnego, 9 mikrogramów glikopironiowego bromku, co odpowiada 7,2 mikrogramom glikopironium i 160 mikrogramów budezonidu. | C5: Op=120 dawek | D5: 11
A6: 2 | B6: Ciclenoside 160mcg aerozol inhalacyjny | C6: Op=120 dawek | D6: 5
A7: 3 | B7: Dipropionian beclomethasonu + formoterol 100+ 6 mcg aerozol inhalacyjny | C7: porcja po 180 dawek | D7: 10
A8: 4 | B8: Dipropionian beclomethasonu + formoterol 200+ 6 mcg aerozol inhalacyjny | C8: porcja po 180 dawek | D8: 20
A9: 5 | B9: Salmetrolum 500mcg+fluticasonu propionian 50mcg | C9: op.=60 dawek | D9: 5
A10: 6 | B10: roztwór do inhalacji; 2,5 µg + 2,5 µg (1 dawka dostarczana (1 inhalacja) zawiera: 2,5 µg tiotropium (w postaci bromku jednowodnego), 2,5 µg olodaterolu (w postaci chlorowodorku)); 30 dawek leczniczych [60 inhalacji] + inhalator Respimat | C10: op.= [60 inhalacji] + inhalator Respimat | D10: 5
A11: 7 | B11: Budesonidum + Formoteroli fumaras 160 mcg+4,5mcg aerozol inhalacyjny | C11: op.=120 dawek | D11: 5
B12: RAZEM
B14: Data | G14: Podpis osoby/osób upoważnionej
B15: ……………………………………………. | G15: ……………………………….

Sheet Zadanie nr 14
A1: Załacznik nr 9 do SWZ
A2: ZOZ/DZP/PN/21/26
A3: Zadanie nr 14 – Leki różne 3
A4: Lp. | B4: Nazwa produktu | C4: Jednostka miary | D4: Ilość | E4: Cena jednostkowa[zł] netto | F4: Wartość [zł] netto | G4: VAT | H4: Cena jednostkowa [zł] brutto | I4: Wartość [zł] brutto | J4: Producent/Nazwa handlowa | K4: EAN
A5: 1 | B5: Immunoglobulina Anty D 300j.m amp-strzyk | C5: 1 szt. | D5: 80
A6: 2 | B6: Ornitinum 5g/10ml koncentrat do inf. | C6: op=10amp | D6: 10
A7: 3 | B7: Ornitinum 3g/5g granulat | C7: porcja po 30 sasz. | D7: 15
B8: RAZEM
B12: Data | E12: Podpis osoby/osób upoważnionej
B13: ……………………………………………. | E13: ……………………………….

Sheet Zadanie nr 15
A1: Załacznik nr 9 do SWZ
A2: ZOZ/DZP/PN/21/26
A3: Zadanie nr 15 – Omeprazol
A4: Lp. | B4: Nazwa produktu | C4: Jednostka miary | D4: Ilość | E4: Cena jednostkowa[zł] netto | F4: Wartość [zł] netto | G4: VAT | H4: Cena jednostkowa [zł] brutto | I4: Wartość [zł] brutto | J4: Producent/Nazwa handlowa | K4: EAN
A5: 1 | B5: Omeprazolum inj. (liofilizat) 40mg | C5: porcja po 1 fiol. | D5: 10000
B6: RAZEM
B8: Data …………………………………………. ………………………………………………...
H9: Podpis osoby/osób uprawnionej

Sheet Zadanie nr 16
A1: Załacznik nr 9 do SWZ
A2: ZOZ/DZP/PN/21/26
A3: Zadanie nr 16 – Antybiotyki różne
A4: Lp. | B4: Nazwa produktu | C4: Jednostka miary | D4: Ilość | E4: Cena jednostkowa[zł] netto | F4: Wartość [zł] netto | G4: VAT | H4: Cena jednostkowa [zł] brutto | I4: Wartość [zł] brutto | J4: Producent/Nazwa handlowa | K4: EAN
A5: 1 | B5: Amikacinum ophtalm.0,3% krople | C5: op.5 ml | D5: 3
A6: 2 | B6: Amoxicillinum tabl. 500 mg | C6: porcja po 16 tabl. rozpuszczalne | D6: 100
A7: 3 | B7: Amoxicillinum tabl. 1000 mg | C7: porcja po 20 tabl. rozpuszczalne | D7: 40
A8: 4 | B8: Amoxicillinum z inhibitorem beta-laktamazy inj. im./iv. (proszek do p. roztworu) 1200 mg | C8: 1 fiol | D8: 4000
A9: 5 | B9: Amoxicillinum z inhibitorem beta-laktamazy tabl. 500mg +125mg | C9: op.21 tabl. | D9: 20
A10: 6 | B10: Amoxicillinum z inhibitorem beta-laktamazy inj. im./iv. (proszek do p. Roztworu) 600 mg | C10: 1 fiol | D10: 900
A11: 7 | B11: Amoxicillinum z inhibitorem beta-laktamazy tabl. 875mg +125mg | C11: op. 14 szt. | D11: 400
A12: 8 | B12: Amoxicillinum z inhibitorem beta-laktamazy inj. im./iv. (proszek do p. roztworu) 2200 mg | C12: 1 fiol | D12: 1500
A13: 9 | B13: Ampicillinum inj. im./iv. (proszek do p. roztworu) 2000 mg z zapisem możliwości użycia okresie około porodowym | C13: porcja po 1 fiol. s.subst. | D13: 800
A14: 10 | B14: Ampicillinum inj. im./iv. (proszek do p. roztworu) 1000 mg z zapisem możliwości użycia okresie około porodowym | C14: porcja po 1 fiol. s.subst. | D14: 2000
A15: 11 | B15: Ampicillinum inj. im./iv. (proszek do p. roztworu) 500 mg z zapisem możliwości użycia okresie około porodowym | C15: porcja po 1 fiol. s.subst. | D15: 2000
A16: 12 | B16: Ampicillinum+Sulbactam, 2 g + 1g, proszek do sporządzania roztworu do wstrzykiwań i infuzji | C16: 1 fiol | D16: 430
... A76: 72 | B76: Tigecycline 50mg inj. | C76: porcja po 10 fiol. | D76: 20
B77: RAZEM
B81: Data | G81: Podpis osoby/osób upoważnionej
B82: ……………………………………………. | G82: ……………………………….

Sheet Zadanie nr 17
A1: Załacznik nr 9 do SWZ
A2: ZOZ/DZP/PN/21/26
A3: Zadanie nr 17 – Antybiotyki 5
A4: Lp. | B4: Nazwa produktu | C4: Jednostka miary | D4: Ilość | E4: Cena jednostkowa[zł] netto | F4: Wartość [zł] netto | G4: VAT | H4: Cena jednostkowa [zł] brutto | I4: Wartość [zł] brutto | J4: Producent/Nazwa handlowa | K4: EAN
A5: 1 | B5: Amikacinum inj.1000 mg / 4 ml | C5: porcja po 4ml | D5: 900
A6: 2 | B6: Amikacinum inj. im./iv. (roztwór) 250 mg/2 ml | C6: porcja po 2 ml | D6: 500
A7: 3 | B7: Amikacinum inj. im./iv. (roztwór) 500 mg/2 ml | C7: porcja po 2 ml | D7: 800
A8: 4 | B8: Cefazolinum inj. im./iv. (proszek do p. roztworu) 1000 mg | C8: porcja po 1 fiol. | D8: 9000
A9: 5 | B9: Ceftazidimum inj i.v. 1000 mg jednego producenta obszarze substancji | C9: porcja po 1 fiol. | D9: 800
A10: 6 | B10: Ceftazidimum inj i.v. 2000 mg jednego producenta obszarze substancji | C10: porcja po 1 fiol. | D10: 800
A11: 7 | B11: Cefotaximum inj. im./iv. 1000 mg | C11: porcja po 1 fiol. | D11: 600
A12: 8 | B12: Cefuroxym inj. I.m./i.v 750 mg | C12: 1 fiolka | D12: 500
A13: 9 | B13: Cefuroxym inj. I.m./i.v 1500 mg | C13: 1 fiolka | D13: 8000
A14: 10 | B14: Ceftriaxon 1g | C14: porcja po 1 fiolka | D14: 2000
A15: 11 | B15: Ceftriaxon 2g | C15: porcja po 1 fiolka | D15: 4000
A16: 12 | B16: Ciprofloxacinum tabl. powl. 500 mg | C16: porcja po 10 tabl. | D16: 150
... A19: 15 | B19: Metronidazolum inj. iv. (roztwór) 5 mg/ml | C19: porcja po 1 fl. 100 ml x 40 poj | D19: 200
B20: RAZEM
B25: Data | G25: Podpis osoby/osób upoważnionej
B26: ……………………………………………. | G26: ……………………………….

Sheet Zadanie nr 18
A1: Załacznik nr 9 do SWZ
A2: ZOZ/DZP/PN/21/26
A3: Zadanie nr 18 - Żel do cewnikowania
A4: Lp. | B4: Nazwa produktu | C4: Jednostka miary | D4: Ilość | E4: Cena jednostkowa[zł] netto | F4: Wartość [zł] netto | G4: VAT | H4: Cena jednostkowa [zł] brutto | I4: Wartość [zł] brutto | J4: Producent/Nazwa handlowa | K4: EAN
A5: 1 | B5: Lidocainum żel znieczulający do cewnikowania 5 ml lub 6ml sterylny do stosowania przy intubacji z chlorheksydyną | C5: porcja po1 szt. | D5: 6850
A6: 2 | B6: Lidocainum żel znieczulający do cewnikowania 5 ml lub 6ml sterylny do stosowania przy intubacji bez zawartości chlorheksydyny | C6: porcja po 1 szt. | D6: 200
B7: RAZEM
B9: Wymagana ulotka potwierdzająca zastosowanie
B11: Data | G11: Podpis osoby/osób upoważnionej
B12: ……………………………………………. | G12: ……………………………….

Sheet Zadanie nr 19.
A1: Załacznik nr 9 do SWZ
A2: ZOZ/DZP/PN/21/26
A3: Zadanie nr 19 - Budesonidum
A4: Lp. | B4: Nazwa produktu | C4: Jednostka miary | D4: Ilość | E4: Cena jednostkowa[zł] netto | F4: Wartość [zł] netto | G4: VAT | H4: Cena jednostkowa [zł] brutto | I4: Wartość [zł] brutto | J4: Producent/Nazwa handlowa | K4: EAN
A5: 1 | B5: Budesonidum zawiesina do inhalacji 0,125 mg/ml (wskazania wirusowe zapalenie krtani u dzieci)wg wskazań z listy regundacyjnej Ministra Zdrowia | C5: porcja po 20 poj. 2 ml | D5: 10
A6: 2 | B6: Budesonidum zawiesina do inhalacji 0,5 mg/ml (wskazania wirusowe zapalenie krtani u dzieci) wg wskazań z listy regundacyjnej Ministra Zdrowia | C6: porcja po 20 poj. 2 ml | D6: 140
A7: 3 | B7: Budesonidum zawiesina do inhalacji 0,25 mg/ml (wskazania wirusowe zapalenie krtani u dzieci)wg wskazań z listy regundacyjnej Ministra Zdrowia | C7: porcja po 20 poj. 2 ml | D7: 100
B8: RAZEM
B11: ………………………………………….. | F11: ……………………………………………
B12: Data | F12: Podpis osoby/osób uprawnionej

Sheet Zadanie nr 20
A1: Załacznik nr 9 do SWZ
A2: ZOZ/DZP/PN/21/26
A3: Zadanie nr 20 - Preparaty do żywienia pozajelitowego
A4: Lp. | B4: Nazwa produktu | C4: Jednostka miary | D4: Ilość | E4: Cena jednostkowa[zł] netto | F4: Wartość [zł] netto | G4: VAT | H4: Cena jednostkowa [zł] brutto | I4: Wartość [zł] brutto | J4: Producent/Nazwa handlowa | K4: EAN
A5: 1 | B5: Worek trzykomorowy zawierający aminokwasy 40g, emulsje tłuszczowe MCT/LCT oraz glukozę ( nie więcej niż 80 g) do stosowania drogą żył obwodowych | C5: porcja po 1250ml | D5: 200
A6: 2 | B6: Worek trzykomorowy zawierający aminokwasy 60g, emulsje tłuszczowe MCT/LCT oraz glukozę ( nie więcej niż 120 g) do stosowania drogą żył obwodowych | C6: porcja po 1875ml | D6: 400
A7: 3 | B7: Prearat złożony pierwiatków śladowych a 10ml | C7: porcja po 5 amp x 10 ml | D7: 20
A8: 4 | B8: Preparat złożnony z 13 witamin 932 mg | C8: porcja po 10 fiol. | D8: 20
B9: RAZEM
B12: Data …………………………………………. ………………………………………………...
H13: Podpis osoby/osób uprawnionej

Sheet Zadanie nr 21
A1: Załacznik nr 9 do SWZ
A2: ZOZ/DZP/PN/21/26
A3: Zadanie nr 21 - Preparaty do żywienia dojelitowego
A4: Lp. | B4: Nazwa produktu | C4: Jednostka miary | D4: Ilość | E4: Cena jednostkowa[zł] netto | F4: Wartość [zł] netto | G4: VAT | H4: Cena jednostkowa [zł] brutto | I4: Wartość [zł] brutto | J4: Producent/Nazwa handlowa | K4: EAN
A5: 1 | B5: Preparat do żywienia doustnego dla diabetyków posiadający w składzie: wartość energetyczna 438 kJ/ 104 kcal; · tłuszcz 3,8 g, w tym kwasy nasycone 0,5 g, węglowodany 11,5 g, w tym cukry 8,4 g, w tym laktoza 3,6 g. | C5: Op=4 x 200 ml | D5: 100
A6: 2 | B6: Dieta wysokobiałkowa 14,6g/100ml hiperkaloryczna (2,45 kcal/ml) oparta na białku kazeinowym i serwatkowym. % energii z: białka-24%, węglowodanów-41%, tłuszczów-35%. Dieta bezglutenowa, bezresztkowa. Opakowanie typu butelka 125 ml. Smaki:truskawka, wanilia, owoce leśne, czekolada, neutralny, owoce tropikalne-imbir, smak czerwonych owoców, mokka. | C6: Op =4x125ml | D6: 230
A7: 3 | B7: Dieta kompletna pod względem odżywczym, hiperkaloryczna (2,4 kcal/ml) oparty na białku kazeinowym i serwatkowym, w minimalnym składzie Zawartość białka nie mniejsza niż 9,6g/100 ml.% energii z: białka-16%, węglowodanów-49%, tłuszczów-35%. Dieta bezglutenowa, bezresztkowa. Opakowanie typu butelka 125 ml. Smaki:truskawka, wanilia, owoce leśne, czekolada, neutralny | C7: Op =4x125ml | D7: 200
A8: 4 | B8: Dieta w płynie dla pacjentów z chorobą nowotworową zawirająca składnik immunomodulujący ( kwasy tłuszczowe Omega-3: EPA 880mg/100ml, DHA 585mg/100ml) oraz witamine D 7,85mcg/100ml, hipekaloryczna 2,45kcal/ml, zawartośc białka min 14,6 g/100ml, bezresztkowa, bezglutenowa, osmolarność: 570mOsmol/l. Butelka 125ml, Smaki Truskawkowo-malinowy, mango-brzoskwinia. | C8: Op =4x125ml | D8: 50
A9: 5 | B9: Dieta kompletna,hiperkaloryczna ( 2,4 kcal/ml) w minimalnym składzie o zawartości białka 9,5g/100ml, dieta do podaży doustnej o smaku waniliowym i truskawkowym, dieta bogatoresztkowa - zawartość błonnika 3,6 g/100 ml, bezglutenowa w opakowaniu 4x125 ml, o osmolarności 790 mOsmol/l. | C9: Op =4x125ml | D9: 50
A10: 6 | B10: Dieta wspomagająca proces gojenia odleżyn i ran przewlekłych, bezresztkowa, hiperkaloryczna (1,24 kcal/ml), bezglutenowa. Dieta zawiera argininę oraz inne składniki odżywcze, w odpowiednich proporcjach, które wspomagają i przyspieszają gojenie ran - zwiększona zawartość przeciwutleniaczy (wit C i E, karotenoidów, cynku). W minimalnym składzie: Dieta wysokobiałkowa - zawartość białka 8,8 g /100ml, o niskiej zawartości tłuszczu - 3,5g / 100ml, węglowodany 14,5 g/100ml, 28 % energii z białka, 46 % energii z węglowodanów, 26 % energii z tłuszczy, o osmolarności min. 500 mOsmol/l opakowanie 4 x 200 ml, w trzech smakach: truskawkowy, czekoladowy, waniliowy. | C10: Op =4x200ml | D10: 90
A11: 7 | B11: Dieta beztłuszczowa,hiperkaloryczna ( 1,5 kcal/ml), oparta na białku serwatkowym, źródłem węglowodanów są wolno wchłaniane maltodekstryny i sacharoza, niska zawartość sodu i fosforanów,bezresztkowa, bezglutenowa,klinicznie wolna od laktozy, w minimalnym składzie zawartośc białka 4g/100ml,węglowodany 33,5 g/100ml, 11% energii z białka, o osmolarności 750 mOsmol/l, opakowanie 4x200 ml, w dwóch smakach: truskawkowy, jabłkowy; | C11: Op =4x200ml | D11: 10
A12: 8 | B12: Dieta bezresztkowa, normokaloryczna (1-1,1 kcal/ml), zawartość: białka 4-4,5g/100ml( min. 16% En, źródło: białka serwatkowe, kazeiny, białka soi i grochu); węglowodanów 12-13g/ 100ml (maksymalnie 50% En; w tym minimum 90% węglowodany złożone), tłuszczów 3,5g-4g/ 100ml (min. 34% En); zawartość DHA+EPA nie mniej niż 30 mg/100 ml, dieta zawierająca 6 naturalnych karotenoidów (min. 0,20 mg/100ml), klinicznie wolna od laktozy (<0,025g/100ml), o osmolarności do 280 mOsmol/l. | C12: 500ml | D12: 40
A13: 9 | B13: Dieta bezresztkowa, normokaloryczna (1-1,1 kcal/ml), zawartość: białka 4-4,5g/100ml( min. 16% En, źródło: białka serwatkowe, kazeiny, białka soi i grochu); węglowodanów 12-13g/ 100ml (maksymalnie 50% En; w tym minimum 90% węglowodany złożone), tłuszczów 3,5g-4g/ 100ml (min. 34% En); zawartość DHA+EPA nie mniej niż 30 mg/100 ml, dieta zawierająca 6 naturalnych karotenoidów (min. 0,20 mg/100ml), klinicznie wolna od laktozy (<0,025g/100ml), o osmolarności do 280 mOsmol/l. | C13: 1000ml | D13: 40
A14: 10 | B14: Dieta bezresztkowa hiperkaloryczna (1,5 kcal/ml), zawartość: białka 6-7g/100 ml (min. 16% En; źródło: białka serwatkowe, kazeiny, białka soi i grochu), węglowodanów 18,5-19g/ 100ml (maksymalnie 50% En, w tym ponad 90% węglowodanów złożonych), tłuszczów 5,5-6g/ 100ml (min. 35% En); zawartość DHA+EPA nie mniej niż 30mg/100 ml, dieta zawierająca 6 naturalnych karotenoidów (min. 0,30mg/ 100ml), klinicznie wolna od laktozy (<0,025g/ 100ml), o osmolarności do 400 mOsmol/l | C14: 1000ml | D14: 400
A15: 11 | B15: Dieta bogatoresztkowa z zawartością min. 6 rodzajów błonnika (min. 1,5 g/100ml), normokaloryczna (1-1,1 kcal/ml), zawartość : białka 4-4,5g/100 ml (min. 15,5% En; źródło: białka serwatkowe, kazeiny, białka soi i grochu), węglowodanów 12-13g/ 100ml (maksymalnie 50% En, minimum 90% to węglowodany złożone), tłuszczów 3,5-4g/ 100ml (min. 34% En); zawartość DHA+EPA nie mniej niż 30 mg/100 ml, dieta zawierająca 6 naturalnych karotenoidów (min. 0,20 mg/100ml), klinicznie wolna od laktozy (0,025 g/100lm), zawartość błonnika min. 3%, o osmolarności do 280 mOsmol/l. | C15: 1000ml | D15: 300
A16: 12 | B16: Dieta kompletna w minimalnym składzie pod względem odżywczym , wysokobiałkowa, 6,3 g białka/100ml , w oparciu o białko kazeinowe, z glutaminą 1,28 g/100ml, hiperkaloryczna ( 1,25 kcal/ml), bezresztkowa, klinicznie wolna od laktozy, % energii z : białka - 20%, węglowodanów- 45%, tłuszczu- 35%, o osmolarności 275 mOsmol/l, w opakowaniu o pojemności 1000ml | C16: 1000ml | D16: 1000
... A36: 32 | B36: Łącznik do portu bocznego do strzykawki oral/luer transition | C36: 6x5szt.=op.30szt | D36: 50
B37: RAZEM
B39: Zamawiający dopuszcza dietetyczne środki spożywcze
B40: Data przydatności nie mniejsza nić 6 miesięcy
B42: Data …………………………………………. ………………………………………………...
H43: Podpis osoby/osób uprawnionej

Sheet Zadanie nr 22.
A1: Załacznik nr 9 do SWZ
A2: ZOZ/DZP/PN/21/26
A3: Zadanie nr 22 – Żywienie pozajelitowe 3
A4: Lp. | B4: Nazwa produktu | C4: Jednostka miary | D4: Ilość | E4: Cena jednostkowa netto | F4: Wartość netto | G4: VAT | H4: Cena jednostkowa brutto | I4: Wartość brutto | J4: Producent/Model/Nr katalogowy
A5: 1 | B5: Roztwór aminokwasów z elektrolitami 500ml w tym aminokwasy 50g, glukoza 42% 298ml, emulsja tłuszczowa 188ml. | C5: porcja po 986ml | D5: 40
B6: RAZEM
B9: Data | H9: Podpis osoby/osób upoważnionej
B10: ……………………………………………. | H10: ……………………………….

Sheet Zadanie nr 23
A1: Załacznik nr 9 do SWZ
A2: ZOZ/DZP/PN/21/26
A3: Zadanie nr 23 Fidaxomycinum
A4: Lp. | B4: Nazwa produktu | C4: Jednostka miary | D4: Ilość | E4: Cena jednostkowa[zł] netto | F4: Wartość [zł] netto | G4: VAT | H4: Cena jednostkowa [zł] brutto | I4: Wartość [zł] brutto | J4: Producent/Nazwa handlowa | K4: EAN
A5: 1 | B5: Fidaxomycinum 200mg | C5: porcja po 20 tabl. | D5: 4
B6: RAZEM
B9: Data …………………………………………. ………………………………………………...
H10: Podpis osoby/osób uprawnionej

Sheet Zadanie nr 24
A1: Załacznik nr 9 do SWZ
A2: ZOZ/DZP/PN/21/26
A3: Zadanie nr 24 - Żywienie pozajelitowe 2
A4: Lp. | B4: Nazwa produktu | C4: Jednostka miary | D4: Ilość | E4: Cena jednostkowa[zł] netto | F4: Wartość [zł] netto | G4: VAT | H4: Cena jednostkowa [zł] brutto | I4: Wartość [zł] brutto | J4: Producent/Nazwa handlowa | K4: EAN
A5: 1 | B5: Worek trzykomorowy do żywienia pozajelitowego drogą żył centralnych zawierający roztwór aminokwasów, 20% emulsję tłuszczową LTC, 80% oliwy z oliwek, węglowodany i elektrolity. Zawartość azotu 9 g ,energia 1070, osmolarność 1310 mOsm/l w pojemności 1000ml typu Olimel N9 E | C5: szt. | D5: 66
A6: 2 | B6: Worek trzykomorowy do żywienia pozajelitowego drogą żył centralnych zawierający roztwór aminokwasów, 20% emulsję tłuszczową LTC, 80% oliwy z oliwek, węglowodany bez zawartości elektrolitów Zawartość azotu 13,5g ,energia 1600, osmolarność 1170 mOsm/l w pojemności 1500ml typu Olimel N9 | C6: szt. | D6: 120
A7: 3 | B7: Worek trzykomorowy do żywienia pozajelitowego drogą żył centralnych zawierający roztwór aminokwasów, 20% emulsję tłuszczową LTC, 80% oliwy z oliwek, węglowodany i elektrolity. Zawartość azotu 13.5 g ,energia 1600, osmolarność 1310 mOsm/l w pojemności 1500ml typu Olimel N9 E | C7: szt. | D7: 80
A8: 4 | B8: Worek trzykomorowy do żywienia pozajelitowego drogą żył centralnych zawierający roztwór aminokwasów: 14,2%, emulsję tłuszczową 17,5%, oczyszczony olej z oliwek+oczyszczony olej sojowy 22,75 g, węglowodany 27,5% i elektrolity. 650ml typu Olimel N12 E | C8: szt. | D8: 200
A9: 5 | B9: Worek trzykomorowy do żywienia pozajelitowego drogą żył centralnych zawierający roztwór aminokwasów: 14,2%, emulsję tłuszczową 17,5%, oczyszczony olej z oliwek+ oczyszczony olej sojowy 35,00 g, węglowodany 27,5% i elektrolity. 1000 ml typu Olimel N12 E | C9: szt. | D9: 30
A10: 6 | B10: Worek trzykomorowy do żywienia pozajelitowego drogą żył centralnych zawierający roztwór aminokwasów: 14,2%, emulsję tłuszczową 17,5%, oczyszczony olej z oliwek+oczyszczony olej sojowy 52,50 g, węglowodany 27,5% i elektrolity. 1500 ml typu Olimel N12 E | C10: szt. | D10: 200
A11: 7 | B11: Witaminy rozpuszczalne w tłuszczach i w wodzie zestaw 12 witamin typu Cernevit – lifilizat | C11: op=10amp | D11: 90
A12: 8 | B12: Koncentrat pierwiastków śladowych do żywienia pozajelitowego w postaci soli organicznych o składzie molowym (µmol / 10 ml) Zn 153; Cu 4,7; Mn 1,0; F 50; I 1,0; Se 0,9; Mo 0,21; Cr 0,19; Fe 18, 10ml roztworu w ampułce. | C12: op=10amp | D12: 90
A13: 9 | B13: Preparat złożony: glukoza, sodu chlorek, sodu octan trójwodny, potasu chlorek, magnezu chlorek sześciowodny | C13: op.=10 worków po 1000 ml | D13: 30
B14: Razem
B18: ………………………………………….. | F18: ……………………………………………
B19: Data | F19: Podpis osoby/osób uprawnionej

Sheet Zadanie nr 25
A1: Załacznik nr 9 do SWZ
A2: ZOZ/DZP/PN/21/26
A3: Zadanie nr 25 – Leki OAIiT
A4: Lp. | B4: Nazwa produktu | C4: Jednostka miary | D4: Ilość | E4: Cena jednostkowa[zł] netto | F4: Wartość [zł] netto | G4: VAT | H4: Cena jednostkowa [zł] brutto | I4: Wartość [zł] brutto | J4: Producent/Nazwa handlowa | K4: EAN
A5: 1 | B5: Anidulafungina proszek do sporządzania koncentratu roztworu do infuzji; 100 mg; 1 fiol. | C5: 1 fiol | D5: 3
A6: 2 | B6: Alteplaza, proszek i rozpuszczalnik do sporządzania roztworu do wlewu; 50 mg; 1 flak. + rozp. 50 ml | C6: Op=1 fiol+ rozp 50ml | D6: 12
A7: 3 | B7: Koncentrat do sporządzania roztworu do infuzji; 1 ml zawiera: 170,1 mg diwodorofosforanu potasowego, 133,5 mg diwodnego wodorofosforanu sodowego, 14 mg wodorotlenku potasu, co odpowiada 1,5 mmol (59 mg) jonów potasu, 1,5 mmol (34 mg) jonów sodu i 2 mmol (62 mg) fosforanów; 10 fiol. 20 ml | C7: op=20fiol. Vel amp | D7: 5
A8: 4 | B8: Preparat z ogranicznym fosforanem 4,32 g/20 ml | C8: Op=10 fiol po 20ml | D8: 3
A9: 5 | B9: Caspofunginum 50mg inj. Poz 7-8 muszą pochodzć od jednego producenta | C9: 1 fiol | D9: 50
A10: 6 | B10: Caspofunginum 70mg inj. Poz 7-8 muszą pochodzć od jednego producenta | C10: 1 fiol | D10: 50
A11: 7 | B11: Clatribine 10mg/10ml fiol | C11: porcja po 1 fiol. | D11: 5
A12: 8 | B12: deksmedetomidyna 0,2mg/2ml | C12: porcja po 25 amp. | D12: 70
A13: 9 | B13: deksmedetomidyna 0,4mg/4ml | C13: porcja po 4 fiol. | D13: 20
A14: 10 | B14: Dinoprostone 10mg | C14: porcja po 5 systemów dopochwowych | D14: 5
A15: 11 | B15: Ezetinib 10mg tabl. | C15: porcja po 28 tabl. | D15: 4
A16: 12 | B16: Gancyklovir 500mg inj. Fiol | C16: porcja po 5 fiol. | D16: 3
... A18: 14 | B18: Lamivudine 100mg tabl | C18: porcja po 28 tabl. | D18: 2
A19: 15
A20: 16 | B20: Levosimendan 2,5mg /ml koncentrat do infuzji | C20: op=5ml | D20: 2
A21: 17 | B21: Lithum carbonicum 250mg | C21: porcja po 60tabl | D21: 5
A22: 18 | B22: Melatonina 5mg tabl. | C22: porcja po 30 tabl. | D22: 38
A23: 19 | B23: Methylthioninium Chloride 0,01 g/2 ml inj. | C23: porcja po 5 amp. | D23: 5
A24: 20 | B24: Błękit metylenowy 0,5% a 2ml roztwór, rejestracja wyrobu medycznego do śródoperacyjnej wizualizacji | C24: porcja po 5 amp. | D24: 5
A25: 21 | B25: Nacl 3% do nebulizacji x 30 szt | C25: op=30amp | D25: 20
A26: 22 | B26: Norepinephrinum 4mg/4ml inj, 4ml, wymagany produkt do przechowywania w temperaturze pokojowej. | C26: op.=10amp | D26: 600
A27: 23 | B27: Norepinephrinum 1mg/1ml inj,, 1ml | C27: op.=10amp | D27: 20
A28: 24 | B28: Maść z tormentiolem z A+E | C28: tuba 50g | D28: 5
A29: 25 | B29: Naldemedine 0,2mg | C29: tabl powl. x 28 szt | D29: 14
A30: 26 | B30: Octreotidum inj. 0,1mg/1ml | C30: porcja po 1 op. 5 amp. | D30: 5
A31: 27 | B31: Posaconazole 40mg/ml | C31: porcja po 105 ml | D31: 3
... A51: 47 | B51: Woryconazolum 200mg tabl | C51: porcja po 20 tabl | D51: 1
B52: Razem
B55: Data | G55: Podpis osoby/osób upoważnionej
B56: ……………………………………………. | G56: ……………………………….

Sheet Zadanie nr 26.
A1: Załacznik nr 9 do SWZ
A2: ZOZ/DZP/PN/21/26
B3: Zadanie nr 26 – Terapia nerkozastępcza do aparatu OMNI
A4: Lp. | B4: Nazwa produktu | C4: Jednostka miary | D4: Ilość | E4: Cena jednostkowa[zł] netto | F4: Wartość [zł] netto | G4: VAT | H4: Cena jednostkowa [zł] brutto | I4: Wartość [zł] brutto | J4: Producent/Nazwa handlowa | K4: EAN
A5: 1 | B5: Płyn dializacyjny do terapii nerkozastępczej bez zawartości wapnia i zawartością fosforanów 1,25 mmol/l oraz z zawartością potasu 2 lub 4 mmol/l (zamiennie według potrzeb zamawiającego). Worek 5 l. Kompatybilne z aparatem OMNI | C5: szt. | D5: 400
A6: 2 | B6: Płyn do antykoagulacji z zawartością cytrynianu 4%. Worek 2000 ml. | C6: szt. | D6: 150
A7: 3 | B7: Zestaw drenów z filtrem o punkcie odcięcia 37 kDa i rejestracji na 96 godzin do cytrynianowej i heparynowej terapii CVVHD lub/i CVVHDF | C7: szt. | D7: 15
A8: 4 | B8: Płyn substytucyjny do terapii nerkozastępczej z zawartością wapnia 1,5 mmol/l , bez zawartości potasu lub z zawartością potasu 4 mmol/l ,bez zawartości mleczanów . Worek 5 L ( bez zawartości Potasu) (z zawartością Potasu 2mmol/l) lub (z zawartością Potasu 4mmol/l) do wyboru zamawiajacego przy zakupie | C8: szt. | D8: 150
A9: 5 | B9: Worki na filtrat z zaworem spustowym umożliwiającym drenaż bez zdejmowania worka z urządzenia. Pojemność 7 litrów. | C9: szt. | D9: 20
B10: RAZEM
B13: Data | H13: Podpis osoby/osób upoważnionej
B14: ……………………………………………. | H14: …………………… | I14: ……………………………….

Sheet Zadanie nr 27
A1: Załacznik nr 9 do SWZ
A2: ZOZ/DZP/PN/21/26
A3: Zadanie nr 27 - Propofolum
A4: Lp. | B4: Nazwa produktu | C4: Jednostka miary | D4: Ilość | E4: Cena jednostkowa[zł] netto | F4: Wartość [zł] netto | G4: VAT | H4: Cena jednostkowa [zł] brutto | I4: Wartość [zł] brutto | J4: Producent/Nazwa handlowa | K4: EAN
A5: 1 | B5: Propofolum inj. 10mg/1ml – 20ml fiolki | C5: porcja po 5 fiol. 20 ml | D5: 2400
A6: 2 | B6: Propofol 2% fiol 50ml | C6: porcja po 1/fiol | D6: 150
B7: RAZEM
B10: Data …………………………………………. ………………………………………………...
H11: Podpis osoby/osób uprawnionej

Sheet Zadanie nr 28
A1: Załacznik nr 9 do SWZ
A2: ZOZ/DZP/PN/21/26
A3: Zadanie nr 28 – Leki Hospicjum
A4: Lp. | B4: Nazwa produktu | C4: Jednostka miary | D4: Ilość | E4: Cena jednostkowa[zł] netto | F4: Wartość [zł] netto | G4: VAT | H4: Cena jednostkowa [zł] brutto | I4: Wartość [zł] brutto | J4: Producent/Nazwa handlowa | K4: EAN
A5: 1 | B5: Ac. ascorbicum, Hesperidinum, Ruscus aculeatus (Cyclo 3 fort) lub równoważne | C5: porcja po 30 kaps.tw. | D5: 100
A6: 2 | B6: Acidum ibandronicum 3mg/3ml ampułkostrzykawka + igła | C6: 1 ampułko-strzykawka | D6: 20
A7: 3 | B7: Acidum Hyaluronicum 5mg | C7: porcja po 10 globulek | D7: 10
A8: 4 | B8: Alfuzosinum 10mg | C8: porcja po 30 szt. | D8: 10
A9: 5 | B9: Amitryptilina 25mg | C9: 60 tabl. powl. | D9: 3
A10: 6 | B10: Amitriptilina 10mg | C10: 60 tabl. powl. | D10: 3
A11: 7 | B11: Biperidenum 2mg | C11: 50tabl. | D11: 3
A12: 8 | B12: Bromazepam 3mg | C12: porcja po 30szt | D12: 20
A13: 9 | B13: Carbamazepinum tabl 200 mg | C13: op. 50 tabl | D13: 2
A14: 10 | B14: Carbamazepina CR 200mg | C14: op=50tabl. O zmod. uw. | D14: 30
A15: 11 | B15: Carbamazepina retard 300mg | C15: op. 50 tabl | D15: 5
A16: 12 | B16: Citalopramum 10mg | C16: porcja po 28 szt. | D16: 5
... A56: 52 | B56: Trimebutinum100mg | C56: porcja po 30szt | D56: 55
B57: RAZEM
B60: Data | H60: Podpis osoby/osób upoważnionej
B61: ……………………………………………. | H61: ………………………………… | I61: ………………………………. | J61: ………………

Sheet zadanie nr 29
A1: Załacznik nr 9 do SWZ
A2: ZOZ/DZP/PN/21/26
A3: Zadanie nr 29 - Leki przeciwbólowe
A4: Lp. | B4: Nazwa produktu | C4: Jednostka miary | D4: Ilość | E4: Cena jednostkowa[zł] netto | F4: Wartość [zł] netto | G4: VAT | H4: Cena jednostkowa [zł] brutto | I4: Wartość [zł] brutto | J4: Producent/Nazwa handlowa | K4: EAN
A5: 1 | B5: Bupremorfina 35 mcg/h plastry | C5: Porcja po 5 plastrów | D5: 120
A6: 2 | B6: Bupremorfina plastry 52,5mcg/h | C6: Op=5 plastrów | D6: 80
A7: 3 | B7: Bupremorfina plastry 70mcg/h | C7: Op=5 plastrów | D7: 45
A8: 4 | B8: Diclofenacum + Misoprostolum tabl. powl. | C8: porcja po 20 tabl. | D8: 25
A9: 5 | B9: Diclofenacum czopki 100 mg | C9: porcja po 1 op. 10 szt. | D9: 230
A10: 6 | B10: Diclofenacum czopki 50 mg | C10: porcja po 1 op. 10 szt. | D10: 60
A11: 7 | B11: Diclofenacum inj. (roztwór) 75 mg/3 ml | C11: porcja po 5 amp. 3 ml | D11: 40
A12: 8 | B12: Diclofenacum tabl. dojelitowe 50 mg | C12: porcja po 30 tabl. | D12: 75
A13: 9 | B13: Diclofenacum maść vel żel | C13: Porcja po 100g | D13: 40
A14: 10 | B14: Dexketoprofen 0,05 g/2 ml | C14: op=5amp | D14: 10
A15: 11 | B15: Dexketoprofenum 25mg | C15: porcja po 10 tabl.powl. | D15: 10
A16: 12 | B16: Fentanyl plastry 0012mg/h | C16: Porcja po 5 plastrów | D16: 10
... A79: 75 | B79: Zofenopryl 30mg | C79: porcja po 28tabl.powl. | D79: 5
B80: RAZEM
B83: Data | H83: Podpis osoby/osób upoważnionej
B84: ……………………………………………. | H84: …………………… | I84: ……………………………….

Sheet Zadanie nr 30.
A1: Załacznik nr 9 do SWZ
A2: ZOZ/DZP/PN/21/26
A3: Zadanie nr 30 - Leki różne 4
A4: Lp. | B4: Nazwa produktu | C4: Jednostka miary | D4: Ilość | E4: Cena jednostkowa[zł] netto | F4: Wartość [zł] netto | G4: VAT | H4: Cena jednostkowa [zł] brutto | I4: Wartość [zł] brutto | J4: Producent/Nazwa handlowa | K4: EAN
A5: 1 | B5: Natrii Valproas+Acidum Valpronicum 300 mg | C5: porcja po 30 tabl. | D5: 80
A6: 2 | B6: Natrii Valproas 288,2mg/5ml | C6: porcja po 150ml | D6: 50
A7: 3 | B7: Natrii Valproas+Acidum Valproicum 500mg | C7: porcja po 30 tabl.przedł. uw. | D7: 40
A8: 4 | B8: Natrii Valproas inj 400mg/4ml | C8: op=1fiol. | D8: 100
A9: 5 | B9: Natrii Valproas 750mg saszetki 30 szt. | C9: op=30sasz. | D9: 30
A10: 6 | B10: Misoprostolum 0,25mg tabl. | C10: porcja po 8 tabl. | D10: 15
A11: 7 | B11: Tetanus immunoglobulinum inj. im. (roztwór) 250 j.m./1 ml | C11: porcja po 1 amp-strz. | D11: 53
A12: 8 | B12: Makrogol 4000 64 g + subst. Pomocnicze | C12: Saszetki po 74 g x 48szt | D12: 35
B13: RAZEM
B15: ………………………………………….. | F15: ……………………………………………
B16: Data | F16: Podpis osoby/osób uprawnionej

Sheet Zadanie nr 31
A1: Załacznik nr 9 do SWZ
A2: ZOZ/DZP/PN/21/26
A3: Zadanie nr 31 - Kontrasty jodowe
A4: Lp. | B4: Nazwa produktu | C4: Jednostka miary | D4: Ilość | E4: Cena jednostkowa[zł] netto | F4: Wartość [zł] netto | G4: VAT | H4: Cena jednostkowa [zł] brutto | I4: Wartość [zł] brutto | J4: Producent/Nazwa handlowa | K4: EAN
A5: 1 | B5: Iohexolum 300 mg I / ml i.v. | C5: Porcja po 6 x 20ml | D5: 20
A6: 2 | B6: Iohexolum 300 mg I / ml i.v. | C6: porcja po 10 x 50 ml | D6: 10
A7: 3 | B7: Iohexolum 350 mg I / ml i.v. | C7: porcja po 10 x 50ml | D7: 60
A8: 4 | B8: Iohexolum 350 mg I / ml i.v. | C8: porcja po 10 x 200ml | D8: 90
B9: RAZEM
B12: Data | H12: Podpis osoby/osób upoważnionej
B13: ……………………………………………. | H13: …………………… | I13: ……………………………….

Sheet Zadanie nr 32
A1: Załacznik nr 9 do SWZ
A2: ZOZ/DZP/PN/21/26
B3: Zadanie nr 32 – Immunoglobulina
A4: Lp. | B4: Nazwa produktu | C4: Jednostka miary | D4: Ilość | E4: Cena jednostkowa[zł] netto | F4: Wartość [zł] netto | G4: VAT | H4: Cena jednostkowa [zł] brutto | I4: Wartość [zł] brutto | J4: Producent/Nazwa handlowa | K4: EAN
A5: 1 | B5: Immunoglobuliny niespecyficzne, ludzkie inj. iv. (roztwór) 50g/l , 50 ml | C5: porcja po 1 fiol. 50ml | D5: 60
B6: RAZEM
B9: Data | H9: Podpis osoby/osób upoważnionej
B10: ……………………………………………. | H10: …………………… | I10: ……………………………….

Sheet Zadanie nr 33
A1: Załacznik nr 9 do SWZ
A2: ZOZ/DZP/PN/21/26
A3: Zadanie nr 33 -Diety w proszku
A4: Lp. | B4: Nazwa produktu | C4: Jednostka miary | D4: Ilość | E4: Cena jednostkowa[zł] netto | F4: Wartość [zł] netto | G4: VAT | H4: Cena jednostkowa [zł] brutto | I4: Wartość [zł] brutto | J4: Producent/Nazwa handlowa | K4: EAN
A5: 1 | B5: Doustny preparat skład:z L -arginina 5 g na porcję, hydorlizat kolagenu, witaminy A i C oraz chelat cynku. Dla pacjenów z odleżynami i trudno gojącymi się ranami. | C5: Op=10x25g | D5: 50
A6: 2 | B6: Dieta kompletna do żywienia drogą doustną, wysokokaloryczna, wysokobiałkowa doustgna na bazie hydrolizatu drobiowego HBD, 22g białka 100g, hiperkaloryczna 400kcal/100g, zawiera L argininę 1,7g/100g, 13 witamin, oraz 13 składników mineralnych. | C6: op.= 4x100g | D6: 50
A7: 3 | B7: Wysokobiałkowy doustny przeparat żywieniowy w postaci proszku, do stosowania w hipoproteinemii, stanowiący dodatkowe źródło białka dla pacjentów,zaeartośc białka 5g w porcji. | C7: op. 260g | D7: 120
B8: RAZEM
B11: Data | I11: Podpis osoby/osób upoważnionej
B12: ……………………………………………. | I12: ……………………………….

Sheet Zadanie nr 34
A1: Załacznik nr 9 do SWZ
A2: ZOZ/DZP/PN/21/26
A3: Zadanie nr: 34- Ferrum
A4: Lp. | B4: Nazwa produktu | C4: Jednostka miary | D4: Ilość | E4: Cena jednostkowa[zł] netto | F4: Wartość [zł] netto | G4: VAT | H4: Cena jednostkowa [zł] brutto | I4: Wartość [zł] brutto | J4: Producent/Nazwa handlowa | K4: EAN
A5: 1 | B5: Ferrum isomaltozidum 500mg/5ml | C5: porcja po 5fiolek | D5: 120
A6: 2 | B6: Ferrum 40mg /15ml roztwór doustny | C6: porcja po 20szt. | D6: 50
B7: RAZEM
B10: Data | G10: Podpis osoby/osób upoważnionej
B11: ……………………………………………. | G11: ………………………….. | H11: ……………………………….

Sheet Zadanie nr 35
A1: Załacznik nr 9 do SWZ
A2: ZOZ/DZP/PN/21/26
B3: Zadanie nr 35 - Glikokotykosteroidy
A4: Lp. | B4: Nazwa produktu | C4: Jednostka miary | D4: Ilość | E4: Cena jednostkowa[zł] netto | F4: Wartość [zł] netto | G4: VAT | H4: Cena jednostkowa [zł] brutto | I4: Wartość [zł] brutto | J4: Producent/Nazwa handlowa | K4: EAN
A5: 1 | B5: Dexamethasonum inj. (roztwór) 4 mg/ml | C5: porcja po 10 amp. 2 ml | D5: 380
A6: 2 | B6: Dexamethasonum inj. (roztwór) 4 mg/ml | C6: porcja po 10 amp. 1 ml | D6: 300
A7: 3 | B7: Hydrocortisonum fiol. 100Mg+2ml rozp. | C7: porcja po 5 fiol.+ rozp | D7: 500
A8: 4 | B8: Hydrocortisonum 25 mg + 2 ml rozp | C8: porcja po 5 fiol.+ rozp | D8: 10
A9: 5 | B9: Hydrocortisonum 20 mg | C9: porcja po 20 tabl. | D9: 20
B10: RAZEM
B13: Data | H13: Podpis osoby/osób upoważnionej
B14: ……………………………………………. | H14: …………………… | I14: ……………………………….

Sheet Zadanie nr 36
A1: Załacznik nr 9 do SWZ
A2: ZOZ/DZP/PN/21/26
A3: Zadanie nr 36 Immunoglobuliny
A4: Lp. | B4: Nazwa produktu | C4: Jednostka miary | D4: Ilość | E4: Cena jednostkowa[zł] netto | F4: Wartość [zł] netto | G4: VAT | H4: Cena jednostkowa [zł] brutto | I4: Wartość [zł] brutto | J4: Producent/Nazwa handlowa | K4: EAN
A5: 1 | B5: Immunoglobulina ludzka do podania dożylnego 1 ml roztworu zawiera 50 mg białka osocza ludzkiego, w tym co najmniej 95% immunoglobuliny: immunoglobulina M (IgM) 6 mg, immunoglobulina A (IgA) 6 mg oraz immunoglobulina G (IgG) 38 mg. Rozkład podklas IgG: ok. 63% (IgG1), ok. 26% (IgG2), ok. 4% (IgG3), ok. 7% (IgG4) | C5: 2,5g/50ml | D5: 12
A6: 2 | B6: Immunoglobulina ludzka do podania dożylnego 1 ml roztworu zawiera 50 mg białka osocza ludzkiego, w tym co najmniej 95% immunoglobuliny: immunoglobulina M (IgM) 6 mg, immunoglobulina A (IgA) 6 mg oraz immunoglobulina G (IgG) 38 mg. Rozkład podklas IgG: ok. 63% (IgG1), ok. 26% (IgG2), ok. 4% (IgG3), ok. 7% (IgG4) | C6: 5g/100ml | D6: 12
B7: RAZEM
B10: Data | G10: Podpis osoby/osób upoważnionej
B11: ……………………………………………. | G11: ………………………….. | H11: ……………………………….

Sheet Zadanie nr 37.
A1: Załacznik nr 9 do SWZ
A2: ZOZ/DZP/PN/21/26
A3: Zadania nr 37 -Antybiotyki złożone
A4: Lp. | B4: Nazwa produktu | C4: Jednostka miary | D4: Ilość | E4: Cena jednostkowa[zł] netto | F4: Wartość [zł] netto | G4: VAT | H4: Cena jednostkowa [zł] brutto | I4: Wartość [zł] brutto | J4: Producent/Nazwa handlowa | K4: EAN
A5: 1 | B5: Ceftazidimum+avibactam 2000mg+500mg | C5: porcja po 10 fiol | D5: 6
A6: 2 | B6: Imipenem/cilastatinum 500+500mg | C6: porcja po 10 fiol | D6: 50
A7: 3 | B7: Meropenem 500mg | C7: porcja po 10 fiol | D7: 50
A8: 4 | B8: Meropenem 1000mg | C8: porcja po 10 fiol | D8: 240
A9: 5 | B9: Meropenenm z Vaborbactamem 1g+1g | C9: porcja po 6 fiol | D9: 5
A10: 6 | B10: Piperacillinum + Tazobactamum 4g+0,5g | C10: porcja po 10fiol | D10: 700
A11: 7 | B11: Aztreonam 1000mg | C11: porcja po 1 fiol | D11: 130
B12: RAZEM
B16: Data | H16: Podpis osoby/osób upoważnionej
B17: ……………………………………………. | H17: ………………….. | I17: ……………………………….

Sheet Zadanie nr 38
A1: Załacznik nr 9 do SWZ
A2: ZOZ/DZP/PN/21/26
A3: Zadanie nr 38 - Insuliny i analogi
A4: Lp. | B4: Nazwa produktu | C4: Jednostka miary | D4: Ilość | E4: Cena jednostkowa[zł] netto | F4: Wartość [zł] netto | G4: VAT | H4: Cena jednostkowa [zł] brutto | I4: Wartość [zł] brutto | J4: Producent/Nazwa handlowa | K4: EAN
A5: 1 | B5: Insulina aspart, szybkodziałający analog insuliny ludzkiej, którtkodziałające, doposiłkowe, analogowe,r-r do wstrzykiwań 100j.m./ml | C5: 5x3ml | D5: 20
A6: 2 | B6: Insulina detemir, długodziałający analog insuliny ludzkiej,analogowe, bazowe, długodziałające, r-r do wstrzykiwań 100j.m./ml | C6: 5x3ml | D6: 5
A7: 3 | B7: Insulina aspart/insulina aspart krystalizowana z protaminą w stosunku 30/70, analogowa mieszanka insulinowa, dwufazowa, zawiesina do wstrzykiwań 100j.m./ml | C7: 5x3ml | D7: 5
A8: 4 | B8: Insulina aspart/insulina aspart krystalizowana z protaminą w stosunku 50/50, analogowa mieszanka insulinowa, dwufazowa, zawiesina do wstrzykiwań 100j.m./ml | C8: 5x3ml | D8: 5
A9: 5 | B9: Insulina ludzka, szybkodziałająca, r-r do wstrzykiwań,100j.m./ml | C9: 5x3ml | D9: 60
A10: 6 | B10: Insulina ludzka izofanowa o posrednim czasie działania,zawiesina do wstrzykiwań, 100j.m./ml | C10: 5x3ml | D10: 20
A11: 7 | B11: Insulina ludzka i insulina ludzka izofanowa w stosunku 30/70, dwufazowa, ludzka mieszanina insuliny szybkodziałającej i długodziałającej,zawisina wstrzykiwań,100j.m./ml | C11: 5x3ml | D11: 5
A12: 8 | B12: Insulina ludzka i insulina ludzka izofanowa w stosunku 40/60, dwufazowa, ludzka mieszanina insuliny szybkodziałającej i długodziałającej,zawisina wstrzykiwań,100j.m./ml | C12: 5x3ml | D12: 5
A13: 9 | B13: Insulina ludzka i insulina ludzka izofanowa w stosunku 50/50, dwufazowa, ludzka mieszanina insuliny szybkodziałającej i długodziałającej,zawisina wstrzykiwań,100j.m./ml | C13: 5x3ml | D13: 5
A14: 10 | B14: roztwór do wstrzykiwań; 100 j./ml (zawiera: 70% insuliny degludec, 30% insuliny aspart); | C14: 5x3ml | D14: 5
A15: 11 | B15: Insulina deglutec roztwór do wstrzykiwań; 100 j./ml;3 ml | C15: 5x3ml | D15: 5
A16: 12 | B16: Insulina Humalog 300j.m lub równoważna | C16: porcja po 5 wkładów | D16: 10
... A21: 17 | B21: Insulina typu Humulin M3 (30/70)300 j.m./3 ml | C21: porcja po 5 wkł. | D21: 30
B22: Razem
B25: Data | G25: Podpis osoby/osób upoważnionej
B26: ……………………………………………. | G26: ……………………………….

Sheet Zadanie nr 39
A1: Załacznik nr 9 do SWZ
A2: ZOZ/DZP/PN/21/26
A3: Zadanie nr 39 - Długo i krótko działające analogi insuliny.
A4: Lp. | B4: Nazwa produktu | C4: Jednostka miary | D4: Ilość | E4: Cena jednostkowa[zł] netto | F4: Wartość [zł] netto | G4: VAT | H4: Cena jednostkowa [zł] brutto | I4: Wartość [zł] brutto | J4: Producent/Nazwa handlowa | K4: EAN
A5: 1 | B5: Insulinum glargine 300j. /ml | C5: 10 wstrzykiwaczy | D5: 10
A6: 2 | B6: Insulinum glargine 100j. /ml | C6: 5 wstrzykiwaczy | D6: 15
A7: 3 | B7: Insulinum glulisine 100j./ml | C7: 5 wstrzykiwaczy | D7: 10
A8: 4 | B8: Insulina Lizpro 100 j./ml, roztwór do wstrzykiwań, 10 wkładów po 3 ml | C8: 10 wstrzykiwaczy | D8: 10
A9: 5 | B9: Insulina glargine + liksysenatyd 100 jednostek/ml + 33 mikrogramów/ml, roztwór do wstrzykiwań we wstrzykiwaczu | C9: 3 wstrzykiwacze | D9: 10
A10: 6 | B10: Insulina glargine + liksysenatyd 100 jednostek/ml + 50 mikrogramów/ml, roztwór do wstrzykiwań we wstrzykiwaczu | C10: 3 wstrzykiwacze | D10: 10
B11: Razem
B15: Data | G15: Podpis osoby/osób upoważnionej
B16: ……………………………………………. | G16: ……………………………….

Sheet Zadanie nr 40
A1: Załacznik nr 9 do SWZ
A2: ZOZ/DZP/PN/21/26
A3: Zadanie nr 40 – Preparaty RTU
A4: Lp. | B4: Nazwa produktu | C4: Jednostka miary | D4: Ilość | E4: Cena jednostkowa[zł] netto | F4: Wartość [zł] netto | G4: VAT | H4: Cena jednostkowa [zł] brutto | I4: Wartość [zł] brutto | J4: Producent/Nazwa handlowa | K4: EAN
A5: 1 | B5: Ibuprofen 200mg/50ml inj | C5: Porcja po 20 szt | D5: 30
A6: 2 | B6: Ibuprofen 400mg/100ml inj. | C6: Porcja po 20 szt | D6: 70
A7: 3 | B7: Ibuprofen 600mg/100ml inj. | C7: Porcja po 20 szt | D7: 20
B8: RAZEM
B12: Data | H12: Podpis osoby/osób upoważnionej
B13: ……………………………………………. | I13: ……………………………….

Sheet Zadanie nr 41
A1: Załacznik nr 9 do SWZ
A2: ZOZ/DZP/PN/21/26
A3: Zadanie nr 41 - Antybiotyki
A4: Lp. | B4: Nazwa produktu | C4: Jednostka miary | D4: Ilość | E4: Cena jednostkowa[zł] netto | F4: Wartość [zł] netto | G4: VAT | H4: Cena jednostkowa [zł] brutto | I4: Wartość [zł] brutto | J4: Producent/Nazwa handlowa | K4: EAN
A5: 1 | B5: Vancomycinym 1000 mg/5ml inj. i.v., p.o. | C5: porcja po 5 szt. | D5: 230
A6: 2 | B6: Clindamycin 150 mg/ml | C6: Porcja po 4ml w 5 amp | D6: 250
A7: 3 | B7: Clindamycin 600 mg | C7: porcja po 12 kaps. | D7: 10
A8: 4 | B8: Clindamycin 300mg | C8: porcja po 16 kaps. | D8: 35
B9: RAZEM
B12: Data | H12: Podpis osoby/osób upoważnionej
B13: ……………………………………………. | I13: ……………………………….

Sheet Zadanie nr 42
A1: Załacznik nr 9 do SWZ
A2: ZOZ/DZP/PN/21/26
A3: Zadanie nr 42 -Leki okulistyczne
A4: Lp. | B4: Nazwa produktu | C4: Jednostka miary | D4: Ilość | E4: Cena jednostkowa[zł] netto | F4: Wartość [zł] netto | G4: VAT | H4: Cena jednostkowa [zł] brutto | I4: Wartość [zł] brutto | J4: Producent/Nazwa handlowa | K4: EAN
A5: 1 | B5: Acidum polyacrylicum 2 mg/1g żel do oczu | C5: porcja po 10g | D5: 10
A6: 2 | B6: Alcohol polivinylicus krople do oczu 14 mg/ml | C6: porcja po 2 but. Po 5 ml | D6: 10
A7: 3 | B7: Bimatoprost 0,3 mg/1 ml krople do oczu | C7: op 3ml | D7: 15
A8: 4 | B8: Brimonidinum 2mg/ml+5mg/ml krople do oczu | C8: porcja po 5ml | D8: 10
A9: 5 | B9: Cyclopetolate krople do oczu 1% | C9: op 5ml | D9: 3
A10: 6 | B10: Dexamethasonum 0,1% krople do oczu | C10: porcja po 5ml | D10: 5
A11: 7 | B11: Dexpanthenolum żel do oczu 50 mg/g | C11: porcja po 1 tuba 10 g | D11: 30
A12: 8 | B12: Dorzolamid 20mg/ml krople do oczu | C12: porcja po 5ml | D12: 3
A13: 9 | B13: Karbachol r-r do stosowania wewnątrzgałkowego 0,1mg/1,5ml fiol | C13: Op=12 fiol | D13: 6
A14: 10 | B14: Tropicamidum 1% krople oczne | C14: op. =2x5ml | D14: 100
A15: 11 | B15: Travaprostum 40mcg+ Timololum maleas 5mg krople do oczu | C15: porcja po 2,5ml | D15: 4
A16: 12 | B16: Tropicamidum krople do oczu 5 mg/ml | C16: porcja po 1 zestaw: 2 poj. po 5 ml | D16: 6
... A32: 28 | B32: Maść dso oczu z wit. A 250IE/g sterylna | C32: porcja po 5g | D32: 5
B33: Razem
B36: Data | G36: Podpis osoby/osób upoważnionej
B37: ……………………………………………. | G37: ……………………………….

Sheet Zadanie nr 43
A1: Załacznik nr 9 do SWZ
A2: ZOZ/DZP/PN/21/26
A3: Zadanie nr 43 - Witamina K1
A4: Lp. | B4: Nazwa produktu | C4: Jednostka miary | D4: Ilość | E4: Cena jednostkowa[zł] netto | F4: Wartość [zł] netto | G4: VAT | H4: Cena jednostkowa [zł] brutto | I4: Wartość [zł] brutto | J4: Producent/Nazwa handlowa | K4: EAN
A5: 1 | B5: Phytomenadionum (vit. K1)ROZT.DO INFUZJI I ROZT. DOUST. 2MG/0,2ML 5 AMP.A 0,2ML | C5: porcja po 5 amp. | D5: 150
B6: RAZEM
B9: Data | G9: Podpis osoby/osób upoważnionej
B10: ……………………………………………. | G10: ………………………….. | I10: ……………………………….

Sheet Zadanie nr 44
A1: Załacznik nr 9 do SWZ
A2: ZOZ/DZP/PN/21/26
A3: Zadanie nr 44 - Akcesoria do pompy firmy K. Storz. | C3: 21 m-cy
A4: Lp. | B4: Nazwa produktu | C4: Jednostka miary | D4: Ilość | E4: Cena jednostkowa[zł] netto | F4: Wartość [zł] netto | G4: VAT | H4: Cena jednostkowa [zł] brutto | I4: Wartość [zł] brutto | J4: Producent/Nazwa handlowa/Numer katalogowy
A5: 1 | B5: Dren płuczący FC do laparoskopii z kontrolą przepływu, kompatybilny z posiadaną pompą Hamou Endomat firmy Karl Storz, jednorazowy, sterylny. | C5: op.=10szt | D5: 100
A6: 2 | B6: Dren płuczący PC do histeroskopii z kontrolą ciśnienia, kompatybilny z posiadaną pompą Hamou Endomat firmy Karl Storz, jednorazowy, sterylny | C6: op.=10szt | D6: 6
A7: 3 | B7: Dren insuflacyjny z podgrzewaniem, z filtrem gazu CO2, kompatybilny z posiadanym insuflatorem UI500 firmy Karl Storz, długość 3 m, jednorazowy, sterylny, | C7: op.=10szt | D7: 4
B8: RAZEM
B11: Data | H11: Podpis osoby/osób upoważnionej
B12: ……………………………………………. | H12: ……………………………….

Sheet Zadanie nr 45
A1: Załacznik nr 9 do SWZ
A2: ZOZ/DZP/PN/21/26
A3: Zadanie nr 45 igły do przeciągaczy nici.
A4: Lp. | B4: Nazwa produktu | C4: Jednostka miary | D4: Ilość | E4: Cena jednostkowa[zł] netto | F4: Wartość [zł] netto | G4: VAT | H4: Cena jednostkowa [zł] brutto | I4: Wartość [zł] brutto | J4: Producent/Nazwa handlowa
A5: 1 | B5: Jednorazowa igła do przeciągaczy nici chirurgicznych RP 360°/Champion | C5: op= 5 szt | D5: 5
B11: Data | G11: Podpis osoby/osób upoważnionej
B12: ……………………………………………. | G12: ……………………………….

Sheet Zadanie nr 46
A1: Załacznik nr 9 do SWZ
A2: ZOZ/DZP/PN/21/26
A3: Zadanie nr 46 Sonda Kriochirurgiczna
A4: Lp. | B4: Nazwa produktu | C4: Jednostka miary | D4: Ilość | E4: Cena jednostkowa[zł] netto | F4: Wartość [zł] netto | G4: VAT | H4: Cena jednostkowa [zł] brutto | I4: Wartość [zł] brutto | J4: Producent/Nazwa handlowa | K4: Wartość brutto | L4: Producent/Model/Nr katalogowy
A5: 1 | B5: Sonda kriochirurgiczna kompatybilna z aparatami Cryo- S z zaokrągloną neurostymulacją, śr 1,3mm, dł 120mm, dł koncówki mroźnej 7mm. Do zastosowania do nerwów miedzyżebrowych, stawów międzywyroskowych w oddcinku szyjnym, piersiowym,ledżwiowym kręgosłupa, krioanalgezja nerwów obwodowych i stawów. | C5: szt. | D5: 25
B6: Razem
B9: Data | J9: Podpis osoby/osób upoważnionej
B10: ……………………………………………. | J10: ……………………………….

Sheet podsumowanie
C7: L.p. | D7: Przedmiot zamówienia | E7: wartość netto | F7: wartość brutto | G7: netto euro | H7: euro brutto
C8: 1 | D8: Zadanie nr 1 - Leki różne | E8: =#REF! -> #REF! | F8: =#REF! -> #REF! | G8: =E8/$J$8 -> #REF! | H8: =F8/$J$8 -> #REF! | J8: 4.4536
C9: 2 | D9: Zadanie nr 2 - Płyny infuzyjne pojemnikach stojących | E9: ='Zadanie nr 2'!F29 -> 0 | F9: ='Zadanie nr 2'!I29 -> 0 | G9: =E9/$J$8 -> 0 | H9: =F9/$J$8 -> 0
C10: 3 | D10: Zadanie nr 3 - Płyny infuzyjne | E10: ='Zadanie nr 3'!F26 -> 0 | F10: ='Zadanie nr 3'!I26 -> 0 | G10: =E10/$J$8 -> 0 | H10: =F10/$J$8 -> 0
C11: 4 | D11: Zadanie nr 4 - Enoxaparinum | E11: ='Zadanie nr 4'!F13 -> 0 | F11: ='Zadanie nr 4'!I13 -> 0 | G11: =E11/$J$8 -> 0 | H11: =F11/$J$8 -> 0
C12: 5 | D12: Zadanie nr 5 - Nadroparinum | E12: =#REF! -> #REF! | F12: =#REF! -> #REF! | G12: =E12/$J$8 -> #REF! | H12: =F12/$J$8 -> #REF!
C13: 6 | D13: Zadanie nr 6 - Leki różne 2 | E13: ='Zadanie nr 6'!F15 -> 0 | F13: ='Zadanie nr 6'!I15 -> 0 | G13: =E13/$J$8 -> 0 | H13: =F13/$J$8 -> 0
C14: 7 | D14: Zadanie nr 7 - Albuminy | E14: ='Zadanie nr 7'!F7 -> 0 | F14: ='Zadanie nr 7'!I7 -> 0 | G14: =E14/$J$8 -> 0 | H14: =F14/$J$8 -> 0
C15: 8 | D15: Zadanie nr 8 - Leki różne 14 | E15: ='Zadanie nr 8'!F20 -> 0 | F15: ='Zadanie nr 8'!I20 -> 0 | G15: =E15/$J$8 -> 0 | H15: =F15/$J$8 -> 0
C16: 9 | D16: Zadanie nr 9 - Leki anestezjologiczne | E16: ='Zadanie nr 9'!F16 -> 0 | F16: ='Zadanie nr 9'!I16 -> 0 | G16: =E16/$J$8 -> 0 | H16: =F16/$J$8 -> 0
C17: 10 | D17: Zadanie nr 10 - Sevofluran | E17: ='Zadanie nr 10'!F7 -> 0 | F17: ='Zadanie nr 10'!I7 -> 0 | G17: =E17/$J$8 -> 0 | H17: =F17/$J$8 -> 0
C18: 11 | D18: Zadanie nr 11 - Mleko + preparaty dietetyczne | E18: ='Zadanie nr 11'!F45 -> 0 | F18: ='Zadanie nr 11'!I45 -> 0 | G18: =E18/$J$8 -> 0 | H18: =F18/$J$8 -> 0
C19: 12 | D19: Zadanie nr 12 – Leki ZOL | E19: ='Zadanie nr 12'!F44 -> 0 | F19: ='Zadanie nr 12'!I44 -> 0 | G19: =E19/$J$8 -> 0 | H19: =F19/$J$8 -> 0
C20: 13 | D20: Zadanie nr 13 – Amoxycylina z inhibitorem | E20: =#REF! -> #REF! | F20: =#REF! -> #REF! | G20: =E20/$J$8 -> #REF! | H20: =F20/$J$8 -> #REF!
C21: 14 | D21: Zadanie Nr 14 - Heparinum | E21: =#REF! -> #REF! | F21: =#REF! -> #REF! | G21: =E21/$J$8 -> #REF! | H21: =F21/$J$8 -> #REF!
C22: 15 | D22: Zadanie Nr 15 - Omeprazol | E22: ='Zadanie nr 15'!F6 -> 0 | F22: ='Zadanie nr 15'!I6 -> 0 | G22: =E22/$J$8 -> 0 | H22: =F22/$J$8 -> 0
C23: 16 | D23: Zadanie nr 16 - Antybiotyki różne | E23: =#REF! -> #REF! | F23: =#REF! -> #REF! | G23: =E23/$J$8 -> #REF! | H23: =F23/$J$8 -> #REF!
C24: 17 | D24: Zadanie nr 17 – Antybiotyki 5 | E24: ='Zadanie nr 17'!F20 -> 0 | F24: ='Zadanie nr 17'!I20 -> 0 | G24: =E24/$J$8 -> 0 | H24: =F24/$J$8 -> 0
C25: 18 | D25: Zadanie nr 18 - Żel do cewnikowania | E25: ='Zadanie nr 18'!F7 -> 0 | F25: ='Zadanie nr 18'!I7 -> 0 | G25: =E25/$J$8 -> 0 | H25: =F25/$J$8 -> 0
C26: 19 | D26: Zadanie nr 19 - Dalteparinum | E26: =#REF! -> #REF! | F26: =#REF! -> #REF! | G26: =E26/$J$8 -> #REF! | H26: =F26/$J$8 -> #REF!
C27: 20 | D27: Zadanie nr 20 - Preparaty do żywienia pozajelitowego | E27: ='Zadanie nr 20'!F9 -> 0 | F27: ='Zadanie nr 20'!I9 -> 0 | G27: =E27/$J$8 -> 0 | H27: =F27/$J$8 -> 0
C28: 21 | D28: Zadanie nr 21 - Preparaty do żywienia dojelitowego | E28: ='Zadanie nr 21'!F37 -> 0 | F28: ='Zadanie nr 21'!I37 -> 0 | G28: =E28/$J$8 -> 0 | H28: =F28/$J$8 -> 0
C29: 22 | D29: Zadanie nr 22 - Immunoglobuliny anty D | E29: =#REF! -> #REF! | F29: =#REF! -> #REF! | G29: =E29/$J$8 -> #REF! | H29: =F29/$J$8 -> #REF!
C30: 23 | D30: Zadanie nr 23 Fidaxomycinum | E30: ='Zadanie nr 23'!F6 -> 0 | F30: ='Zadanie nr 23'!I6 -> 0 | G30: =E30/$J$8 -> 0 | H30: =F30/$J$8 -> 0
C31: 24 | D31: Zadanie nr 24 - Żywienie pozajelitowe 2 | E31: ='Zadanie nr 24'!F14 -> 0 | F31: ='Zadanie nr 24'!I14 -> 0 | G31: =E31/$J$8 -> 0 | H31: =F31/$J$8 -> 0
C32: 25 | D32: Zadanie nr 25 - Leki OAIiT | E32: =#REF! -> #REF! | F32: =#REF! -> #REF! | G32: =E32/$J$8 -> #REF! | H32: =F32/$J$8 -> #REF!
C33: 26 | D33: Zadanie nr 26 – Terapia nerkozastępcza do aparatu OMNI | E33: ='Zadanie nr 26.'!F10 -> 0 | F33: ='Zadanie nr 26.'!I10 -> 0 | G33: =E33/$J$8 -> 0 | H33: =F33/$J$8 -> 0
C34: 27 | D34: Zadanie nr 27 - Propofolum | E34: ='Zadanie nr 27'!F7 -> 0 | F34: ='Zadanie nr 27'!I7 -> 0 | G34: =E34/$J$8 -> 0 | H34: =F34/$J$8 -> 0
C35: 28 | D35: Zadanie nr 28 - Leki Hospicjum | E35: =#REF! -> #REF! | F35: =#REF! -> #REF! | G35: =E35/$J$8 -> #REF! | H35: =F35/$J$8 -> #REF!
C36: 29 | D36: Zadanie nr 29 - Leki przeciwbólowe | E36: =#REF! -> #REF! | F36: =#REF! -> #REF! | G36: =E36/$J$8 -> #REF! | H36: =F36/$J$8 -> #REF!
C37: 30 | D37: Zadanie nr 30 -Leki okulistyczne 2 | E37: =#REF! -> #REF! | F37: =#REF! -> #REF! | G37: =E37/$J$8 -> #REF! | H37: =F37/$J$8 -> #REF!
C38: 31 | D38: Zadanie nr 31 - Kontrasty jodowe | E38: ='Zadanie nr 31'!F9 -> 0 | F38: ='Zadanie nr 31'!I9 -> 0 | G38: =E38/$J$8 -> 0 | H38: =F38/$J$8 -> 0
C39: 32 | D39: Zadanie nr 32 - Acidum ibandronicum | E39: ='Zadanie nr 32'!F6 -> 0 | F39: ='Zadanie nr 32'!I6 -> 0 | G39: =E39/$J$8 -> 0 | H39: =F39/$J$8 -> 0
C40: 33 | D40: Zadanie nr 33 - Imigluceraza i eliglustat | E40: =#REF! -> #REF! | F40: =#REF! -> #REF! | G40: =E40/$J$8 -> #REF! | H40: =F40/$J$8 -> #REF!
C41: 34 | D41: Zadanie nr: 34- Ferrum | E41: ='Zadanie nr 34'!F7 -> 0 | F41: ='Zadanie nr 34'!I7 -> 0 | G41: =E41/$J$8 -> 0 | H41: =F41/$J$8 -> 0
C42: 35 | D42: Zadanie nr 35 - Glikokotykosteroidy | E42: ='Zadanie nr 35'!F10 -> 0 | F42: ='Zadanie nr 35'!I10 -> 0 | G42: =E42/$J$8 -> 0 | H42: =F42/$J$8 -> 0
C43: 36 | D43: Zadanie nr: 36 - Desfluran | E43: ='Zadanie nr 10'!E14 -> 0 | F43: ='Zadanie nr 10'!H14 -> 0 | G43: =E43/$J$8 -> 0 | H43: =F43/$J$8 -> 0
C44: 37 | D44: Zadanie nr: 37 – Metamizolum | E44: =#REF! -> #REF! | F44: =#REF! -> #REF! | G44: =E44/$J$8 -> #REF! | H44: =F44/$J$8 -> #REF!
C45: 38 | D45: Zadanie nr 39 - Długo i krótko działające analogi insuliny i barbituran | E45: ='Zadanie nr 39'!F11 -> 0 | F45: ='Zadanie nr 39'!I11 -> 0 | G45: =E45/$J$8 -> 0 | H45: =F45/$J$8 -> 0
C46: 39 | D46: Zadanie nr 40 – Preaparat RTU | E46: ='Zadanie nr 40'!F8 -> 0 | F46: ='Zadanie nr 40'!I8 -> 0 | G46: =E46/$J$8 -> 0 | H46: =F46/$J$8 -> 0
C47: 40 | D47: Zadanie nr 41 - Antybiotyki | E47: ='Zadanie nr 41'!F9 -> 0 | F47: ='Zadanie nr 41'!I9 -> 0 | G47: =E47/$J$8 -> 0 | H47: =F47/$J$8 -> 0
C48: 41 | D48: Zadanie nr 43 - Witamina K1 | E48: ='Zadanie nr 43'!F6 -> 0 | F48: ='Zadanie nr 43'!I6 -> 0 | G48: =E48/$J$8 -> 0 | H48: =F48/$J$8 -> 0
C49: 42 | D49: Zadania nr 44 - Imipenem, piperacillinum | E49: ='Zadanie nr 37.'!F12 -> 0 | F49: ='Zadanie nr 37.'!I12 -> 0 | G49: =E49/$J$8 -> 0 | H49: =F49/$J$8 -> 0
C50: 43 | D50: Zadanie nr 45 - Insuliny i analogi | E50: ='Zadanie nr 38'!F22 -> 0 | F50: ='Zadanie nr 38'!I22 -> 0 | G50: =E50/$J$8 -> 0 | H50: =F50/$J$8 -> 0
C51: 44 | D51: Zadanie nr 46 - Budesonidum | E51: ='Zadanie nr 19.'!F8 -> 0 | F51: ='Zadanie nr 19.'!I8 -> 0 | G51: =E51/$J$8 -> 0 | H51: =F51/$J$8 -> 0
C52: 45 | D52: Zadanie nr 48 - Preparaty przeczyszczające | E52: =#REF! -> #REF! | F52: =#REF! -> #REF! | G52: =E52/$J$8 -> #REF! | H52: =F52/$J$8 -> #REF!
C53: 46 | D53: Zadanie nr 49 Immunoglobuliny. | E53: ='Zadanie nr 36'!F7 -> 0 | F53: ='Zadanie nr 36'!I7 -> 0 | G53: =E53/$J$8 -> 0 | H53: =F53/$J$8 -> 0
C54: 47 | D54: Zadanie nr 50 - Dostawa płynów i akcesoriów wraz z dzierżawą aparatu do ciągłych zabiegów nerkozastępczych i plazmaforezy | E54: =#REF! -> #REF! | F54: =#REF! -> #REF! | G54: =E54/$J$8 -> #REF! | H54: =F54/$J$8 -> #REF!
C55: 48 | D55: Zadanie nr 51 -Leki okulistyczne | E55: ='Zadanie nr 42'!F33 -> 0 | F55: ='Zadanie nr 42'!I33 -> 0 | G55: =E55/$J$8 -> 0 | H55: =F55/$J$8 -> 0
C56: 49 | D56: Zadanie nr 52 - Butelki do receptury | E56: =#REF! -> #REF! | F56: =#REF! -> #REF! | G56: =E56/$J$8 -> #REF! | H56: =F56/$J$8 -> #REF!
C57: 50 | D57: Zadanie nr – 53 Smoczki i butelki | E57: ='Zadanie nr 30.'!#REF! -> #REF! | F57: ='Zadanie nr 30.'!G15 -> 0 | G57: =E57/$J$8 -> #REF! | H57: =F57/$J$8 -> 0
C58: 51 | D58: Zadanie 54 Układ oddechowy SOR | E58: =#REF! -> #REF! | F58: =#REF! -> #REF! | G58: =E58/$J$8 -> #REF! | H58: =F58/$J$8 -> #REF!
C59: 52 | D59: Zadanie nr: 59 - Strzykawki do gazometrii. | E59: =#REF! -> #REF! | F59: =#REF! -> #REF! | G59: =E59/$J$8 -> #REF! | H59: =F59/$J$8 -> #REF!
C60: 53 | D60: Zadanie nr: 85 - Opaska 2 | E60: ='Zadanie nr 46'!H6 -> 0 | F60: ='Zadanie nr 46'!K6 -> 0 | G60: =E60/$J$8 -> 0 | H60: =F60/$J$8 -> 0
C61: 54 | D61: Zadanie nr: 88 – Gąbka do FESS-u | E61: =#REF! -> #REF! | F61: =#REF! -> #REF! | G61: =E61/$J$8 -> #REF! | H61: =F61/$J$8 -> #REF!
C62: 55 | D62: Zadanie nr: 96 - Karty chipowe do monitora hemodynamicznego Lidco Rapid | E62: =#REF! -> #REF! | F62: =#REF! -> #REF! | G62: =E62/$J$8 -> #REF! | H62: =F62/$J$8 -> #REF!
C63: 56 | D63: Zadanie nr 97: Akcesoria do kardiomonitora BleaseSirius firmy Spacelabs Medical USA | E63: =#VALUE! -> #VALUE! | F63: =#REF! -> #REF! | G63: =E63/$J$8 -> #VALUE! | H63: =F63/$J$8 -> #REF!
C64: 57 | D64: Zadanie nr: 115 – Tracheotomia metodą Ciaglia dodatkowe | E64: =#REF! -> #REF! | F64: =#REF! -> #REF! | G64: =E64/$J$8 -> #REF! | H64: =F64/$J$8 -> #REF!
C65: 58 | D65: Zadanie nr 129 - Odczynniki i testy, probówki | E65: =#REF! -> #REF! | F65: =#REF! -> #REF! | G65: =E65/$J$8 -> #REF! | H65: =F65/$J$8 -> #REF!
C66: 59 | D66: Zadanie nr 132 - Parawany na kółkach | E66: =#REF! -> #REF! | F66: =#REF! -> #REF! | G66: =E66/$J$8 -> #REF! | H66: =F66/$J$8 -> #REF!
C67: 60 | D67: Zadanie nr 133 - Akcesoria rehabilitacyjne | E67: =#REF! -> #REF! | F67: =#REF! -> #REF! | G67: =E67/$J$8 -> #REF! | H67: =F67/$J$8 -> #REF!
C68: 61 | D68: Zadanie nr 134 osłonki na zęby | E68: ='Zadanie nr 45'!F6 -> 0 | F68: ='Zadanie nr 45'!I6 -> 0 | G68: =E68/$J$8 -> 0 | H68: =F68/$J$8 -> 0
C69: 62 | D69: Zadanie nr:142 Laktator elektryczny z akcesoriami. | E69: =#REF! -> #REF! | F69: =#REF! -> #REF! | G69: =E69/$J$8 -> #REF! | H69: =F69/$J$8 -> #REF!
C70: 63 | D70: Zadanie nr 154 Kable do elektrod BTL 5000 | E70: =#REF! -> #REF! | F70: =#REF! -> #REF! | G70: =E70/$J$8 -> #REF! | H70: =F70/$J$8 -> #REF!
E71: =SUM(E8:E70) -> #REF! | F71: =SUM(F8:F70) -> #REF! | G71: =E71/$J$8 -> #REF! | H71: =F71/$J$8 -> #REF!
